{"text_format":"1","workbook":"xlsx","n_sheets":15,"sheets":["Traduction","Guide","Info de l'escadron","Niv 1","Niv 2","Niv 3","Niv 4","Niv 5","POC","Horaire","Activités","Calendrier","Budget","Hebdomadaire","Corrections"],"not_rendered":{"charts":0,"images":3,"macros":1,"external_links":1,"defined_names":56,"comments":4,"pivot_tables":0},"unopened":[],"bounds":{"document_bytes":16777216,"sheet_cells":100000,"rows_first":2000,"rows_last":500,"rows_between":2000,"halvings":0,"cell_chars":16384,"cell_head_chars":4096},"cells_cut":0,"cells_raw":0,"read":"whole","date_system":"1900"}

{"sheet":"Traduction","index":0,"n_rows":1175,"n_cols":5,"rows_kept":1175,"cut":false,"hidden":true,"merged":[]}
[null,null,"Menu"]
[null,null,"Français"]
[null,null,"English"]
[null,null,"Autre / Other"]
[]
[null,"Texte","Français","English","Autre / Other"]
[null,1,"Dimanche","Sunday",1]
[null,2,"Lundi","Monday",2]
[null,3,"Mardi","Tuesday",3]
[null,4,"Mercredi","Wednesday",4]
[null,5,"Jeudi","Thursday",5]
[null,6,"Vendredi","Friday",6]
[null,7,"Samedi","Saturday",7]
[null,8,"Nom de l' Escadron","Squadron Name",8]
[null,9,"Heures :","Hours:",9]
[null,10,"Rassemblement / Inspection","Falling in / Inspection",10]
[null,11,"Période 1","Period 1",11]
[null,12,"Période 2","Period 2",12]
[null,13,"Pause","Break",13]
[null,14,"Période 3","Period 3",14]
[null,15,"Rassemblement / Annonces","Fall in / Messages",15]
[null,16,"Rompre les rangs","Fall out ",16]
[null,17,"Date de la première séance d'entraînement","Date of the first training session",17]
[null,18,"Entraînement régulier hebdomadaire","Weekly regular training",18]
[null,19,"Information sur l'officier commandant","Commanding Officer Information",19]
[null,20,"Nom","Name",20]
[null,21,"Numéros de téléphones : Jour","Telephone Numbers : Day",21]
[null,22,"Début","Start",22]
[null,23,"Fin","End",23]
[null,24,"Format","Format",24]
[null,25,"Remplir les cellules blanches seulement!!!","Fill in the white cells only!!!",25]
[null,26,"OREN","PO",26]
[null,27,"Niveau 1","Level 1",27]
[null,28,"Niveau 2","Level 2",28]
[null,29,"Niveau 3","Level 3",29]
[null,30,"Niveau 4","Level 4",30]
[null,31,"Niveau 5","Level 5",31]
[null,32,"NOTE :","NOTE.",32]
[null,33,"Si vous ajoutez des items dans cette liste vous devez le faire en ordre alphabétique dans la colonne OREN.","If you add any other items to this list you must sort it alphabetically by the PO column.",33]
[null,34,"Niveau Un","Level One",34]
[null,35,"Niveau Deux","Level Two",35]
[null,36,"Niveau Trois","Level Three",36]
[null,37,"Niveau Quatre","Level Four",37]
[null,38,"Niveau Cinq","Level Five",38]
[null,39,"Sem No.","Week No.",39]
[null,40,"Date","Date",40]
[null,41,"OREN/OCOM","PO/EO",41]
[null,42,"Instructeur","Instructor",42]
[null,43,"Emplacement","Location",43]
[null,44,"Note: Le programme de niveaux de qualification est composé de 30 séances (60 périodes obligatoires et 30 périodes complémentaires)","Note: The level qualification training program has 30 sessions (60 periods for Mandatory and 30 periods for Complementary.",44]
[null,45,"On vous invite à présenter la formation RELATION SOCIAL POSITIVE POUR LA JEUNESSE à la période du 16-28 novembre 2009 (3 périodes obligatoires et 3 périodes complémentaires) ","You are invited to present the Positive Social Relation for Youth during the period of 16-28 nov 2009.",45]
[null,46,"La revue annuelle de tous les escadrons devra être complété dans la périodes du 15 avril au 31 mai 2014","Annual Ceremonial Review is to be done in the period of 15 Apr to 31 May 2014",46]
[null,47,"18 Périodes d'instruction Obligatoires (9 périodes par jour)","18 periods of Mandatory Instruction (9 per day)",47]
[null,48,"18 Périodes d'instruction Complémentaires (9 périodes par jour)","18 periods of Complementory Instruction (9 per day)",48]
[null,49,"Exercice de Survie équipage de vol (1 fin de semaine)","Aircrew survival exercice (1 weekend)",49]
[null,50,"Vol de Familiarisation","Familiarisation Flight",50]
[null,51,"Compétition de cadets Inter-Escadrons","Inter-squadron cadets competition ",51]
[null,52,"POC","MCP",52]
[null,53,"JOURNÉES D'INSTRUCTION","TRAINING DAY",53]
[null,54,"Obligatoires","Mandatory",54]
[null,58,"Période 4","Period 4",58]
[null,59,"Période 5","Period 5",59]
[null,60,"Période 6","Period 6",60]
[null,61,"Période 7","Period 7",61]
[null,62,"Période 8","Period 8",62]
[null,63,"Période 9","Period 9",63]
[null,64,"(Répartition des périodes d'instruction)","Allocation of instruction Periods  ",64]
[null,65,"OCOM","EO",65]
[null,66,"Complémentaires","Complementary",66]
[null,67,"FDS Survie","Wknd Survival",67]
[null,68,"FDS Survie/Options","Wknd Survival/Options",68]
[null,69,"Complémentaire (recommandé)","Complementary (recommanded)",69]
[null,71,"Compétition Inter-Escadron","Inter-Squadron Competition",71]
[null,72,"Jour 1","Day 1",72]
[null,73,"Jour 2","Day 2",73]
[null,74,"* Dans le volet OCOM, pour chaque période, veuillez spécifier le numéro d'OREN précis précédé de M pour le programme Obligatoire.","*For each EO, identify the PO number preceded by a M for the Mandatory program",74]
[null,75,"* Dans le volet OCOM, pour chaque période, veuillez spécifier le numéro d'OREN précis précédé de C pour le programme Complémentaire.","*For each EO, identify the PO number preceded by a C for the Complementary program",75]
[null,76,"Sport, Tir et Communautaire ou autres","Sport, Air Rifle Marksmanship, Community service, Others",76]
[null,77,"Les deux jours de survie/fin de semaine est une option, vous pouvez utiliser ces deux jours de la façon suivante:","The two days of weekend/survival is an option, you may use these two days in the following manner:",77]
[null,78,"1 jour pour Compétition de cadets Inter-escadrons (non sportive)","1 day for cadet Inter-Squadron Competition (no sports)",78]
[null,79,"1 jour pour l'instruction propre à l'élément","1 day of Air Skill instruction",79]
[null,80,"1 jour de survie seulement et/ou","1 day aircrew survival only et/ou",80]
[null,81,"OCRE 1501","ERCO 1501",81]
[null,83,"Jour","Day",83]
[null,84,"Activité","Activity",84]
[null,85,"BPR","OPI",85]
[null,86,"Liste des activités","List of activities",86]
[null,87,"Budget","Budget ",87]
[null,88,"DÉPENSES - JOURS POC","EXPENSES - MCP DAYS",88]
[null,89,"Montant","Amount",89]
[null,90,"TOTAL","TOTAL",90]
[null,91,"Périodes d'instruction OBLIGATOIRE M-JOUR 1","MANDATORY Periods of instruction M-DAY 1",91]
[null,92,"Périodes d'instruction OBLIGATOIRE M-JOUR 2","MANDATORY Periods of instruction M-DAY 2",92]
[null,93,"Compétition de cadets INTER-ESCADRON (1 JOURNÉE)","INTER-SQUADRON cadets competition (1 day)",93]
[null,94,"Exercice d'entraînement en Campagne OBLIGATOIRE (EEC 1) Fin de semaine","MANDATORY Field training Exercice (FTX 1) Weekend",94]
[null,95,"Journées/Fin de semaine COMPLÉMENTAIRE","COMPLEMENTARY Days/Weekend",95]
[null,96,"Périodes d'instruction COMPLÉMENTAIRE C-JOUR 1","COMPLEMENTARY Periods of Instruction C-DAY 1",96]
[null,97,"Périodes d'instruction COMPLÉMENTAIRE C-JOUR 2","COMPLEMENTARY Periods of Instruction C-DAY 2",97]
[null,98,"Combinaison de deux journées parmi les suivantes","Combination of two days from the following",98]
[null,99,"Exercices d'entraînement en Campagne COMPLÉMENTAIRE (EEC 2) 2 jours ou 1 jour","COMPLEMENTARY Field training Exercice (FTX 2) 2 days or 1 day",99]
[null,101,"Journée d'instruction propre à l'ÉLÉMENT","ELEMENT related Training Day",101]
[null,102,"DÉPENSES  BUDGÉTAIRE (POC)","BUDGET EXPENSES (MCP)",102]
[null,103,"AOÛT","AUGUST",103]
[null,104,"SEPTEMBRE","SEPTEMBER",104]
[null,105,"OCTOBRE","OCTOBER",105]
[null,106,"NOVEMBRE","NOVEMBER",106]
[null,107,"DÉCEMBRE","DECEMBER",107]
[null,108,"JANVIER","JANUARY",108]
[null,109,"FÉVRIER","FEBRUARY",109]
[null,110,"MARS","MARCH",110]
[null,111,"AVRIL","APRIL",111]
[null,112,"MAI","MAY",112]
[null,113,"JUIN","JUNE",113]
[null,114,"Horaire de la semaine","Weekly schedule",114]
[null,115,"Date :","Date:",115]
[null,116,"Détail de la séance d'instruction","Details of the training session",116]
[null,117,"à","to",117]
[null,118,"OCOM","EO",118]
[null,119,"Activités de la semaine","Weekly activities",119]
[null,120,"Notes","Notes",120]
[null,121,"Officier commandant","Commanding Officer",121]
[null,122,"Semaine #","Week #",122]
[null,123,"Min","Min",123]
[null,124,"Réel","Reel",124]
[null,125,"Écart","Ecart",125]
[null,126,"Nbr de période \"Obligatoires\" :","Nbr of period '' Mandatory''",126]
[null,127,"Nbr de période \"Complémentaires\" :","Nbr of period ''Complementary''",127]
[null,128,"Transport","Transportation",128]
[null,129,"Repas (1 par journée d'instruction)","Meals (1 per training day)",129]
[null,130,"Droit d'entrée","Entry fees",130]
[null,131,"Transport (Ops Air)","Transportation (Ops Air)",131]
[null,132,"Repas (1 par journée d'instruction) (POC)","Meals (1 per training day) (MCP)",132]
[null,133,"Repas","Meals ",133]
[null,134,"Hébergement","Lodging",134]
[null,135,"Véhicule de Soutien","Support Vehicule",135]
[null,136,"Toilettes chimiques","Chemical toilet",136]
[null,137,"RSPJ","PSRY",137]
[null,138,"Période","Period",138]
[null,139,"Cours","Course",139]
[null,140,"Local","Local",140]
[null,141,"Macro-commandes :","Macro commands:",141]
[null,142,"M Jour 1","M Day 1",142]
[null,143,"M Jour 2","M Day 2",143]
[null,144,"C Jour 1","C Day 1",144]
[null,145,"C Jour 2","C Day 2",145]
[null,146,"EEC 1 (M) Jr 1","FTX 1 (M) Day 1",146]
[null,147,"EEC 1 (M) Jr 2","FTX 1 (M) Day 2",147]
[null,148,"EEC 2 (C) Jr 1","FTX 2 (C) Day 1",148]
[null,149,"EEC 2 (C) Jr 2","FTX 2 (C) Day 2",149]
[null,150,"Vol","Flight",150]
[null,151,"Inter-Esc","Inter-Sqn",151]
[null,152,"Ajoute le niveau 1B (si nécessaire)","Adds level 1B (if necessary)",152]
[null,153,"Niveau 1B","Level 1B",153]
[null,154,"Ajoute le niveau 2B (si nécessaire)","Adds level 2B (if necessary)",154]
[null,155,"Niveau 2B","Level 2B",155]
[null,156,"Sujet","Topic",156]
[null,157,"Énoncé de performance","Performance Statement",157]
[null,158,"Prog.","Program",158]
[null,159,"Horaire","Schedule",159]
[null,160,"Total des périodes d'instruction Obligatoires  ","Total Mandatory Training Periods",160]
[null,161,"Total des périodes d'instruction Complémentaires  ","Total Complementary Training Periods  ",161]
[null,162,"Total des périodes d'instruction Obligatoires à l'unité","Total Mandatory Training Periods at unit  ",162]
[null,163,"Total des périodes d'instruction Obligatoires en campagne","Total Mandatory Training Periods in the field  ",163]
[null,164,"Affiche une 4ième période d'instruction","Displays a 4th training period",164]
[null,165,"À exécuter AVANT de remplir le chiffrier.","To run BEFORE completing the spreadsheet.",165]
[null,166,"COREN 303","303 PC",166]
[null,167,"COREN 308","308 PC",167]
[null,168,"COREN 309","309 PC",168]
[null,169,"COREN 331/336/337","331/336/337 PC",169]
[null,170,"COREN 390","390 PC",170]
[null,171,"Insérer les dates et les OCOMs couverts lors de vos 10 jours du POC et votre revue annuelle.  ","Inserts dates and EOs covered during your 10 MCP days and your annual review.  ",171]
[null,172,"Total des périodes d'instruction Obligatoires","Grand Total Mandatory training periods",172]
[null,173,"Total des périodes d'instruction Complémentaires","Grand Total Complementary training periods",173]
[null,174,"Total des périodes d'instruction Obligatoires - Séances d'instruction","Total Mandatory training periods - Training Sessions",174]
[null,175,"Total des périodes d'instruction Complémentaires - Séances d'instruction","Total Complementary training periods - Training Sessions",175]
[null,176,"Légende pour autres activités durant la soirée d'instruction","Legend for other training sessions activities",176]
[null,177,"Code","Code",177]
[null,178,"Description","Description",178]
[null,179,"AUTRES DÉPENSES DU POC","OTHER MCP EXPENSES",179]
[null,180,"Information sur l'officier d'instruction","Instruction Officer Information",180]
[null,181,"Adresse électronique","Email Address",181]
[null,182,"Séances d'Instruction Hebdomadaires","Weekly Training Sessions",182]
[null,183,"Revue","Review",183]
[null,184,"Période 5","Period 5",184]
[null,185,"                                       Soir","                                  Evening",185]
[null,186,"                                       Cellulaire","                                  Cellular",186]
[null,187,"Information sur l'officier d'administration","Information Administration Officer",187]
[null,188,"Niveau 3B","Level 3B",188]
[null,189," - Périodes M du POC"," - Periods M of MCP",189]
[null,190," - Périodes C du POC"," - Periods C of MCP",190]
[null,191," - Total des périodes du POC"," - Total periods of MCP",191]
[null,192," - Périodes M des séances hebdomadaires"," - Periods M of weekly sessions",192]
[null,193," - Périodes C des séances hebdomadaires"," - Periods C of weekly sessions",193]
[null,194," - Total des périodes des séances hebdomadaires"," - Total periods of weekly sessions",194]
[null,195,"COREN 403","403 PC",195]
[null,196,"COREN 408","408 PC",196]
[null,197,"COREN 409","409 PC",197]
[null,198,"COREN 429","429 PC",198]
[null,199,"COREN 431/432/436/437","431/432/436/437 PC",199]
[null,200,"COREN 490","490 PC",200]
[null,201,"Grand total des périodes d'instruction Obligatoires en campagne","Grand Total Mandatory training periods field",201]
[null,202,"Journées supplémentaires pour le POC","Additional days for the MCP",202]
[null,203,"Créer activité Forteresse","Create activity Fortress",203]
[null,204,"Inscrire les présences","Record the attendance",204]
[null,205,"Soumettre pour le 15 mai, votre proposition des dates de sorties de fin de semaine des escadrons et matériel de soutien à l'instruction.","May 15 to submit your proposal of release dates for the weekend of squadrons and material support to education.",205]
[null,206,"Ajoute le niveau 3B (si nécessaire)","Adds level 3B (if necessary)",206]
[null,207,"Affiche que 2 périodes d'instruction","Displays a 3th training period",207]
[null,208,"Affiche une 4ième période d'instruction","Displays a 4th training period",208]
[null,209,"Affiche une 5ième période d'instruction","Displays a 5th training period",209]
[null,210,"Reviens à l'affichage standard (3 périodes, sans niveau #B)","Return to standard display (3 periods without level # B)",210]
[null,211,"Pour avoir la page hebdomadaire de la semaine 9 (par exemple), il suffit d'inscrire 9 (dans notre exemple) dans la case jaune (cellule Q3) .","For the weekly page of the week 9 (for example), simply enter 9 (in our example) in the yellow box (cell Q3).",211]
[null,212,"Note ","Nota ",212]
[null,213,"Ajout en fonction de la modification intérimaire #A09-015.","Addition according to the interim amendment # A09-015.",213]
[null,214,"Modification de certaines périodes obligatoires en complémentaire pour ajouter 3 périodes au RSPJ, en fonction de la modification intérimaire #A10-003.","Modifying certain periods mandatory to add 3 additional periods RSPJ, according to the interim amendment # A10-003.",214]
[null,215,"Remplacement du terme \"PACER\" par \"Programme d'évaluation de la condition physique et de motivation des cadets\", en fonction de la modification intérimaire #A10-005.","Replacing \"PACER\"with \"Cadet Fitness Assessment and Incentive Program\", according th the interim amendment # A10-005.",215]
[null,216,"La légendes des codes d'abréviation est dans le bas de cette page, soit à la page #15.","The code list of abbreviations is at the bottom of this page, on page 15.",216]
[null,217,"Afficher une journée du POC supplémentaire.","Post a MCP extra day.",217]
[null,218,"Vous ne pouvez plus afficher de journée du POC supplémentaire.","You may not post MCP extra day.",218]
[null,219,"COREN 502","502 PC",219]
[null,220,"COREN 503","503 PC",220]
[null,221,"COREN 504","504 PC",221]
[null,222,"COREN 509","509 PC",222]
[null,223,"COREN 513","513 PC",223]
[null,224,"COREN 514","514 PC",224]
[null,225,"JFDSIO","MTDWA",225]
[null,226,"JFDSIC","CTDWA",226]
[null,227,"Grand total de la FCE","Total OJT",227]
[null,228,"Niveau 4B","Level 4B",228]
[null,229,"Ajoute le niveau 4B (si nécessaire)","Adds level 4B (if necessary)",229]
[null,230,"COREN 304","304 PC",230]
[null,231,"COREN 404","404 PC",231]
[null,232,null,null,232]
[null,233,null,null,233]
[null,234,null,null,234]
[null,235,null,null,235]
[null,236,null,null,236]
[null,237,null,null,237]
[null,238,null,null,238]
[null,239,null,null,239]
[null,240,null,null,240]
[null,241,null,null,241]
[null,242,null,null,242]
[null,243,null,null,243]
[null,244,null,null,244]
[null,245,null,null,245]
[null,246,null,null,246]
[null,247,null,null,247]
[null,248,null,null,248]
[null,249,null,null,249]
[null,250,"Dernière ligne pour le texte normal",null,250]
[]
[]
[]
[]
[]
[]
[]
[]
[]
[]
[]
[]
[]
[]
[]
[]
[]
[]
[]
[]
[]
[]
[]
[]
[]
[]
[]
[]
[]
[]
[]
[]
[]
[]
[]
[]
[]
[]
[]
[]
[]
[]
[]
[]
[]
[]
[]
[]
[]
[null,"OREN"]
[null,100,"Participer à la formation sur les relations sociales positives pour la jeunesse","Participate in positive social relations for youth training"]
[null,101,"Poser des gestes personnels qui améliorent le sort de la communauté","Perform individual acts taht better the community"]
[null,102,"Service communautaire","Perform community service"]
[null,103,"Participer à titre d'un membre d'une équipe","Participate as a member of a team"]
[null,"X04","Suivre la participation aux activités physiques","Track participation in physical activities"]
[null,105,"Participer à des sports récréatifs organisés","Participate in  physical activities"]
[null,106,"Tirer avec la carabine à air comprimé des cadets","Fire the Cadet air riffle "]
[null,107,"Servir dans un escadron de cadet de l'Air","Serve in an Air Cadet Squadron"]
[null,108,"Exécuter les mouvements d'exercice militaire lors d'une cérémonie de revue annuelle","Perform Drill movements during an annual ceremonial review"]
[null,111,"Participer à des activités récréatives de biathlon d’été","Participate in recreational summer Biathlon activities"]
[null,120,"Participer aux activités de familiarisation avec les Forces canadiennes (FC)","Participate in Canadian Forces (CF) familiarization activities"]
[null,121,"Participer aux activités de familiarisation des communautés de l'aviation, de l'aérospatiale et des opérations d'aérodrome et de construction aéronautique et de maintenance d'aéronefs","Participate in Canadian Aviation, Aerospace and Aerodrome operations and Aircraft manufacturing and maintenance community familiarization activities "]
[null,129,"Communiquer au moyen de l'alphabet et chiffre phonétique","Communicate using the phonetic alphabet and numbers"]
[null,130,"Participer à des activités de l'aviation ","Participate in Aviation activities"]
[null,140,"Participer à des activités aérospatiales","Participate in Aerospace Activities"]
[null,160,"Participer à des activités d'opérations d'aérodromes","Participate in Aerodrome Operations Activities"]
[null,170,"Discuter de la construction et de la maintenance des aéronefs","Discuss Aircraft maintenance and manufacturing"]
[null,190,"Participer à un exercice de survie pour équipage de vol","Participate in an Aircrew survival exercise"]
[null,201,"Situer le rôle d'un citoyen canadien sensibilisé à l'environnement","Identify the roles of an environmentally conscious citizen"]
[null,202,"Service communautaire","Perform Community Service"]
[null,203,"Démontrer des qualités de leadership entre pairs","Demonstrate Leadership attitudes within a peer setting"]
[null,204,"Suivre la participation aux activités physiques","Track participation in physical activities"]
[null,205,"Participer à des sports récréatifs","Participate in Recreational Sports"]
[null,206,"Tirer avec la carabine à air","Fire the Air Riffle during Recreational Marksmanship"]
[null,207,"Servir dans un escadron de cadets de l'Air","Serve in an Air Cadet Squadron"]
[null,208,"Exécuter de l'exercice militaire à titre de membre d'une escouade","Drill"]
[null,211,"Biathlon d'été","Participate in Competitive Summer Biathlon Activity"]
[null,230,"Histoire de l'aviation canadienne","Discuss Canadian Aviation History"]
[null,231,"Principes de vol","Explain Principles of Flight"]
[null,232,"Identifier les caractéristiques d'un aéronef à moteur à pistons","Identify Characteristics of Piston-Powered Aircraft"]
[null,240,"Participer à des activités aérospatiales","Participate in Aerospace Activities"]
[null,260,"Opérations d'aérodrome","Participate in Aerodrome Operations Activities"]
[null,270,"Discuter de la fabrication et la maintenance des aéronefs","Discuss Aircraft Manufacturing / Maintenance"]
[null,290,"Participer à un exercice en campagne","Aircrew Survival"]
[null,301,"Reconnaître l'objectif des groupes de service au Canada","Recognize the Purpose of Service Groups Within Canada"]
[null,302,"Effectuer un service communautaire","Perform Community Service"]
[null,303,"Exercer le rôle d'un chef d'équipe","Perform the Role of a Team\nLeader"]
[null,304,"Suivre la participation aux activités physiques","Track participation in physical activities"]
[null,305,"Participer à des sports récréatifs","Participate in Recreational Sports"]
[null,306,"Tirer avec la carabine à air comprimé des cadets pendant une activité récréative de tir de précision","Fire the Cadet Air Rifle During\nRecreational Marksmanship"]
[null,307,"Servir dans un escadron de cadets de l'Air","Serve in an Air Cadet Squadron"]
[null,308,"Diriger une escouade avant un rassemblement","Direct a Squad Prior to a Parade"]
[null,309,"Enseigner une leçon","Instruct a Lesson"]
[null,311,"Participer à une activité récréative de biathlon d'été","Participate in a Recreational Summer\nBiathlon Activity"]
[null,320,"Participer aux activités de familiarisation des Forces canadiennes (FC)","Participate in Canadian Forces (CF)\nFamiliarization Activities"]
[null,331,"Décrire les principes de vol","Describe Principles of Flight"]
[null,336,"Identifier les conditions météorologiques","Identify Meteorological Conditions"]
[null,337,"Démontrer les habiletés en navigation aérienne","Demonstrate Air Navigation Skills"]
[null,340,"Identifier des aspects de l'exploration spatiale","Identify Aspects of Space Exploration"]
[null,360,"Reconnaître les aspects des opérations d'aérodrome","Recognize Aspects of Aerodrome\nOperations"]
[null,370,"Reconnaître les aspects de la construction et de maintenance des aéronefs","Recognize Aspects of Aircraft\nManufacturing and Maintenance"]
[null,390,"Naviguer selon un itinéraire à l'aide d'une carte et d'une boussole","Navigate a Route Using a Map and \nCompass"]
[null,401,"Comprendre l’impact du système juridique sur les jeunes","Recognize How the Legal System Affects Youth"]
[null,402,"Effectuer un service communautaire","Perform Community Service"]
[null,403,"Agir à titre de chef d’équipe","Act as a Team Leader"]
[null,404,"Suivre la participation aux activités physiques","Track participation in physical activities"]
[null,405,"Participer à des sports récréatifs","Participate in Recreational Sports"]
[null,406,"Tirer avec la carabine à air comprimé des cadets pendant une activité récréative de tir de précision","Fire the Cadet Air Rifle During Recreational Marksmanship"]
[null,407,"Servir dans un escadron de cadets de l’Air","Serve in an Air Cadet Squadron"]
[null,408,"Commander une section lors d’un rassemblement","Command a Flight on Parade"]
[null,409,"Enseigner une leçon","Instruct a Lesson"]
[null,420,"Décrire les traditions de la Force aérienne du Canada","Describe Canadian Air Force Traditions"]
[null,429,"Communiquer à l’aide des procédures radio pour les transmissions destinées à l’aviation","Communicate Using Radio Procedures for Aviation Transmission"]
[null,431,"Expliquer les principes de vol","Explain Principles of Flight"]
[null,432,"Décrire les systèmes de moteur d’avion","Describe Aero Engine Systems"]
[null,436,"Expliquer les aspects de météorologie","Explain Aspects of Meteorology"]
[null,437,"Expliquer les aspects de la navigation aérienne","Explain Aspects of Air Navigation"]
[null,440,"Discuter des structures aérospatiales","Discuss Aerospace Structures"]
[null,460,"Décrire les possibilités de carrière liées aux opérations d'aérodrome","Describe Aerodrome Operations Career Opportunities"]
[null,470,"Discuter des aspects de la construction et de la maintenance des aéronefs","Discuss Aspects of Aircraft Manufacturing and Maintenance"]
[null,490,"Participer à un exercice de survie pour équipage de vol","Participate in an Aircrew Survival Exercise"]
[null,501,"Expliquer le concept de citoyenneté mondiale","Explain Global Citizenship"]
[null,502,"Effectuer un service communautaire","Perform Community Service"]
[null,503,"Diriger des activités de cadets","Lead Cadet Activities"]
[null,504,"Adopter un mode de vie actif","Adopt an Active Lifestyle"]
[null,507,"Servir dans un escadron de cadets de l'Air","Serve in an Air Cadet Squadron"]
[null,509,"Enseigner aux cadets","Instruct Cadets"]
[null,513,"Participer à des ateliers","Attend Workshops"]
[null,514,"poursouivre un apprentissage individualisé","Pursue Individual Learning"]
[null,530,"Effectuer un vol-voyage à l'aide d'un simulateur de vol","Fly a Cross-Country Flight Using a Flight Simulator"]
[null,540,"Réfléchir à la contribution du Canada aux technologies aérospatiales","Reflect on Canada's Contribution to Aerospace Technology"]
[null,560,"Participer à une activité d'opérations d'aérodrome","Participate in an Aerodrome Operations Activity"]
[null,570,"Examiner les aspects de la construction et de la maintenance des aéronefs par le développement d'aéronefs de voltige","Examine Aspects of Aircraft Manufacturing and Maintenance Through the Development of Aerobatic Aircraft"]
[null,590,"Analyser une étude de cas d'un exercice de survie pour équipage de vol","Analyze an Aircrew Survival Case Study"]
[null,"S.O.","Cérémonie de la revue annuelle","Annual Ceremonial Review"]
[null,{"$f":"VLOOKUP(137,Traduction!$B$6:$E$250,'Info de l''escadron'!$A$1+1,0)","v":"RSPJ"},"Relation sociale positive pour la jeunesse","Positive Social Relations for Youths"]
[null,{"$f":"VLOOKUP(183,Traduction!$B$6:$E$250,'Info de l''escadron'!$A$1+1,0)","v":"Revue"},"Cérémonie de la revue annuelle","Annual Ceremonial Review Parade"]
[null,null,"Dernière ligne pour les OREN"]
[]
[]
[]
[]
[]
[]
[]
[]
[]
[]
[]
[]
[]
[]
[]
[]
[]
[]
[]
[]
[]
[]
[]
[]
[]
[]
[]
[]
[]
[]
[]
[]
[]
[]
[]
[]
[]
[null,"OCOM"]
[null,"M100.01","Sous-module 1 — Ce qui est attendu de vous en tant que cadet","Sub-Module 1 - What we expect from you as a Cadet"]
[null,"M100.02","Sous-module 2 — Répercussions des comportements qui surpassent les attentes ou qui n'y satisfont pas","Sub-Module 2 - What cab happen when behaviours exceed or do not meet expectations"]
[null,"M100.03","Sous-module 3 — Qu'est-ce que le harcèlement, les actes criminels et l'abus et où trouver de l'aide","Sub-Module 3 - What harassment, criminla offences and child abuse are and where you can go for help"]
[null,"M100.04","Sous-module 4 — Qu'est-ce qu'un conflit et comment y remédier","Sub-Module 4 - What conflict is and how you can deal with it"]
[null,"M101.01","Poser des gestes personnels qui améliorent le sort de la communauté","Perform individual acts that better the community"]
[null,"C101.01","Visiter une institution communautaire","Tour a community institution"]
[null,"C101.02","Participer à une présentation donnée par un organisme communautaire","Participate in a presentation given by a community organization"]
[null,"M102.01","Effectuer un service communautaire","Perform Community Service"]
[null,"C102.01","Effectuer un service communautaire","Perform Community Service"]
[null,"M103.01","Identifier les responsabilités d'un suiveur dans une équipe","Identify the responsibilities of a follower in a team"]
[null,"M103.02","Établir un objectif personnel pour l'année d'instruction","Map personal goals for the training year"]
[null,"M103.03","Participer à des activités de promotion du travail d'équipe","Participate in Teambuilding activities "]
[null,"C103.01","Participer à des activités pour briser la glace","Participate in icebreaker activities"]
[null,"C103.02","Participer à des présentations de soi","Participate in Self-introductions"]
[null,"C103.03","Participer à des activités de promotion du travail d'équipe","Participate in Teambuilding activities "]
[null,"MX04.01","Participer à une séance d'activité physique d'intensité modérée à élevée de 60 minutes et suivre la participation aux activités physiques","Participate in 60 minutes of moderate to vigorous intensity physical activity (MVPA) and track participation in physical activities"]
[null,"MX04.02","Définir des stratégies pour accroître la participation à des activités physiques et participer à l'évaluation de la condition physique des cadets","Identify strategies to improve participation in physical activities and participate in the Cadet Fitness Assessment (CFA)"]
[null,"MX04.03","Participer à l'évaluation de la condition physique des cadets et définir des stratégies pour améliorer la condition physique personnelle","Participate in the Cadet Fitness Assessment (CFA) and identify strategies for improving personnal physical fitness"]
[null,"CX04.01","Participer à l'évaluation de la condition physique des cadets et définir des stratégies pour améliorer la condition physique personnelle","Participate in the Cadet Fitness Assessment (CFA) and identify strategies for improving personnal physical fitness"]
[null,"CX04.02","Participer à des activités de renforcement des trois composantes de la condition physique","Participate in activities that reinforce the three components of physical fitness"]
[null,"CX04.03","Participer à un cours de cuisine","Participate in a cooking class"]
[null,"CX04.04","Assister à un présentation sur la condition physique personnelle et les saines habitudes de vie","Attend a personnal fitness and healthy living presentation"]
[null,"CX04.05","Assister à un événement sportif amateur","Attend a local amateur sporting event"]
[null,"M105.01","Participer à des activités physiques","Participate in physical activities"]
[null,"C105.01","Participer à des activités physiques","Participate in physical activities"]
[null,"M106.01","Identifier les pièces et les caractéristiques de la carabine à air comprimé Daisy 853C","Identify the parts and characteristics of the Daisy 853C air riffle"]
[null,"M106.02","Effectuer les mesures de sécurité de la carabine à air comprimé des cadets","Carry out safety precaution on the Cadet air riffle"]
[null,"M106.03","Appliquer les techniques élémentaires du tir de précision","Apply basic marksmanship techniques"]
[null,"M106.04","Respecter les règles et les commandements sur un champ de tir pour carabine à air comprimé","Follow rules and commands on an air riffle range"]
[null,"M106.05","Participer à une activité de familiarisation sur le tir de précision avec la carabine à air comprimé des cadets","Participate in markmanship familiarization using the Cadet air riffle"]
[null,"C106.01","Participer à une activité récréative de tir de précision","Participate in a recrational markmanship activity"]
[null,"C106.02","Nettoyer et entreposer la carabine à air comprimé des cadets","Clean and store the Cadet air riffle "]
[null,"M107.01","Discuter de la première année de l’instruction","Discuss Year one training"]
[null,"M107.02","Identifier les grades des cadets de l'Air et des officiers de l'Aviation royale du Canada (ARC)","Identify Air Cadet and RCAF Officer ranks"]
[null,"M107.03","Respecter les règles et les procédures de salut","Observe rules and procedures for the paying of compliments"]
[null,"M107.04","Énoncer l'objectif et la devise du programme des cadets de l’Air","State the Aims and Motto of the Air Cadet Program"]
[null,"M107.05","Porter l'uniforme des cadets de l’Air","Wear the Air Cadet uniform"]
[null,"M107.06","Discuter des occasions d’instruction d’été","Discuss summer training opportunities"]
[null,"C107.01","Entretenir l'uniforme des cadets de l’Air","Maintain the Air Cadet uniform"]
[null,"C107.02","Identifier la structure des grades des MR de l'ARC","Identify the RCAF NCM rank sturcture"]
[null,"C107.03","Visite guidée de l'escadron","Tour the Squadron"]
[null,"C107.04","Participer à une activité relative à l'histoire de l'escadron","Participate in an activity about the history of the Squadron"]
[null,"M108.01","Adopter les positions de garde à vous, en place repos et repos","Adopt the positions of attention, stand at ease, and stand easy"]
[null,"M108.02","Exécuter un salut à la halte sans armes","Execute a salute at the halt without arms"]
[null,"M108.03","Tourner à la halte","Execute turns at the halt"]
[null,"M108.04","Exécuter les mouvements pour resserrer les rangs vers la droite et vers la gauche","Close to the right and left"]
[null,"M108.05","Exécuter des pas vers l’avant et vers l’arrière ","Execute paces forward and to the rear"]
[null,"M108.06","Exécuter les mouvements pour l’alignement par la droite ","Execute the movements required for a right dress"]
[null,"M108.07","Exécuter les mouvements pour ouvrir et fermer les rangs ","Execute an open order and close order march"]
[null,"M108.08","Marche et halte au pas cadencé ","March and halt in quick time"]
[null,"M108.09","Exécuter les mouvements pour marquer le pas, avancer et s'arrêter au pas cadencé ","Execute marking time, forward, and halting in quick time"]
[null,"M108.10","Exécuter un salut à la marche","Execute a salute on the march"]
[null,"M108.11","Exécuter un salut d'une escouade en marche ","Pay compliments with a squad on the march"]
[null,"M108.12","Exécuter les mouvements de l'exercice militaire dans le cadre d'une revue annuelle ","Perform Drill movements during an annual ceremonial review"]
[null,"C108.01","Exécuter des mouvements d’exercice militaire supplémentaires ","Execute supplementary Drill movements"]
[null,"C108.02","Participer à une compétition d’exercice militaire ","Participate in a Drill competition"]
[null,"C111.01","Participer à une séance d'information sur le biathlon","Participate in a Biathlon briefing "]
[null,"C111.02","Courir des sprints courts","Run wind sprints"]
[null,"C111.03","Simuler un tir avec la carabine à air comprimé des cadets après une activité physique","Simulate firing the Cadet air rifle following physical activity"]
[null,"C111.04","Participer à une activité récréative de biathlon d'été","Participate in a recreational summer Biathlon activity"]
[null,"M120.01","Discuter des rôles des FC","Discuss the roles of the CF"]
[null,"M120.02","Discuter des carrières possibles au sein des FC","Discuss opportunities in the CF"]
[null,"C120.01","Participer à une présentation donnée par un membre des FC","Participate in a presentation given by a member of the CF"]
[null,"C120.02","Visiter une installation ou une unité des FC de la région  ","Tour a local CF installation/unit "]
[null,"C120.03","Communiquer avec un membre des FC en déploiement","Contact a CF member on deployment"]
[null,"M121.01","Discuter des carrières possibles au sein de l’aviation ","Discuss aviation opportunities"]
[null,"C121.01","Participer à une présentation donnée par un membre d'une communauté canadienne de l’aviation, de l’aérospatiale, des opérations d’aérodrome ou de construction aéronautique et de maintenance d'aéronefs","Participate in a presentation given by a member of the canadian aviation, aerospace or aerodrome operations and aircraft manufacturing and maintenance community "]
[null,"M129.01","Réciter l’alphabet et les chiffres phonétiques","Recite the phonetic alphabet and numbers"]
[null,"M130.01","Identifier les aéronefs militaires, civils et des cadets ","Identify aircraft as military, civilian and cadet"]
[null,"M130.02","Décrire les parties principales d’un avion ","Describe the main momponents of an airplane"]
[null,"M130.03","Fabriquer un modèle réduit d’avion ","Construct a model airplane"]
[null,"M130.04","Visionner un épisode de Sur des ailes canadiennes ","Watch < On Canadian Wings > video"]
[null,"C130.01","Participer à une inspection extérieure d’un aéronef ","Participate in a walk-around aircraft inspection"]
[null,"C130.02","Identifier des aéronefs internationaux ","Identify international aircraft"]
[null,"C130.03","Visionner un épisode de Sur des ailes canadiennes ","Watch an On Canadian Wings segment"]
[null,"C130.04","Visiter un musée d’aviation de la région ","Tour a local aviation museum"]
[null,"C130.05","Assister à un spectacle aérien de la région","Attend a local air show"]
[null,"M140.01","Lancer une fusée à eau","Launch a water rocket"]
[null,"C140.01","Lancer une fusée en mousse","Launch a foam rocket"]
[null,"C140.02","Discuter des structures du sommeil dans l'espace","Discuss sleep patterns in space"]
[null,"M160.01","Identifier les parties principales d’un aérodrome ","Identify major aerodrome components"]
[null,"M160.02","Identifier les caractéristiques d’une piste ","Identify features of a runway"]
[null,"M160.03","Fabriquer un modèle réduit d’aérodrome ","Construct a model aerodrome"]
[null,"C160.01","Visiter un aérodrome de la région","Tour a local aerodrome"]
[null,"C170.01","Visionner des épisodes de Comment c'est fait","Watch How it's made segments"]
[null,"C170.02","Visiter une installation de maintenance d'aéronefs de la région","Tour a local aviation maintenance facility"]
[null,"M190.01","Emballer l’équipement personnel nécessaire pour un exercice de survie pour équipage de vol","Pack personal equipment for a field exercise "]
[null,"M190.02","Entretenir l’équipement personnel et avoir une bonne hygiène en campagne","Maintain personal equipment and hygiene in the field"]
[null,"M190.03","Respecter les politiques et procédures du site ","Observe site policies and procedures"]
[null,"M190.04","Discuter de la psychologie de survie ","Discuss survival psychology"]
[null,"M190.05","Identifier les types d’abri ","Identify types of shelters"]
[null,"M190.06","Allumer, entretenir et éteindre un feu ","Light, maintain and extinguish a fire"]
[null,"M190.07","Dresser, démonter et emballer des tentes","Erect, tear down and pack tents"]
[null,"C190.01","Participer à une présentation donnée par un membre d’un organisme de survie ou d'une communauté de recherche et sauvetage (SAR)","Participate in a presentation given by a member of a survival organization / Search and Rescue (SAR) community"]
[null,"C190.02","Faire des noeuds et des brêlages ","Tie knots and lashings"]
[null,"C190.03","Construire un abri de style houchie","Construct a Hoochie-style shelter"]
[null,"C190.04","Recueillir de l’eau potable en campagne ","Collect drinking water in the field"]
[null,"C190.05","Identifier les blessures causées par l'environnement","Identify environmental injuries"]
[null,"C190.06","Faire preuve de respect envers l'environnement au cours d'un exercice de survie pour équipage de vol","Demonstrate respect for the environment during an aircrew survival exercise"]
[null,"C190.07","Identifier les habitats d'animaux et d'insectes","Identify habitats of animals and insects"]
[null,{"$f":"VLOOKUP(137,Traduction!$B$6:$E$250,'Info de l''escadron'!$A$1+1,0)","v":"RSPJ"},"Relation sociale positive pour la jeunesse","Positive social relations for youths"]
[null,"M201.01","Discuter des droits et responsabilités des citoyens canadiens","Discuss the Rights & Responsibilities of a Canadian Citizen"]
[null,"M201.02","Discuter des principes de gérance de l'environnement","Discuss the Principles of Environmental Stewardship"]
[null,"C201.01","Discuter des questions environnementales concernant le Canada","Discuss Environmental Issues Relative to Canada"]
[null,"C201.02","Visiter une institution politique municipale, provinciale ou fédérale de la région","Tour a Local, Municipal, Provincial or National Political Institution"]
[null,"C201.03","Visiter une installation de protection environnementale municipale, provinciale ou fédérale de la région","Tour a Local, Municipal, Provincial or National Environmental Facility"]
[null,"C201.04","Participer à une présentation donnée par un conférencier du domaine de l'environnement","Participate in a Presentation Given by an Environmental Guest Speaker"]
[null,"C201.05","Participer à une présentation donnée par un représentant du gouvernement","Participate in a Presentation Given by a Government Representative"]
[null,"M202.01","Effectuer un service communautaire","Perform Community Service"]
[null,"M203.01","Discuter du leadership entre pairs","Discuss Leadership Within a Peer Setting"]
[null,"M203.02","Discuter des principes de leadership","Discuss the Principles of Leadership"]
[null,"M203.03","Discuter de la communication efficace entre pairs","Discuss Effective Communication in a Peer Setting"]
[null,"M203.04","Démontrer la dynamique de groupe positive","Demonstrate Positive Group Dynamics"]
[null,"M203.05","Discuter des comportements influents","Discuss Influence Behaviours"]
[null,"M203.06","Utiliser la résolution de problème","Employ Problem Solving"]
[null,"M203.07","Discuter de l'intégrité personnelle comme qualité de leadership","Discuss Personal Integrity as a Quality of Leadership"]
[null,"M203.08","Participer à des activités de promotion du travail d'équipe","Participate in a Team-Building Activities"]
[null,"C203.01","Consigner des entrées dans un journal réflectif","Record Entries in A reflective Journal"]
[null,"C203.02","Utiliser la résolution de problème","Employ Problem Solving"]
[null,"C203.03","Discuter des caractéristiques d'un chef","Discuss Characteristics of a Leader"]
[null,"C203.04","Participer à une présentation donnée par un chef","Participate in a Presentation Given by a Leader"]
[null,"C203.05","Participer à des activités de renforcement de la confiance","Participate in a Trust-Building Activities"]
[null,"C203.06","Participer à des activités de résolution de problème","Participate in a Problem-Solving Activities"]
[null,"M204.01","Participer à une séance d'activité physique d'intensité modérée à élevée de 60 minutes et suivre la participation aux activités physiques","Participate in 60 minutes of moderate to vigorous intensity physical activity (MVPA) and track participation in physical activities"]
[null,"M204.02","Définir des stratégies pour accroître la participation à des activités physiques et participer à l'évaluation de la condition physique des cadets","Identify strategies to improve participation in physical activities and participate in the Cadet Fitness Assessment (CFA)"]
[null,"M204.03","Participer à l'évaluation de la condition physique des cadets et définir des stratégies pour améliorer la condition physique personnelle","Participate in the Cadet Fitness Assessment (CFA) and identify strategies for improving personnal physical fitness"]
[null,"C204.01","Participer à l'évaluation de la condition physique des cadets et définir des stratégies pour améliorer la condition physique personnelle","Participate in the Cadet Fitness Assessment (CFA) and identify strategies for improving personnal physical fitness"]
[null,"C204.02","Participer à des activités de renforcement des trois composantes de la condition physique","Participate in activities that reinforce the three components of physical fitness"]
[null,"C204.03","Participer à un cours de cuisine","Participate in a cooking class"]
[null,"C204.04","Assister à un présentation sur la condition physique personnelle et les saines habitudes de vie","Attend a personnal fitness and healthy living presentation"]
[null,"C204.05","Assister à un événement sportif amateur","Attend a local amateur sporting event"]
[null,"M205.01","Participer à des sports d'équipe récréatifs organisés","Participate in Organized Recreational Team Sports"]
[null,"M206.01","Participer à une activité récréative de tir de précision","Participate in a Recreational Marksmanship Activity "]
[null,"C206.01","Pratiquer les techniques pour tenir la carabine","Practice Holding Techniques"]
[null,"C206.02","Pratiquer les techniques de visée","Practice Aiming Techniques"]
[null,"C206.03","Pratiquer les techniques de tir","Practice Firing Techniques"]
[null,"M207.01","Identifier les occasions d'instruction du niveau de qualification deux","Identify Proficiency Level Two Training Opportunities"]
[null,"M207.02","Reconnaître les aspects historiques des cadets de l'Aviation royale du Canada (CARC)","Recognize Historical Aspects of the RCAC"]
[null,"M207.03","Reconnaître les rôles et responsabilités du répondant local","Recognize the Roles & Responsibilities of the Local Sponsor"]
[null,"M207.04","Identifier les occasions d'instruction du niveau de deuxième année du CIEC","Identify Year Two CSTC Training Opportunities"]
[null,"C207.01","Décrire la structure des grades des cadets de la Marine Royale candienne et des cadets royaux de l'Armée canadienne","Identify the Rank Structure of the Royal Canadian Sea & Army Cadets"]
[null,"C207.02","Visiter un corps de cadets de la Marine royale canadienne/corps de cadets royaux de l'Armée canadienne ou un escadron de cadets de l'Air","Visit a Royal Canadian Sea/Army Cadets Corps or an Air Cadets Squadron"]
[null,"C207.03","Décrire l'unité d'affiliation","Describe the Affiliated Unit"]
[null,"C207.04","Visiter l'unité d'affiliation","Tour the Affiliated Unit"]
[null,"C207.05","Participer à une activité relative à l'histoire de l'escadron","Participate in an Activity Abt the History of the Squadron"]
[null,"M208.01","Tourner à gauche et à droite en marchant","Execute Left/Right Turns on the March"]
[null,"M208.02","Former une file indienne de la halte","Form Single File from the Halt"]
[null,"C208.01","S'exercer à une cérémonie militaire dans le cadre d'une revue","Practice Ceremonial Drill as a Review"]
[null,"C208.02","Exécuter de l'exercice militaire avec armes","Execute Drill With Arms"]
[null,"C211.01","Reconnaître les occasions de biathlon civil","Identify Civilian Biathlon Opportunities"]
[null,"C211.02","Courir sur un terrain à géographie différente","Run on Alternating Terrain"]
[null,"C211.03","Tirer avec la carabine à air comprimé des cadets en se servant d'une bretelle après une activité physique","Fire the Cadet Air Riffle Using a Sling Following Physical Activity"]
[null,"C211.04","Participer à une activité compétitive de biathlon d'été","Participate in a Competitive Summer Biathlon Activity"]
[null,"M230.01","Discuter des aéronefs pilotés pendant les Première et Seconde Guerres mondiales","Discuss Aircraft Flown During WWI and WWII"]
[null,"M230.02","Discuter des événements qui ont marqué l'histoire militaire canadienne du 20e siècle","Discuss Significant Events in 20th Century Canadian Military History"]
[null,"C230.01","Participer à une présentation donnée par un membre du bureau des orateurs du Projet Mémoire","Participate in a Presentation Given by a Member of the Memory Project Speakers Bureau"]
[null,"C230.02","Visiter un musée d'aviation de la région","Tour a Local Aviation Museum"]
[null,"C230.03","Discuter des événements qui ont marqué l'histoire de l'aviation canadienne","Discuss Significant Canadian Historical Events Relative to Aviation"]
[null,"M231.01","Identifier les quatre forces qui agissent sur un aéronef","Identify the Four Forces That Act Upon an Aircraft"]
[null,"M231.02","Décrire la façon dont la portance se développe sur une voilure d'aéronef","Describe the Production of Lift by an Aircraft Wing"]
[null,"M231.03","Décrire les types de trainée qui agissent sur un aéronef","Describe the Types of Drag That Act Upon an Aircraft"]
[null,"M231.04","Décrire les mouvements axiaux d'un aéronef","Describe the Axial Movements of an Aircraft"]
[null,"M231.05","Décrire les gouvernes d'un aéronef","Describe Aircraft Control Surfaces"]
[null,"C231.01","Faire fonctionner une voilure expérimentale","Operate an Experimental Wing"]
[null,"C231.02","Faire voler un planeur Golditz en papier","Fly a Paper Colditz Glider"]
[null,"C231.03","Visiter une école de pilotage","Tour a Flight School"]
[null,"C231.04","Participer à une présentation donnée par un conférencier du milieu de l'aviation local","Participate in Presentation Given by Guest Speakers from Local Aviation Community"]
[null,"C231.05","Visiter un simulateur de vol","Tour a Flight Simulator"]
[null,"C231.06","Assister à un spectacle aérien de la région","Tour a Local Air Show"]
[null,"M232.01","Identifier les types de moteurs d'aéronef","Identify Types of Aircraft Engines"]
[null,"M232.02","Identifier les composants des moteurs à piston à combustion interne","Identify the Components of Piston-Powered Internal Combustion Engines"]
[null,"M232.03","Expliquer les cycles d'un moteur à piston à quatre temps","Explain the Cycles of a Four-Stroke Piston-Powered Engines"]
[null,"M232.04","Reconnaître les fonctions de l'huile dans un moteur à piston à quatre temps","Recognize the Functions of Oil in a Four-Stroke Piston-Powered Engines"]
[null,"C232.01","Identifier les caractéristiques des turbines à gaz","Identify the Characteristics of Gas Turbine Engines"]
[null,"C232.02","Identifier les caractéristiques des moteurs-fusées","Identify the Characteristics of Rocket Engines"]
[null,"C232.03","Identifier les caractéristiques des moteurs d'hélicoptère","Identify the Characteristics of Helicopter Engines"]
[null,"M240.01","Explorer les avancées technologiques actuelles en aérospatiale","Explore Currents Advancements in Aerospace Technology"]
[null,"M240.02","Inventer un objet comportant une technologie spatiale","Invent a Space Techonology Item"]
[null,"M240.03","Participer à une mise en situation de survie dans l'espace","Participate in a Space Survival Scenario"]
[null,"C240.01","Participer à une activité de communication non verbale","Participate in a Non-Verbal Communication Activity"]
[null,"C240.02","Inventer un système de communication pour l'espace","Invent a Communication System for Space"]
[null,"C240.03","identifier les parties d'une fusée","Identify Parts of a Rocket"]
[null,"C240.04","Naviguer à l'aide d'un système mondial de positionnement (GPS)","Navigate With a Global Positioning System (GPS) "]
[null,"C240.05","Simuler une situation de survie dans l’espace","Simulate Survival in Space"]
[null,"C240.06","S'orienter à l'aide des constellations pendant un exercice d'entraînement en campagne","Determine Direction Using Constellation on a Field Exercise"]
[null,"M260.01","Expliquer les aspects du contrôle de la circulation aérienne","Explain Aspects of Air Traffic Control (ATC)"]
[null,"M260.02","Identifier les aspects des opérations d'aérodrome de la base","Identify Aspects of Basic Aerodrome Operations"]
[null,"C260.01","Visiter l'installation de sécurité d'un aérodrome","Tour an Aerodrome Security Facility"]
[null,"C260.02","Visiter une tour de contrôle de la circulation aérienne","Tour an Air Traffic Control (ATC) Tower"]
[null,"C260.03","Participer à une présentation donnée par un employé d'aérodrome","Participate in a Presentation Given by an Employee of an Aerodrome"]
[null,"C260.04","Effectuer le guidage des avions au sol","Perform Marshalling"]
[null,"C260.05","Visiter un aérodrome","Tour an Aerodrome"]
[null,"M270.01","Identifier les aspects de la fabrication des aéronefs","Identify Aspects of Aircraft Manufacturing"]
[null,"M270.02","Identifier les exigences de maintenance des aéronefs","Identify Requirements for Aircraft Maintenance"]
[null,"M270.03","Discuter des occasions d'éducation et d'emploi dans le domaine de la fabrication et de la maintenance d'aéronef","Discuss Education and Employment Opportunities in Aircraft Manufacturing and Maintenance"]
[null,"C270.01","Participer à une présentation donnée par un employé du domaine de la fabrication et de la maintenance d'aéronef","Participate in a Presentation Given by an Employee in the Aircraft Manufacturing/Maintenance Industry"]
[null,"C270.02","Identifier les activités de l'Outil d'apprentissage multimédia interactif (OAMI) du conseil canadien de l'entretien des aéronefs (CCEA)","Identify Canadian Aviation Maintenance Coucil (CAMC) Interactive MultimediaLearning Tool (IMLT) Activities"]
[null,"C270.03","Visiter une avionnerie ou une installation de maintenance d'aéronef","Tour an Aircraft Manufacturing or Maintenance Facility"]
[null,"C270.04","Visionner la vidéo intitulée < World Biggest Airliner : Airbus 380 — coming together >","Watch < World's Biggest Airliner: The Airbus A380 - Coming Together > "]
[null,"M290.01","Construire, allumer, entretenir et éteindre un feu de signalisation","Construct, Light, Maintain and Extinguish a Signal Fire"]
[null,"M290.02","Construire un abri de style appentis","Construct a Lean-to-Style Shelter"]
[null,"M290.03","Construire un collet simple","Construct a Simple Snare"]
[null,"M290.04","Construire des signaux sol-air","Construct Ground-to-Air Signals"]
[null,"M290.05","Identifier les techniques de randonnée pédestre","Identify Hiking Techniques"]
[null,"M290.06","Utililiser une radio portative","Operate a Hand-Held Radio"]
[null,"C290.01","Participer à une présentation donnée par un membre d'un organisme de survie","Participate in a Presentation Given by a Member of a Survival Organization"]
[null,"C290.02","Discuter du dépouillement et de la cuisson des petits animaux","Discuss Skinning and Cooking a Small Animal"]
[null,"C290.03","Creuser une caverne dans la neige","Construct a Snow Cave"]
[null,"C290.04","Recueillir de l'eau potable avec un distillateur solaire","Collect Drinking Water Using a Solar Still"]
[null,"C290.05","Participer à une randonnée pédestre","Participate in a Hike"]
[null,"M301.01","Discuter des groupes de service communautaire","Discuss Community Service Groups"]
[null,"C301.01","Discuter des trois pouvoirs du gouvernement du Canada","Discuss the Three Branches of the Canadian Government"]
[null,"C301.02","Discuter des événements actuels","Discuss Current Events"]
[null,"C301.03","Visiter un groupe de service communautaire local","Tour a Local Community Service Group"]
[null,"C301.04","Participer à une présentation donnée par un conférencier d'un groupe de service communautaire local","Participate in a Presentation Given by a Guest Speaker from a Local Community Service Group"]
[null,"M302.01","Effectuer un service communautaire","Perform Community Service"]
[null,"M303.01","Définir le rôle d'un chef d'équipe","Define the Role of a Team Leader"]
[null,"M303.02","Participer à une relation de mentorat","Participate in a Mentoring Relationship"]
[null,"M303.03","S'exercer à faire une auto-évaluation","Practice Self-Assessment"]
[null,"M303.04","Communiquer à titre de chef d'équipe","Communicate as a Team Leader"]
[null,"M303.05","Superviser les cadets","Supervise Cadets"]
[null,"M303.06","Résoudre les problèmes","Solve Problems"]
[null,"M303.07","Diriger les cadets tout au long d'une tâche en leadership","Lead Cadets Through a Leadership Assignment"]
[null,"COREN 303","Exercer le rôle d'un chef d'équipe","Perform the Role of a Team Leader"]
[null,"303 PC","Exercer le rôle d'un chef d'équipe","Perform the Role of a Team Leader"]
[null,"C303.01","Diriger une activité de promotion du travail d'équipe","Lead a Team-Building Activity"]
[null,"C303.02","Donner une présentation au sujet d'un chef","Deliver a Presentation About a Leader"]
[null,"M304.01","Participer à une séance d'activité physique d'intensité modérée à élevée de 60 minutes et suivre la participation aux activités physiques","Participate in 60 minutes of moderate to vigorous intensity physical activity (MVPA) and track participation in physical activities"]
[null,"M304.02","Définir des stratégies pour accroître la participation à des activités physiques et participer à l'évaluation de la condition physique des cadets","Identify strategies to improve participation in physical activities and participate in the Cadet Fitness Assessment (CFA)"]
[null,"M304.03","Participer à l'évaluation de la condition physique des cadets et définir des stratégies pour améliorer la condition physique personnelle","Participate in the Cadet Fitness Assessment (CFA) and identify strategies for improving personnal physical fitness"]
[null,"COREN 304","Condition physique et mode de vie sain","Personnal fitness et healthy living"]
[null,"304 PC","Condition physique et mode de vie sain","Personnal fitness et healthy living"]
[null,"C304.01","Participer à l'évaluation de la condition physique des cadets et définir des stratégies pour améliorer la condition physique personnelle","Participate in the Cadet Fitness Assessment (CFA) and identify strategies for improving personnal physical fitness"]
[null,"C304.02","Participer à des activités de renforcement des trois composantes de la condition physique","Participate in activities that reinforce the three components of physical fitness"]
[null,"C304.03","Participer à un cours de cuisine","Participate in a cooking class"]
[null,"C304.04","Assister à un présentation sur la condition physique personnelle et les saines habitudes de vie","Attend a personnal fitness and healthy living presentation"]
[null,"C304.05","Assister à un événement sportif amateur","Attend a local amateur sporting event"]
[null,"M305.01","Participer à des sports d'équipe récréatifs organisés","Participate in Organized Recreational Team Sports"]
[null,"M306.01","Participer à une activité récréative de tir de précision","Participate in a Recreational Marksmanship Activity "]
[null,"C306.01","Identifier les associations civiles de tir de précision","Identify Civilian Marksmanship Organizations"]
[null,"C306.02","Corriger l'erreur de tir","Correct Marksmanship Error"]
[null,"C306.03","Adopter la position debout avec la carabine à air comprimé des cadets","Adopt the Standing Position With the Cadet Air Rifle"]
[null,"M307.01","Identifier les occasions d'instruction de niveau de qualification trois","Identify Proficiency Level Three Training Opportunities"]
[null,"M307.02","Identifier les occasions d'instruction de troisième année du CIEC","Identify Year Three CSTC Training Opportunities"]
[null,"M307.03","Reconnaitre le partenariat entre la Ligue des cadets de l'Air du Canada (LCAC) et le MDN","Recognize the Partnership Between the Air Cadet League of Canada (ACLC) and DND"]
[null,"C307.01","Participer à une présentation donnée par un conférencier d'une Unité régionale de soutien aux cadets (URSC)","Participate in a Presentation Given by a Guest Speaker From the Regional Cadet Support Unit (RCSU)"]
[null,"C307.02","Participer à une présentation donnée par l'officier de liaison - cadets (OLC)","Participate in a Presentation Given by the Cadet Liaison Officer"]
[null,"C307.03","Participer à une présentation donnée par un conférencier de la Ligue des cadets de l'Air du Canada (LCAC)","Participate in a Presentation Given by a Guest Speaker from the Air Cadet League of Canada (ACLC)"]
[null,"C307.04","Identifier les procédures de mise en candidature aux bourses de pilote de planeur et de pilote d'avion","Identify the Application Procedures for the Glider and Power Scholarships"]
[null,"C307.05","Participer à une présentation sur le programme du Prix du Duc d'Édimbourg","Participate in a Presentation on the Duke of Edinburgh Award Program"]
[null,"M308.01","Préparer une escouade pour le rassemblement","Prepare a Squad for Parade"]
[null,"M308.02","Donner des commandements","Deliver Words of Command"]
[null,"COREN 308","Diriger une escouade avant rassemblement","Direct a Squad Prior to a Parade"]
[null,"308 PC","Diriger une escouade avant rassemblement","Direct a Squad Prior to a Parade"]
[null,"C308.01","Exécuter de l'exercice militaire avec drapeaux","Execute Flag Drill"]
[null,"C308.02","Donner des commandements","Deliver Words of Command"]
[null,"M309.01","Expliquer les principes d'instruction","Explain Principles of Instruction"]
[null,"M309.02","Identifer les méthodes d'instruction","Identify Methods of Instruction"]
[null,"M309.03","Décrire les techniques d'art oratoire","Describe Effective Speaking Techniques"]
[null,"M309.04","Reconnaitre les techniques de questions","Recognize Questioning Techniques"]
[null,"M309.05","Choisir les aides didactiques appropriées","Select Appropriate Instructional Aids"]
[null,"M309.06","Planifier une leçon","Plan a Lesson"]
[null,"M309.07","Enseigner une leçon de 15 minutes","Instruct a 15-Minute Lesson"]
[null,"COREN 309","Enseigner une leçon","Instruct a Lesson"]
[null,"309 PC","Enseigner une leçon","Instruct a Lesson"]
[null,"C309.01","Donner un exposé oral d'une minute","Deliver a One-Minute Verbal Presentation"]
[null,"C309.02","Planifier une leçon","Plan a Lesson"]
[null,"C309.03","Enseigner une leçon de 15 minutes","Instruct a 15-Minute Lesson"]
[null,"C309.04","Identifier les formations pour l'instruction d'exercice militaire","Identify Formations for Drill Instruction"]
[null,"C309.05","Planifier une leçon d'exercice militaire","Plan a Drill Lesson"]
[null,"C309.06","Enseigner une leçon d'exercice militaire de 15 minutes","Plan a Drill Lesson"]
[null,"C311.01","Pratiquer la visée et le tir à la carabine à air comprimé des cadets après une activité physique","Practice Aiming and Firing the Cadet Air Rifle Following Physical Activity"]
[null,"C311.02","Participer à une activité récréative de biathlon d'été","Participate in a Recreational Summer Biathlon Activity"]
[null,"M320.01","Décrire le rôle de la Force aérienne du Canada","Describe the Role of Canada’s Air Force"]
[null,"C320.01","Discuter des carrières dans l'aviation au sein des Forces canadiennes (FC)","Discuss Canadian Forces (CF) Careers in Aviation"]
[null,"C320.02","Visiter une installation des Forces canadiennes (FC)","Tour a Canadian Forces (CF) Facility"]
[null,"C320.03","Participer à une présentation donnée par un conférencier d'une unité locale des Forces aériennes","Participate in a Presentation Given by a Guest Speaker From a Local Air Force Unit"]
[null,"M331.01","Décrire la stabilité d'un aéronef","Describe Aircraft Stability"]
[null,"C331.01","Réviser les principes de vol","Review Principles of Flight"]
[null,"C331.02","Lire les instruments du circuit statique du système Pitot","Read Pitot Static Instruments"]
[null,"C331.03","Identifier les aspects de l'aérodynamique d'un hélicoptère","Identify Aspects of Helicopter Aerodynamics"]
[null,"C331.04","Faire la démonstration des assiettes et des mouvements dans un simulateur de vol","Demonstrate Attitudes and Movements in a Flight Simulator"]
[null,"C331.05","Participer à une présentation donnée par un conférencier du milieu de l'aviation local","Participate in a Presentation Given by a Guest Speaker From the Local Aviation Community"]
[null,"M336.01","Décrire les propriétés de l'atmosphère","Describe Properties of the Atmosphere"]
[null,"M336.02","Expliquer la formation des nuages","Explain the Formation of Clouds"]
[null,"M336.03","Expliquer les effets de la pression atmosphérique sur les conditions météorologiques","Explain the Effects of Air Pressure on Weather"]
[null,"M336.04","Expliquer les effets de l'humidité et de la température sur les conditions météorologiques","Explain the Effects of Humidity and Temperature on Weather"]
[null,"COREN 331/336/337","Sujets sur l'aviation - Évaluation combinée","Aviation Subjects–Combined Assessment"]
[null,"331/336/337 PC","Sujets sur l'aviation - Évaluation combinée","Aviation Subjects–Combined Assessment"]
[null,"C336.01","Lire un message d'observation météorologique régulière pour l'aviation (METAR)","Read an Aviation Routine Weather Report (METAR)"]
[null,"C336.02","Visiter une installation météorologique","Tour a Meteorological Facility"]
[null,"C336.03","Participer à une présentation donnée par un spécialiste de l'information de vol","Participate in a Presentation Given by a Flight Services Specialist"]
[null,"M337.01","Mesurer la distance le long d'un itinéraire","Measure Distance Along a Route"]
[null,"M337.02","Déterminer une position sur une carte aéronautique de navigation VFR (VNC)","Determine a Position on a Visual Flight Rules (VFR) Navigation Chart (VNC)"]
[null,"C337.01","Utiliser une radio pour les transmissions destinées à l'aviation","Operate a Radio for Aviation Transmission"]
[null,"C337.02","Pratiquer des habiletés en navigation aérienne","Practice Air Navigation Skills"]
[null,"M340.01","Identifier des astronautes canadiens","Identify Canadian Astronauts"]
[null,"M340.02","Discuter de l'histoire de l'exploration spatiale habitée","Discuss the History of Manned Space Exploration"]
[null,"C340.01","Identifier des astronautes canadiens","Identify Canadian Astronauts"]
[null,"C340.02","Discuter du Programme spatial canadien","Discuss the Canadian Space Program"]
[null,"C340.03","Discuter de l'exploration spatiale non habitée","Discuss Unmanned Space Exploration"]
[null,"C340.04","Décrire les éléments du ciel nocturne","Describe Elements of the Night Sky"]
[null,"C340.05","Simuler la vie dans l'espace","Simulate Life in Space"]
[null,"C340.06","Lancer une fusée à eau","Launch a Water Rocket"]
[null,"C340.07","Identifier les composantes du système mondial de positionnement (GPS)","Identify Global Position System (GPS) Components"]
[null,"C340.08","Décrire les aspects de la Station spatiale internationale (SSI)","Describe Aspects of the International Space Station (ISS)"]
[null,"C340.09","Participer à une présentation donnée par un conférencier du milieu de l'astronomie ou de l'aérospatiale","Participate in a Presentation Given by a Guest Speaker from the Astronomy Community or Aerospace Industry"]
[null,"C340.10","Identifier les programmes d'astronomie en ligne","Identify Online Stargazing Programs"]
[null,"C360.01","Identifier les types d'aérodrome","Identify Types of Aerodromes"]
[null,"C360.02","Expliquer les aspects du balisage lumineux d'un aérodrome","Explain Aspects of Aerodrome Lighting"]
[null,"C360.03","Fabriquer un modèle réduit de l'espace aérien d'un aérodrome","Construct a Model of the Airspace at an Aerodrome"]
[null,"C360.04","Identifier la façon dont l'équipement est utilisé à un aérodrome","Identify How Equipment is Used at an Aerodrome"]
[null,"C360.05","Identifier les aspects des interventions d'urgence et de la sécurité des aérodromes","Identify Aspects of Emergency Response and Aerodrome Security"]
[null,"C360.06","Expliquer les aspects des services de la circulation aérienne","Explain Aspects of Air Traffic Services (ATS)"]
[null,"M370.01","Identifier les composantes du circuit statique du système Pitot","Identify Components of the Pitot Static System"]
[null,"M370.02","Identifier les avionneurs","Identify Aircraft Manufacturers"]
[null,"M370.03","Décrire les procédures d'inspection de routine des aéronefs","Describe Routine Aircraft Inspection Procedures"]
[null,"C370.01","Identifier les tâches requises pour la maintenance des aéronefs","Identify Tasks Required to Maintain Aircraft"]
[null,"C370.02","Décrire les matériaux utilisés pour la construction d'aéronef","Describe Materials Used in Aircraft Construction"]
[null,"C370.03","Identifier les outils électriques élémentaires utilisés pour la construction aéronautique et de la maintenance d'aéronef","Identify Basic Power Tools Used in Aircraft Manufacturing and Maintenance"]
[null,"C370.04","Fabriquer un modèle réduit de biplan en aluminium","Construct an Aluminium Model Biplane"]
[null,"C370.05","Visiter un projet de restauration d'aéronef","Tour an Aircraft Restoration Project"]
[null,"M390.01","Identifer les parties d'une boussole","Identify Parts of the Compass"]
[null,"M390.02","Identifier les données marginales et les signes conventionnels","Identify Marginal Information and Conventional Signs"]
[null,"M390.03","Déterminer les coordonnées topographiques (coord)","Determine Grid References (GRs)"]
[null,"M390.04","Déterminer la distance sur une carte et au sol","Determine Distance on a Map and on the Ground"]
[null,"M390.05","Déterminer les azimuts sur une carte et au sol","Determine Bearings on a Map and on the Ground"]
[null,"COREN 390","Naviguer selon un itinéraire à l'aide d'une carte et d'une boussole","Navigate a Route Using a Map and \nCompass"]
[null,"390 PC","Naviguer selon un itinéraire à l'aide d'une carte et d'une boussole","Navigate a Route Using a Map and \nCompass"]
[null,"C390.01","Identifier les types de cartes","Identify Types of Maps"]
[null,"C390.02","Interpréter les courbes de niveau","Interpret Contour Lines"]
[null,"C390.03","Orienter une carte par inspection","Orient a Map by Inspection"]
[null,"C390.04","Orienter une carte en utilisant une boussole","Orient a Map Using a Compass"]
[null,"C390.05","Calculer la déclinaison magnétique","Calculate Magnetic Declination"]
[null,"C390.06","Déterminer la direction à l'aide du soleil","Determine Direction Using the Sun"]
[null,"C390.07","Déterminer la direction la nuit","Determine Direction at Night"]
[null,"C390.08","Utiliser les techniques de marquage","Use Blazing Techniques"]
[null,"C390.09","Identifier les éléments du ciel nocturne","Identify Elements of the Night Sky"]
[null,"C390.10","Identifier les méthodes de préparation et de cuisson d'un petit animal ou d'un poisson","Identify Methods of Preparing and Cooking a Small Animal or Fish"]
[null,"C390.11","Construire des outils de campement","Construct Camp Crafts"]
[null,"C390.12","Donner les premiers soins mineurs dans un environnement de campagne","Perform Minor First Aid in a Field Setting"]
[null,"C390.13","Agir en tant que membre d'une équipe de recherche et sauvetage au sol (SAR)","Act as a Member of a Ground Search and Rescue (SAR) Party"]
[null,"C390.14","Participer à une présentation donnée par un conférencier du milieu de la recherche et sauvetage (SAR)","Participate in a Presentation Given by a Guest Speaker from the Search and Rescue (SAR) Community"]
[null,"C401.01","Décrire le système de justice pour les jeunes","Describe the Youth Justice System"]
[null,"C401.02","Discuter des lois fondées sur l’âge","Discuss Age-Based Laws"]
[null,"C401.03","Discuter des pouvoirs gouvernementaux","Discuss Government Jurisdictions"]
[null,"C401.04","Discuter de la criminalité informatique","Discuss Computer Crime"]
[null,"M402.01","Effectuer un service communautaire","Perform Community Service"]
[null,"M403.01","Décrire les besoins et les attentes des membres de l’équipe","Describe Needs and Expectations of Team Members"]
[null,"M403.02","Choisir une approche de leadership","Select a Leadership Approach"]
[null,"M403.03","Motiver les membres de l’équipe","Motivate Team Members"]
[null,"M403.04","Donner de la rétroaction aux membres de l'équipe","Provide Feedback to Team Members"]
[null,"M403.05","Participer à une relation de mentorat","Participate in a Mentoring Relationship"]
[null,"M403.06","Agir à titre de chef d'équipe lors d’une affectation à un poste de leadership","Act as a Team Leader During a Leadership Appointment"]
[null,"COREN 403","Agir à titre de chef d'équipe","Act as a Team Leader"]
[null,"403 PC","Agir à titre de chef d'équipe","Act as a Team Leader"]
[null,"C403.01","Participer à un séminaire sur le leadership","Participate in a Leadership Seminar (4X3)"]
[null,"M404.01","Participer à une séance d'activité physique d'intensité modérée à élevée de 60 minutes et suivre la participation aux activités physiques","Participate in 60 minutes of moderate to vigorous intensity physical activity (MVPA) and track participation in physical activities"]
[null,"M404.02","Définir des stratégies pour accroître la participation à des activités physiques et participer à l'évaluation de la condition physique des cadets","Identify strategies to improve participation in physical activities and participate in the Cadet Fitness Assessment (CFA)"]
[null,"M404.03","Participer à l'évaluation de la condition physique des cadets et définir des stratégies pour améliorer la condition physique personnelle","Participate in the Cadet Fitness Assessment (CFA) and identify strategies for improving personnal physical fitness"]
[null,"COREN 404","Condition physique et mode de vie sain","Personnal fitness et healthy living"]
[null,"404 PC","Condition physique et mode de vie sain","Personnal fitness et healthy living"]
[null,"C404.01","Participer à l'évaluation de la condition physique des cadets et définir des stratégies pour améliorer la condition physique personnelle","Participate in the Cadet Fitness Assessment (CFA) and identify strategies for improving personnal physical fitness"]
[null,"C404.02","Participer à des activités de renforcement des trois composantes de la condition physique","Participate in activities that reinforce the three components of physical fitness"]
[null,"C404.03","Participer à un cours de cuisine","Participate in a cooking class"]
[null,"C404.04","Assister à un présentation sur la condition physique personnelle et les saines habitudes de vie","Attend a personnal fitness and healthy living presentation"]
[null,"C404.05","Assister à un événement sportif amateur","Attend a local amateur sporting event"]
[null,"M405.01","Participer à des sports d’équipe récréatifs organisés","Participate in Organized Recreational Team Sports"]
[null,"M406.01","Participer à une activité récréative de tir de précision","Participate in a Recreational Marksmanship Activity"]
[null,"C406.01","Assister l'officier de sécurité de champ de tir (O Sécur Tir)","Assist the Range Safety Officer (RSO)"]
[null,"C406.02","Marquer les cibles de tir de précision avec la carabine à air comprimé","Score Air Rifle Marksmanship Targets"]
[null,"M407.01","Discuter des occasions d'instruction du niveau de qualification quatre","Discuss Proficiency Level Four Training Opportunities"]
[null,"M407.02","Discuter des occasions d’instruction de quatrième année au Centre d’instruction d’été des cadets (CIEC).","Discuss Year Four Cadet Summer Training Centre (CSTC) Training Opportunities"]
[null,"C407.01","Se préparer pour un conseil de mérite","Prepare for a Merit Review Board"]
[null,"M408.01","Discuter de la façon de commander une section lors d’un rassemblement","Discuss Commanding a Flight on Parade"]
[null,"M408.02","Décrire la séquence d’un rassemblement","Identify Parade Sequence"]
[null,"M408.03","Commander une escouade","Command a Squad"]
[null,"M408.04","Inspecter un cadet lors d’un rassemblement","Inspect a Cadet on Parade"]
[null,"COREN 408","Commander une section lors d’un rassemblement","Command a Flight on Parade"]
[null,"408 PC","Commander une section lors d’un rassemblement","Command a Flight on Parade"]
[null,"C408.01","Discuter de l’histoire de l’exercice militaire","Discuss the History of Drill"]
[null,"C408.02","Observer une reconstitution historique d’exercice militaire","View a Re-Enactment That Demonstrates the Historical Use of Drill"]
[null,"M409.01","Identifier les méthodes d’instruction","Identify Methods of Instruction"]
[null,"M409.02","Identifier les éléments d’un environnement d’apprentissage positif","Identify Elements of a Positive Learning Environment"]
[null,"M409.03","Décrire les besoins de l’apprenant","Describe Learner Needs"]
[null,"M409.04","Expliquer l’évaluation","Explain Assessment"]
[null,"M409.05","Enseigner une leçon de 30 minutes","Instruct a 30-Minute Lesson"]
[null,"COREN 409","Enseigner une leçon","Instruct a Lesson"]
[null,"409 PC","Enseigner une leçon","Instruct a Lesson"]
[null,"C409.01","Planifier une leçon","Plan a Lesson"]
[null,"C409.02","Enseigner une leçon de 30 minutes","Instruct a 30-Minute Lesson"]
[null,"C409.03","Agir à titre d’instructeur adjoint","Act as an Assistant Instructor"]
[null,"C409.04","Participer à un atelier de planification de leçon créative","Participate in a Creative Lesson-Planning Workshop"]
[null,"C409.05","Agir à titre d’instructeur adjoint de l’exercice militaire","Act as an Assistant Drill Instructor"]
[null,"C409.06","Enseigner une leçon d'exercice militaire de 30 minutes","Instruct a 30-Minute Drill Lesson"]
[null,"M420.01","Décrire les traditions de la Force aérienne du Canada","Describe Canadian Air Force Traditions"]
[null,"M420.02","Identifier les grades de l’Aviation royale du Canada (ARC)","Identify Royal Canadian Air Force (RCAF) Ranks"]
[null,"C420.01","Décrire les honneurs de batailles des escadrons canadiens","Describe Battle Honours of Canadian Squadrons"]
[null,"C420.02","Identifier les récompenses et les distinctions des Forces canadiennes (FC)","Identify Honours and Awards of the Canadian Forces (CF)"]
[null,"C429.01","Expliquer le règlement et les procédures d’opération pour les transmissions destinées à l’aviation et la délivrance de licence.","Explain Regulations and Operating Procedures for Aviation Transmission and Licensing"]
[null,"C429.02","Communiquer en utilisant les procédures radio pour les transmissions destinées à l'aviation","Communicate Using Radio Procedures for Aviation Transmission"]
[null,"C429.03","Décrire les longueurs d’onde, les signaux, les licences et l’équipement radio","Describe Radio Wavelengths, Signals, Licences and Equipment"]
[null,"C429.04","Expliquer les communications de secours, d’urgence et de sécurité","Explain Emergency, Urgency and Safety Communications"]
[null,"COREN 429","Communiquer à l’aide des procédures radio pour les transmissions destinées à l'aviation","Communicate Using Radio Procedures for Aviation Transmission"]
[null,"429 PC","Communiquer à l’aide des procédures radio pour les transmissions destinées à l'aviation","Communicate Using Radio Procedures for Aviation Transmission"]
[null,"M431.01","Expliquer les caractéristiques d’une voilure","Explain Features of Wing Design"]
[null,"M431.02","Décrire les instruments de vol","Describe Flight Instruments"]
[null,"C431.01","Expliquer les caractéristiques de vol","Explain Flight Performance Factors"]
[null,"C431.02","Faire la démonstration des virages, des montées et de descentes dans un simulateur de vol","Demonstrate Turns, Climbs and Descents in a Flight Simulator"]
[null,"C431.03","Faire voler un aéronef radiocommandé","Fly a Radio-Controlled Aircraft"]
[null,"M432.01","Décrire les circuits carburant","Describe Fuel Systems"]
[null,"M432.02","Décrire les systèmes d’hélice","Describe Propeller Systems"]
[null,"M432.03","Décrire les instruments des moteurs","Describe Engine Instruments"]
[null,"C432.01","Décrire le circuit d’allumage et le système électrique","Describe Ignition and Electrical Systems"]
[null,"C432.02","Décrire les systèmes de suralimentation par turbocompresseur et par suppresseur","Describe Turbocharging and Supercharging Systems"]
[null,"C432.03","Décrire les turbines à gaz","Describe Gas Turbine Engines"]
[null,"M436.01","Expliquer les vents","Explain Winds"]
[null,"M436.02","Décrire les masses et les fronts d’air","Describe Air Masses and Fronts"]
[null,"C436.01","Expliquer le brouillard","Explain Fog"]
[null,"C436.02","Décrire les conditions météorologiques violentes","Describe Severe Weather Conditions"]
[null,"C436.03","Analyser les renseignements météorologiques","Analyze Weather Information"]
[null,"M437.01","Définir les termes de navigation aérienne","Define Air Navigation Terms"]
[null,"M437.02","Décrire le compas magnétique","Describe the Magnetic Compass"]
[null,"COREN 431/432/436/437","Sujets sur l’aviation - Évaluation combinée","Aviation Subjects–Combined Assessment"]
[null,"431/432/436 437 PC","Sujets sur l’aviation - Évaluation combinée","Aviation Subjects–Combined Assessment"]
[null,"C437.01","Résoudre des problèmes de navigation à l’aide d’un calculateur de vol manuel","Solve Navigation Problems with a Manual Flight Computer"]
[null,"C437.02","Utiliser une carte aéronautique de navigation VFR [règles de vol à vue] (VNC)","Use a Visual Flight Rules (VFR) Navigation Chart (VNC)"]
[null,"M440.01","Identifier les matériaux aérospatiaux","Identify Aerospace Materials"]
[null,"M440.02","Décrire les satellites canadiens","Describe Canadian Satellites"]
[null,"C440.01","Décrire les modèles réduits de fusées","Describe Model Rocketry"]
[null,"C440.02","Lancer un petit modèle réduit de fusée","Launch a Small Model Rocket"]
[null,"C440.03","Discuter des caractéristiques des planètes du système solaire","Discuss Characteristics of the Planets in the Solar System"]
[null,"C440.04","Appliquer la science des matériaux de longerons","Apply the Material Science of Trusses"]
[null,"C440.05","Décrire la robotique","Describe Robotics"]
[null,"C440.06","Utiliser des cartes du ciel","Use Star Charts"]
[null,"C440.07","Utiliser un télescope","Operate a Telescope"]
[null,"C440.08","Regarder la vidéo intitulée BLAST! (Balloon-Borne Large Aperture Sub-Millimetre Telescope)","Watch BLAST! (Balloon-Borne Large Aperture Sub-Millimetre Telescope)"]
[null,"C440.09","Décrire le lien entre la gravité et l’espace-temps","Describe the Relationship Between Gravity and Space-Time"]
[null,"C440.10","Discuter de l’énergie cinétique et de l’énergie potentielle","Discuss Kinetic and Potential Energy"]
[null,"C440.11","Regarder la vidéo intitulée Einstein’s Big Idea","Watch Einstein's Big Idea"]
[null,"C460.01","Décrire les occasions de carrière en opération d’aérodrome","Describe Aerodrome Operations Career Opportunities"]
[null,"C460.02","Décrire les occasions de carrière en contrôle de la circulation aérienne (ATC)","Describe Air Traffic Control (ATC) Career Opportunities"]
[null,"C460.03","Décrire les occasions de carrière en sécurité des aéroports","Describe Airport Security Career Opportunities"]
[null,"C470.01","Discuter des avionneurs","Discuss Aircraft Manufacturers"]
[null,"C470.02","Discuter de l'assemblage d'un aéronef","Discuss Aircraft Assembly"]
[null,"C470.03","Identifier la quincaillerie aéronautique","Identify Aviation Hardware"]
[null,"C470.04","Démonter et remonter un petit moteur","Disassemble and Reassemble a Small Engine"]
[null,"M490.01","Assembler une trousse de survie d'urgence","Assemble an Emergency Survival Kit"]
[null,"M490.02","Faire fonctionner un réchaud et un fanal","Operate a Stove and a Lantern"]
[null,"M490.03","Faire des noeuds et des brêlages","Tie Knots and Lashings"]
[null,"M490.04","Naviguer vers un point de cheminement à l’aide d’un récepteur du système mondial de positionnement (GPS)","Navigate to a Waypoint Using a Global Positioning System (GPS) Receiver"]
[null,"M490.05","Allumer des feux grâce à un allumage improvisé","Light Fires Using Improvised Ignition"]
[null,"COREN 490","Participer à un exercice de survie pour équipage de vol","Participate in an Aircrew Survival Exercise"]
[null,"490 PC","Participer à un exercice de survie pour équipage de vol","Participate in an Aircrew Survival Exercise"]
[null,"C490.01","Décrire les préoccupations climatiques et saisonnières","Describe Climatic and Seasonal Concerns"]
[null,"C490.02","Improviser des outils à utiliser dans une situation de survie","Improvise Tools for Use in a Survival Situation"]
[null,"C490.03","Déplacer un blessé vers un abri","Move a Casualty to Shelter"]
[null,"C490.04","Utiliser les outils de façon sécuritaire","Practice Safe Toolcraft"]
[null,"C490.05","Naviguer sur un itinéraire à l'aide d'une carte et d'une boussole","Navigate a Route Using a Map and Compass"]
[null,"C490.06","Monter, démonter et emballer des tentes","Erect, Tear Down and Pack Tents"]
[null,"C490.07","Construire un houchie ou un abri de style appentis","Construct a Hootchie or Lean-to-Style Shelter"]
[null,"M501.01","Définir le concept de citoyenneté mondiale","Define Global Citizenship"]
[null,"C501.01","Faire une réflexion personnelle sur le concept de citoyenneté mondiale","Reflect Upon Individual Global Citizenship"]
[null,"C501.02","Analyser un problème mondial","Analyze a Global Issue"]
[null,"COREN 502","Effectuer un service communautaire","Perform Community Service"]
[null,"502 PC","Effectuer un service communautaire","Perform Community Service"]
[null,"M503.01","Formuler une proposition","Create a Proposal"]
[null,"M503.02","Préparer un exercice","Prepare an Exercise"]
[null,"M503.03","Diriger un exercice","Conduct an Exercise"]
[null,"M503.04","Conclure un exercice","Conclude an Exercise"]
[null,"COREN 503","Diriger des activités de cadets","Lead Cadet Activities"]
[null,"503 PC","Diriger des activités de cadets","Lead Cadet Activities"]
[null,"C503.01","Examiner les procédures de réunion","Examine Meeting Procedures"]
[null,"M504.01","Participer à l'évaluation de la condition physique des cadets et définir des stratégies pour améliorer la condition physique personnelle","Participate in the Cadet Fitness Assessment (CFA) and identify strategies for improving personnal physical fitness"]
[null,"COREN 504","Condition physique et mode de vie sain","Personnal fitness et healthy living"]
[null,"504 PC","Condition physique et mode de vie sain","Personnal fitness et healthy living"]
[null,"C504.01","Réfléchir à sa condition physique et à un mode de vie sain","Reflect on personal fitness and healthy living"]
[null,"M507.01","Élaborer un calendrier personnalisé","Develop a Personalized Schedule"]
[null,"C507.01","Identifier les occasions de service pour un officier du Cadre des instructeurs de cadets (CIC)","Identify Service Opportunities for a Cadet Instructors Cadre (CIC) Officer"]
[null,"C507.02","Identifier les occasions de bénévolat avec la Ligue des cadets de l'Air du Canada (LCAC)","Identify Volunteer Opportunities With the Air Cadet League of Canada (ACLC)"]
[null,"C507.03","Réfléchir sur son expérience de cadet","Reflect Upon the Cadet Experience"]
[null,"COREN 509","Enseigner aux cadets","Instruct Cadets"]
[null,"509 PC","Enseigner aux cadets","Instruct Cadets"]
[null,"C509.01","Surveiller une période d'instruction","Monitor Instruction"]
[null,"COREN 513","Participer à des ateliers","Attend Workshops"]
[null,"513 PC","Participer à des ateliers","Attend Workshops"]
[null,"COREN 514","Poursuivre un apprentissage individualisé","Pursue Individual Learning"]
[null,"514 PC","Poursuivre un apprentissage individualisé","Pursue Individual Learning"]
[null,"C530.01","Effectuer un vol-voyage à l'aide d'un simulateur de vol","Fly a Cross-Country Flight Using a Flight Simulator"]
[null,"C540.01","Réfléchir à la contribution du Canada aux technologies aérospatiales","Reflect on Canada's Contribution to Aerospace Technology"]
[null,"C560.01","Examiner les aspects de la sécurité des vols (SV)","Examine Aspects of Flight Safety (FS)"]
[null,"C560.02","Examiner l'industrie de pilote de brousse canadienne","Examine the Canadian Bush Pilot Industry"]
[null,"C570.01","Examiner les aspects de la construction et de la maintenance des aéronefs par le développement d'aéronefs de voltige","Examine Aspects of Aircraft Manufacturing and Maintenance Through the Development of Aerobatic Aircraft"]
[null,"C590.01","Analyser une étude de cas d'un exercice de survie pour équipage de vol","Analyze an Aircrew Survival Case Study"]
[null,{"$f":"VLOOKUP(225,Traduction!$B$6:$E$250,'Info de l''escadron'!$A$1+1,0)","v":"JFDSIO"},"Journées ou FDS d'instruction obligatoires","Mandatory Training Day / Weekend Activities"]
[null,{"$f":"VLOOKUP(226,Traduction!$B$6:$E$250,'Info de l''escadron'!$A$1+1,0)","v":"JFDSIC"},"Journées ou FDS d'instruction complémentaires","Complementary Training Day / Weekend Activities"]
[null,{"$f":"VLOOKUP(137,Traduction!$B$6:$E$250,'Info de l''escadron'!$A$1+1,0)","v":"RSPJ"},{"$f":"C386","v":"Relation sociale positive pour la jeunesse"},{"$f":"D386","v":"Positive Social Relations for Youths"}]
[null,{"$f":"VLOOKUP(183,Traduction!$B$6:$E$250,'Info de l''escadron'!$A$1+1,0)","v":"Revue"},{"$f":"C387","v":"Cérémonie de la revue annuelle"},{"$f":"D387","v":"Annual Ceremonial Review Parade"}]
[null,"S.O.","S.O.","NA"]
[null,null,"Dernière ligne pour les OCOM"]
[]
[]
[]
[]
[]
[]
[]
[]
[]
[]
[]
[]
[]
[]
[]
[]
[]
[]
[]
[]
[]
[]
[]
[]
[]
[null,null,"Code"]
[1,null,"Congé","Hol"]
[{"$f":"A953+1","v":2},null,"Noel","Xmas"]
[{"$f":"A954+1","v":3},null,"Relâche","Brk"]
[4,null,"Cmdt","CO"]
[5,null,"Sec","Flt"]
[6,null,"Niv","Lvl"]
[7," ","Fin","Fin"]
[8," ","PP","PP"]
[9," ","Party","Party"]
[{"$f":"A961+1","v":10}," ","Mess","Mess"]
[11," ","RSPJ","PSRY"]
[12," ","Admin","Admin"]
[13," ","Prom","Oath"]
[14," ","Jeux ","Games"]
[15," ","Tampon","Spare"]
[16," ","Conf","Conf"]
[17," ","Réunion","Meet"]
[18," ","Parent","Parent"]
[19," ","Inscr","Reg"]
[20," ","Stage","OJT"]
[21," ","Opt","Opt"]
[22," ","Act","Event"]
[23," ","POC","MCP"]
[24," ","Duc","Duke"]
[25," ","AO","ES"]
[26," ","SS","SS"]
[27," ","SC","SC"]
[28," ","Autre","Other"]
[29," "," "," "]
[null,null,"Dernière ligne pour les codes légendes"]
[]
[]
[]
[]
[]
[]
[]
[]
[]
[]
[]
[]
[]
[]
[]
[]
[]
[]
[]
[]
[]
[]
[]
[]
[]
[]
[]
[]
[]
[]
[]
[]
[]
[]
[]
[]
[]
[]
[]
[]
[]
[]
[]
[]
[]
[]
[]
[]
[]
[]
[]
[]
[]
[]
[]
[]
[]
[]
[]
[]
[]
[]
[]
[]
[]
[]
[]
[]
[]
[null,null,"Description"]
[1,{"$f":"VLOOKUP(A1053,Traduction!$A$953:$E$982,2+'Info de l''escadron'!$A$1,0)","v":"Congé"},"Congé","Holiday"]
[{"$f":"A1053+1","v":2},{"$f":"VLOOKUP(A1054,Traduction!$A$953:$E$982,2+'Info de l''escadron'!$A$1,0)","v":"Noel"},"Période des Fêtes","Xmas/New Year Holiday"]
[{"$f":"A1054+1","v":3},{"$f":"VLOOKUP(A1055,Traduction!$A$953:$E$982,2+'Info de l''escadron'!$A$1,0)","v":"Relâche"},"Relâche scolaire","March Break"]
[4,{"$f":"VLOOKUP(A1056,Traduction!$A$953:$E$982,2+'Info de l''escadron'!$A$1,0)","v":"Cmdt"},"Parade du commandant","CO's Parade"]
[5,{"$f":"VLOOKUP(A1057,Traduction!$A$953:$E$982,2+'Info de l''escadron'!$A$1,0)","v":"Sec"},"Régie de section","Flight Admin"]
[6,{"$f":"VLOOKUP(A1058,Traduction!$A$953:$E$982,2+'Info de l''escadron'!$A$1,0)","v":"Niv"},"Régie de niveau","Level Admin"]
[7,{"$f":"VLOOKUP(A1059,Traduction!$A$953:$E$982,2+'Info de l''escadron'!$A$1,0)","v":"Fin"},"Levée de fonds","Financing campaign"]
[8,{"$f":"VLOOKUP(A1060,Traduction!$A$953:$E$982,2+'Info de l''escadron'!$A$1,0)","v":"PP"},"Pratique de parade","Parade Practice"]
[9,{"$f":"VLOOKUP(A1061,Traduction!$A$953:$E$982,2+'Info de l''escadron'!$A$1,0)","v":"Party"},"Party","Party"]
[10,{"$f":"VLOOKUP(A1062,Traduction!$A$953:$E$982,2+'Info de l''escadron'!$A$1,0)","v":"Mess"},"Dîner régimentaire","Mess dinner"]
[11,{"$f":"VLOOKUP(A1063,Traduction!$A$953:$E$982,2+'Info de l''escadron'!$A$1,0)","v":"RSPJ"},"Rel Soc Pos Jeunes","Pos Soc Rel Youths"]
[12,{"$f":"VLOOKUP(A1064,Traduction!$A$953:$E$982,2+'Info de l''escadron'!$A$1,0)","v":"Admin"},"Administration","Administration"]
[13,{"$f":"VLOOKUP(A1065,Traduction!$A$953:$E$982,2+'Info de l''escadron'!$A$1,0)","v":"Prom"},"Promesse","Oath"]
[14,{"$f":"VLOOKUP(A1066,Traduction!$A$953:$E$982,2+'Info de l''escadron'!$A$1,0)","v":"Jeux "},"Jeux des cadets","Cadets Games"]
[15,{"$f":"VLOOKUP(A1067,Traduction!$A$953:$E$982,2+'Info de l''escadron'!$A$1,0)","v":"Tampon"},"Périodes Tampon","Spare"]
[16,{"$f":"VLOOKUP(A1068,Traduction!$A$953:$E$982,2+'Info de l''escadron'!$A$1,0)","v":"Conf"},"Conférence","Conference"]
[17,{"$f":"VLOOKUP(A1069,Traduction!$A$953:$E$982,2+'Info de l''escadron'!$A$1,0)","v":"Réunion"},"Réunion de cadets","Cadets Meeting"]
[18,{"$f":"VLOOKUP(A1070,Traduction!$A$953:$E$982,2+'Info de l''escadron'!$A$1,0)","v":"Parent"},"Rencontre de parents","Parent Meeting"]
[19,{"$f":"VLOOKUP(A1071,Traduction!$A$953:$E$982,2+'Info de l''escadron'!$A$1,0)","v":"Inscr"},"Inscription","Registration"]
[20,{"$f":"VLOOKUP(A1072,Traduction!$A$953:$E$982,2+'Info de l''escadron'!$A$1,0)","v":"Stage"},"Stage de formation","On-Job Training"]
[21,{"$f":"VLOOKUP(A1073,Traduction!$A$953:$E$982,2+'Info de l''escadron'!$A$1,0)","v":"Opt"},"Activités optionnelles","Optional Activities"]
[22,{"$f":"VLOOKUP(A1074,Traduction!$A$953:$E$982,2+'Info de l''escadron'!$A$1,0)","v":"Act"},"Activité spéciale","Special event"]
[23,{"$f":"VLOOKUP(A1075,Traduction!$A$953:$E$982,2+'Info de l''escadron'!$A$1,0)","v":"POC"},"Jour de POC","MCP Day"]
[24,{"$f":"VLOOKUP(A1076,Traduction!$A$953:$E$982,2+'Info de l''escadron'!$A$1,0)","v":"Duc"},"Duc d'Édimbourg","Duke of Edimburg"]
[25,{"$f":"VLOOKUP(A1077,Traduction!$A$953:$E$982,2+'Info de l''escadron'!$A$1,0)","v":"AO"},"Art Oratoire","Effective Speaking"]
[26,{"$f":"VLOOKUP(A1078,Traduction!$A$953:$E$982,2+'Info de l''escadron'!$A$1,0)","v":"SS"},"Sports supplémentaires","Supplementary Sports"]
[27,{"$f":"VLOOKUP(A1079,Traduction!$A$953:$E$982,2+'Info de l''escadron'!$A$1,0)","v":"SC"},"Svc communautaire sup.","Sup. Community Svc"]
[28,{"$f":"VLOOKUP(A1080,Traduction!$A$953:$E$982,2+'Info de l''escadron'!$A$1,0)","v":"Autre"},"Activité autre","Other Activity"]
[29,{"$f":"VLOOKUP(A1081,Traduction!$A$953:$E$982,2+'Info de l''escadron'!$A$1,0)","v":" "}," "," "]
[null,null,"Dernière ligne pour les codes légendes"]
[]
[]
[]
[]
[]
[]
[]
[]
[]
[]
[]
[]
[]
[]
[]
[]
[]
[]
[]
[]
[]
[]
[]
[]
[]
[]
[]
[]
[]
[]
[]
[]
[]
[]
[]
[]
[]
[]
[]
[]
[]
[]
[]
[]
[]
[]
[]
[]
[]
[]
[]
[]
[]
[]
[]
[]
[]
[]
[]
[]
[]
[]
[]
[]
[]
[]
[]
[]
[]
[null,null,"Menu du POC"]
[1,{"$f":"VLOOKUP(A1153,$A$1153:$D$1155,'Info de l''escadron'!$A$1+2,0)","v":"EEC 2 (C) Jr 1"},"EEC 2 (C) Jr 1","FTX 2 (C) Day 1"]
[2,{"$f":"VLOOKUP(A1154,$A$1153:$D$1155,'Info de l''escadron'!$A$1+2,0)","v":"Inter-Esc"},"Inter-Esc","Inter-Sqn"]
[3,{"$f":"VLOOKUP(A1155,$A$1153:$D$1155,'Info de l''escadron'!$A$1+2,0)","v":"Élément"},"Élément","Element"]
[]
[]
[]
[]
[]
[]
[]
[1,{"$f":"VLOOKUP(A1163,$A$1163:$D$1165,'Info de l''escadron'!$A$1+2,0)","v":"EEC 2 (C) Jr 2"},"EEC 2 (C) Jr 2","FTX 2 (C) Day 2"]
[2,{"$f":"VLOOKUP(A1164,$A$1163:$D$1165,'Info de l''escadron'!$A$1+2,0)","v":"Inter-Esc"},"Inter-Esc","Inter-Sqn"]
[3,{"$f":"VLOOKUP(A1165,$A$1163:$D$1165,'Info de l''escadron'!$A$1+2,0)","v":"Élément"},"Élément","Element"]
[]
[]
[]
[]
[]
[]
[]
[1,{"$f":"VLOOKUP(A1173,$A$1173:$D$1181,'Info de l''escadron'!$A$1+2,0)","v":"Inter-Esc"},"Inter-Esc","Inter-Sqn"]
[2,{"$f":"VLOOKUP(A1174,$A$1173:$D$1181,'Info de l''escadron'!$A$1+2,0)","v":"Revue"},"Revue","Review"]
[3,{"$f":"VLOOKUP(A1175,$A$1173:$D$1181,'Info de l''escadron'!$A$1+2,0)","v":"Journée d'Aviation"},"Journée d'Aviation","Aviation Day"]

{"sheet":"Guide","index":1,"n_rows":355,"n_cols":1,"rows_kept":355,"cut":false,"hidden":true,"merged":[]}
["English version available here"]
["GUIDE DE L'UTILISATEUR"]
[]
["Le présent fichier est un document Excel permettant la création d'un horaire d'instruction basé sur le programme d'instruction local incluant certaines fonctionnalités telles qu'un calendrier mensuel, calendrier hebdomadaire et planification budgétaire."]
[]
["Des onglets au bas du document donnent accès aux différentes sections.  Pour cette raison ce guide est divisé par onglet afin de vous assister à insérer l’information requise."]
[]
["Certaines pages sont protégées en partie ou complètement pour éviter que le document ou des cellules avec formules soient corrompus accidentellement."]
[]
["NOTA"]
["Il est important de sauvegarder le fichier sous la version actuelle, c.-à-d. Excel 2003 ou plus ancienne, afin de permettre son utilisation sur les ordinateurs du MDN. Veillez également à ne pas utiliser le\nformat xlsm car la transmission de ces fichiers se trouve généralement bloquée sur le réseau de la Défense Nationale."]
[]
["POSSIBILITÉS MULTIPLES:"]
[]
["• Possibilité de créer un horaire de deux à cinq périodes"]
["• Formulaires de demande et remboursement disponible sur l'onglet Info de l'escadron"]
["• Présentation sous forme de ratio des totaux dans les onglets de Niveau"]
["• Nom des instructeurs dans l'onglet Horaire"]
["• Jours du POC sous un onglet séparé"]
["• Possibilité d'ajouter des journées POC supplémentaires"]
["• Possibilité de changer la date de séance d'instruction"]
["• Lien entre le numéro de séance de l'onglet Horaire menant à l'onglet Hebdomadaire"]
["• L'onglet Hebdomadaire affiche seulement la séance d'instruction sélectionnée"]
["• Possibilité de faire des tris dans l'onglet Activités"]
["• Légende des codes d'abréviation située dans l'onglet Activités"]
["• Rappels sous l'onglet Calendrier pour CDT-135 et activités Forteresse"]
[]
["DESCRIPTION GÉNÉRALE DES ONGLETS"]
[]
["Onglet - Info de l’Escadron"]
[]
["Identification de votre Escadron et information de contact, détails des heures de vos séances d’entraînement hebdomadaires et votre date de début de l’instruction."]
[" "]
["Onglets - Niv 1 à Niv 5(Niveaux)"]
[]
["Liste des ORENs et OCOMs pour les niveaux 1 à 5"]
[]
["Onglet - POC"]
[]
["Les dates de vos 10 jours du POC ainsi que la Revue Annuelle avec les OCOMs couverts pendant ces journées.  "]
[]
["Onglet - Horaire"]
[]
["Les OCOMs couverts lors de vos séances d’instruction hebdomadaires."]
[]
["Onglet - Activités"]
[]
["Liste des activités de votre escadron. Cette information sera affichée automatiquement dans les calendriers mensuels et hebdomadaires."]
[]
["Onglet - Calendrier"]
[]
["Calendrier annuel des activités de votre Escadron. "]
[]
["Onglet - Budget"]
[]
["Votre planification budgétaire pour l’argent du POC"]
[]
["Onglet - Hebdomadaire"]
[]
["Calendriers hebdomadaires des activités de votre Escadron. "]
[]
["INSTRUCTIONS DÉTAILLÉES POUR CHACUN DES ONGLETS"]
[]
["Onglet - Info de l’Escadron"]
[]
["Dans le haut de la page vous pouvez changer la langue de travail du fichier.  Notez que les titres des onglets ne changeront pas de langue.  "]
[]
["Par défaut le fichier ne contient qu'un groupe d'instruction pour chacun des niveaux. Il est possible d'ajouter un deuxième groupe d'instruction (niveau B) pour les niveaux d'instruction 1, 2 et 3 en exécutant l'une des commandes indiquées dans le tableau des macro-commandes."]
[]
["Par défaut le fichier contient trois périodes d'instruction par séance. Il est possible d'obtenir des séances avec deux, quatre ou cinq périodes d'instruction en exécutant les commandes mentionnées dans le tableau des macro-commandes."]
[]
["NOTA"]
["Le choix du nombre de périodes d'instruction par séance permet une plus grande souplesse dans l'établissement de l'horaire d'instruction mais ne modifie pas la quantité totale de périodes devant être présentées au courant de l'année d'instruction."]
[]
["Il est fortement recommandé d'exécuter les macro-commandes nécessaires avant de débuter la grille\nhoraire. Le temps d'exécution des macro-commandes peut prendre jusqu'à plusieurs minutes\ndépendamment de la rapidité de l'ordinateur sur lequel elles sont exécutées."]
[]
["Entrez les informations suivantes dans les cellules vides appropriées :"]
[]
["• Nom de votre Escadron (possibilité de remplacer l'écusson sur cet onglet par celui de votre Escadron), \n• Heures de début et de fin de vos périodes d'instruction hebdomadaires,\n• Date de la première séance d’instruction,\n• Grade, nom, numéros de téléphone et adresse courriel du Cmdt, O instr et O admin."]
[]
["Les documents suivant sont accessible directement en effectuant un double-clic sur l'image correspondante:"]
[]
["• Proposition de date de sorties \n• CDT 155, demande de matériel\n• CDT 145, demande de service pour exercice\n• CDT 135, facture"]
[]
["Onglets - Niv 1 à Niv 5 (Niveaux)"]
[]
["Ces onglets contiennent les ORENs et les OCOMs des niveaux 1 à 5 de la mise à jour du programme d’instruction. Aucune entrée à exécuter dans cet onglet."]
[]
["Les différentes colonnes de gauche à droite indiquent :"]
[]
["• Les ORENs pour le niveau,\n• Le sujet des ORENs,\n• Les OCOMs obligatoires (M) et complémentaires (C) pour chaque niveau,\n• Les énoncés de performance de chaque OCOM,\n• Le nombre de périodes dans le programme d’instruction (colonne Prog.),\n• Le nombre de périodes à votre horaire (colonne Niveau),"]
[]
["NOTA"]
["Les totaux de la colonne Niveau seront insérés automatiquement à mesure que vous complétez l’onglet Horaire. Tant qu’il manque des périodes pour des OCOMs obligatoires les cellules correspondantes resteront rouges. Si le nombre de périodes à l’horaire dépasse le nombre requis pour un OCOM  la cellule deviendra jaune. Idéalement aucune couleur ne devrait être affichée.  Assurez-vous que toutes les périodes obligatoires sont couvertes."]
[]
["Au bas du document, dans la colonne Niveau, vous trouverez le ratio de périodes inscrites à l'onglet Horaire en rapport avec le nombre de périodes faisant parties du programme d'instruction. Ce ratio vous indiquera si votre horaire est complet en nombre de périodes totales requises par la norme."]
[]
["Onglet - POC"]
["NOTA"]
["La commande \"coller\" ne doit pas être utilisée dans cet onglet car son effet provoque des changements de format de cellule inapproprié au bon fonctionnement du fichier. L'utilisation de la commande \"collage spécial\" peut toutefois être utilisée en sélectionnant l'option \"valeurs\" dans le sous-menu affiché."]
[]
["Indiquer les dates et les OCOMs couverts lors de vos jours du POC et Revue Annuelle dans les cellules correspondantes. Ces jours seront automatiquement insérés dans la liste d’activités ainsi que dans les calendriers mensuels et hebdomadaires."]
[]
["Trois de ces jours ont un menu déroulant vous donnant les options suivantes:"]
[]
["• La journée inter-escadron obligatoire du programme peut être remplacée par la journée de Revue Annuelle ou la journée Aviation organisée par la Ligue des cadets de l'air."]
[]
["• Deux jours complémentaires du programme d'instruction vous donnent le choix entre exercice en campagne, journée inter-escadron ou bien journée élément. Les combinaisons suivantes sont permises selon la directive annuelle aux opérations:"]
[]
["• deux jours d'exercices en campagne, qu'ils soient séparés ou combinés sur une fin de semaine\n• un jour d'exercice en campagne et une journée inter-escadron\n• un jour d'exercice en campagne et une journée élément\n• une journée inter-escadron et une journée élément"]
[]
["Des journées supplémentaires du POC peuvent être ajoutées pour les escadrons nécessitant que l'instruction soit donnée sur plus d'une journée. Pour ce faire, il faut cliquer sur le texte \"Ajouter POC\" situé dans la colonne \"AV\" de la dernière journée du POC affichée. L'exécution de cette commande nécessite une certaine période de temps qui sera dépendante de la rapidité de l'ordinateur sur lequel elle sera effectuée."]
[]
["Onglet - Horaire"]
[]
["NOTA"]
["La commande \"coller\" ne doit pas être utilisée dans cet onglet car son effet provoque des changements de format de cellule inapproprié au bon fonctionnement du fichier. L'utilisation de la commande \"collage spécial\" peut toutefois être utilisée en sélectionnant l'option \"valeurs\" dans le sous-menu affiché."]
[]
[]
["Indiquer les OCOMs (ex. : M101.01 ou C102.02) couverts lors de vos séances d’instruction hebdomadaires dans chacune des cellules prévues à cet effet pour chacun des niveaux d'instruction."]
[]
["Indiquer le nom de l'instructeur et le local d'instruction selon l'information que vous avez de disponible."]
[]
["Les dates de vos séances d’instruction seront déjà affichées selon la date de début de l’instruction de l’onglet Info de l’Escadron.  Si pour une raison ou l’autre, la date est différée pour une séance d’instruction, vous pouvez remplacer la formule par la nouvelle date."]
[]
["NOTA"]
["Notez que les dates de séances subséquentes seront recalculées à partir de la nouvelle date inscrite. Si la date modifiée ne coïncide pas avec la journée régulière d'instruction hebdomadaire, il faudra également modifier la date de la prochaine séance d'instruction afin d'obtenir la bonne journée de semaine pour le reste de l'année."]
[]
["Onglet - Activités"]
[]
["Dans cet onglet sera énuméré toutes les activités de l'escadron, autant celles facultatives que celles faisant partit du programme d'instruction local.  Toutes les entrées de cette liste seront automatiquement insérées dans les calendriers mensuels et hebdomadaires."]
[]
["Les jours du POC et votre Revue Annuelle seront automatiquement insérés dans le haut de cette liste dès que vous mettrez une date pour ces jours dans l'onglet POC"]
[]
["Vous pouvez insérer les dates de façon aléatoire.  Le but principal de cet onglet est de créer votre calendrier annuel qui est affiché chronologiquement mois par mois dans l’onglet Calendrier."]
[]
["La liste d’activités ne devrait pas être utilisée comme référence d'instruction mais uniquement comme un moyen pour visualiser vos activités dans les calendriers mensuels et hebdomadaires."]
[]
["Un maximum d'activités par jour peut être affiché dans le calendrier. Présentement cinq lignes sont disponibles."]
[]
["Seul le titre de l’activité est affiché dans les calendriers mensuels. Tous les détails des activités apparaissent dans le calendrier hebdomadaire sous l'onglet prévu à cet effet."]
[]
["Onglet - Calendrier"]
[]
["Il n’y a aucune donnée à insérer dans cet onglet qui est complété automatiquement par l’entrée de données dans les onglets POC, Horaire et Activités."]
[]
["Votre calendrier annuel est ainsi produit."]
[]
["NOTA"]
["Veuillez noter qu’un rappel pour CDT-135, CDT-145, CDT-155, \"création de l'activité dans Forteresse\" et \"inscrire les présences\" apparaîtra dans les calendriers mensuels et hebdomadaires à une période déterminée avant ou après l'activité (ex : CDT-145 – M Jour 1)."]
[]
["Onglet - Budget"]
[]
["NOTA"]
["Il est fortement recommandé de compléter cet onglet en collaboration avec le Cmdt, le comité répondant et l'officier d'instruction."]
[]
["Cet onglet sert à planifier votre distribution de l’argent du POC parmi les activités  reconnues et autres dépenses attribuables au POC"]
[]
["Identifier les journées du POC où une dépense est anticipée et indiquer les montants prévus."]
[]
["Au bas de la page est affiché le total de vos dépenses budgétaires prévues du POC"]
[]
["Onglet - Hebdomadaire"]
[]
["Cet onglet affiche des séances hebdomadaires complétées automatiquement par l’entrée de données dans les onglets Info de l’escadron, Horaire et Activités."]
[]
["Afin de sélectionner la page hebdomadaire de la semaine 9 (par exemple), il suffit d'inscrire 9 dans la cellule Q3 sur fond jaune située dans le haut à droite de la page."]
[]
["La date dans le haut de la page indique votre journée d’instruction.  À la droite de la date vous trouverez le numéro de la semaine depuis le début de l’année d’instruction."]
[]
["Ensuite vous avez l'horaire d'instruction pour cette séance."]
[]
["Puis vient la liste des activités prévues pour la semaine, en commençant par la journée d’instruction et ensuite les 6 jours suivants."]
[]
["Seule la section Note au bas de la page vous permet d’y insérer de l’information telle que messages et remarques. "]
[]
["FIN DE LA VERSION FRANÇAISE"]
[]
[]
["USER GUIDE"]
[]
["This file is an Excel spreadsheet that lets you create a training schedule based on the local training program. The spreadsheet includes monthly and weekly calendars as well as a budget planner."]
[]
["Tabs at the bottom of the document let you access the different sections. This guide is therefore organized by tab to help you with inputting the required information."]
[]
["Some pages are either partially or completely protected to keep the document or certain cells with formulas from being accidentally corrupted. "]
[]
["NOTE"]
["It is important to save the file under the current (2003) Excel version format or an older one so it can be\nused on DND computers. Also, please do not save the file as an .xlsm document because the sending of\nthese kinds of files on the National Defence network is generally blocked."]
[]
["MANY ABILITIES"]
[]
["• Ability to create a schedule for two to five periods"]
["• Availability of request and claim forms are under the Info de l’escadron [Squadron info] tab"]
["•Totals presented as ratios under the Niveau [Level] tabs"]
["• Names of instructors in the Horaire [Schedule] tab "]
["• MCP days are under a separate tab"]
["• Ability to add extra MCP days"]
["• Ability to change the date of training sessions"]
["• Session number under the Horaire [Schedule] tab is linked to the Hebdomadaire [Weekly] tab"]
["• The Hebdomadaire [Weekly] tab only displays the selected training session"]
["• Ability to sort items under the Activités [Activities] tab"]
["• Legend for code abbreviations is under the Activités [Activities] tab "]
["• Reminders under the Calendrier [Calendar] tab for CDT-135s and FORTRESS actions"]
[]
["GENERAL DESCRIPTION OF EACH TAB"]
[]
["Tab - Info de l’escadron [Squadron info]"]
[]
["Displays your Squadron, contact information, weekly training session times, and your training start date."]
[" "]
["Tabs - Niv 1 to Niv 5 [Levels]"]
[]
["Lists the POs and EOs for levels 1 to 5"]
[]
["Tab - POC [MCP]"]
[]
["Lists the dates of your ten MCP days and your annual review. Shows the EOs covered on those days. "]
[]
["Tab- Horaire [Schedule]"]
[]
["Lists the EOs covered during your weekly training sessions. "]
[]
["Tab - Activités [Activities]"]
[]
["Lists your Squadron activities. This information will automatically be entered into your monthly and weekly calendars. "]
[]
["Tab - Calendrier [Calendar]"]
[]
["Shows a yearly calendar with your Squadron activities. "]
[]
["Tab - Budget"]
[]
["Contains your budget planner for MCP funds."]
[]
["Tab - Hebdomadaire [Weekly]"]
[]
["Shows a weekly calendar with your Squadron activities."]
[]
["DETAILED INSTRUCTIONS FOR EACH TAB"]
[]
["Tab - Info de l’Escadron [Squadron info]"]
[]
["At the top of the page, you can change the file’s working language. Please note that the tab titles will not change. "]
[]
["By default, the file shows only one training group per level. You can add a second training group (level B) for training levels 1, 2, and 3 by using one of the commands listed in the macro commands table."]
[]
["By default, the file has three training periods per session. You can create sessions with two, four or five training periods by using one of the commands listed in the macro commands table."]
[]
["NOTE"]
["The ability to choose the number of training periods in a session gives you more flexibility when setting the training schedule, but does not change the total number of periods required in a training year."]
[]
["It is strongly recommended that you enter the macro commands required before starting to fill out the schedule. It may take the computer up to a few minutes to execute the macro command, depending on the speed of the computer you are using."]
[]
["Enter the following information in the appropriate blank cell:"]
[]
["• The name of your Squadron (you are able to replace the crest on this tab with your Squadron’s crest), \n• Start and end times of your weekly training periods \n• Date of the first training session\n• Rank, name, telephone number and e-mail address of the CO, Instruction O [Trg O] and Admin O."]
[]
["The following forms are available by double clicking on the corresponding icons:"]
[]
["• Field training exercices planning dates\n• CDT 155, material request for exercice\n• CDT 145, request for service exercice\n• CDT 135, invoice"]
[]
["Tabs- Niv 1 to Niv 5 [Levels]"]
[]
["These tabs list the POs and EOs for levels 1 to 5 of the updated training program. You do not need to enter any information under these tabs."]
[]
["The columns, from left to right, display:"]
[]
["• The POs for the level\n• The PO topic\n• The mandatory (M) and complementary (C) EOs for each level\n• The performance statements for each EO\n• The number of periods in the training program (Program column)\n• The number of periods in your schedule (Level column)"]
[]
["NOTE"]
["The totals in the Level column are automatically entered as you complete the Horaire [Schedule] tab. If there are missing periods for mandatory EOs, the corresponding cells will stay red. \nIf the number of periods on the schedule exceeds the number required for an EO, the cell will turn yellow.  Ideally, the cells should be white. Make sure that all mandatory periods are accounted for."]
[]
["At the bottom of the page, under the Level column, you will find the ratio of periods entered under the Horaire [Schedule] tab compared to the number of periods in the training program. This ratio will indicate if your schedule is complete with respect to the total number of periods required for the standard."]
[]
["Tab - POC [MCP]"]
["NOTE"]
["Do not use the “paste” command under this tab because it changes cell formatting, negatively affecting the file. Instead, use the “paste special” command and select “paste values” from the open submenu."]
[]
["Lists the dates and the EOs covered during your MCP days and annual review in the corresponding cells. These days will be automatically entered into the list of activities and the monthly and weekly calendars."]
[]
["Three of these days have a drop-down menu, giving you the following options:"]
[]
["• The program’s mandatory inter-squadron day may be replaced by the Annual Review Day or the Aviation Day organized by the Air Cadet League."]
[]
["• For two of the complementary training program days, you can choose between a field exercise, inter-squadron or element-specific day. The following combinations are possible pursuant to the annual operations directive:"]
[]
["• two days of field exercises, either combined during a weekend or held separately\n• one field exercise day and one inter-squadron day\n• one field exercise day and one element-specific day\n• one inter-squadron day and one element-specific day"]
[]
["Extra MCP days may be added for squadrons requiring that instruction be given over more than one day. To do this, click on “Add MCP” in the AV column at the last MCP day shown. The command may take a little time to execute, depending on the speed of the computer being used."]
[]
["Tab - Horaire [Schedule]"]
[]
["NOTE"]
["Do not use the “paste” command under this tab because it changes cell formatting, negatively affecting the file. Instead, use the “paste special” command and select “paste values” from the open submenu."]
[]
[]
["Indicates the EOs (eg: M101.01 or C102.02) covered during your weekly training sessions in each of the cells provided for each training level."]
[]
["Indicates the instructor’s name and the training room (local) based on the information you have."]
[]
["Your training session dates will already be displayed based on the start date entered under the Info de l’escadron [Squadron info] tab. If, for one reason or another, the date for one training session is different, you can replace the formula with the new date."]
[]
["NOTE"]
["Please note that the dates for subsequent sessions will be recalculated based on the new date you entered. If the modified date does not fall on the same day of the week as your regular weekly training day, you must also change the date of the next training session so that the right day of the week is displayed for the rest of the year."]
[]
["Tab - Activités [Activities]"]
[]
["This tab lists all the Squadron activities, both the optional ones and those that are part of the local training program. All entries on this list will be automatically entered into the monthly and weekly calendars."]
[]
["The dates for your MCP days and annual review will automatically be placed at the top of the list as soon as you enter them under the POC [MCP] tab."]
[]
["You do not have to enter the dates in order. This tab is used to populate your yearly calendar (under the Calendrier [Calendar] tab), which is in chronological order."]
[]
["The list of activities should not be used as a training reference; it should only be used as a way to post your activities in your monthly and weekly calendars."]
[]
["There is a maximum of activities you can list per day in the calendar. Currently there are five lines available."]
[]
["Only the title of the activity will be displayed in the monthly calendars. All activity details will appear in the weekly calendar under the Hebdomadaire [Weekly] tab."]
[]
["Tab - Calendrier [Calendar]"]
[]
["There are no data to enter under this tab. Information will be added automatically based on your entries under the POC [MCP], Horaire [Schedule] and Activités [Activities] tabs."]
[]
["This creates your yearly calendar."]
[]
["NOTE"]
["Please note that a reminder for CDT-135, CDT-145, CDT-155, \"create activity Fortress” and “record the attendance” will appear in the monthly and weekly calendars on a specific date before or after the activity (eg: CDT-145 – M Day 1)."]
[]
["Onglet - Budget"]
[]
["NOTE"]
["It is strongly recommended that you fill out this tab in collaboration with the CO, sponsoring committee\nand Trg O."]
[]
["This tab helps you plan your allocation of MCP funds to different known activities and MCP-related expenses."]
[]
["You need to identify MCP days where you expect to spend money and the projected amounts for those days."]
[]
["The total for your MCP budgeted expenses is displayed at the bottom of the page."]
[]
["Tab - Hebdomadaire [Weekly]"]
[]
["This tab displays weekly schedules that have been filled in automatically based on data entered under the Info de l’escadron [Squadron info], Horaire [Schedule] and Activités [Activities] tabs."]
[]
["To go to the page for week 9 (for example), simply enter the number “9” in cell Q3 (in yellow) at the top right of the page."]
[]
["The date at the top of the page represents your training day. To the right of the date you will find the number of weeks since the beginning of the training year."]
[]
["Below that is the training schedule for the session."]
[]
["Then comes the list of activities planned for the week, starting with the training day, followed by the next six days."]
[]
["Information can only be entered under “Notes.” This area is for messages and comments."]
[]
["END OF ENGLISH TEXT"]

{"sheet":"Info de l'escadron","index":2,"n_rows":66,"n_cols":5,"rows_kept":66,"cut":false,"hidden":true,"merged":[[40,5,43,6],[32,5,35,5],[32,6,35,6],[32,0,32,1],[39,0,39,1],[41,0,41,1],[32,2,32,4],[43,0,43,1],[41,2,41,4],[28,5,31,5],[28,6,31,6],[28,0,28,4],[36,5,39,5],[35,0,35,1],[36,6,39,6],[29,0,29,1],[44,2,44,4],[26,2,26,4],[31,2,31,4],[40,0,40,4],[19,0,19,1],[20,0,20,1],[21,0,21,1],[22,0,22,1],[39,2,39,4],[26,0,26,1],[25,0,25,1],[37,2,37,4],[38,2,38,4],[37,0,37,1],[38,0,38,1],[42,0,42,1],[47,0,51,4],[34,0,34,4],[35,2,35,4],[29,2,29,4],[30,2,30,4],[42,2,42,4],[43,2,43,4],[36,2,36,4],[33,2,33,4],[33,0,33,1],[44,0,44,1],[30,0,30,1],[31,0,31,1],[45,0,45,1],[45,2,45,4],[36,0,36,1],[2,0,2,4],[11,0,11,4],[13,2,13,4],[25,2,25,3],[23,2,23,3],[17,0,17,1],[18,0,18,1],[15,0,15,1],[16,0,16,1],[23,0,23,1]]}
[1]
[]
[{"$f":"VLOOKUP(141,Traduction!$B$6:$E$250,'Info de l''escadron'!$A$1+1,0)","v":"Macro-commandes :"}]
["[CTRL]+[Shift]+U",{"$f":"VLOOKUP(152,Traduction!$B$6:$E$250,'Info de l''escadron'!$A$1+1,0)","v":"Ajoute le niveau 1B (si nécessaire)"}]
["[CTRL]+[Shift]+D",{"$f":"VLOOKUP(154,Traduction!$B$6:$E$250,'Info de l''escadron'!$A$1+1,0)","v":"Ajoute le niveau 2B (si nécessaire)"}]
["[CTRL]+[Shift]+T",{"$f":"VLOOKUP(206,Traduction!$B$6:$E$250,'Info de l''escadron'!$A$1+1,0)","v":"Ajoute le niveau 3B (si nécessaire)"}]
["[CTRL]+[Shift]+H",{"$f":"VLOOKUP(229,Traduction!$B$6:$E$250,'Info de l''escadron'!$A$1+1,0)","v":"Ajoute le niveau 4B (si nécessaire)"}]
["[CTRL]+[Shift]+E",{"$f":"VLOOKUP(207,Traduction!$B$6:$E$250,'Info de l''escadron'!$A$1+1,0)","v":"Affiche que 2 périodes d'instruction"}]
["[CTRL]+[Shift]+W",{"$f":"VLOOKUP(208,Traduction!$B$6:$E$250,'Info de l''escadron'!$A$1+1,0)","v":"Affiche une 4ième période d'instruction"}]
["[CTRL]+[Shift]+Q",{"$f":"VLOOKUP(209,Traduction!$B$6:$E$250,'Info de l''escadron'!$A$1+1,0)","v":"Affiche une 5ième période d'instruction"}]
["[CTRL]+[Shift]+Z",{"$f":"VLOOKUP(210,Traduction!$B$6:$E$250,'Info de l''escadron'!$A$1+1,0)","v":"Reviens à l'affichage standard (3 périodes, sans niveau #B)"}]
[{"$f":"VLOOKUP(165,Traduction!$B$6:$E$250,'Info de l''escadron'!$A$1+1,0)","v":"À exécuter AVANT de remplir le chiffrier."}]
[]
[{"$f":"VLOOKUP(8,Traduction!$B$6:$E$250,'Info de l''escadron'!$A$1+1,0)","v":"Nom de l' Escadron"},null,"709 Vimont-Auteuil"]
[]
[{"$f":"VLOOKUP(9,Traduction!$B$6:$E$250,'Info de l''escadron'!$A$1+1,0)","v":"Heures :"},null,{"$f":"VLOOKUP(22,Traduction!$B$6:$E$250,'Info de l''escadron'!$A$1+1,0)","v":"Début"},{"$f":"VLOOKUP(23,Traduction!$B$6:$E$250,'Info de l''escadron'!$A$1+1,0)","v":"Fin"},{"$f":"VLOOKUP(24,Traduction!$B$6:$E$250,'Info de l''escadron'!$A$1+1,0)","v":"Format"}]
[{"$f":"VLOOKUP(10,Traduction!$B$6:$E$250,'Info de l''escadron'!$A$1+1,0)","v":"Rassemblement / Inspection"},null,"18:30:00","18:55:00","(hh:mm)"]
[{"$f":"VLOOKUP(11,Traduction!$B$6:$E$250,'Info de l''escadron'!$A$1+1,0)","v":"Période 1"},null,"19:00:00","19:30:00","(hh:mm)"]
[{"$f":"VLOOKUP(12,Traduction!$B$6:$E$250,'Info de l''escadron'!$A$1+1,0)","v":"Période 2"},null,"19:35:00","20:05:00","(hh:mm)"]
["Pause",null,"20:25:00","20:55:00","(hh:mm)"]
[{"$f":"VLOOKUP(58,Traduction!$B$6:$E$250,'Info de l''escadron'!$A$1+1,0)","v":"Période 4"},null,"19:30:00","20:00:00","(hh:mm)"]
[{"$f":"VLOOKUP(184,Traduction!$B$6:$E$250,'Info de l''escadron'!$A$1+1,0)","v":"Période 5"},null,"20:00:00","20:30:00","(hh:mm)"]
["Période 3",null,"20:25:00","20:55:00","(hh:mm)"]
["Parade de fin de soirée",null,"21:00:00",null,"(hh:mm)"]
[]
[{"$f":"VLOOKUP(17,Traduction!$B$6:$E$250,'Info de l''escadron'!$A$1+1,0)","v":"Date de la première séance d'entraînement"},null,"2017-09-07",null,"Format\nxx sept 17"]
[{"$f":"VLOOKUP(18,Traduction!$B$6:$E$250,'Info de l''escadron'!$A$1+1,0)","v":"Entraînement régulier hebdomadaire"},null,"jeudi"]
[]
[{"$f":"VLOOKUP(19,Traduction!$B$6:$E$250,'Info de l''escadron'!$A$1+1,0)","v":"Information sur l'officier commandant"}]
[{"$f":"VLOOKUP(20,Traduction!$B$6:$E$250,'Info de l''escadron'!$A$1+1,0)","v":"Nom"},null,"Capt Sébastien Houle"]
[{"$f":"VLOOKUP(21,Traduction!$B$6:$E$250,'Info de l''escadron'!$A$1+1,0)","v":"Numéros de téléphones : Jour"},null,"514-710-3691"]
[{"$f":"VLOOKUP(185,Traduction!$B$6:$E$250,'Info de l''escadron'!$A$1+1,0)","v":"                                       Soir"}]
[{"$f":"VLOOKUP(186,Traduction!$B$6:$E$250,'Info de l''escadron'!$A$1+1,0)","v":"                                       Cellulaire"}]
[{"$f":"VLOOKUP(181,Traduction!$B$6:$E$250,'Info de l''escadron'!$A$1+1,0)","v":"Adresse électronique"},null,"sebastien.houle@cadets.gc.ca"]
[{"$f":"VLOOKUP(180,Traduction!$B$6:$E$250,'Info de l''escadron'!$A$1+1,0)","v":"Information sur l'officier d'instruction"}]
[{"$f":"VLOOKUP(20,Traduction!$B$6:$E$250,'Info de l''escadron'!$A$1+1,0)","v":"Nom"},null,"Ltv Annie Henrichon"]
[{"$f":"VLOOKUP(21,Traduction!$B$6:$E$250,'Info de l''escadron'!$A$1+1,0)","v":"Numéros de téléphones : Jour"},null,"514-773-2563"]
[{"$f":"VLOOKUP(185,Traduction!$B$6:$E$250,'Info de l''escadron'!$A$1+1,0)","v":"                                       Soir"}]
[{"$f":"VLOOKUP(186,Traduction!$B$6:$E$250,'Info de l''escadron'!$A$1+1,0)","v":"                                       Cellulaire"}]
[{"$f":"VLOOKUP(181,Traduction!$B$6:$E$250,'Info de l''escadron'!$A$1+1,0)","v":"Adresse électronique"},null,"annie.henrichon@cadets.gc.ca"]
[{"$f":"VLOOKUP(187,Traduction!$B$6:$E$250,'Info de l''escadron'!$A$1+1,0)","v":"Information sur l'officier d'administration"}]
[{"$f":"VLOOKUP(20,Traduction!$B$6:$E$250,'Info de l''escadron'!$A$1+1,0)","v":"Nom"},null,"Capt Jean-Marie Levasseur"]
[{"$f":"VLOOKUP(21,Traduction!$B$6:$E$250,'Info de l''escadron'!$A$1+1,0)","v":"Numéros de téléphones : Jour"}]
[{"$f":"VLOOKUP(185,Traduction!$B$6:$E$250,'Info de l''escadron'!$A$1+1,0)","v":"                                       Soir"}]
[{"$f":"VLOOKUP(186,Traduction!$B$6:$E$250,'Info de l''escadron'!$A$1+1,0)","v":"                                       Cellulaire"}]
[{"$f":"VLOOKUP(181,Traduction!$B$6:$E$250,'Info de l''escadron'!$A$1+1,0)","v":"Adresse électronique"}]
[]
[{"$f":"VLOOKUP(25,Traduction!$B$6:$E$250,'Info de l''escadron'!$A$1+1,0)","v":"Remplir les cellules blanches seulement!!!"}]
[]
[]
[]
[]
[]
["MOIS / MONTHS",null,"ONGLETS / TABS"]
["Jan          Janv",null,"Info de l'escadron",null,"Squadron Info"]
["Feb          Févr",null,"Niv 1, Niv 2, Niv 3, Niv 4",null,"Levels 1 to 4"]
["Mar         Mars",null,"Horaire",null,"Schedule"]
["Apr          Avr",null,"Activités",null,"Activities"]
["May        Mai",null,"Calendrier",null,"Calendar"]
["Jun         Juin",null,"Hebdomadaire",null,"Weekly"]
["Jul          Juil"]
["Aug        Août"]
["Sep        Sept"]
["Oct        Oct"]
["Nov        Nov"]
["Dec        Déc"]

{"sheet":"Niv 1","index":3,"n_rows":152,"n_cols":13,"rows_kept":152,"cut":false,"hidden":false,"merged":[[67,0,82,0],[46,0,54,0],[55,0,66,0],[81,2,81,3],[67,1,82,1],[46,1,54,1],[53,2,53,3],[55,1,66,1],[66,2,66,3],[54,2,54,3],[65,2,65,3],[106,2,106,3],[99,2,99,3],[102,2,102,3],[98,2,98,3],[82,2,82,3],[133,0,148,0],[118,0,122,0],[129,0,132,0],[148,2,148,3],[117,2,117,3],[133,1,148,1],[118,1,122,1],[123,1,128,1],[107,1,117,1],[147,2,147,3],[121,2,121,3],[122,2,122,3],[131,2,131,3],[132,2,132,3],[129,1,132,1],[116,2,116,3],[31,0,40,0],[29,2,29,3],[31,1,40,1],[45,2,45,3],[39,2,39,3],[44,2,44,3],[40,2,40,3],[41,0,45,0],[23,1,30,1],[30,2,30,3],[23,0,30,0],[41,1,45,1],[127,2,127,3],[128,2,128,3],[123,0,128,0],[87,2,87,3],[105,2,105,3],[103,2,103,3],[107,0,117,0],[104,1,106,1],[83,1,88,1],[100,1,103,1],[89,1,99,1],[83,0,88,0],[88,2,88,3],[100,0,103,0],[104,0,106,0],[89,0,99,0],[0,11,0,12],[0,8,0,9],[0,0,0,5],[21,2,21,3],[8,1,18,1],[2,0,7,0],[2,1,7,1],[6,2,6,3],[7,2,7,3],[17,2,17,3],[8,0,18,0],[19,0,22,0],[18,2,18,3],[19,1,22,1],[22,2,22,3]]}
["827 Longueuil",null,null,null,null,null,null,null,"M",null,null,"C"]
[{"$f":"VLOOKUP(26,Traduction!$B$6:$E$250,'Info de l''escadron'!$A$1+1,0)","v":"OREN"},{"$f":"VLOOKUP(156,Traduction!$B$6:$E$250,'Info de l''escadron'!$A$1+1,0)","v":"Sujet"},{"$f":"VLOOKUP(65,Traduction!$B$6:$E$250,'Info de l''escadron'!$A$1+1,0)","v":"OCOM"},{"$f":"VLOOKUP(157,Traduction!$B$6:$E$250,'Info de l''escadron'!$A$1+1,0)","v":"Énoncé de performance"},{"$f":"VLOOKUP(158,Traduction!$B$6:$E$250,'Info de l''escadron'!$A$1+1,0)","v":"Prog."},{"$f":"Horaire!E3","v":"Niveau 1"},{"$f":"Horaire!H3","v":"Niveau 1B"},null,"1","1B",null,"1","1B"]
[100,{"$f":"VLOOKUP(A3,Traduction!$B$300:$E$388,'Info de l''escadron'!$A$1+1,0)","v":"Participer à la formation sur les relations sociales positives pour la jeunesse"},"M100.01",{"$f":"VLOOKUP(C3,Traduction!$B$426:$E$926,'Info de l''escadron'!$A$1+1,0)","v":"Sous-module 1 — Ce qui est attendu de vous en tant que cadet"},2,{"$f":"COUNTIF(Horaire!E:G,$C3)+COUNTIF(POC!E:G,$C3)+COUNTIF(Horaire!E:G,SUBSTITUTE($C3,\".\",\",\"))+COUNTIF(POC!E:G,SUBSTITUTE($C3,\".\",\",\"))","v":2},{"$f":"COUNTIF(Horaire!H:J,$C3)+COUNTIF(POC!H:J,$C3)+COUNTIF(Horaire!H:J,SUBSTITUTE($C3,\".\",\",\"))+COUNTIF(POC!H:J,SUBSTITUTE($C3,\".\",\",\"))","v":0},null,{"$f":"MIN($E3,F3)","v":2},0]
[null,null,"M100.02",{"$f":"VLOOKUP(C4,Traduction!$B$426:$E$926,'Info de l''escadron'!$A$1+1,0)","v":"Sous-module 2 — Répercussions des comportements qui surpassent les attentes ou qui n'y satisfont pas"},1,{"$f":"COUNTIF(Horaire!E:G,$C4)+COUNTIF(POC!E:G,$C4)+COUNTIF(Horaire!E:G,SUBSTITUTE($C4,\".\",\",\"))+COUNTIF(POC!E:G,SUBSTITUTE($C4,\".\",\",\"))","v":1},{"$f":"COUNTIF(Horaire!H:J,$C4)+COUNTIF(POC!H:J,$C4)+COUNTIF(Horaire!H:J,SUBSTITUTE($C4,\".\",\",\"))+COUNTIF(POC!H:J,SUBSTITUTE($C4,\".\",\",\"))","v":0},null,1,0]
[null,null,"M100.03",{"$f":"VLOOKUP(C5,Traduction!$B$426:$E$926,'Info de l''escadron'!$A$1+1,0)","v":"Sous-module 3 — Qu'est-ce que le harcèlement, les actes criminels et l'abus et où trouver de l'aide"},1,{"$f":"COUNTIF(Horaire!E:G,$C5)+COUNTIF(POC!E:G,$C5)+COUNTIF(Horaire!E:G,SUBSTITUTE($C5,\".\",\",\"))+COUNTIF(POC!E:G,SUBSTITUTE($C5,\".\",\",\"))","v":1},{"$f":"COUNTIF(Horaire!H:J,$C5)+COUNTIF(POC!H:J,$C5)+COUNTIF(Horaire!H:J,SUBSTITUTE($C5,\".\",\",\"))+COUNTIF(POC!H:J,SUBSTITUTE($C5,\".\",\",\"))","v":0},null,1,0]
[null,null,"M100.04",{"$f":"VLOOKUP(C6,Traduction!$B$426:$E$926,'Info de l''escadron'!$A$1+1,0)","v":"Sous-module 4 — Qu'est-ce qu'un conflit et comment y remédier"},2,{"$f":"COUNTIF(Horaire!E:G,$C6)+COUNTIF(POC!E:G,$C6)+COUNTIF(Horaire!E:G,SUBSTITUTE($C6,\".\",\",\"))+COUNTIF(POC!E:G,SUBSTITUTE($C6,\".\",\",\"))","v":2},{"$f":"COUNTIF(Horaire!H:J,$C6)+COUNTIF(POC!H:J,$C6)+COUNTIF(Horaire!H:J,SUBSTITUTE($C6,\".\",\",\"))+COUNTIF(POC!H:J,SUBSTITUTE($C6,\".\",\",\"))","v":0},null,2,0]
[null,null,{"$f":"CONCATENATE($A$2,\" \",A3,\" - \",VLOOKUP(160,Traduction!$B$6:$E$250,'Info de l''escadron'!$A$1+1,0))","v":"OREN 100 - Total des périodes d'instruction Obligatoires  "},null,6,{"$f":"SUM(F3:F6)","v":6},{"$f":"SUM(G3:G6)","v":0}]
[null,null,{"$f":"CONCATENATE($A$2,\" \",A3,\" - \",VLOOKUP(161,Traduction!$B$6:$E$250,'Info de l''escadron'!$A$1+1,0))","v":"OREN 100 - Total des périodes d'instruction Complémentaires  "},null,0,0,0]
["X01","Effectuer un service communautaire","M101.01A","Participer à une visite reliée au civisme",0,{"$f":"COUNTIF(Horaire!K:M,$C9)+COUNTIF(POC!K:M,$C9)+COUNTIF(Horaire!K:M,SUBSTITUTE($C9,\".\",\",\"))+COUNTIF(POC!K:M,SUBSTITUTE($C9,\".\",\",\"))","v":0},{"$f":"COUNTIF(Horaire!H:J,$C9)+COUNTIF(POC!H:J,$C9)+COUNTIF(Horaire!H:J,SUBSTITUTE($C9,\".\",\",\"))+COUNTIF(POC!H:J,SUBSTITUTE($C9,\".\",\",\"))","v":0},null,{"$f":"MIN($E9,F9)","v":0},{"$f":"MIN($E9,G9)","v":0}]
[null,null,"M101.01B","Assister à une présentation donnée par un organisme communautaire",0,{"$f":"COUNTIF(Horaire!K:M,$C10)+COUNTIF(POC!K:M,$C10)+COUNTIF(Horaire!K:M,SUBSTITUTE($C10,\".\",\",\"))+COUNTIF(POC!K:M,SUBSTITUTE($C10,\".\",\",\"))","v":0}]
[null,null,"M101.01C","Assister à une présentation donnée par un citoyen d'intérêt",0,3]
[null,null,"M101.01D","Participer au défi de la citoyenneté canadienne",0,{"$f":"COUNTIF(Horaire!K:M,$C12)+COUNTIF(POC!K:M,$C12)+COUNTIF(Horaire!K:M,SUBSTITUTE($C12,\".\",\",\"))+COUNTIF(POC!K:M,SUBSTITUTE($C12,\".\",\",\"))","v":0}]
[null,null,"M101.01E","Organiser une cérémonie de citoyenneté",0,{"$f":"COUNTIF(Horaire!K:M,$C13)+COUNTIF(POC!K:M,$C13)+COUNTIF(Horaire!K:M,SUBSTITUTE($C13,\".\",\",\"))+COUNTIF(POC!K:M,SUBSTITUTE($C13,\".\",\",\"))","v":0}]
[null,null,"M101.01F","Participer à une élection",0,{"$f":"COUNTIF(Horaire!K:M,$C14)+COUNTIF(POC!K:M,$C14)+COUNTIF(Horaire!K:M,SUBSTITUTE($C14,\".\",\",\"))+COUNTIF(POC!K:M,SUBSTITUTE($C14,\".\",\",\"))","v":0}]
[null,null,"M101.01G","Participer à des activités relatives aux vidéos sur les Minutes du Patrimoine",0,{"$f":"COUNTIF(Horaire!K:M,$C15)+COUNTIF(POC!K:M,$C15)+COUNTIF(Horaire!K:M,SUBSTITUTE($C15,\".\",\",\"))+COUNTIF(POC!K:M,SUBSTITUTE($C15,\".\",\",\"))","v":0}]
[null,null,"M101.01H","Participer à des ateliers d'apprentissage sur le civisme",0,{"$f":"COUNTIF(Horaire!K:M,$C16)+COUNTIF(POC!K:M,$C16)+COUNTIF(Horaire!K:M,SUBSTITUTE($C16,\".\",\",\"))+COUNTIF(POC!K:M,SUBSTITUTE($C16,\".\",\",\"))","v":0}]
[null,null,"C101.01","Participer à des activités sur le civisme",18,{"$f":"COUNTIF(Horaire!K:M,$C17)+COUNTIF(POC!K:M,$C17)+COUNTIF(Horaire!K:M,SUBSTITUTE($C17,\".\",\",\"))+COUNTIF(POC!K:M,SUBSTITUTE($C17,\".\",\",\"))","v":0}]
[null,null,{"$f":"CONCATENATE($A$2,\" \",A9,\" - \",VLOOKUP(160,Traduction!$B$6:$E$250,'Info de l''escadron'!$A$1+1,0))","v":"OREN X01 - Total des périodes d'instruction Obligatoires  "},null,3,3,{"$f":"SUM(G9)","v":0}]
[null,null,{"$f":"CONCATENATE($A$2,\" \",A9,\" - \",VLOOKUP(161,Traduction!$B$6:$E$250,'Info de l''escadron'!$A$1+1,0))","v":"OREN X01 - Total des périodes d'instruction Complémentaires  "},null,18,{"$f":"SUM(F17)","v":0},{"$f":"SUM(#REF!)","v":{"$error":"#REF!"}}]
["X02",{"$f":"Effectuer un service communautaire","v":{"$error":"#NAME?"}},"M02.01",{"$f":"VLOOKUP(C20,Traduction!$B$426:$E$926,'Info de l''escadron'!$A$1+1,0)","v":{"$error":"#N/A"}},9,{"$f":"COUNTIF(Horaire!E:G,$C20)+COUNTIF(POC!E:G,$C20)+COUNTIF(Horaire!E:G,SUBSTITUTE($C20,\".\",\",\"))+COUNTIF(POC!E:G,SUBSTITUTE($C20,\".\",\",\"))","v":0},{"$f":"COUNTIF(Horaire!H:J,$C20)+COUNTIF(POC!H:J,$C20)+COUNTIF(Horaire!H:J,SUBSTITUTE($C20,\".\",\",\"))+COUNTIF(POC!H:J,SUBSTITUTE($C20,\".\",\",\"))","v":0},null,{"$f":"MIN($E20,F20)","v":0},{"$f":"MIN($E20,G20)","v":0}]
[null,null,"C02.01",{"$f":"VLOOKUP(C21,Traduction!$B$426:$E$926,'Info de l''escadron'!$A$1+1,0)","v":{"$error":"#N/A"}},18,{"$f":"COUNTIF(Horaire!E:G,$C21)+COUNTIF(POC!E:G,$C21)+COUNTIF(Horaire!E:G,SUBSTITUTE($C21,\".\",\",\"))+COUNTIF(POC!E:G,SUBSTITUTE($C21,\".\",\",\"))","v":0},{"$f":"COUNTIF(Horaire!H:J,$C21)+COUNTIF(POC!H:J,$C21)+COUNTIF(Horaire!H:J,SUBSTITUTE($C21,\".\",\",\"))+COUNTIF(POC!H:J,SUBSTITUTE($C21,\".\",\",\"))","v":0},null,null,null,null,{"$f":"MIN($E21,F21)","v":0},{"$f":"MIN($E21,G21)","v":0}]
[null,null,{"$f":"CONCATENATE($A$2,\" \",A20,\" - \",VLOOKUP(160,Traduction!$B$6:$E$250,'Info de l''escadron'!$A$1+1,0))","v":"OREN X02 - Total des périodes d'instruction Obligatoires  "},null,9,{"$f":"SUM(F20)","v":0},{"$f":"SUM(G20)","v":0}]
[null,null,{"$f":"CONCATENATE($A$2,\" \",A20,\" - \",VLOOKUP(161,Traduction!$B$6:$E$250,'Info de l''escadron'!$A$1+1,0))","v":"OREN X02 - Total des périodes d'instruction Complémentaires  "},null,18,{"$f":"SUM(F21)","v":0},{"$f":"SUM(G21:G21)","v":0}]
[103,{"$f":"VLOOKUP(A24,Traduction!$B$300:$E$388,'Info de l''escadron'!$A$1+1,0)","v":"Participer à titre d'un membre d'une équipe"},"M103.01",{"$f":"VLOOKUP(C24,Traduction!$B$426:$E$926,'Info de l''escadron'!$A$1+1,0)","v":"Identifier les responsabilités d'un suiveur dans une équipe"},1,{"$f":"COUNTIF(Horaire!E:G,$C24)+COUNTIF(POC!E:G,$C24)+COUNTIF(Horaire!E:G,SUBSTITUTE($C24,\".\",\",\"))+COUNTIF(POC!E:G,SUBSTITUTE($C24,\".\",\",\"))","v":1},{"$f":"COUNTIF(Horaire!H:J,$C24)+COUNTIF(POC!H:J,$C24)+COUNTIF(Horaire!H:J,SUBSTITUTE($C24,\".\",\",\"))+COUNTIF(POC!H:J,SUBSTITUTE($C24,\".\",\",\"))","v":0},null,{"$f":"MIN($E24,F24)","v":1},0]
[null,null,"M103.02",{"$f":"VLOOKUP(C25,Traduction!$B$426:$E$926,'Info de l''escadron'!$A$1+1,0)","v":"Établir un objectif personnel pour l'année d'instruction"},1,{"$f":"COUNTIF(Horaire!E:G,$C25)+COUNTIF(POC!E:G,$C25)+COUNTIF(Horaire!E:G,SUBSTITUTE($C25,\".\",\",\"))+COUNTIF(POC!E:G,SUBSTITUTE($C25,\".\",\",\"))","v":1},{"$f":"COUNTIF(Horaire!H:J,$C25)+COUNTIF(POC!H:J,$C25)+COUNTIF(Horaire!H:J,SUBSTITUTE($C25,\".\",\",\"))+COUNTIF(POC!H:J,SUBSTITUTE($C25,\".\",\",\"))","v":0},null,1,0]
[null,null,"M103.03",{"$f":"VLOOKUP(C26,Traduction!$B$426:$E$926,'Info de l''escadron'!$A$1+1,0)","v":"Participer à des activités de promotion du travail d'équipe"},2,{"$f":"COUNTIF(Horaire!E:G,$C26)+COUNTIF(POC!E:G,$C26)+COUNTIF(Horaire!E:G,SUBSTITUTE($C26,\".\",\",\"))+COUNTIF(POC!E:G,SUBSTITUTE($C26,\".\",\",\"))","v":2},{"$f":"COUNTIF(Horaire!H:J,$C26)+COUNTIF(POC!H:J,$C26)+COUNTIF(Horaire!H:J,SUBSTITUTE($C26,\".\",\",\"))+COUNTIF(POC!H:J,SUBSTITUTE($C26,\".\",\",\"))","v":0},null,2,0]
[null,null,"C103.01",{"$f":"VLOOKUP(C27,Traduction!$B$426:$E$926,'Info de l''escadron'!$A$1+1,0)","v":"Participer à des activités pour briser la glace"},1,{"$f":"COUNTIF(Horaire!E:G,$C27)+COUNTIF(POC!E:G,$C27)+COUNTIF(Horaire!E:G,SUBSTITUTE($C27,\".\",\",\"))+COUNTIF(POC!E:G,SUBSTITUTE($C27,\".\",\",\"))","v":0},{"$f":"COUNTIF(Horaire!H:J,$C27)+COUNTIF(POC!H:J,$C27)+COUNTIF(Horaire!H:J,SUBSTITUTE($C27,\".\",\",\"))+COUNTIF(POC!H:J,SUBSTITUTE($C27,\".\",\",\"))","v":0},null,null,null,null,{"$f":"MIN($E27,F27)","v":0},0]
[null,null,"C103.02",{"$f":"VLOOKUP(C28,Traduction!$B$426:$E$926,'Info de l''escadron'!$A$1+1,0)","v":"Participer à des présentations de soi"},1,{"$f":"COUNTIF(Horaire!E:G,$C28)+COUNTIF(POC!E:G,$C28)+COUNTIF(Horaire!E:G,SUBSTITUTE($C28,\".\",\",\"))+COUNTIF(POC!E:G,SUBSTITUTE($C28,\".\",\",\"))","v":0},{"$f":"COUNTIF(Horaire!H:J,$C28)+COUNTIF(POC!H:J,$C28)+COUNTIF(Horaire!H:J,SUBSTITUTE($C28,\".\",\",\"))+COUNTIF(POC!H:J,SUBSTITUTE($C28,\".\",\",\"))","v":0},null,null,null,null,0,0]
[null,null,"C103.03",{"$f":"VLOOKUP(C29,Traduction!$B$426:$E$926,'Info de l''escadron'!$A$1+1,0)","v":"Participer à des activités de promotion du travail d'équipe"},1,{"$f":"COUNTIF(Horaire!E:G,$C29)+COUNTIF(POC!E:G,$C29)+COUNTIF(Horaire!E:G,SUBSTITUTE($C29,\".\",\",\"))+COUNTIF(POC!E:G,SUBSTITUTE($C29,\".\",\",\"))","v":1},{"$f":"COUNTIF(Horaire!H:J,$C29)+COUNTIF(POC!H:J,$C29)+COUNTIF(Horaire!H:J,SUBSTITUTE($C29,\".\",\",\"))+COUNTIF(POC!H:J,SUBSTITUTE($C29,\".\",\",\"))","v":0},null,null,null,null,1,0]
[null,null,{"$f":"CONCATENATE($A$2,\" \",A24,\" - \",VLOOKUP(160,Traduction!$B$6:$E$250,'Info de l''escadron'!$A$1+1,0))","v":"OREN 103 - Total des périodes d'instruction Obligatoires  "},null,4,{"$f":"SUM(F24:F26)","v":4},{"$f":"SUM(G24:G26)","v":0}]
[null,null,{"$f":"CONCATENATE($A$2,\" \",A24,\" - \",VLOOKUP(161,Traduction!$B$6:$E$250,'Info de l''escadron'!$A$1+1,0))","v":"OREN 103 - Total des périodes d'instruction Complémentaires  "},null,3,{"$f":"SUM(F27:F29)","v":1},{"$f":"SUM(G27:G29)","v":0}]
["X04",{"$f":"VLOOKUP(A32,Traduction!$B$300:$E$388,'Info de l''escadron'!$A$1+1,0)","v":"Suivre la participation aux activités physiques"},"MX04.01",{"$f":"VLOOKUP(C32,Traduction!$B$426:$E$926,'Info de l''escadron'!$A$1+1,0)","v":"Participer à une séance d'activité physique d'intensité modérée à élevée de 60 minutes et suivre la participation aux activités physiques"},3,{"$f":"COUNTIF(Horaire!E:G,$C32)+COUNTIF(POC!E:G,$C32)+COUNTIF(Horaire!E:G,SUBSTITUTE($C32,\".\",\",\"))+COUNTIF(POC!E:G,SUBSTITUTE($C32,\".\",\",\"))","v":0},{"$f":"COUNTIF(Horaire!H:J,$C32)+COUNTIF(POC!H:J,$C32)+COUNTIF(Horaire!H:J,SUBSTITUTE($C32,\".\",\",\"))+COUNTIF(POC!H:J,SUBSTITUTE($C32,\".\",\",\"))","v":0},null,{"$f":"MIN($E32,F32)","v":0},0]
[null,null,"MX04.02",{"$f":"VLOOKUP(C33,Traduction!$B$426:$E$926,'Info de l''escadron'!$A$1+1,0)","v":"Définir des stratégies pour accroître la participation à des activités physiques et participer à l'évaluation de la condition physique des cadets"},3,{"$f":"COUNTIF(Horaire!E:G,$C33)+COUNTIF(POC!E:G,$C33)+COUNTIF(Horaire!E:G,SUBSTITUTE($C33,\".\",\",\"))+COUNTIF(POC!E:G,SUBSTITUTE($C33,\".\",\",\"))","v":0},{"$f":"COUNTIF(Horaire!H:J,$C33)+COUNTIF(POC!H:J,$C33)+COUNTIF(Horaire!H:J,SUBSTITUTE($C33,\".\",\",\"))+COUNTIF(POC!H:J,SUBSTITUTE($C33,\".\",\",\"))","v":0},null,0,0]
[null,null,"MX04.03",{"$f":"VLOOKUP(C34,Traduction!$B$426:$E$926,'Info de l''escadron'!$A$1+1,0)","v":"Participer à l'évaluation de la condition physique des cadets et définir des stratégies pour améliorer la condition physique personnelle"},3,{"$f":"COUNTIF(Horaire!E:G,$C34)+COUNTIF(POC!E:G,$C34)+COUNTIF(Horaire!E:G,SUBSTITUTE($C34,\".\",\",\"))+COUNTIF(POC!E:G,SUBSTITUTE($C34,\".\",\",\"))","v":3},{"$f":"COUNTIF(Horaire!H:J,$C34)+COUNTIF(POC!H:J,$C34)+COUNTIF(Horaire!H:J,SUBSTITUTE($C34,\".\",\",\"))+COUNTIF(POC!H:J,SUBSTITUTE($C34,\".\",\",\"))","v":0},null,3,0]
[null,null,"CX04.01",{"$f":"VLOOKUP(C35,Traduction!$B$426:$E$926,'Info de l''escadron'!$A$1+1,0)","v":"Participer à l'évaluation de la condition physique des cadets et définir des stratégies pour améliorer la condition physique personnelle"},3,{"$f":"COUNTIF(Horaire!E:G,$C35)+COUNTIF(POC!E:G,$C35)+COUNTIF(Horaire!E:G,SUBSTITUTE($C35,\".\",\",\"))+COUNTIF(POC!E:G,SUBSTITUTE($C35,\".\",\",\"))","v":3},{"$f":"COUNTIF(Horaire!H:J,$C35)+COUNTIF(POC!H:J,$C35)+COUNTIF(Horaire!H:J,SUBSTITUTE($C35,\".\",\",\"))+COUNTIF(POC!H:J,SUBSTITUTE($C35,\".\",\",\"))","v":0},null,null,null,null,{"$f":"MIN($E35,F35)","v":3},0]
[null,null,"CX04.02",{"$f":"VLOOKUP(C36,Traduction!$B$426:$E$926,'Info de l''escadron'!$A$1+1,0)","v":"Participer à des activités de renforcement des trois composantes de la condition physique"},3,{"$f":"COUNTIF(Horaire!E:G,$C36)+COUNTIF(POC!E:G,$C36)+COUNTIF(Horaire!E:G,SUBSTITUTE($C36,\".\",\",\"))+COUNTIF(POC!E:G,SUBSTITUTE($C36,\".\",\",\"))","v":0},{"$f":"COUNTIF(Horaire!H:J,$C36)+COUNTIF(POC!H:J,$C36)+COUNTIF(Horaire!H:J,SUBSTITUTE($C36,\".\",\",\"))+COUNTIF(POC!H:J,SUBSTITUTE($C36,\".\",\",\"))","v":0},null,null,null,null,0,0]
[null,null,"CX04.03",{"$f":"VLOOKUP(C37,Traduction!$B$426:$E$926,'Info de l''escadron'!$A$1+1,0)","v":"Participer à un cours de cuisine"},3,{"$f":"COUNTIF(Horaire!E:G,$C37)+COUNTIF(POC!E:G,$C37)+COUNTIF(Horaire!E:G,SUBSTITUTE($C37,\".\",\",\"))+COUNTIF(POC!E:G,SUBSTITUTE($C37,\".\",\",\"))","v":0},{"$f":"COUNTIF(Horaire!H:J,$C37)+COUNTIF(POC!H:J,$C37)+COUNTIF(Horaire!H:J,SUBSTITUTE($C37,\".\",\",\"))+COUNTIF(POC!H:J,SUBSTITUTE($C37,\".\",\",\"))","v":0},null,null,null,null,0,0]
[null,null,"CX04.04",{"$f":"VLOOKUP(C38,Traduction!$B$426:$E$926,'Info de l''escadron'!$A$1+1,0)","v":"Assister à un présentation sur la condition physique personnelle et les saines habitudes de vie"},3,{"$f":"COUNTIF(Horaire!E:G,$C38)+COUNTIF(POC!E:G,$C38)+COUNTIF(Horaire!E:G,SUBSTITUTE($C38,\".\",\",\"))+COUNTIF(POC!E:G,SUBSTITUTE($C38,\".\",\",\"))","v":0},{"$f":"COUNTIF(Horaire!H:J,$C38)+COUNTIF(POC!H:J,$C38)+COUNTIF(Horaire!H:J,SUBSTITUTE($C38,\".\",\",\"))+COUNTIF(POC!H:J,SUBSTITUTE($C38,\".\",\",\"))","v":0},null,null,null,null,0,0]
[null,null,"CX04.05",{"$f":"VLOOKUP(C39,Traduction!$B$426:$E$926,'Info de l''escadron'!$A$1+1,0)","v":"Assister à un événement sportif amateur"},3,{"$f":"COUNTIF(Horaire!E:G,$C39)+COUNTIF(POC!E:G,$C39)+COUNTIF(Horaire!E:G,SUBSTITUTE($C39,\".\",\",\"))+COUNTIF(POC!E:G,SUBSTITUTE($C39,\".\",\",\"))","v":0},{"$f":"COUNTIF(Horaire!H:J,$C39)+COUNTIF(POC!H:J,$C39)+COUNTIF(Horaire!H:J,SUBSTITUTE($C39,\".\",\",\"))+COUNTIF(POC!H:J,SUBSTITUTE($C39,\".\",\",\"))","v":0},null,null,null,null,0,0]
[null,null,{"$f":"CONCATENATE($A$2,\" \",A32,\" - \",VLOOKUP(160,Traduction!$B$6:$E$250,'Info de l''escadron'!$A$1+1,0))","v":"OREN X04 - Total des périodes d'instruction Obligatoires  "},null,9,{"$f":"SUM(F32:F34)","v":3},{"$f":"SUM(G32:G34)","v":0}]
[null,null,{"$f":"CONCATENATE($A$2,\" \",A32,\" - \",VLOOKUP(161,Traduction!$B$6:$E$250,'Info de l''escadron'!$A$1+1,0))","v":"OREN X04 - Total des périodes d'instruction Complémentaires  "},null,15,{"$f":"SUM(F35:F39)","v":3},{"$f":"SUM(G35:G39)","v":0}]
[105,{"$f":"VLOOKUP(A42,Traduction!$B$300:$E$388,'Info de l''escadron'!$A$1+1,0)","v":"Participer à des sports récréatifs organisés"},"M105.01",{"$f":"VLOOKUP(C42,Traduction!$B$426:$E$926,'Info de l''escadron'!$A$1+1,0)","v":"Participer à des activités physiques"},9,9,{"$f":"COUNTIF(Horaire!H:J,$C42)+COUNTIF(POC!H:J,$C42)+COUNTIF(Horaire!H:J,SUBSTITUTE($C42,\".\",\",\"))+COUNTIF(POC!H:J,SUBSTITUTE($C42,\".\",\",\"))","v":0},null,{"$f":"MIN($E42,F42)","v":9},{"$f":"MIN($E42,G42)","v":0}]
[null,null,"C105.01","Participer à des activités physiques",9,9]
[null,null,"C105.02","Participer à un tournoi",9,9,{"$f":"COUNTIF(Horaire!H:J,$C44)+COUNTIF(POC!H:J,$C44)+COUNTIF(Horaire!H:J,SUBSTITUTE($C44,\".\",\",\"))+COUNTIF(POC!H:J,SUBSTITUTE($C44,\".\",\",\"))","v":0},null,null,null,null,{"$f":"MIN($E44,F44)","v":9},{"$f":"MIN($E44,G44)","v":0}]
[null,null,{"$f":"CONCATENATE($A$2,\" \",A42,\" - \",VLOOKUP(160,Traduction!$B$6:$E$250,'Info de l''escadron'!$A$1+1,0))","v":"OREN 105 - Total des périodes d'instruction Obligatoires  "},null,9,{"$f":"SUM(F42)","v":9},{"$f":"SUM(G42)","v":0}]
[null,null,{"$f":"CONCATENATE($A$2,\" \",A42,\" - \",VLOOKUP(161,Traduction!$B$6:$E$250,'Info de l''escadron'!$A$1+1,0))","v":"OREN 105 - Total des périodes d'instruction Complémentaires  "},null,18,{"$f":"SUM(F43:F44)","v":18},{"$f":"SUM(G44:G44)","v":0}]
[106,{"$f":"VLOOKUP(A47,Traduction!$B$300:$E$388,'Info de l''escadron'!$A$1+1,0)","v":"Tirer avec la carabine à air comprimé des cadets"},"M106.01",{"$f":"VLOOKUP(C47,Traduction!$B$426:$E$926,'Info de l''escadron'!$A$1+1,0)","v":"Identifier les pièces et les caractéristiques de la carabine à air comprimé Daisy 853C"},1,1,{"$f":"COUNTIF(Horaire!H:J,$C47)+COUNTIF(POC!H:J,$C47)+COUNTIF(Horaire!H:J,SUBSTITUTE($C47,\".\",\",\"))+COUNTIF(POC!H:J,SUBSTITUTE($C47,\".\",\",\"))","v":0},null,{"$f":"MIN($E47,F47)","v":1},0]
[null,null,"M106.02",{"$f":"VLOOKUP(C48,Traduction!$B$426:$E$926,'Info de l''escadron'!$A$1+1,0)","v":"Effectuer les mesures de sécurité de la carabine à air comprimé des cadets"},1,1,{"$f":"COUNTIF(Horaire!H:J,$C48)+COUNTIF(POC!H:J,$C48)+COUNTIF(Horaire!H:J,SUBSTITUTE($C48,\".\",\",\"))+COUNTIF(POC!H:J,SUBSTITUTE($C48,\".\",\",\"))","v":0},null,1,0]
[null,null,"M106.03",{"$f":"VLOOKUP(C49,Traduction!$B$426:$E$926,'Info de l''escadron'!$A$1+1,0)","v":"Appliquer les techniques élémentaires du tir de précision"},2,2,{"$f":"COUNTIF(Horaire!H:J,$C49)+COUNTIF(POC!H:J,$C49)+COUNTIF(Horaire!H:J,SUBSTITUTE($C49,\".\",\",\"))+COUNTIF(POC!H:J,SUBSTITUTE($C49,\".\",\",\"))","v":0},null,2,0]
[null,null,"M106.04",{"$f":"VLOOKUP(C50,Traduction!$B$426:$E$926,'Info de l''escadron'!$A$1+1,0)","v":"Respecter les règles et les commandements sur un champ de tir pour carabine à air comprimé"},1,1,{"$f":"COUNTIF(Horaire!H:J,$C50)+COUNTIF(POC!H:J,$C50)+COUNTIF(Horaire!H:J,SUBSTITUTE($C50,\".\",\",\"))+COUNTIF(POC!H:J,SUBSTITUTE($C50,\".\",\",\"))","v":0},null,1,0]
[null,null,"M106.05",{"$f":"VLOOKUP(C51,Traduction!$B$426:$E$926,'Info de l''escadron'!$A$1+1,0)","v":"Participer à une activité de familiarisation sur le tir de précision avec la carabine à air comprimé des cadets"},3,3,{"$f":"COUNTIF(Horaire!H:J,$C51)+COUNTIF(POC!H:J,$C51)+COUNTIF(Horaire!H:J,SUBSTITUTE($C51,\".\",\",\"))+COUNTIF(POC!H:J,SUBSTITUTE($C51,\".\",\",\"))","v":0},null,3,0]
[null,null,"C106.01",{"$f":"VLOOKUP(C52,Traduction!$B$426:$E$926,'Info de l''escadron'!$A$1+1,0)","v":"Participer à une activité récréative de tir de précision"},3,{"$f":"COUNTIF(Horaire!E:G,$C52)+COUNTIF(POC!E:G,$C52)+COUNTIF(Horaire!E:G,SUBSTITUTE($C52,\".\",\",\"))+COUNTIF(POC!E:G,SUBSTITUTE($C52,\".\",\",\"))","v":0},{"$f":"COUNTIF(Horaire!H:J,$C52)+COUNTIF(POC!H:J,$C52)+COUNTIF(Horaire!H:J,SUBSTITUTE($C52,\".\",\",\"))+COUNTIF(POC!H:J,SUBSTITUTE($C52,\".\",\",\"))","v":0},null,null,null,null,{"$f":"MIN($E52,F52)","v":0},{"$f":"MIN($E52,G52)","v":0}]
[null,null,"C106.02",{"$f":"VLOOKUP(C53,Traduction!$B$426:$E$926,'Info de l''escadron'!$A$1+1,0)","v":"Nettoyer et entreposer la carabine à air comprimé des cadets"},1,{"$f":"COUNTIF(Horaire!E:G,$C53)+COUNTIF(POC!E:G,$C53)+COUNTIF(Horaire!E:G,SUBSTITUTE($C53,\".\",\",\"))+COUNTIF(POC!E:G,SUBSTITUTE($C53,\".\",\",\"))","v":0},{"$f":"COUNTIF(Horaire!H:J,$C53)+COUNTIF(POC!H:J,$C53)+COUNTIF(Horaire!H:J,SUBSTITUTE($C53,\".\",\",\"))+COUNTIF(POC!H:J,SUBSTITUTE($C53,\".\",\",\"))","v":0},null,null,null,null,{"$f":"MIN($E53,F53)","v":0},{"$f":"MIN($E53,G53)","v":0}]
[null,null,{"$f":"CONCATENATE($A$2,\" \",A47,\" - \",VLOOKUP(160,Traduction!$B$6:$E$250,'Info de l''escadron'!$A$1+1,0))","v":"OREN 106 - Total des périodes d'instruction Obligatoires  "},null,8,0,{"$f":"SUM(G47:G51)","v":0}]
[null,null,{"$f":"CONCATENATE($A$2,\" \",A47,\" - \",VLOOKUP(161,Traduction!$B$6:$E$250,'Info de l''escadron'!$A$1+1,0))","v":"OREN 106 - Total des périodes d'instruction Complémentaires  "},null,4,{"$f":"SUM(F52:F53)","v":0},{"$f":"SUM(G52:G53)","v":0}]
[107,{"$f":"VLOOKUP(A56,Traduction!$B$300:$E$388,'Info de l''escadron'!$A$1+1,0)","v":"Servir dans un escadron de cadet de l'Air"},"M107.01",{"$f":"VLOOKUP(C56,Traduction!$B$426:$E$926,'Info de l''escadron'!$A$1+1,0)","v":"Discuter de la première année de l’instruction"},1,{"$f":"COUNTIF(Horaire!E:G,$C56)+COUNTIF(POC!E:G,$C56)+COUNTIF(Horaire!E:G,SUBSTITUTE($C56,\".\",\",\"))+COUNTIF(POC!E:G,SUBSTITUTE($C56,\".\",\",\"))","v":1},{"$f":"COUNTIF(Horaire!H:J,$C56)+COUNTIF(POC!H:J,$C56)+COUNTIF(Horaire!H:J,SUBSTITUTE($C56,\".\",\",\"))+COUNTIF(POC!H:J,SUBSTITUTE($C56,\".\",\",\"))","v":0},null,{"$f":"MIN($E56,F56)","v":1},{"$f":"MIN($E56,G56)","v":0}]
[null,null,"M107.02",{"$f":"VLOOKUP(C57,Traduction!$B$426:$E$926,'Info de l''escadron'!$A$1+1,0)","v":"Identifier les grades des cadets de l'Air et des officiers de l'Aviation royale du Canada (ARC)"},1,{"$f":"COUNTIF(Horaire!E:G,$C57)+COUNTIF(POC!E:G,$C57)+COUNTIF(Horaire!E:G,SUBSTITUTE($C57,\".\",\",\"))+COUNTIF(POC!E:G,SUBSTITUTE($C57,\".\",\",\"))","v":1},{"$f":"COUNTIF(Horaire!H:J,$C57)+COUNTIF(POC!H:J,$C57)+COUNTIF(Horaire!H:J,SUBSTITUTE($C57,\".\",\",\"))+COUNTIF(POC!H:J,SUBSTITUTE($C57,\".\",\",\"))","v":0},null,1,0]
[null,null,"M107.03",{"$f":"VLOOKUP(C58,Traduction!$B$426:$E$926,'Info de l''escadron'!$A$1+1,0)","v":"Respecter les règles et les procédures de salut"},1,{"$f":"COUNTIF(Horaire!E:G,$C58)+COUNTIF(POC!E:G,$C58)+COUNTIF(Horaire!E:G,SUBSTITUTE($C58,\".\",\",\"))+COUNTIF(POC!E:G,SUBSTITUTE($C58,\".\",\",\"))","v":1},{"$f":"COUNTIF(Horaire!H:J,$C58)+COUNTIF(POC!H:J,$C58)+COUNTIF(Horaire!H:J,SUBSTITUTE($C58,\".\",\",\"))+COUNTIF(POC!H:J,SUBSTITUTE($C58,\".\",\",\"))","v":0},null,1,0]
[null,null,"M107.04",{"$f":"VLOOKUP(C59,Traduction!$B$426:$E$926,'Info de l''escadron'!$A$1+1,0)","v":"Énoncer l'objectif et la devise du programme des cadets de l’Air"},1,{"$f":"COUNTIF(Horaire!E:G,$C59)+COUNTIF(POC!E:G,$C59)+COUNTIF(Horaire!E:G,SUBSTITUTE($C59,\".\",\",\"))+COUNTIF(POC!E:G,SUBSTITUTE($C59,\".\",\",\"))","v":1},{"$f":"COUNTIF(Horaire!H:J,$C59)+COUNTIF(POC!H:J,$C59)+COUNTIF(Horaire!H:J,SUBSTITUTE($C59,\".\",\",\"))+COUNTIF(POC!H:J,SUBSTITUTE($C59,\".\",\",\"))","v":0},null,1,0]
[null,null,"M107.05",{"$f":"VLOOKUP(C60,Traduction!$B$426:$E$926,'Info de l''escadron'!$A$1+1,0)","v":"Porter l'uniforme des cadets de l’Air"},2,{"$f":"COUNTIF(Horaire!E:G,$C60)+COUNTIF(POC!E:G,$C60)+COUNTIF(Horaire!E:G,SUBSTITUTE($C60,\".\",\",\"))+COUNTIF(POC!E:G,SUBSTITUTE($C60,\".\",\",\"))","v":2},{"$f":"COUNTIF(Horaire!H:J,$C60)+COUNTIF(POC!H:J,$C60)+COUNTIF(Horaire!H:J,SUBSTITUTE($C60,\".\",\",\"))+COUNTIF(POC!H:J,SUBSTITUTE($C60,\".\",\",\"))","v":0},null,2,0]
[null,null,"M107.06",{"$f":"VLOOKUP(C61,Traduction!$B$426:$E$926,'Info de l''escadron'!$A$1+1,0)","v":"Discuter des occasions d’instruction d’été"},1,{"$f":"COUNTIF(Horaire!E:G,$C61)+COUNTIF(POC!E:G,$C61)+COUNTIF(Horaire!E:G,SUBSTITUTE($C61,\".\",\",\"))+COUNTIF(POC!E:G,SUBSTITUTE($C61,\".\",\",\"))","v":1},{"$f":"COUNTIF(Horaire!H:J,$C61)+COUNTIF(POC!H:J,$C61)+COUNTIF(Horaire!H:J,SUBSTITUTE($C61,\".\",\",\"))+COUNTIF(POC!H:J,SUBSTITUTE($C61,\".\",\",\"))","v":0},null,1,0]
[null,null,"C107.01",{"$f":"VLOOKUP(C62,Traduction!$B$426:$E$926,'Info de l''escadron'!$A$1+1,0)","v":"Entretenir l'uniforme des cadets de l’Air"},2,{"$f":"COUNTIF(Horaire!E:G,$C62)+COUNTIF(POC!E:G,$C62)+COUNTIF(Horaire!E:G,SUBSTITUTE($C62,\".\",\",\"))+COUNTIF(POC!E:G,SUBSTITUTE($C62,\".\",\",\"))","v":1},{"$f":"COUNTIF(Horaire!H:J,$C62)+COUNTIF(POC!H:J,$C62)+COUNTIF(Horaire!H:J,SUBSTITUTE($C62,\".\",\",\"))+COUNTIF(POC!H:J,SUBSTITUTE($C62,\".\",\",\"))","v":0},null,null,null,null,{"$f":"MIN($E62,F62)","v":1},0]
[null,null,"C107.02",{"$f":"VLOOKUP(C63,Traduction!$B$426:$E$926,'Info de l''escadron'!$A$1+1,0)","v":"Identifier la structure des grades des MR de l'ARC"},1,{"$f":"COUNTIF(Horaire!E:G,$C63)+COUNTIF(POC!E:G,$C63)+COUNTIF(Horaire!E:G,SUBSTITUTE($C63,\".\",\",\"))+COUNTIF(POC!E:G,SUBSTITUTE($C63,\".\",\",\"))","v":1},{"$f":"COUNTIF(Horaire!H:J,$C63)+COUNTIF(POC!H:J,$C63)+COUNTIF(Horaire!H:J,SUBSTITUTE($C63,\".\",\",\"))+COUNTIF(POC!H:J,SUBSTITUTE($C63,\".\",\",\"))","v":0},null,null,null,null,1,0]
[null,null,"C107.03",{"$f":"VLOOKUP(C64,Traduction!$B$426:$E$926,'Info de l''escadron'!$A$1+1,0)","v":"Visite guidée de l'escadron"},1,{"$f":"COUNTIF(Horaire!E:G,$C64)+COUNTIF(POC!E:G,$C64)+COUNTIF(Horaire!E:G,SUBSTITUTE($C64,\".\",\",\"))+COUNTIF(POC!E:G,SUBSTITUTE($C64,\".\",\",\"))","v":1},{"$f":"COUNTIF(Horaire!H:J,$C64)+COUNTIF(POC!H:J,$C64)+COUNTIF(Horaire!H:J,SUBSTITUTE($C64,\".\",\",\"))+COUNTIF(POC!H:J,SUBSTITUTE($C64,\".\",\",\"))","v":0},null,null,null,null,1,0]
[null,null,"C107.04",{"$f":"VLOOKUP(C65,Traduction!$B$426:$E$926,'Info de l''escadron'!$A$1+1,0)","v":"Participer à une activité relative à l'histoire de l'escadron"},2,{"$f":"COUNTIF(Horaire!E:G,$C65)+COUNTIF(POC!E:G,$C65)+COUNTIF(Horaire!E:G,SUBSTITUTE($C65,\".\",\",\"))+COUNTIF(POC!E:G,SUBSTITUTE($C65,\".\",\",\"))","v":1},{"$f":"COUNTIF(Horaire!H:J,$C65)+COUNTIF(POC!H:J,$C65)+COUNTIF(Horaire!H:J,SUBSTITUTE($C65,\".\",\",\"))+COUNTIF(POC!H:J,SUBSTITUTE($C65,\".\",\",\"))","v":0},null,null,null,null,1,0]
[null,null,{"$f":"CONCATENATE($A$2,\" \",A56,\" - \",VLOOKUP(160,Traduction!$B$6:$E$250,'Info de l''escadron'!$A$1+1,0))","v":"OREN 107 - Total des périodes d'instruction Obligatoires  "},null,7,{"$f":"SUM(F56:F61)","v":7},{"$f":"SUM(G56:G61)","v":0}]
[null,null,{"$f":"CONCATENATE($A$2,\" \",A56,\" - \",VLOOKUP(161,Traduction!$B$6:$E$250,'Info de l''escadron'!$A$1+1,0))","v":"OREN 107 - Total des périodes d'instruction Complémentaires  "},null,6,{"$f":"SUM(F62:F65)","v":4},{"$f":"SUM(G62:G65)","v":0}]
[108,{"$f":"VLOOKUP(A68,Traduction!$B$300:$E$388,'Info de l''escadron'!$A$1+1,0)","v":"Exécuter les mouvements d'exercice militaire lors d'une cérémonie de revue annuelle"},"M108.01",{"$f":"VLOOKUP(C68,Traduction!$B$426:$E$926,'Info de l''escadron'!$A$1+1,0)","v":"Adopter les positions de garde à vous, en place repos et repos"},1,{"$f":"COUNTIF(Horaire!E:G,$C68)+COUNTIF(POC!E:G,$C68)+COUNTIF(Horaire!E:G,SUBSTITUTE($C68,\".\",\",\"))+COUNTIF(POC!E:G,SUBSTITUTE($C68,\".\",\",\"))","v":1},{"$f":"COUNTIF(Horaire!H:J,$C68)+COUNTIF(POC!H:J,$C68)+COUNTIF(Horaire!H:J,SUBSTITUTE($C68,\".\",\",\"))+COUNTIF(POC!H:J,SUBSTITUTE($C68,\".\",\",\"))","v":0},null,{"$f":"MIN($E68,F68)","v":1},{"$f":"MIN($E68,G68)","v":0}]
[null,null,"M108.02",{"$f":"VLOOKUP(C69,Traduction!$B$426:$E$926,'Info de l''escadron'!$A$1+1,0)","v":"Exécuter un salut à la halte sans armes"},1,{"$f":"COUNTIF(Horaire!E:G,$C69)+COUNTIF(POC!E:G,$C69)+COUNTIF(Horaire!E:G,SUBSTITUTE($C69,\".\",\",\"))+COUNTIF(POC!E:G,SUBSTITUTE($C69,\".\",\",\"))","v":1},{"$f":"COUNTIF(Horaire!H:J,$C69)+COUNTIF(POC!H:J,$C69)+COUNTIF(Horaire!H:J,SUBSTITUTE($C69,\".\",\",\"))+COUNTIF(POC!H:J,SUBSTITUTE($C69,\".\",\",\"))","v":0},null,1,0]
[null,null,"M108.03",{"$f":"VLOOKUP(C70,Traduction!$B$426:$E$926,'Info de l''escadron'!$A$1+1,0)","v":"Tourner à la halte"},1,{"$f":"COUNTIF(Horaire!E:G,$C70)+COUNTIF(POC!E:G,$C70)+COUNTIF(Horaire!E:G,SUBSTITUTE($C70,\".\",\",\"))+COUNTIF(POC!E:G,SUBSTITUTE($C70,\".\",\",\"))","v":1},{"$f":"COUNTIF(Horaire!H:J,$C70)+COUNTIF(POC!H:J,$C70)+COUNTIF(Horaire!H:J,SUBSTITUTE($C70,\".\",\",\"))+COUNTIF(POC!H:J,SUBSTITUTE($C70,\".\",\",\"))","v":0},null,1,0]
[null,null,"M108.04",{"$f":"VLOOKUP(C71,Traduction!$B$426:$E$926,'Info de l''escadron'!$A$1+1,0)","v":"Exécuter les mouvements pour resserrer les rangs vers la droite et vers la gauche"},1,{"$f":"COUNTIF(Horaire!E:G,$C71)+COUNTIF(POC!E:G,$C71)+COUNTIF(Horaire!E:G,SUBSTITUTE($C71,\".\",\",\"))+COUNTIF(POC!E:G,SUBSTITUTE($C71,\".\",\",\"))","v":1},{"$f":"COUNTIF(Horaire!H:J,$C71)+COUNTIF(POC!H:J,$C71)+COUNTIF(Horaire!H:J,SUBSTITUTE($C71,\".\",\",\"))+COUNTIF(POC!H:J,SUBSTITUTE($C71,\".\",\",\"))","v":0},null,1,0]
[null,null,"M108.05",{"$f":"VLOOKUP(C72,Traduction!$B$426:$E$926,'Info de l''escadron'!$A$1+1,0)","v":"Exécuter des pas vers l’avant et vers l’arrière "},1,{"$f":"COUNTIF(Horaire!E:G,$C72)+COUNTIF(POC!E:G,$C72)+COUNTIF(Horaire!E:G,SUBSTITUTE($C72,\".\",\",\"))+COUNTIF(POC!E:G,SUBSTITUTE($C72,\".\",\",\"))","v":1},{"$f":"COUNTIF(Horaire!H:J,$C72)+COUNTIF(POC!H:J,$C72)+COUNTIF(Horaire!H:J,SUBSTITUTE($C72,\".\",\",\"))+COUNTIF(POC!H:J,SUBSTITUTE($C72,\".\",\",\"))","v":0},null,1,0]
[null,null,"M108.06",{"$f":"VLOOKUP(C73,Traduction!$B$426:$E$926,'Info de l''escadron'!$A$1+1,0)","v":"Exécuter les mouvements pour l’alignement par la droite "},1,{"$f":"COUNTIF(Horaire!E:G,$C73)+COUNTIF(POC!E:G,$C73)+COUNTIF(Horaire!E:G,SUBSTITUTE($C73,\".\",\",\"))+COUNTIF(POC!E:G,SUBSTITUTE($C73,\".\",\",\"))","v":1},{"$f":"COUNTIF(Horaire!H:J,$C73)+COUNTIF(POC!H:J,$C73)+COUNTIF(Horaire!H:J,SUBSTITUTE($C73,\".\",\",\"))+COUNTIF(POC!H:J,SUBSTITUTE($C73,\".\",\",\"))","v":0},null,1,0]
[null,null,"M108.07",{"$f":"VLOOKUP(C74,Traduction!$B$426:$E$926,'Info de l''escadron'!$A$1+1,0)","v":"Exécuter les mouvements pour ouvrir et fermer les rangs "},1,{"$f":"COUNTIF(Horaire!E:G,$C74)+COUNTIF(POC!E:G,$C74)+COUNTIF(Horaire!E:G,SUBSTITUTE($C74,\".\",\",\"))+COUNTIF(POC!E:G,SUBSTITUTE($C74,\".\",\",\"))","v":1},{"$f":"COUNTIF(Horaire!H:J,$C74)+COUNTIF(POC!H:J,$C74)+COUNTIF(Horaire!H:J,SUBSTITUTE($C74,\".\",\",\"))+COUNTIF(POC!H:J,SUBSTITUTE($C74,\".\",\",\"))","v":0},null,1,0]
[null,null,"M108.08",{"$f":"VLOOKUP(C75,Traduction!$B$426:$E$926,'Info de l''escadron'!$A$1+1,0)","v":"Marche et halte au pas cadencé "},1,{"$f":"COUNTIF(Horaire!E:G,$C75)+COUNTIF(POC!E:G,$C75)+COUNTIF(Horaire!E:G,SUBSTITUTE($C75,\".\",\",\"))+COUNTIF(POC!E:G,SUBSTITUTE($C75,\".\",\",\"))","v":1},{"$f":"COUNTIF(Horaire!H:J,$C75)+COUNTIF(POC!H:J,$C75)+COUNTIF(Horaire!H:J,SUBSTITUTE($C75,\".\",\",\"))+COUNTIF(POC!H:J,SUBSTITUTE($C75,\".\",\",\"))","v":0},null,1,0]
[null,null,"M108.09",{"$f":"VLOOKUP(C76,Traduction!$B$426:$E$926,'Info de l''escadron'!$A$1+1,0)","v":"Exécuter les mouvements pour marquer le pas, avancer et s'arrêter au pas cadencé "},1,{"$f":"COUNTIF(Horaire!E:G,$C76)+COUNTIF(POC!E:G,$C76)+COUNTIF(Horaire!E:G,SUBSTITUTE($C76,\".\",\",\"))+COUNTIF(POC!E:G,SUBSTITUTE($C76,\".\",\",\"))","v":1},{"$f":"COUNTIF(Horaire!H:J,$C76)+COUNTIF(POC!H:J,$C76)+COUNTIF(Horaire!H:J,SUBSTITUTE($C76,\".\",\",\"))+COUNTIF(POC!H:J,SUBSTITUTE($C76,\".\",\",\"))","v":0},null,1,0]
[null,null,"M108.10",{"$f":"VLOOKUP(C77,Traduction!$B$426:$E$926,'Info de l''escadron'!$A$1+1,0)","v":"Exécuter un salut à la marche"},1,{"$f":"COUNTIF(Horaire!E:G,$C77)+COUNTIF(POC!E:G,$C77)+COUNTIF(Horaire!E:G,SUBSTITUTE($C77,\".\",\",\"))+COUNTIF(POC!E:G,SUBSTITUTE($C77,\".\",\",\"))","v":1},{"$f":"COUNTIF(Horaire!H:J,$C77)+COUNTIF(POC!H:J,$C77)+COUNTIF(Horaire!H:J,SUBSTITUTE($C77,\".\",\",\"))+COUNTIF(POC!H:J,SUBSTITUTE($C77,\".\",\",\"))","v":0},null,1,0]
[null,null,"M108.11",{"$f":"VLOOKUP(C78,Traduction!$B$426:$E$926,'Info de l''escadron'!$A$1+1,0)","v":"Exécuter un salut d'une escouade en marche "},1,1,{"$f":"COUNTIF(Horaire!H:J,$C78)+COUNTIF(POC!H:J,$C78)+COUNTIF(Horaire!H:J,SUBSTITUTE($C78,\".\",\",\"))+COUNTIF(POC!H:J,SUBSTITUTE($C78,\".\",\",\"))","v":0},null,1,0]
[null,null,"M108.12",{"$f":"VLOOKUP(C79,Traduction!$B$426:$E$926,'Info de l''escadron'!$A$1+1,0)","v":"Exécuter les mouvements de l'exercice militaire dans le cadre d'une revue annuelle "},3,3,{"$f":"COUNTIF(Horaire!H:J,$C79)+COUNTIF(POC!H:J,$C79)+COUNTIF(Horaire!H:J,SUBSTITUTE($C79,\".\",\",\"))+COUNTIF(POC!H:J,SUBSTITUTE($C79,\".\",\",\"))","v":0},null,3,0]
[null,null,"C108.01",{"$f":"VLOOKUP(C80,Traduction!$B$426:$E$926,'Info de l''escadron'!$A$1+1,0)","v":"Exécuter des mouvements d’exercice militaire supplémentaires "},6,{"$f":"COUNTIF(Horaire!E:G,$C80)+COUNTIF(POC!E:G,$C80)+COUNTIF(Horaire!E:G,SUBSTITUTE($C80,\".\",\",\"))+COUNTIF(POC!E:G,SUBSTITUTE($C80,\".\",\",\"))","v":4},{"$f":"COUNTIF(Horaire!H:J,$C80)+COUNTIF(POC!H:J,$C80)+COUNTIF(Horaire!H:J,SUBSTITUTE($C80,\".\",\",\"))+COUNTIF(POC!H:J,SUBSTITUTE($C80,\".\",\",\"))","v":0},null,null,null,null,{"$f":"MIN($E80,F80)","v":4},{"$f":"MIN($E80,G80)","v":0}]
[null,null,"C108.02",{"$f":"VLOOKUP(C81,Traduction!$B$426:$E$926,'Info de l''escadron'!$A$1+1,0)","v":"Participer à une compétition d’exercice militaire "},3,{"$f":"COUNTIF(Horaire!E:G,$C81)+COUNTIF(POC!E:G,$C81)+COUNTIF(Horaire!E:G,SUBSTITUTE($C81,\".\",\",\"))+COUNTIF(POC!E:G,SUBSTITUTE($C81,\".\",\",\"))","v":0},{"$f":"COUNTIF(Horaire!H:J,$C81)+COUNTIF(POC!H:J,$C81)+COUNTIF(Horaire!H:J,SUBSTITUTE($C81,\".\",\",\"))+COUNTIF(POC!H:J,SUBSTITUTE($C81,\".\",\",\"))","v":0},null,null,null,null,{"$f":"MIN($E81,F81)","v":0},{"$f":"MIN($E81,G81)","v":0}]
[null,null,{"$f":"CONCATENATE($A$2,\" \",A68,\" - \",VLOOKUP(160,Traduction!$B$6:$E$250,'Info de l''escadron'!$A$1+1,0))","v":"OREN 108 - Total des périodes d'instruction Obligatoires  "},null,14,{"$f":"SUM(F68:F79)","v":14},{"$f":"SUM(G68:G79)","v":0}]
[null,null,{"$f":"CONCATENATE($A$2,\" \",A68,\" - \",VLOOKUP(161,Traduction!$B$6:$E$250,'Info de l''escadron'!$A$1+1,0))","v":"OREN 108 - Total des périodes d'instruction Complémentaires  "},null,9,{"$f":"SUM(F80:F81)","v":4},{"$f":"SUM(G80:G81)","v":0}]
[111,{"$f":"VLOOKUP(A84,Traduction!$B$300:$E$388,'Info de l''escadron'!$A$1+1,0)","v":"Participer à des activités récréatives de biathlon d’été"},"C111.01",{"$f":"VLOOKUP(C84,Traduction!$B$426:$E$926,'Info de l''escadron'!$A$1+1,0)","v":"Participer à une séance d'information sur le biathlon"},1,{"$f":"COUNTIF(Horaire!E:G,$C84)+COUNTIF(POC!E:G,$C84)+COUNTIF(Horaire!E:G,SUBSTITUTE($C84,\".\",\",\"))+COUNTIF(POC!E:G,SUBSTITUTE($C84,\".\",\",\"))","v":0},{"$f":"COUNTIF(Horaire!H:J,$C84)+COUNTIF(POC!H:J,$C84)+COUNTIF(Horaire!H:J,SUBSTITUTE($C84,\".\",\",\"))+COUNTIF(POC!H:J,SUBSTITUTE($C84,\".\",\",\"))","v":0},null,null,null,null,{"$f":"MIN($E84,F84)","v":0},0]
[null,null,"C111.02",{"$f":"VLOOKUP(C85,Traduction!$B$426:$E$926,'Info de l''escadron'!$A$1+1,0)","v":"Courir des sprints courts"},1,{"$f":"COUNTIF(Horaire!E:G,$C85)+COUNTIF(POC!E:G,$C85)+COUNTIF(Horaire!E:G,SUBSTITUTE($C85,\".\",\",\"))+COUNTIF(POC!E:G,SUBSTITUTE($C85,\".\",\",\"))","v":0},{"$f":"COUNTIF(Horaire!H:J,$C85)+COUNTIF(POC!H:J,$C85)+COUNTIF(Horaire!H:J,SUBSTITUTE($C85,\".\",\",\"))+COUNTIF(POC!H:J,SUBSTITUTE($C85,\".\",\",\"))","v":0},null,null,null,null,0,0]
[null,null,"C111.03",{"$f":"VLOOKUP(C86,Traduction!$B$426:$E$926,'Info de l''escadron'!$A$1+1,0)","v":"Simuler un tir avec la carabine à air comprimé des cadets après une activité physique"},1,{"$f":"COUNTIF(Horaire!E:G,$C86)+COUNTIF(POC!E:G,$C86)+COUNTIF(Horaire!E:G,SUBSTITUTE($C86,\".\",\",\"))+COUNTIF(POC!E:G,SUBSTITUTE($C86,\".\",\",\"))","v":0},{"$f":"COUNTIF(Horaire!H:J,$C86)+COUNTIF(POC!H:J,$C86)+COUNTIF(Horaire!H:J,SUBSTITUTE($C86,\".\",\",\"))+COUNTIF(POC!H:J,SUBSTITUTE($C86,\".\",\",\"))","v":0},null,null,null,null,0,0]
[null,null,"C111.04",{"$f":"VLOOKUP(C87,Traduction!$B$426:$E$926,'Info de l''escadron'!$A$1+1,0)","v":"Participer à une activité récréative de biathlon d'été"},6,{"$f":"COUNTIF(Horaire!E:G,$C87)+COUNTIF(POC!E:G,$C87)+COUNTIF(Horaire!E:G,SUBSTITUTE($C87,\".\",\",\"))+COUNTIF(POC!E:G,SUBSTITUTE($C87,\".\",\",\"))","v":0},{"$f":"COUNTIF(Horaire!H:J,$C87)+COUNTIF(POC!H:J,$C87)+COUNTIF(Horaire!H:J,SUBSTITUTE($C87,\".\",\",\"))+COUNTIF(POC!H:J,SUBSTITUTE($C87,\".\",\",\"))","v":0},null,null,null,null,0,0]
[null,null,{"$f":"CONCATENATE($A$2,\" \",A84,\" - \",VLOOKUP(160,Traduction!$B$6:$E$250,'Info de l''escadron'!$A$1+1,0))","v":"OREN 111 - Total des périodes d'instruction Obligatoires  "},null,0,0,0]
[null,null,{"$f":"CONCATENATE($A$2,\" \",A84,\" - \",VLOOKUP(161,Traduction!$B$6:$E$250,'Info de l''escadron'!$A$1+1,0))","v":"OREN 111 - Total des périodes d'instruction Complémentaires  "},null,9,{"$f":"SUM(F84:F87)","v":0},{"$f":"SUM(G84:G87)","v":0}]
[120,{"$f":"VLOOKUP(A90,Traduction!$B$300:$E$388,'Info de l''escadron'!$A$1+1,0)","v":"Participer aux activités de familiarisation avec les Forces canadiennes (FC)"},"M120.01A","Participer à une activité des FAC",0,{"$f":"COUNTIF(Horaire!E:G,$C90)+COUNTIF(POC!E:G,$C90)+COUNTIF(Horaire!E:G,SUBSTITUTE($C90,\".\",\",\"))+COUNTIF(POC!E:G,SUBSTITUTE($C90,\".\",\",\"))","v":0},{"$f":"COUNTIF(Horaire!H:J,$C90)+COUNTIF(POC!H:J,$C90)+COUNTIF(Horaire!H:J,SUBSTITUTE($C90,\".\",\",\"))+COUNTIF(POC!H:J,SUBSTITUTE($C90,\".\",\",\"))","v":0},null,{"$f":"MIN($E90,F90)","v":0},{"$f":"MIN($E90,G90)","v":0}]
[null,null,"M120.01B","Participer à une activité de familiarisation des FAC",0,{"$f":"COUNTIF(Horaire!E:G,$C91)+COUNTIF(POC!E:G,$C91)+COUNTIF(Horaire!E:G,SUBSTITUTE($C91,\".\",\",\"))+COUNTIF(POC!E:G,SUBSTITUTE($C91,\".\",\",\"))","v":0},{"$f":"COUNTIF(Horaire!H:J,$C91)+COUNTIF(POC!H:J,$C91)+COUNTIF(Horaire!H:J,SUBSTITUTE($C91,\".\",\",\"))+COUNTIF(POC!H:J,SUBSTITUTE($C91,\".\",\",\"))","v":0},null,{"$f":"MIN($E91,F91)","v":0},{"$f":"MIN($E91,G91)","v":0}]
[null,null,"M120.01C","Tirer avec le fusil C7",0,{"$f":"COUNTIF(Horaire!E:G,$C92)+COUNTIF(POC!E:G,$C92)+COUNTIF(Horaire!E:G,SUBSTITUTE($C92,\".\",\",\"))+COUNTIF(POC!E:G,SUBSTITUTE($C92,\".\",\",\"))","v":0},{"$f":"COUNTIF(Horaire!H:J,$C92)+COUNTIF(POC!H:J,$C92)+COUNTIF(Horaire!H:J,SUBSTITUTE($C92,\".\",\",\"))+COUNTIF(POC!H:J,SUBSTITUTE($C92,\".\",\",\"))","v":0},null,null,null,null,{"$f":"MIN($E92,F92)","v":0},0]
[null,null,"M120.01D","Participer à un dîner régimentaire",0,3,{"$f":"COUNTIF(Horaire!H:J,$C93)+COUNTIF(POC!H:J,$C93)+COUNTIF(Horaire!H:J,SUBSTITUTE($C93,\".\",\",\"))+COUNTIF(POC!H:J,SUBSTITUTE($C93,\".\",\",\"))","v":0},null,null,null,null,0,0]
[null,null,"M120.01E","Assister à une présentation des FAC",0,{"$f":"COUNTIF(Horaire!E:G,$C94)+COUNTIF(POC!E:G,$C94)+COUNTIF(Horaire!E:G,SUBSTITUTE($C94,\".\",\",\"))+COUNTIF(POC!E:G,SUBSTITUTE($C94,\".\",\",\"))","v":0}]
[null,null,"M120.01F","Assister à une cérémonie commémorative des FAC",0,2]
[null,null,"M120.01G","Participer à des activités relatives aux vidéos des FAC",0,{"$f":"COUNTIF(Horaire!E:G,$C96)+COUNTIF(POC!E:G,$C96)+COUNTIF(Horaire!E:G,SUBSTITUTE($C96,\".\",\",\"))+COUNTIF(POC!E:G,SUBSTITUTE($C96,\".\",\",\"))","v":0}]
[null,null,"M120.01H","Participer à des activités d'apprentissage des FAC",0,{"$f":"COUNTIF(Horaire!E:G,$C97)+COUNTIF(POC!E:G,$C97)+COUNTIF(Horaire!E:G,SUBSTITUTE($C97,\".\",\",\"))+COUNTIF(POC!E:G,SUBSTITUTE($C97,\".\",\",\"))","v":0}]
[null,null,"C120.01","Participer à des activités de familiarisation des FAC",18,{"$f":"COUNTIF(Horaire!E:G,$C98)+COUNTIF(POC!E:G,$C98)+COUNTIF(Horaire!E:G,SUBSTITUTE($C98,\".\",\",\"))+COUNTIF(POC!E:G,SUBSTITUTE($C98,\".\",\",\"))","v":0},{"$f":"COUNTIF(Horaire!H:J,$C98)+COUNTIF(POC!H:J,$C98)+COUNTIF(Horaire!H:J,SUBSTITUTE($C98,\".\",\",\"))+COUNTIF(POC!H:J,SUBSTITUTE($C98,\".\",\",\"))","v":0},null,null,null,null,0,0]
[null,null,{"$f":"CONCATENATE($A$2,\" \",A90,\" - \",VLOOKUP(160,Traduction!$B$6:$E$250,'Info de l''escadron'!$A$1+1,0))","v":"OREN 120 - Total des périodes d'instruction Obligatoires  "},null,0,{"$f":"SUM(F90:F97)","v":5},{"$f":"SUM(G90:G91)","v":0}]
[null,null,{"$f":"CONCATENATE($A$2,\" \",A90,\" - \",VLOOKUP(161,Traduction!$B$6:$E$250,'Info de l''escadron'!$A$1+1,0))","v":"OREN 120 - Total des périodes d'instruction Complémentaires  "},null,18,{"$f":"SUM(F98)","v":0},{"$f":"SUM(G92:G98)","v":0}]
[121,{"$f":"VLOOKUP(A101,Traduction!$B$300:$E$388,'Info de l''escadron'!$A$1+1,0)","v":"Participer aux activités de familiarisation des communautés de l'aviation, de l'aérospatiale et des opérations d'aérodrome et de construction aéronautique et de maintenance d'aéronefs"},"M121.01",{"$f":"VLOOKUP(C101,Traduction!$B$426:$E$926,'Info de l''escadron'!$A$1+1,0)","v":"Discuter des carrières possibles au sein de l’aviation "},1,{"$f":"COUNTIF(Horaire!E:G,$C101)+COUNTIF(POC!E:G,$C101)+COUNTIF(Horaire!E:G,SUBSTITUTE($C101,\".\",\",\"))+COUNTIF(POC!E:G,SUBSTITUTE($C101,\".\",\",\"))","v":1},{"$f":"COUNTIF(Horaire!H:J,$C101)+COUNTIF(POC!H:J,$C101)+COUNTIF(Horaire!H:J,SUBSTITUTE($C101,\".\",\",\"))+COUNTIF(POC!H:J,SUBSTITUTE($C101,\".\",\",\"))","v":0},null,{"$f":"MIN($E101,F101)","v":1},{"$f":"MIN($E101,G101)","v":0}]
[null,null,"C121.01",{"$f":"VLOOKUP(C102,Traduction!$B$426:$E$926,'Info de l''escadron'!$A$1+1,0)","v":"Participer à une présentation donnée par un membre d'une communauté canadienne de l’aviation, de l’aérospatiale, des opérations d’aérodrome ou de construction aéronautique et de maintenance d'aéronefs"},8,{"$f":"COUNTIF(Horaire!E:G,$C102)+COUNTIF(POC!E:G,$C102)+COUNTIF(Horaire!E:G,SUBSTITUTE($C102,\".\",\",\"))+COUNTIF(POC!E:G,SUBSTITUTE($C102,\".\",\",\"))","v":0},{"$f":"COUNTIF(Horaire!H:J,$C102)+COUNTIF(POC!H:J,$C102)+COUNTIF(Horaire!H:J,SUBSTITUTE($C102,\".\",\",\"))+COUNTIF(POC!H:J,SUBSTITUTE($C102,\".\",\",\"))","v":0},null,null,null,null,{"$f":"MIN($E102,F102)","v":0},{"$f":"MIN($E102,G102)","v":0}]
[null,null,{"$f":"CONCATENATE($A$2,\" \",A101,\" - \",VLOOKUP(160,Traduction!$B$6:$E$250,'Info de l''escadron'!$A$1+1,0))","v":"OREN 121 - Total des périodes d'instruction Obligatoires  "},null,1,{"$f":"SUM(F101)","v":1},{"$f":"SUM(G101)","v":0}]
[null,null,{"$f":"CONCATENATE($A$2,\" \",A101,\" - \",VLOOKUP(161,Traduction!$B$6:$E$250,'Info de l''escadron'!$A$1+1,0))","v":"OREN 121 - Total des périodes d'instruction Complémentaires  "},null,8,{"$f":"SUM(F102)","v":0},{"$f":"SUM(G102)","v":0}]
[129,{"$f":"VLOOKUP(A105,Traduction!$B$300:$E$388,'Info de l''escadron'!$A$1+1,0)","v":"Communiquer au moyen de l'alphabet et chiffre phonétique"},"M129.01",{"$f":"VLOOKUP(C105,Traduction!$B$426:$E$926,'Info de l''escadron'!$A$1+1,0)","v":"Réciter l’alphabet et les chiffres phonétiques"},1,{"$f":"COUNTIF(Horaire!E:G,$C105)+COUNTIF(POC!E:G,$C105)+COUNTIF(Horaire!E:G,SUBSTITUTE($C105,\".\",\",\"))+COUNTIF(POC!E:G,SUBSTITUTE($C105,\".\",\",\"))","v":1},{"$f":"COUNTIF(Horaire!H:J,$C105)+COUNTIF(POC!H:J,$C105)+COUNTIF(Horaire!H:J,SUBSTITUTE($C105,\".\",\",\"))+COUNTIF(POC!H:J,SUBSTITUTE($C105,\".\",\",\"))","v":0},null,{"$f":"MIN($E105,F105)","v":1},{"$f":"MIN($E105,G105)","v":0}]
[null,null,{"$f":"CONCATENATE($A$2,\" \",A105,\" - \",VLOOKUP(160,Traduction!$B$6:$E$250,'Info de l''escadron'!$A$1+1,0))","v":"OREN 129 - Total des périodes d'instruction Obligatoires  "},null,1,{"$f":"SUM(F105)","v":1},{"$f":"SUM(G105)","v":0}]
[null,null,{"$f":"CONCATENATE($A$2,\" \",A105,\" - \",VLOOKUP(161,Traduction!$B$6:$E$250,'Info de l''escadron'!$A$1+1,0))","v":"OREN 129 - Total des périodes d'instruction Complémentaires  "},null,0,0,0]
[130,{"$f":"VLOOKUP(A108,Traduction!$B$300:$E$388,'Info de l''escadron'!$A$1+1,0)","v":"Participer à des activités de l'aviation "},"M130.01",{"$f":"VLOOKUP(C108,Traduction!$B$426:$E$926,'Info de l''escadron'!$A$1+1,0)","v":"Identifier les aéronefs militaires, civils et des cadets "},2,{"$f":"COUNTIF(Horaire!E:G,$C108)+COUNTIF(POC!E:G,$C108)+COUNTIF(Horaire!E:G,SUBSTITUTE($C108,\".\",\",\"))+COUNTIF(POC!E:G,SUBSTITUTE($C108,\".\",\",\"))","v":2},{"$f":"COUNTIF(Horaire!H:J,$C108)+COUNTIF(POC!H:J,$C108)+COUNTIF(Horaire!H:J,SUBSTITUTE($C108,\".\",\",\"))+COUNTIF(POC!H:J,SUBSTITUTE($C108,\".\",\",\"))","v":0},null,{"$f":"MIN($E108,F108)","v":2},0]
[null,null,"M130.02",{"$f":"VLOOKUP(C109,Traduction!$B$426:$E$926,'Info de l''escadron'!$A$1+1,0)","v":"Décrire les parties principales d’un avion "},1,{"$f":"COUNTIF(Horaire!E:G,$C109)+COUNTIF(POC!E:G,$C109)+COUNTIF(Horaire!E:G,SUBSTITUTE($C109,\".\",\",\"))+COUNTIF(POC!E:G,SUBSTITUTE($C109,\".\",\",\"))","v":1},{"$f":"COUNTIF(Horaire!H:J,$C109)+COUNTIF(POC!H:J,$C109)+COUNTIF(Horaire!H:J,SUBSTITUTE($C109,\".\",\",\"))+COUNTIF(POC!H:J,SUBSTITUTE($C109,\".\",\",\"))","v":0},null,1,0]
[null,null,"M130.03",{"$f":"VLOOKUP(C110,Traduction!$B$426:$E$926,'Info de l''escadron'!$A$1+1,0)","v":"Fabriquer un modèle réduit d’avion "},2,{"$f":"COUNTIF(Horaire!E:G,$C110)+COUNTIF(POC!E:G,$C110)+COUNTIF(Horaire!E:G,SUBSTITUTE($C110,\".\",\",\"))+COUNTIF(POC!E:G,SUBSTITUTE($C110,\".\",\",\"))","v":2},{"$f":"COUNTIF(Horaire!H:J,$C110)+COUNTIF(POC!H:J,$C110)+COUNTIF(Horaire!H:J,SUBSTITUTE($C110,\".\",\",\"))+COUNTIF(POC!H:J,SUBSTITUTE($C110,\".\",\",\"))","v":0},null,2,0]
[null,null,"M130.04",{"$f":"VLOOKUP(C111,Traduction!$B$426:$E$926,'Info de l''escadron'!$A$1+1,0)","v":"Visionner un épisode de Sur des ailes canadiennes "},1,{"$f":"COUNTIF(Horaire!E:G,$C111)+COUNTIF(POC!E:G,$C111)+COUNTIF(Horaire!E:G,SUBSTITUTE($C111,\".\",\",\"))+COUNTIF(POC!E:G,SUBSTITUTE($C111,\".\",\",\"))","v":1},{"$f":"COUNTIF(Horaire!H:J,$C111)+COUNTIF(POC!H:J,$C111)+COUNTIF(Horaire!H:J,SUBSTITUTE($C111,\".\",\",\"))+COUNTIF(POC!H:J,SUBSTITUTE($C111,\".\",\",\"))","v":0},null,1,0]
[null,null,"C130.01",{"$f":"VLOOKUP(C112,Traduction!$B$426:$E$926,'Info de l''escadron'!$A$1+1,0)","v":"Participer à une inspection extérieure d’un aéronef "},1,{"$f":"COUNTIF(Horaire!E:G,$C112)+COUNTIF(POC!E:G,$C112)+COUNTIF(Horaire!E:G,SUBSTITUTE($C112,\".\",\",\"))+COUNTIF(POC!E:G,SUBSTITUTE($C112,\".\",\",\"))","v":0},{"$f":"COUNTIF(Horaire!H:J,$C112)+COUNTIF(POC!H:J,$C112)+COUNTIF(Horaire!H:J,SUBSTITUTE($C112,\".\",\",\"))+COUNTIF(POC!H:J,SUBSTITUTE($C112,\".\",\",\"))","v":0},null,null,null,null,{"$f":"MIN($E112,F112)","v":0},0]
[null,null,"C130.02",{"$f":"VLOOKUP(C113,Traduction!$B$426:$E$926,'Info de l''escadron'!$A$1+1,0)","v":"Identifier des aéronefs internationaux "},1,{"$f":"COUNTIF(Horaire!E:G,$C113)+COUNTIF(POC!E:G,$C113)+COUNTIF(Horaire!E:G,SUBSTITUTE($C113,\".\",\",\"))+COUNTIF(POC!E:G,SUBSTITUTE($C113,\".\",\",\"))","v":0},{"$f":"COUNTIF(Horaire!H:J,$C113)+COUNTIF(POC!H:J,$C113)+COUNTIF(Horaire!H:J,SUBSTITUTE($C113,\".\",\",\"))+COUNTIF(POC!H:J,SUBSTITUTE($C113,\".\",\",\"))","v":0},null,null,null,null,0,0]
[null,null,"C130.03",{"$f":"VLOOKUP(C114,Traduction!$B$426:$E$926,'Info de l''escadron'!$A$1+1,0)","v":"Visionner un épisode de Sur des ailes canadiennes "},8,{"$f":"COUNTIF(Horaire!E:G,$C114)+COUNTIF(POC!E:G,$C114)+COUNTIF(Horaire!E:G,SUBSTITUTE($C114,\".\",\",\"))+COUNTIF(POC!E:G,SUBSTITUTE($C114,\".\",\",\"))","v":4},{"$f":"COUNTIF(Horaire!H:J,$C114)+COUNTIF(POC!H:J,$C114)+COUNTIF(Horaire!H:J,SUBSTITUTE($C114,\".\",\",\"))+COUNTIF(POC!H:J,SUBSTITUTE($C114,\".\",\",\"))","v":0},null,null,null,null,4,0]
[null,null,"C130.04",{"$f":"VLOOKUP(C115,Traduction!$B$426:$E$926,'Info de l''escadron'!$A$1+1,0)","v":"Visiter un musée d’aviation de la région "},3,{"$f":"COUNTIF(Horaire!E:G,$C115)+COUNTIF(POC!E:G,$C115)+COUNTIF(Horaire!E:G,SUBSTITUTE($C115,\".\",\",\"))+COUNTIF(POC!E:G,SUBSTITUTE($C115,\".\",\",\"))","v":0},{"$f":"COUNTIF(Horaire!H:J,$C115)+COUNTIF(POC!H:J,$C115)+COUNTIF(Horaire!H:J,SUBSTITUTE($C115,\".\",\",\"))+COUNTIF(POC!H:J,SUBSTITUTE($C115,\".\",\",\"))","v":0},null,null,null,null,0,0]
[null,null,"C130.05",{"$f":"VLOOKUP(C116,Traduction!$B$426:$E$926,'Info de l''escadron'!$A$1+1,0)","v":"Assister à un spectacle aérien de la région"},6,{"$f":"COUNTIF(Horaire!E:G,$C116)+COUNTIF(POC!E:G,$C116)+COUNTIF(Horaire!E:G,SUBSTITUTE($C116,\".\",\",\"))+COUNTIF(POC!E:G,SUBSTITUTE($C116,\".\",\",\"))","v":0},{"$f":"COUNTIF(Horaire!H:J,$C116)+COUNTIF(POC!H:J,$C116)+COUNTIF(Horaire!H:J,SUBSTITUTE($C116,\".\",\",\"))+COUNTIF(POC!H:J,SUBSTITUTE($C116,\".\",\",\"))","v":0},null,null,null,null,0,0]
[null,null,{"$f":"CONCATENATE($A$2,\" \",A108,\" - \",VLOOKUP(160,Traduction!$B$6:$E$250,'Info de l''escadron'!$A$1+1,0))","v":"OREN 130 - Total des périodes d'instruction Obligatoires  "},null,6,{"$f":"SUM(F108:F111)","v":6},{"$f":"SUM(G108:G111)","v":0}]
[null,null,{"$f":"CONCATENATE($A$2,\" \",A108,\" - \",VLOOKUP(161,Traduction!$B$6:$E$250,'Info de l''escadron'!$A$1+1,0))","v":"OREN 130 - Total des périodes d'instruction Complémentaires  "},null,19,{"$f":"SUM(F112:F116)","v":4},{"$f":"SUM(G112:G116)","v":0}]
[140,{"$f":"VLOOKUP(A119,Traduction!$B$300:$E$388,'Info de l''escadron'!$A$1+1,0)","v":"Participer à des activités aérospatiales"},"M140.01",{"$f":"VLOOKUP(C119,Traduction!$B$426:$E$926,'Info de l''escadron'!$A$1+1,0)","v":"Lancer une fusée à eau"},3,{"$f":"COUNTIF(Horaire!E:G,$C119)+COUNTIF(POC!E:G,$C119)+COUNTIF(Horaire!E:G,SUBSTITUTE($C119,\".\",\",\"))+COUNTIF(POC!E:G,SUBSTITUTE($C119,\".\",\",\"))","v":0},{"$f":"COUNTIF(Horaire!H:J,$C119)+COUNTIF(POC!H:J,$C119)+COUNTIF(Horaire!H:J,SUBSTITUTE($C119,\".\",\",\"))+COUNTIF(POC!H:J,SUBSTITUTE($C119,\".\",\",\"))","v":0},null,{"$f":"MIN($E119,F119)","v":0},{"$f":"MIN($E119,G119)","v":0}]
[null,null,"C140.01",{"$f":"VLOOKUP(C120,Traduction!$B$426:$E$926,'Info de l''escadron'!$A$1+1,0)","v":"Lancer une fusée en mousse"},2,{"$f":"COUNTIF(Horaire!E:G,$C120)+COUNTIF(POC!E:G,$C120)+COUNTIF(Horaire!E:G,SUBSTITUTE($C120,\".\",\",\"))+COUNTIF(POC!E:G,SUBSTITUTE($C120,\".\",\",\"))","v":0},{"$f":"COUNTIF(Horaire!H:J,$C120)+COUNTIF(POC!H:J,$C120)+COUNTIF(Horaire!H:J,SUBSTITUTE($C120,\".\",\",\"))+COUNTIF(POC!H:J,SUBSTITUTE($C120,\".\",\",\"))","v":0},null,null,null,null,{"$f":"MIN($E120,F120)","v":0},{"$f":"MIN($E120,G120)","v":0}]
[null,null,"C140.02",{"$f":"VLOOKUP(C121,Traduction!$B$426:$E$926,'Info de l''escadron'!$A$1+1,0)","v":"Discuter des structures du sommeil dans l'espace"},2,{"$f":"COUNTIF(Horaire!E:G,$C121)+COUNTIF(POC!E:G,$C121)+COUNTIF(Horaire!E:G,SUBSTITUTE($C121,\".\",\",\"))+COUNTIF(POC!E:G,SUBSTITUTE($C121,\".\",\",\"))","v":0},{"$f":"COUNTIF(Horaire!H:J,$C121)+COUNTIF(POC!H:J,$C121)+COUNTIF(Horaire!H:J,SUBSTITUTE($C121,\".\",\",\"))+COUNTIF(POC!H:J,SUBSTITUTE($C121,\".\",\",\"))","v":0},null,null,null,null,{"$f":"MIN($E121,F121)","v":0},{"$f":"MIN($E121,G121)","v":0}]
[null,null,{"$f":"CONCATENATE($A$2,\" \",A119,\" - \",VLOOKUP(160,Traduction!$B$6:$E$250,'Info de l''escadron'!$A$1+1,0))","v":"OREN 140 - Total des périodes d'instruction Obligatoires  "},null,3,{"$f":"SUM(F119)","v":0},{"$f":"SUM(G119)","v":0}]
[null,null,{"$f":"CONCATENATE($A$2,\" \",A119,\" - \",VLOOKUP(161,Traduction!$B$6:$E$250,'Info de l''escadron'!$A$1+1,0))","v":"OREN 140 - Total des périodes d'instruction Complémentaires  "},null,4,{"$f":"SUM(F120:F121)","v":0},{"$f":"SUM(G120:G121)","v":0}]
[160,{"$f":"VLOOKUP(A124,Traduction!$B$300:$E$388,'Info de l''escadron'!$A$1+1,0)","v":"Participer à des activités d'opérations d'aérodromes"},"M160.01",{"$f":"VLOOKUP(C124,Traduction!$B$426:$E$926,'Info de l''escadron'!$A$1+1,0)","v":"Identifier les parties principales d’un aérodrome "},1,{"$f":"COUNTIF(Horaire!E:G,$C124)+COUNTIF(POC!E:G,$C124)+COUNTIF(Horaire!E:G,SUBSTITUTE($C124,\".\",\",\"))+COUNTIF(POC!E:G,SUBSTITUTE($C124,\".\",\",\"))","v":1},{"$f":"COUNTIF(Horaire!H:J,$C124)+COUNTIF(POC!H:J,$C124)+COUNTIF(Horaire!H:J,SUBSTITUTE($C124,\".\",\",\"))+COUNTIF(POC!H:J,SUBSTITUTE($C124,\".\",\",\"))","v":0},null,{"$f":"MIN($E124,F124)","v":1},0]
[null,null,"M160.02",{"$f":"VLOOKUP(C125,Traduction!$B$426:$E$926,'Info de l''escadron'!$A$1+1,0)","v":"Identifier les caractéristiques d’une piste "},1,{"$f":"COUNTIF(Horaire!E:G,$C125)+COUNTIF(POC!E:G,$C125)+COUNTIF(Horaire!E:G,SUBSTITUTE($C125,\".\",\",\"))+COUNTIF(POC!E:G,SUBSTITUTE($C125,\".\",\",\"))","v":1},{"$f":"COUNTIF(Horaire!H:J,$C125)+COUNTIF(POC!H:J,$C125)+COUNTIF(Horaire!H:J,SUBSTITUTE($C125,\".\",\",\"))+COUNTIF(POC!H:J,SUBSTITUTE($C125,\".\",\",\"))","v":0},null,1,0]
[null,null,"M160.03",{"$f":"VLOOKUP(C126,Traduction!$B$426:$E$926,'Info de l''escadron'!$A$1+1,0)","v":"Fabriquer un modèle réduit d’aérodrome "},2,{"$f":"COUNTIF(Horaire!E:G,$C126)+COUNTIF(POC!E:G,$C126)+COUNTIF(Horaire!E:G,SUBSTITUTE($C126,\".\",\",\"))+COUNTIF(POC!E:G,SUBSTITUTE($C126,\".\",\",\"))","v":2},{"$f":"COUNTIF(Horaire!H:J,$C126)+COUNTIF(POC!H:J,$C126)+COUNTIF(Horaire!H:J,SUBSTITUTE($C126,\".\",\",\"))+COUNTIF(POC!H:J,SUBSTITUTE($C126,\".\",\",\"))","v":0},null,2,0]
[null,null,"C160.01",{"$f":"VLOOKUP(C127,Traduction!$B$426:$E$926,'Info de l''escadron'!$A$1+1,0)","v":"Visiter un aérodrome de la région"},3,{"$f":"COUNTIF(Horaire!E:G,$C127)+COUNTIF(POC!E:G,$C127)+COUNTIF(Horaire!E:G,SUBSTITUTE($C127,\".\",\",\"))+COUNTIF(POC!E:G,SUBSTITUTE($C127,\".\",\",\"))","v":0},{"$f":"COUNTIF(Horaire!H:J,$C127)+COUNTIF(POC!H:J,$C127)+COUNTIF(Horaire!H:J,SUBSTITUTE($C127,\".\",\",\"))+COUNTIF(POC!H:J,SUBSTITUTE($C127,\".\",\",\"))","v":0},null,null,null,null,{"$f":"MIN($E127,F127)","v":0},{"$f":"MIN($E127,G127)","v":0}]
[null,null,{"$f":"CONCATENATE($A$2,\" \",A124,\" - \",VLOOKUP(160,Traduction!$B$6:$E$250,'Info de l''escadron'!$A$1+1,0))","v":"OREN 160 - Total des périodes d'instruction Obligatoires  "},null,4,{"$f":"SUM(F124:F126)","v":4},{"$f":"SUM(G124:G126)","v":0}]
[null,null,{"$f":"CONCATENATE($A$2,\" \",A124,\" - \",VLOOKUP(161,Traduction!$B$6:$E$250,'Info de l''escadron'!$A$1+1,0))","v":"OREN 160 - Total des périodes d'instruction Complémentaires  "},null,3,{"$f":"SUM(F127)","v":0},{"$f":"SUM(G127:G127)","v":0}]
[170,{"$f":"VLOOKUP(A130,Traduction!$B$300:$E$388,'Info de l''escadron'!$A$1+1,0)","v":"Discuter de la construction et de la maintenance des aéronefs"},"C170.01",{"$f":"VLOOKUP(C130,Traduction!$B$426:$E$926,'Info de l''escadron'!$A$1+1,0)","v":"Visionner des épisodes de Comment c'est fait"},2,{"$f":"COUNTIF(Horaire!E:G,$C130)+COUNTIF(POC!E:G,$C130)+COUNTIF(Horaire!E:G,SUBSTITUTE($C130,\".\",\",\"))+COUNTIF(POC!E:G,SUBSTITUTE($C130,\".\",\",\"))","v":0},{"$f":"COUNTIF(Horaire!H:J,$C130)+COUNTIF(POC!H:J,$C130)+COUNTIF(Horaire!H:J,SUBSTITUTE($C130,\".\",\",\"))+COUNTIF(POC!H:J,SUBSTITUTE($C130,\".\",\",\"))","v":0},null,null,null,null,{"$f":"MIN($E130,F130)","v":0},{"$f":"MIN($E130,G130)","v":0}]
[null,null,"C170.02",{"$f":"VLOOKUP(C131,Traduction!$B$426:$E$926,'Info de l''escadron'!$A$1+1,0)","v":"Visiter une installation de maintenance d'aéronefs de la région"},3,{"$f":"COUNTIF(Horaire!E:G,$C131)+COUNTIF(POC!E:G,$C131)+COUNTIF(Horaire!E:G,SUBSTITUTE($C131,\".\",\",\"))+COUNTIF(POC!E:G,SUBSTITUTE($C131,\".\",\",\"))","v":0},{"$f":"COUNTIF(Horaire!H:J,$C131)+COUNTIF(POC!H:J,$C131)+COUNTIF(Horaire!H:J,SUBSTITUTE($C131,\".\",\",\"))+COUNTIF(POC!H:J,SUBSTITUTE($C131,\".\",\",\"))","v":0},null,null,null,null,{"$f":"MIN($E131,F131)","v":0},{"$f":"MIN($E131,G131)","v":0}]
[null,null,{"$f":"CONCATENATE($A$2,\" \",A130,\" - \",VLOOKUP(160,Traduction!$B$6:$E$250,'Info de l''escadron'!$A$1+1,0))","v":"OREN 170 - Total des périodes d'instruction Obligatoires  "},null,0,0,0]
[null,null,{"$f":"CONCATENATE($A$2,\" \",A130,\" - \",VLOOKUP(161,Traduction!$B$6:$E$250,'Info de l''escadron'!$A$1+1,0))","v":"OREN 170 - Total des périodes d'instruction Complémentaires  "},null,5,{"$f":"SUM(F130:F131)","v":0},{"$f":"SUM(G130:G131)","v":0}]
[190,{"$f":"VLOOKUP(A134,Traduction!$B$300:$E$388,'Info de l''escadron'!$A$1+1,0)","v":"Participer à un exercice de survie pour équipage de vol"},"M190.01",{"$f":"VLOOKUP(C134,Traduction!$B$426:$E$926,'Info de l''escadron'!$A$1+1,0)","v":"Emballer l’équipement personnel nécessaire pour un exercice de survie pour équipage de vol"},2,{"$f":"COUNTIF(Horaire!E:G,$C134)+COUNTIF(POC!E:G,$C134)+COUNTIF(Horaire!E:G,SUBSTITUTE($C134,\".\",\",\"))+COUNTIF(POC!E:G,SUBSTITUTE($C134,\".\",\",\"))","v":1},{"$f":"COUNTIF(Horaire!H:J,$C134)+COUNTIF(POC!H:J,$C134)+COUNTIF(Horaire!H:J,SUBSTITUTE($C134,\".\",\",\"))+COUNTIF(POC!H:J,SUBSTITUTE($C134,\".\",\",\"))","v":0},null,{"$f":"MIN($E134,F134)","v":1},{"$f":"MIN($E134,G134)","v":0}]
[null,null,"M190.02",{"$f":"VLOOKUP(C135,Traduction!$B$426:$E$926,'Info de l''escadron'!$A$1+1,0)","v":"Entretenir l’équipement personnel et avoir une bonne hygiène en campagne"},1,{"$f":"COUNTIF(Horaire!E:G,$C135)+COUNTIF(POC!E:G,$C135)+COUNTIF(Horaire!E:G,SUBSTITUTE($C135,\".\",\",\"))+COUNTIF(POC!E:G,SUBSTITUTE($C135,\".\",\",\"))","v":1},{"$f":"COUNTIF(Horaire!H:J,$C135)+COUNTIF(POC!H:J,$C135)+COUNTIF(Horaire!H:J,SUBSTITUTE($C135,\".\",\",\"))+COUNTIF(POC!H:J,SUBSTITUTE($C135,\".\",\",\"))","v":0},null,1,0]
[null,null,"M190.03",{"$f":"VLOOKUP(C136,Traduction!$B$426:$E$926,'Info de l''escadron'!$A$1+1,0)","v":"Respecter les politiques et procédures du site "},2,2,{"$f":"COUNTIF(Horaire!H:J,$C136)+COUNTIF(POC!H:J,$C136)+COUNTIF(Horaire!H:J,SUBSTITUTE($C136,\".\",\",\"))+COUNTIF(POC!H:J,SUBSTITUTE($C136,\".\",\",\"))","v":0},null,2,0]
[null,null,"M190.04",{"$f":"VLOOKUP(C137,Traduction!$B$426:$E$926,'Info de l''escadron'!$A$1+1,0)","v":"Discuter de la psychologie de survie "},2,2,{"$f":"COUNTIF(Horaire!H:J,$C137)+COUNTIF(POC!H:J,$C137)+COUNTIF(Horaire!H:J,SUBSTITUTE($C137,\".\",\",\"))+COUNTIF(POC!H:J,SUBSTITUTE($C137,\".\",\",\"))","v":0},null,2,0]
[null,null,"M190.05",{"$f":"VLOOKUP(C138,Traduction!$B$426:$E$926,'Info de l''escadron'!$A$1+1,0)","v":"Identifier les types d’abri "},1,1,{"$f":"COUNTIF(Horaire!H:J,$C138)+COUNTIF(POC!H:J,$C138)+COUNTIF(Horaire!H:J,SUBSTITUTE($C138,\".\",\",\"))+COUNTIF(POC!H:J,SUBSTITUTE($C138,\".\",\",\"))","v":0},null,1,0]
[null,null,"M190.06",{"$f":"VLOOKUP(C139,Traduction!$B$426:$E$926,'Info de l''escadron'!$A$1+1,0)","v":"Allumer, entretenir et éteindre un feu "},3,{"$f":"COUNTIF(Horaire!E:G,$C139)+COUNTIF(POC!E:G,$C139)+COUNTIF(Horaire!E:G,SUBSTITUTE($C139,\".\",\",\"))+COUNTIF(POC!E:G,SUBSTITUTE($C139,\".\",\",\"))","v":3},{"$f":"COUNTIF(Horaire!H:J,$C139)+COUNTIF(POC!H:J,$C139)+COUNTIF(Horaire!H:J,SUBSTITUTE($C139,\".\",\",\"))+COUNTIF(POC!H:J,SUBSTITUTE($C139,\".\",\",\"))","v":0},null,3,0]
[null,null,"M190.07",{"$f":"VLOOKUP(C140,Traduction!$B$426:$E$926,'Info de l''escadron'!$A$1+1,0)","v":"Dresser, démonter et emballer des tentes"},3,{"$f":"COUNTIF(Horaire!E:G,$C140)+COUNTIF(POC!E:G,$C140)+COUNTIF(Horaire!E:G,SUBSTITUTE($C140,\".\",\",\"))+COUNTIF(POC!E:G,SUBSTITUTE($C140,\".\",\",\"))","v":3},{"$f":"COUNTIF(Horaire!H:J,$C140)+COUNTIF(POC!H:J,$C140)+COUNTIF(Horaire!H:J,SUBSTITUTE($C140,\".\",\",\"))+COUNTIF(POC!H:J,SUBSTITUTE($C140,\".\",\",\"))","v":0},null,3,0]
[null,null,"C190.01",{"$f":"VLOOKUP(C141,Traduction!$B$426:$E$926,'Info de l''escadron'!$A$1+1,0)","v":"Participer à une présentation donnée par un membre d’un organisme de survie ou d'une communauté de recherche et sauvetage (SAR)"},2,{"$f":"COUNTIF(Horaire!E:G,$C141)+COUNTIF(POC!E:G,$C141)+COUNTIF(Horaire!E:G,SUBSTITUTE($C141,\".\",\",\"))+COUNTIF(POC!E:G,SUBSTITUTE($C141,\".\",\",\"))","v":0},{"$f":"COUNTIF(Horaire!H:J,$C141)+COUNTIF(POC!H:J,$C141)+COUNTIF(Horaire!H:J,SUBSTITUTE($C141,\".\",\",\"))+COUNTIF(POC!H:J,SUBSTITUTE($C141,\".\",\",\"))","v":0},null,null,null,null,{"$f":"MIN($E141,F141)","v":0},{"$f":"MIN($E141,G141)","v":0}]
[null,null,"C190.02",{"$f":"VLOOKUP(C142,Traduction!$B$426:$E$926,'Info de l''escadron'!$A$1+1,0)","v":"Faire des noeuds et des brêlages "},2,{"$f":"COUNTIF(Horaire!E:G,$C142)+COUNTIF(POC!E:G,$C142)+COUNTIF(Horaire!E:G,SUBSTITUTE($C142,\".\",\",\"))+COUNTIF(POC!E:G,SUBSTITUTE($C142,\".\",\",\"))","v":3},{"$f":"COUNTIF(Horaire!H:J,$C142)+COUNTIF(POC!H:J,$C142)+COUNTIF(Horaire!H:J,SUBSTITUTE($C142,\".\",\",\"))+COUNTIF(POC!H:J,SUBSTITUTE($C142,\".\",\",\"))","v":0},null,null,null,null,2,0]
[null,null,"C190.03",{"$f":"VLOOKUP(C143,Traduction!$B$426:$E$926,'Info de l''escadron'!$A$1+1,0)","v":"Construire un abri de style houchie"},3,{"$f":"COUNTIF(Horaire!E:G,$C143)+COUNTIF(POC!E:G,$C143)+COUNTIF(Horaire!E:G,SUBSTITUTE($C143,\".\",\",\"))+COUNTIF(POC!E:G,SUBSTITUTE($C143,\".\",\",\"))","v":3},{"$f":"COUNTIF(Horaire!H:J,$C143)+COUNTIF(POC!H:J,$C143)+COUNTIF(Horaire!H:J,SUBSTITUTE($C143,\".\",\",\"))+COUNTIF(POC!H:J,SUBSTITUTE($C143,\".\",\",\"))","v":0},null,null,null,null,3,0]
[null,null,"C190.04",{"$f":"VLOOKUP(C144,Traduction!$B$426:$E$926,'Info de l''escadron'!$A$1+1,0)","v":"Recueillir de l’eau potable en campagne "},2,{"$f":"COUNTIF(Horaire!E:G,$C144)+COUNTIF(POC!E:G,$C144)+COUNTIF(Horaire!E:G,SUBSTITUTE($C144,\".\",\",\"))+COUNTIF(POC!E:G,SUBSTITUTE($C144,\".\",\",\"))","v":0},{"$f":"COUNTIF(Horaire!H:J,$C144)+COUNTIF(POC!H:J,$C144)+COUNTIF(Horaire!H:J,SUBSTITUTE($C144,\".\",\",\"))+COUNTIF(POC!H:J,SUBSTITUTE($C144,\".\",\",\"))","v":0},null,null,null,null,0,0]
[null,null,"C190.05",{"$f":"VLOOKUP(C145,Traduction!$B$426:$E$926,'Info de l''escadron'!$A$1+1,0)","v":"Identifier les blessures causées par l'environnement"},1,{"$f":"COUNTIF(Horaire!E:G,$C145)+COUNTIF(POC!E:G,$C145)+COUNTIF(Horaire!E:G,SUBSTITUTE($C145,\".\",\",\"))+COUNTIF(POC!E:G,SUBSTITUTE($C145,\".\",\",\"))","v":0},{"$f":"COUNTIF(Horaire!H:J,$C145)+COUNTIF(POC!H:J,$C145)+COUNTIF(Horaire!H:J,SUBSTITUTE($C145,\".\",\",\"))+COUNTIF(POC!H:J,SUBSTITUTE($C145,\".\",\",\"))","v":0},null,null,null,null,0,0]
[null,null,"C190.06",{"$f":"VLOOKUP(C146,Traduction!$B$426:$E$926,'Info de l''escadron'!$A$1+1,0)","v":"Faire preuve de respect envers l'environnement au cours d'un exercice de survie pour équipage de vol"},1,{"$f":"COUNTIF(Horaire!E:G,$C146)+COUNTIF(POC!E:G,$C146)+COUNTIF(Horaire!E:G,SUBSTITUTE($C146,\".\",\",\"))+COUNTIF(POC!E:G,SUBSTITUTE($C146,\".\",\",\"))","v":1},{"$f":"COUNTIF(Horaire!H:J,$C146)+COUNTIF(POC!H:J,$C146)+COUNTIF(Horaire!H:J,SUBSTITUTE($C146,\".\",\",\"))+COUNTIF(POC!H:J,SUBSTITUTE($C146,\".\",\",\"))","v":0},null,null,null,null,1,0]
[null,null,"C190.07",{"$f":"VLOOKUP(C147,Traduction!$B$426:$E$926,'Info de l''escadron'!$A$1+1,0)","v":"Identifier les habitats d'animaux et d'insectes"},1,{"$f":"COUNTIF(Horaire!E:G,$C147)+COUNTIF(POC!E:G,$C147)+COUNTIF(Horaire!E:G,SUBSTITUTE($C147,\".\",\",\"))+COUNTIF(POC!E:G,SUBSTITUTE($C147,\".\",\",\"))","v":0},{"$f":"COUNTIF(Horaire!H:J,$C147)+COUNTIF(POC!H:J,$C147)+COUNTIF(Horaire!H:J,SUBSTITUTE($C147,\".\",\",\"))+COUNTIF(POC!H:J,SUBSTITUTE($C147,\".\",\",\"))","v":0},null,null,null,null,0,0]
[null,null,{"$f":"CONCATENATE($A$2,\" \",A134,\" - \",VLOOKUP(160,Traduction!$B$6:$E$250,'Info de l''escadron'!$A$1+1,0))","v":"OREN 190 - Total des périodes d'instruction Obligatoires  "},null,14,{"$f":"SUM(F134:F140)","v":13},{"$f":"SUM(G134:G140)","v":0}]
[null,null,{"$f":"CONCATENATE($A$2,\" \",A134,\" - \",VLOOKUP(161,Traduction!$B$6:$E$250,'Info de l''escadron'!$A$1+1,0))","v":"OREN 190 - Total des périodes d'instruction Complémentaires  "},null,12,{"$f":"SUM(F141:F147)","v":7},{"$f":"SUM(G141:G147)","v":0}]
[]
[null,null,null,{"$f":"VLOOKUP(172,Traduction!$B$6:$E$250,'Info de l''escadron'!$A$1+1,0)","v":"Total des périodes d'instruction Obligatoires"},{"$f":"SUM(E7,E18,E22,E30,E40,E45,E54,E66,E82,E88,E99,E103,E106,E117,E122,E128,E132,E148)","v":98},{"$f":"SUM(I3:I149)","v":76},{"$f":"SUM(J3:J149)","v":0}]
[null,null,null,{"$f":"VLOOKUP(173,Traduction!$B$6:$E$250,'Info de l''escadron'!$A$1+1,0)","v":"Total des périodes d'instruction Complémentaires"},{"$f":"SUM(E8,E19,E23,E31,E41,E46,E55,E67,E83,E89,E100,E104,E107,E118,E123,E129,E133,E149)","v":169},{"$f":"SUM(L3:L149)","v":31},{"$f":"SUM(M3:M149)","v":0}]

{"sheet":"Niv 2","index":4,"n_rows":168,"n_cols":13,"rows_kept":168,"cut":false,"hidden":false,"merged":[[139,2,139,3],[48,0,54,0],[66,0,72,0],[111,1,119,1],[98,1,110,1],[55,0,65,0],[98,0,110,0],[90,0,97,0],[66,1,72,1],[79,0,89,0],[79,1,89,1],[71,2,71,3],[96,2,96,3],[78,2,78,3],[120,1,130,1],[129,2,129,3],[90,1,97,1],[77,2,77,3],[109,2,109,3],[72,2,72,3],[88,2,88,3],[89,2,89,3],[163,2,163,3],[73,1,78,1],[97,2,97,3],[111,0,119,0],[120,0,130,0],[119,2,119,3],[110,2,110,3],[149,1,161,1],[118,2,118,3],[73,0,78,0],[161,2,161,3],[160,2,160,3],[147,2,147,3],[130,2,130,3],[138,2,138,3],[148,2,148,3],[162,0,163,0],[140,0,148,0],[131,0,139,0],[131,1,139,1],[140,1,148,1],[162,1,163,1],[149,0,161,0],[64,2,64,3],[47,2,47,3],[55,1,65,1],[48,1,54,1],[43,1,47,1],[53,2,53,3],[54,2,54,3],[65,2,65,3],[43,0,47,0],[17,0,32,0],[16,2,16,3],[2,1,12,1],[13,1,16,1],[46,2,46,3],[15,2,15,3],[32,2,32,3],[0,8,0,9],[42,2,42,3],[0,11,0,12],[33,1,42,1],[41,2,41,3],[17,1,32,1],[0,0,0,5],[31,2,31,3],[11,2,11,3],[12,2,12,3],[33,0,42,0],[2,0,12,0],[13,0,16,0]]}
["827 Longueuil",null,null,null,null,null,null,null,"M",null,null,"C"]
[{"$f":"VLOOKUP(26,Traduction!$B$6:$E$250,'Info de l''escadron'!$A$1+1,0)","v":"OREN"},{"$f":"VLOOKUP(156,Traduction!$B$6:$E$250,'Info de l''escadron'!$A$1+1,0)","v":"Sujet"},{"$f":"VLOOKUP(65,Traduction!$B$6:$E$250,'Info de l''escadron'!$A$1+1,0)","v":"OCOM"},{"$f":"VLOOKUP(157,Traduction!$B$6:$E$250,'Info de l''escadron'!$A$1+1,0)","v":"Énoncé de performance"},{"$f":"VLOOKUP(158,Traduction!$B$6:$E$250,'Info de l''escadron'!$A$1+1,0)","v":"Prog."},{"$f":"Horaire!K3","v":"Niveau 2"},{"$f":"Horaire!N3","v":"Niveau 2B"},null,"2","2B",null,"2","2B"]
[201,"Participer à des activités sur le civisme","M201.01A","Participer à une visite reliée au civisme",0,{"$f":"COUNTIF(Horaire!K:M,$C3)+COUNTIF(POC!K:M,$C3)+COUNTIF(Horaire!K:M,SUBSTITUTE($C3,\".\",\",\"))+COUNTIF(POC!K:M,SUBSTITUTE($C3,\".\",\",\"))","v":0},{"$f":"COUNTIF(Horaire!N:P,$C3)+COUNTIF(POC!N:P,$C3)+COUNTIF(Horaire!N:P,SUBSTITUTE($C3,\".\",\",\"))+COUNTIF(POC!N:P,SUBSTITUTE($C3,\".\",\",\"))","v":0},null,{"$f":"MIN($E3,F3)","v":0},{"$f":"MIN($E3,G3)","v":0}]
[null,null,"M201.01B","Assister à une présentation donnée par un organisme communautaire",0,{"$f":"COUNTIF(Horaire!K:M,$C4)+COUNTIF(POC!K:M,$C4)+COUNTIF(Horaire!K:M,SUBSTITUTE($C4,\".\",\",\"))+COUNTIF(POC!K:M,SUBSTITUTE($C4,\".\",\",\"))","v":0},{"$f":"COUNTIF(Horaire!N:P,$C4)+COUNTIF(POC!N:P,$C4)+COUNTIF(Horaire!N:P,SUBSTITUTE($C4,\".\",\",\"))+COUNTIF(POC!N:P,SUBSTITUTE($C4,\".\",\",\"))","v":0},null,{"$f":"MIN($E4,F4)","v":0},{"$f":"MIN($E4,G4)","v":0}]
[null,null,"M201.01C","Assister à une présentation donnée par un citoyen d'intérêt",0,3,{"$f":"COUNTIF(Horaire!N:P,$C5)+COUNTIF(POC!N:P,$C5)+COUNTIF(Horaire!N:P,SUBSTITUTE($C5,\".\",\",\"))+COUNTIF(POC!N:P,SUBSTITUTE($C5,\".\",\",\"))","v":0},null,null,null,null,{"$f":"MIN($E5,F5)","v":0},0]
[null,null,"M201.01D","Participer au défi de la citoyenneté canadienne",0,{"$f":"COUNTIF(Horaire!K:M,$C6)+COUNTIF(POC!K:M,$C6)+COUNTIF(Horaire!K:M,SUBSTITUTE($C6,\".\",\",\"))+COUNTIF(POC!K:M,SUBSTITUTE($C6,\".\",\",\"))","v":0},{"$f":"COUNTIF(Horaire!N:P,$C6)+COUNTIF(POC!N:P,$C6)+COUNTIF(Horaire!N:P,SUBSTITUTE($C6,\".\",\",\"))+COUNTIF(POC!N:P,SUBSTITUTE($C6,\".\",\",\"))","v":0},null,null,null,null,0,0]
[null,null,"M201.01E","Organiser une cérémonie de citoyenneté",0,{"$f":"COUNTIF(Horaire!K:M,$C7)+COUNTIF(POC!K:M,$C7)+COUNTIF(Horaire!K:M,SUBSTITUTE($C7,\".\",\",\"))+COUNTIF(POC!K:M,SUBSTITUTE($C7,\".\",\",\"))","v":0},{"$f":"COUNTIF(Horaire!N:P,$C7)+COUNTIF(POC!N:P,$C7)+COUNTIF(Horaire!N:P,SUBSTITUTE($C7,\".\",\",\"))+COUNTIF(POC!N:P,SUBSTITUTE($C7,\".\",\",\"))","v":0},null,null,null,null,0,0]
[null,null,"M201.01F","Participer à une élection",0,{"$f":"COUNTIF(Horaire!K:M,$C8)+COUNTIF(POC!K:M,$C8)+COUNTIF(Horaire!K:M,SUBSTITUTE($C8,\".\",\",\"))+COUNTIF(POC!K:M,SUBSTITUTE($C8,\".\",\",\"))","v":0},{"$f":"COUNTIF(Horaire!N:P,$C8)+COUNTIF(POC!N:P,$C8)+COUNTIF(Horaire!N:P,SUBSTITUTE($C8,\".\",\",\"))+COUNTIF(POC!N:P,SUBSTITUTE($C8,\".\",\",\"))","v":0},null,null,null,null,0,0]
[null,null,"M201.01G","Participer à des activités relatives aux vidéos sur les Minutes du Patrimoine",0,{"$f":"COUNTIF(Horaire!K:M,$C9)+COUNTIF(POC!K:M,$C9)+COUNTIF(Horaire!K:M,SUBSTITUTE($C9,\".\",\",\"))+COUNTIF(POC!K:M,SUBSTITUTE($C9,\".\",\",\"))","v":0}]
[null,null,"M201.01H","Participer à des ateliers d'apprentissage sur le civisme",0,{"$f":"COUNTIF(Horaire!K:M,$C10)+COUNTIF(POC!K:M,$C10)+COUNTIF(Horaire!K:M,SUBSTITUTE($C10,\".\",\",\"))+COUNTIF(POC!K:M,SUBSTITUTE($C10,\".\",\",\"))","v":0}]
[null,null,"C201.01","Participer à des activités sur le civisme",18,{"$f":"COUNTIF(Horaire!K:M,$C11)+COUNTIF(POC!K:M,$C11)+COUNTIF(Horaire!K:M,SUBSTITUTE($C11,\".\",\",\"))+COUNTIF(POC!K:M,SUBSTITUTE($C11,\".\",\",\"))","v":0},{"$f":"COUNTIF(Horaire!N:P,$C11)+COUNTIF(POC!N:P,$C11)+COUNTIF(Horaire!N:P,SUBSTITUTE($C11,\".\",\",\"))+COUNTIF(POC!N:P,SUBSTITUTE($C11,\".\",\",\"))","v":0},null,null,null,null,0,0]
[null,null,{"$f":"CONCATENATE($A$2,\" \",A3,\" - \",VLOOKUP(160,Traduction!$B$6:$E$250,'Info de l''escadron'!$A$1+1,0))","v":"OREN 201 - Total des périodes d'instruction Obligatoires  "},null,0,{"$f":"SUM(F3:F10)","v":3},{"$f":"SUM(G3:G4)","v":0}]
[null,null,{"$f":"CONCATENATE($A$2,\" \",A3,\" - \",VLOOKUP(161,Traduction!$B$6:$E$250,'Info de l''escadron'!$A$1+1,0))","v":"OREN 201 - Total des périodes d'instruction Complémentaires  "},null,18,{"$f":"SUM(F11)","v":0},{"$f":"SUM(G5:G11)","v":0}]
[202,{"$f":"VLOOKUP(A14,Traduction!$B$300:$E$388,'Info de l''escadron'!$A$1+1,0)","v":"Service communautaire"},"M202.01",{"$f":"VLOOKUP(C14,Traduction!$B$426:$E$926,'Info de l''escadron'!$A$1+1,0)","v":"Effectuer un service communautaire"},9,9,{"$f":"COUNTIF(Horaire!N:P,$C14)+COUNTIF(POC!N:P,$C14)+COUNTIF(Horaire!N:P,SUBSTITUTE($C14,\".\",\",\"))+COUNTIF(POC!N:P,SUBSTITUTE($C14,\".\",\",\"))","v":0},null,{"$f":"MIN($E14,F14)","v":9},{"$f":"MIN($E14,G14)","v":0}]
[null,null,"C202.01","Effectuer un service communautaire",12,{"$f":"COUNTIF(Horaire!K:M,$C15)+COUNTIF(POC!K:M,$C15)+COUNTIF(Horaire!K:M,SUBSTITUTE($C15,\".\",\",\"))+COUNTIF(POC!K:M,SUBSTITUTE($C15,\".\",\",\"))","v":0},{"$f":"COUNTIF(Horaire!N:P,$C15)+COUNTIF(POC!N:P,$C15)+COUNTIF(Horaire!N:P,SUBSTITUTE($C15,\".\",\",\"))+COUNTIF(POC!N:P,SUBSTITUTE($C15,\".\",\",\"))","v":0},null,null,null,null,{"$f":"MIN($E15,F15)","v":0},{"$f":"MIN($E15,G15)","v":0}]
[null,null,{"$f":"CONCATENATE($A$2,\" \",A14,\" - \",VLOOKUP(160,Traduction!$B$6:$E$250,'Info de l''escadron'!$A$1+1,0))","v":"OREN 202 - Total des périodes d'instruction Obligatoires  "},null,9,{"$f":"F14","v":9},{"$f":"G14","v":0}]
[null,null,{"$f":"CONCATENATE($A$2,\" \",A14,\" - \",VLOOKUP(161,Traduction!$B$6:$E$250,'Info de l''escadron'!$A$1+1,0))","v":"OREN 202 - Total des périodes d'instruction Complémentaires  "},null,12,{"$f":"SUM(F15)","v":0},{"$f":"SUM(G15:G15)","v":0}]
[203,{"$f":"VLOOKUP(A18,Traduction!$B$300:$E$388,'Info de l''escadron'!$A$1+1,0)","v":"Démontrer des qualités de leadership entre pairs"},"M203.01",{"$f":"VLOOKUP(C18,Traduction!$B$426:$E$926,'Info de l''escadron'!$A$1+1,0)","v":"Discuter du leadership entre pairs"},1,{"$f":"COUNTIF(Horaire!K:M,$C18)+COUNTIF(POC!K:M,$C18)+COUNTIF(Horaire!K:M,SUBSTITUTE($C18,\".\",\",\"))+COUNTIF(POC!K:M,SUBSTITUTE($C18,\".\",\",\"))","v":1},{"$f":"COUNTIF(Horaire!N:P,$C18)+COUNTIF(POC!N:P,$C18)+COUNTIF(Horaire!N:P,SUBSTITUTE($C18,\".\",\",\"))+COUNTIF(POC!N:P,SUBSTITUTE($C18,\".\",\",\"))","v":0},null,{"$f":"MIN($E18,F18)","v":1},{"$f":"MIN($E18,G18)","v":0}]
[null,null,"M203.02",{"$f":"VLOOKUP(C19,Traduction!$B$426:$E$926,'Info de l''escadron'!$A$1+1,0)","v":"Discuter des principes de leadership"},1,{"$f":"COUNTIF(Horaire!K:M,$C19)+COUNTIF(POC!K:M,$C19)+COUNTIF(Horaire!K:M,SUBSTITUTE($C19,\".\",\",\"))+COUNTIF(POC!K:M,SUBSTITUTE($C19,\".\",\",\"))","v":1},{"$f":"COUNTIF(Horaire!N:P,$C19)+COUNTIF(POC!N:P,$C19)+COUNTIF(Horaire!N:P,SUBSTITUTE($C19,\".\",\",\"))+COUNTIF(POC!N:P,SUBSTITUTE($C19,\".\",\",\"))","v":0},null,1,0]
[null,null,"M203.03",{"$f":"VLOOKUP(C20,Traduction!$B$426:$E$926,'Info de l''escadron'!$A$1+1,0)","v":"Discuter de la communication efficace entre pairs"},1,{"$f":"COUNTIF(Horaire!K:M,$C20)+COUNTIF(POC!K:M,$C20)+COUNTIF(Horaire!K:M,SUBSTITUTE($C20,\".\",\",\"))+COUNTIF(POC!K:M,SUBSTITUTE($C20,\".\",\",\"))","v":1},{"$f":"COUNTIF(Horaire!N:P,$C20)+COUNTIF(POC!N:P,$C20)+COUNTIF(Horaire!N:P,SUBSTITUTE($C20,\".\",\",\"))+COUNTIF(POC!N:P,SUBSTITUTE($C20,\".\",\",\"))","v":0},null,1,0]
[null,null,"M203.04",{"$f":"VLOOKUP(C21,Traduction!$B$426:$E$926,'Info de l''escadron'!$A$1+1,0)","v":"Démontrer la dynamique de groupe positive"},2,{"$f":"COUNTIF(Horaire!K:M,$C21)+COUNTIF(POC!K:M,$C21)+COUNTIF(Horaire!K:M,SUBSTITUTE($C21,\".\",\",\"))+COUNTIF(POC!K:M,SUBSTITUTE($C21,\".\",\",\"))","v":2},{"$f":"COUNTIF(Horaire!N:P,$C21)+COUNTIF(POC!N:P,$C21)+COUNTIF(Horaire!N:P,SUBSTITUTE($C21,\".\",\",\"))+COUNTIF(POC!N:P,SUBSTITUTE($C21,\".\",\",\"))","v":0},null,2,0]
[null,null,"M203.05",{"$f":"VLOOKUP(C22,Traduction!$B$426:$E$926,'Info de l''escadron'!$A$1+1,0)","v":"Discuter des comportements influents"},1,{"$f":"COUNTIF(Horaire!K:M,$C22)+COUNTIF(POC!K:M,$C22)+COUNTIF(Horaire!K:M,SUBSTITUTE($C22,\".\",\",\"))+COUNTIF(POC!K:M,SUBSTITUTE($C22,\".\",\",\"))","v":1},{"$f":"COUNTIF(Horaire!N:P,$C22)+COUNTIF(POC!N:P,$C22)+COUNTIF(Horaire!N:P,SUBSTITUTE($C22,\".\",\",\"))+COUNTIF(POC!N:P,SUBSTITUTE($C22,\".\",\",\"))","v":0},null,1,0]
[null,null,"M203.06",{"$f":"VLOOKUP(C23,Traduction!$B$426:$E$926,'Info de l''escadron'!$A$1+1,0)","v":"Utiliser la résolution de problème"},2,{"$f":"COUNTIF(Horaire!K:M,$C23)+COUNTIF(POC!K:M,$C23)+COUNTIF(Horaire!K:M,SUBSTITUTE($C23,\".\",\",\"))+COUNTIF(POC!K:M,SUBSTITUTE($C23,\".\",\",\"))","v":2},{"$f":"COUNTIF(Horaire!N:P,$C23)+COUNTIF(POC!N:P,$C23)+COUNTIF(Horaire!N:P,SUBSTITUTE($C23,\".\",\",\"))+COUNTIF(POC!N:P,SUBSTITUTE($C23,\".\",\",\"))","v":0},null,2,0]
[null,null,"M203.07",{"$f":"VLOOKUP(C24,Traduction!$B$426:$E$926,'Info de l''escadron'!$A$1+1,0)","v":"Discuter de l'intégrité personnelle comme qualité de leadership"},1,{"$f":"COUNTIF(Horaire!K:M,$C24)+COUNTIF(POC!K:M,$C24)+COUNTIF(Horaire!K:M,SUBSTITUTE($C24,\".\",\",\"))+COUNTIF(POC!K:M,SUBSTITUTE($C24,\".\",\",\"))","v":1},{"$f":"COUNTIF(Horaire!N:P,$C24)+COUNTIF(POC!N:P,$C24)+COUNTIF(Horaire!N:P,SUBSTITUTE($C24,\".\",\",\"))+COUNTIF(POC!N:P,SUBSTITUTE($C24,\".\",\",\"))","v":0},null,1,0]
[null,null,"M203.08",{"$f":"VLOOKUP(C25,Traduction!$B$426:$E$926,'Info de l''escadron'!$A$1+1,0)","v":"Participer à des activités de promotion du travail d'équipe"},1,{"$f":"COUNTIF(Horaire!K:M,$C25)+COUNTIF(POC!K:M,$C25)+COUNTIF(Horaire!K:M,SUBSTITUTE($C25,\".\",\",\"))+COUNTIF(POC!K:M,SUBSTITUTE($C25,\".\",\",\"))","v":1},{"$f":"COUNTIF(Horaire!N:P,$C25)+COUNTIF(POC!N:P,$C25)+COUNTIF(Horaire!N:P,SUBSTITUTE($C25,\".\",\",\"))+COUNTIF(POC!N:P,SUBSTITUTE($C25,\".\",\",\"))","v":0},null,1,0]
[null,null,"C203.01",{"$f":"VLOOKUP(C26,Traduction!$B$426:$E$926,'Info de l''escadron'!$A$1+1,0)","v":"Consigner des entrées dans un journal réflectif"},3,{"$f":"COUNTIF(Horaire!K:M,$C26)+COUNTIF(POC!K:M,$C26)+COUNTIF(Horaire!K:M,SUBSTITUTE($C26,\".\",\",\"))+COUNTIF(POC!K:M,SUBSTITUTE($C26,\".\",\",\"))","v":0},{"$f":"COUNTIF(Horaire!N:P,$C26)+COUNTIF(POC!N:P,$C26)+COUNTIF(Horaire!N:P,SUBSTITUTE($C26,\".\",\",\"))+COUNTIF(POC!N:P,SUBSTITUTE($C26,\".\",\",\"))","v":0},null,null,null,null,{"$f":"MIN($E26,F26)","v":0},{"$f":"MIN($E26,G26)","v":0}]
[null,null,"C203.02",{"$f":"VLOOKUP(C27,Traduction!$B$426:$E$926,'Info de l''escadron'!$A$1+1,0)","v":"Utiliser la résolution de problème"},2,{"$f":"COUNTIF(Horaire!K:M,$C27)+COUNTIF(POC!K:M,$C27)+COUNTIF(Horaire!K:M,SUBSTITUTE($C27,\".\",\",\"))+COUNTIF(POC!K:M,SUBSTITUTE($C27,\".\",\",\"))","v":0},{"$f":"COUNTIF(Horaire!N:P,$C27)+COUNTIF(POC!N:P,$C27)+COUNTIF(Horaire!N:P,SUBSTITUTE($C27,\".\",\",\"))+COUNTIF(POC!N:P,SUBSTITUTE($C27,\".\",\",\"))","v":0},null,null,null,null,0,0]
[null,null,"C203.03",{"$f":"VLOOKUP(C28,Traduction!$B$426:$E$926,'Info de l''escadron'!$A$1+1,0)","v":"Discuter des caractéristiques d'un chef"},2,{"$f":"COUNTIF(Horaire!K:M,$C28)+COUNTIF(POC!K:M,$C28)+COUNTIF(Horaire!K:M,SUBSTITUTE($C28,\".\",\",\"))+COUNTIF(POC!K:M,SUBSTITUTE($C28,\".\",\",\"))","v":1},{"$f":"COUNTIF(Horaire!N:P,$C28)+COUNTIF(POC!N:P,$C28)+COUNTIF(Horaire!N:P,SUBSTITUTE($C28,\".\",\",\"))+COUNTIF(POC!N:P,SUBSTITUTE($C28,\".\",\",\"))","v":0},null,null,null,null,1,0]
[null,null,"C203.04",{"$f":"VLOOKUP(C29,Traduction!$B$426:$E$926,'Info de l''escadron'!$A$1+1,0)","v":"Participer à une présentation donnée par un chef"},2,{"$f":"COUNTIF(Horaire!K:M,$C29)+COUNTIF(POC!K:M,$C29)+COUNTIF(Horaire!K:M,SUBSTITUTE($C29,\".\",\",\"))+COUNTIF(POC!K:M,SUBSTITUTE($C29,\".\",\",\"))","v":1},{"$f":"COUNTIF(Horaire!N:P,$C29)+COUNTIF(POC!N:P,$C29)+COUNTIF(Horaire!N:P,SUBSTITUTE($C29,\".\",\",\"))+COUNTIF(POC!N:P,SUBSTITUTE($C29,\".\",\",\"))","v":0},null,null,null,null,1,0]
[null,null,"C203.05",{"$f":"VLOOKUP(C30,Traduction!$B$426:$E$926,'Info de l''escadron'!$A$1+1,0)","v":"Participer à des activités de renforcement de la confiance"},1,{"$f":"COUNTIF(Horaire!K:M,$C30)+COUNTIF(POC!K:M,$C30)+COUNTIF(Horaire!K:M,SUBSTITUTE($C30,\".\",\",\"))+COUNTIF(POC!K:M,SUBSTITUTE($C30,\".\",\",\"))","v":1},{"$f":"COUNTIF(Horaire!N:P,$C30)+COUNTIF(POC!N:P,$C30)+COUNTIF(Horaire!N:P,SUBSTITUTE($C30,\".\",\",\"))+COUNTIF(POC!N:P,SUBSTITUTE($C30,\".\",\",\"))","v":0},null,null,null,null,1,0]
[null,null,"C203.06",{"$f":"VLOOKUP(C31,Traduction!$B$426:$E$926,'Info de l''escadron'!$A$1+1,0)","v":"Participer à des activités de résolution de problème"},2,{"$f":"COUNTIF(Horaire!K:M,$C31)+COUNTIF(POC!K:M,$C31)+COUNTIF(Horaire!K:M,SUBSTITUTE($C31,\".\",\",\"))+COUNTIF(POC!K:M,SUBSTITUTE($C31,\".\",\",\"))","v":0},{"$f":"COUNTIF(Horaire!N:P,$C31)+COUNTIF(POC!N:P,$C31)+COUNTIF(Horaire!N:P,SUBSTITUTE($C31,\".\",\",\"))+COUNTIF(POC!N:P,SUBSTITUTE($C31,\".\",\",\"))","v":0},null,null,null,null,0,0]
[null,null,{"$f":"CONCATENATE($A$2,\" \",A18,\" - \",VLOOKUP(160,Traduction!$B$6:$E$250,'Info de l''escadron'!$A$1+1,0))","v":"OREN 203 - Total des périodes d'instruction Obligatoires  "},null,10,{"$f":"SUM(F18:F25)","v":10},{"$f":"SUM(G18:G25)","v":0}]
[null,null,{"$f":"CONCATENATE($A$2,\" \",A18,\" - \",VLOOKUP(161,Traduction!$B$6:$E$250,'Info de l''escadron'!$A$1+1,0))","v":"OREN 203 - Total des périodes d'instruction Complémentaires  "},null,12,{"$f":"SUM(F26:F31)","v":3},{"$f":"SUM(G26:G31)","v":0}]
["X04",{"$f":"VLOOKUP(A34,Traduction!$B$300:$E$388,'Info de l''escadron'!$A$1+1,0)","v":"Suivre la participation aux activités physiques"},"MX04.01",{"$f":"VLOOKUP(C34,Traduction!$B$426:$E$926,'Info de l''escadron'!$A$1+1,0)","v":"Participer à une séance d'activité physique d'intensité modérée à élevée de 60 minutes et suivre la participation aux activités physiques"},3,{"$f":"COUNTIF(Horaire!K:M,$C34)+COUNTIF(POC!K:M,$C34)+COUNTIF(Horaire!K:M,SUBSTITUTE($C34,\".\",\",\"))+COUNTIF(POC!K:M,SUBSTITUTE($C34,\".\",\",\"))","v":0},{"$f":"COUNTIF(Horaire!N:P,$C34)+COUNTIF(POC!N:P,$C34)+COUNTIF(Horaire!N:P,SUBSTITUTE($C34,\".\",\",\"))+COUNTIF(POC!N:P,SUBSTITUTE($C34,\".\",\",\"))","v":0},null,{"$f":"MIN($E34,F34)","v":0},0]
[null,null,"MX04.02",{"$f":"VLOOKUP(C35,Traduction!$B$426:$E$926,'Info de l''escadron'!$A$1+1,0)","v":"Définir des stratégies pour accroître la participation à des activités physiques et participer à l'évaluation de la condition physique des cadets"},3,{"$f":"COUNTIF(Horaire!K:M,$C35)+COUNTIF(POC!K:M,$C35)+COUNTIF(Horaire!K:M,SUBSTITUTE($C35,\".\",\",\"))+COUNTIF(POC!K:M,SUBSTITUTE($C35,\".\",\",\"))","v":0},{"$f":"COUNTIF(Horaire!N:P,$C35)+COUNTIF(POC!N:P,$C35)+COUNTIF(Horaire!N:P,SUBSTITUTE($C35,\".\",\",\"))+COUNTIF(POC!N:P,SUBSTITUTE($C35,\".\",\",\"))","v":0},null,0,0]
[null,null,"MX04.03",{"$f":"VLOOKUP(C36,Traduction!$B$426:$E$926,'Info de l''escadron'!$A$1+1,0)","v":"Participer à l'évaluation de la condition physique des cadets et définir des stratégies pour améliorer la condition physique personnelle"},3,{"$f":"COUNTIF(Horaire!K:M,$C36)+COUNTIF(POC!K:M,$C36)+COUNTIF(Horaire!K:M,SUBSTITUTE($C36,\".\",\",\"))+COUNTIF(POC!K:M,SUBSTITUTE($C36,\".\",\",\"))","v":3},{"$f":"COUNTIF(Horaire!N:P,$C36)+COUNTIF(POC!N:P,$C36)+COUNTIF(Horaire!N:P,SUBSTITUTE($C36,\".\",\",\"))+COUNTIF(POC!N:P,SUBSTITUTE($C36,\".\",\",\"))","v":0},null,3,0]
[null,null,"CX04.01",{"$f":"VLOOKUP(C37,Traduction!$B$426:$E$926,'Info de l''escadron'!$A$1+1,0)","v":"Participer à l'évaluation de la condition physique des cadets et définir des stratégies pour améliorer la condition physique personnelle"},3,{"$f":"COUNTIF(Horaire!K:M,$C37)+COUNTIF(POC!K:M,$C37)+COUNTIF(Horaire!K:M,SUBSTITUTE($C37,\".\",\",\"))+COUNTIF(POC!K:M,SUBSTITUTE($C37,\".\",\",\"))","v":0},{"$f":"COUNTIF(Horaire!F:H,$C37)+COUNTIF(POC!F:H,$C37)+COUNTIF(Horaire!F:H,SUBSTITUTE($C37,\".\",\",\"))+COUNTIF(POC!F:H,SUBSTITUTE($C37,\".\",\",\"))","v":3},null,null,null,null,{"$f":"MIN($E37,F37)","v":0},3]
[null,null,"CX04.02",{"$f":"VLOOKUP(C38,Traduction!$B$426:$E$926,'Info de l''escadron'!$A$1+1,0)","v":"Participer à des activités de renforcement des trois composantes de la condition physique"},3,{"$f":"COUNTIF(Horaire!K:M,$C38)+COUNTIF(POC!K:M,$C38)+COUNTIF(Horaire!K:M,SUBSTITUTE($C38,\".\",\",\"))+COUNTIF(POC!K:M,SUBSTITUTE($C38,\".\",\",\"))","v":0},{"$f":"COUNTIF(Horaire!F:H,$C38)+COUNTIF(POC!F:H,$C38)+COUNTIF(Horaire!F:H,SUBSTITUTE($C38,\".\",\",\"))+COUNTIF(POC!F:H,SUBSTITUTE($C38,\".\",\",\"))","v":0},null,null,null,null,0,0]
[null,null,"CX04.03",{"$f":"VLOOKUP(C39,Traduction!$B$426:$E$926,'Info de l''escadron'!$A$1+1,0)","v":"Participer à un cours de cuisine"},3,{"$f":"COUNTIF(Horaire!K:M,$C39)+COUNTIF(POC!K:M,$C39)+COUNTIF(Horaire!K:M,SUBSTITUTE($C39,\".\",\",\"))+COUNTIF(POC!K:M,SUBSTITUTE($C39,\".\",\",\"))","v":0},{"$f":"COUNTIF(Horaire!N:P,$C39)+COUNTIF(POC!N:P,$C39)+COUNTIF(Horaire!N:P,SUBSTITUTE($C39,\".\",\",\"))+COUNTIF(POC!N:P,SUBSTITUTE($C39,\".\",\",\"))","v":0},null,null,null,null,0,0]
[null,null,"CX04.04",{"$f":"VLOOKUP(C40,Traduction!$B$426:$E$926,'Info de l''escadron'!$A$1+1,0)","v":"Assister à un présentation sur la condition physique personnelle et les saines habitudes de vie"},3,{"$f":"COUNTIF(Horaire!K:M,$C40)+COUNTIF(POC!K:M,$C40)+COUNTIF(Horaire!K:M,SUBSTITUTE($C40,\".\",\",\"))+COUNTIF(POC!K:M,SUBSTITUTE($C40,\".\",\",\"))","v":0},{"$f":"COUNTIF(Horaire!N:P,$C40)+COUNTIF(POC!N:P,$C40)+COUNTIF(Horaire!N:P,SUBSTITUTE($C40,\".\",\",\"))+COUNTIF(POC!N:P,SUBSTITUTE($C40,\".\",\",\"))","v":0},null,null,null,null,0,0]
[null,null,"CX04.05",{"$f":"VLOOKUP(C41,Traduction!$B$426:$E$926,'Info de l''escadron'!$A$1+1,0)","v":"Assister à un événement sportif amateur"},3,{"$f":"COUNTIF(Horaire!K:M,$C41)+COUNTIF(POC!K:M,$C41)+COUNTIF(Horaire!K:M,SUBSTITUTE($C41,\".\",\",\"))+COUNTIF(POC!K:M,SUBSTITUTE($C41,\".\",\",\"))","v":0},{"$f":"COUNTIF(Horaire!N:P,$C41)+COUNTIF(POC!N:P,$C41)+COUNTIF(Horaire!N:P,SUBSTITUTE($C41,\".\",\",\"))+COUNTIF(POC!N:P,SUBSTITUTE($C41,\".\",\",\"))","v":0},null,null,null,null,0,0]
[null,null,{"$f":"CONCATENATE($A$2,\" \",A34,\" - \",VLOOKUP(160,Traduction!$B$6:$E$250,'Info de l''escadron'!$A$1+1,0))","v":"OREN X04 - Total des périodes d'instruction Obligatoires  "},null,9,{"$f":"SUM(F34:F36)","v":3},{"$f":"SUM(G34:G36)","v":0}]
[null,null,{"$f":"CONCATENATE($A$2,\" \",A34,\" - \",VLOOKUP(161,Traduction!$B$6:$E$250,'Info de l''escadron'!$A$1+1,0))","v":"OREN X04 - Total des périodes d'instruction Complémentaires  "},null,15,{"$f":"SUM(F37:F41)","v":0},{"$f":"SUM(G37:G41)","v":3}]
[205,{"$f":"VLOOKUP(A44,Traduction!$B$300:$E$388,'Info de l''escadron'!$A$1+1,0)","v":"Participer à des sports récréatifs"},"M205.01","Participer à des activités physiques",9,{"$f":"COUNTIF(Horaire!K:M,$C44)+COUNTIF(POC!K:M,$C44)+COUNTIF(Horaire!K:M,SUBSTITUTE($C44,\".\",\",\"))+COUNTIF(POC!K:M,SUBSTITUTE($C44,\".\",\",\"))","v":0},{"$f":"COUNTIF(Horaire!N:P,$C44)+COUNTIF(POC!N:P,$C44)+COUNTIF(Horaire!N:P,SUBSTITUTE($C44,\".\",\",\"))+COUNTIF(POC!N:P,SUBSTITUTE($C44,\".\",\",\"))","v":0},null,{"$f":"MIN($E44,F44)","v":0},{"$f":"MIN($E44,G44)","v":0}]
[null,null,"C205.01","Participer à des activités physiques",9,{"$f":"COUNTIF(Horaire!K:M,$C45)+COUNTIF(POC!K:M,$C45)+COUNTIF(Horaire!K:M,SUBSTITUTE($C45,\".\",\",\"))+COUNTIF(POC!K:M,SUBSTITUTE($C45,\".\",\",\"))","v":0}]
[null,null,"C205.02","Participer à un tournoi",9,{"$f":"COUNTIF(Horaire!K:M,$C46)+COUNTIF(POC!K:M,$C46)+COUNTIF(Horaire!K:M,SUBSTITUTE($C46,\".\",\",\"))+COUNTIF(POC!K:M,SUBSTITUTE($C46,\".\",\",\"))","v":0},{"$f":"COUNTIF(Horaire!N:P,$C46)+COUNTIF(POC!N:P,$C46)+COUNTIF(Horaire!N:P,SUBSTITUTE($C46,\".\",\",\"))+COUNTIF(POC!N:P,SUBSTITUTE($C46,\".\",\",\"))","v":0},null,null,null,null,{"$f":"MIN($E46,F46)","v":0},{"$f":"MIN($E46,G46)","v":0}]
[null,null,{"$f":"CONCATENATE($A$2,\" \",A44,\" - \",VLOOKUP(160,Traduction!$B$6:$E$250,'Info de l''escadron'!$A$1+1,0))","v":"OREN 205 - Total des périodes d'instruction Obligatoires  "},null,9,{"$f":"F44","v":0},{"$f":"G44","v":0}]
[null,null,{"$f":"CONCATENATE($A$2,\" \",A44,\" - \",VLOOKUP(161,Traduction!$B$6:$E$250,'Info de l''escadron'!$A$1+1,0))","v":"OREN 205 - Total des périodes d'instruction Complémentaires  "},null,27,{"$f":"SUM(F45:F46)","v":0},{"$f":"SUM(G46:G46)","v":0}]
[206,{"$f":"VLOOKUP(A49,Traduction!$B$300:$E$388,'Info de l''escadron'!$A$1+1,0)","v":"Tirer avec la carabine à air"},"M206.01",{"$f":"VLOOKUP(C49,Traduction!$B$426:$E$926,'Info de l''escadron'!$A$1+1,0)","v":"Participer à une activité récréative de tir de précision"},3,{"$f":"COUNTIF(Horaire!K:M,$C49)+COUNTIF(POC!K:M,$C49)+COUNTIF(Horaire!K:M,SUBSTITUTE($C49,\".\",\",\"))+COUNTIF(POC!K:M,SUBSTITUTE($C49,\".\",\",\"))","v":3},{"$f":"COUNTIF(Horaire!N:P,$C49)+COUNTIF(POC!N:P,$C49)+COUNTIF(Horaire!N:P,SUBSTITUTE($C49,\".\",\",\"))+COUNTIF(POC!N:P,SUBSTITUTE($C49,\".\",\",\"))","v":0},null,{"$f":"MIN($E49,F49)","v":3},{"$f":"MIN($E49,G49)","v":0}]
[null,null,"C206.01",{"$f":"VLOOKUP(C50,Traduction!$B$426:$E$926,'Info de l''escadron'!$A$1+1,0)","v":"Pratiquer les techniques pour tenir la carabine"},1,{"$f":"COUNTIF(Horaire!K:M,$C50)+COUNTIF(POC!K:M,$C50)+COUNTIF(Horaire!K:M,SUBSTITUTE($C50,\".\",\",\"))+COUNTIF(POC!K:M,SUBSTITUTE($C50,\".\",\",\"))","v":0},{"$f":"COUNTIF(Horaire!N:P,$C50)+COUNTIF(POC!N:P,$C50)+COUNTIF(Horaire!N:P,SUBSTITUTE($C50,\".\",\",\"))+COUNTIF(POC!N:P,SUBSTITUTE($C50,\".\",\",\"))","v":0},null,null,null,null,{"$f":"MIN($E50,F50)","v":0},0]
[null,null,"C206.02",{"$f":"VLOOKUP(C51,Traduction!$B$426:$E$926,'Info de l''escadron'!$A$1+1,0)","v":"Pratiquer les techniques de visée"},2,{"$f":"COUNTIF(Horaire!K:M,$C51)+COUNTIF(POC!K:M,$C51)+COUNTIF(Horaire!K:M,SUBSTITUTE($C51,\".\",\",\"))+COUNTIF(POC!K:M,SUBSTITUTE($C51,\".\",\",\"))","v":0},{"$f":"COUNTIF(Horaire!N:P,$C51)+COUNTIF(POC!N:P,$C51)+COUNTIF(Horaire!N:P,SUBSTITUTE($C51,\".\",\",\"))+COUNTIF(POC!N:P,SUBSTITUTE($C51,\".\",\",\"))","v":0},null,null,null,null,0,0]
[null,null,"C206.03",{"$f":"VLOOKUP(C52,Traduction!$B$426:$E$926,'Info de l''escadron'!$A$1+1,0)","v":"Pratiquer les techniques de tir"},1,{"$f":"COUNTIF(Horaire!K:M,$C52)+COUNTIF(POC!K:M,$C52)+COUNTIF(Horaire!K:M,SUBSTITUTE($C52,\".\",\",\"))+COUNTIF(POC!K:M,SUBSTITUTE($C52,\".\",\",\"))","v":0},{"$f":"COUNTIF(Horaire!N:P,$C52)+COUNTIF(POC!N:P,$C52)+COUNTIF(Horaire!N:P,SUBSTITUTE($C52,\".\",\",\"))+COUNTIF(POC!N:P,SUBSTITUTE($C52,\".\",\",\"))","v":0},null,null,null,null,0,0]
[null,null,"C106.01",{"$f":"VLOOKUP(C53,Traduction!$B$426:$E$926,'Info de l''escadron'!$A$1+1,0)","v":"Participer à une activité récréative de tir de précision"},6,{"$f":"COUNTIF(Horaire!K:M,$C53)+COUNTIF(POC!K:M,$C53)+COUNTIF(Horaire!K:M,SUBSTITUTE($C53,\".\",\",\"))+COUNTIF(POC!K:M,SUBSTITUTE($C53,\".\",\",\"))","v":0},{"$f":"COUNTIF(Horaire!N:P,$C53)+COUNTIF(POC!N:P,$C53)+COUNTIF(Horaire!N:P,SUBSTITUTE($C53,\".\",\",\"))+COUNTIF(POC!N:P,SUBSTITUTE($C53,\".\",\",\"))","v":0},null,null,null,null,0,0]
[null,null,{"$f":"CONCATENATE($A$2,\" \",A49,\" - \",VLOOKUP(160,Traduction!$B$6:$E$250,'Info de l''escadron'!$A$1+1,0))","v":"OREN 206 - Total des périodes d'instruction Obligatoires  "},null,3,{"$f":"F49","v":3},{"$f":"G49","v":0}]
[null,null,{"$f":"CONCATENATE($A$2,\" \",A49,\" - \",VLOOKUP(161,Traduction!$B$6:$E$250,'Info de l''escadron'!$A$1+1,0))","v":"OREN 206 - Total des périodes d'instruction Complémentaires  "},null,10,{"$f":"SUM(F50:F53)","v":0},{"$f":"SUM(G50:G53)","v":0}]
[207,{"$f":"VLOOKUP(A56,Traduction!$B$300:$E$388,'Info de l''escadron'!$A$1+1,0)","v":"Servir dans un escadron de cadets de l'Air"},"M207.01",{"$f":"VLOOKUP(C56,Traduction!$B$426:$E$926,'Info de l''escadron'!$A$1+1,0)","v":"Identifier les occasions d'instruction du niveau de qualification deux"},1,{"$f":"COUNTIF(Horaire!K:M,$C56)+COUNTIF(POC!K:M,$C56)+COUNTIF(Horaire!K:M,SUBSTITUTE($C56,\".\",\",\"))+COUNTIF(POC!K:M,SUBSTITUTE($C56,\".\",\",\"))","v":1},{"$f":"COUNTIF(Horaire!N:P,$C56)+COUNTIF(POC!N:P,$C56)+COUNTIF(Horaire!N:P,SUBSTITUTE($C56,\".\",\",\"))+COUNTIF(POC!N:P,SUBSTITUTE($C56,\".\",\",\"))","v":0},null,{"$f":"MIN($E56,F56)","v":1},0]
[null,null,"M207.02",{"$f":"VLOOKUP(C57,Traduction!$B$426:$E$926,'Info de l''escadron'!$A$1+1,0)","v":"Reconnaître les aspects historiques des cadets de l'Aviation royale du Canada (CARC)"},1,{"$f":"COUNTIF(Horaire!K:M,$C57)+COUNTIF(POC!K:M,$C57)+COUNTIF(Horaire!K:M,SUBSTITUTE($C57,\".\",\",\"))+COUNTIF(POC!K:M,SUBSTITUTE($C57,\".\",\",\"))","v":1},{"$f":"COUNTIF(Horaire!N:P,$C57)+COUNTIF(POC!N:P,$C57)+COUNTIF(Horaire!N:P,SUBSTITUTE($C57,\".\",\",\"))+COUNTIF(POC!N:P,SUBSTITUTE($C57,\".\",\",\"))","v":0},null,1,0]
[null,null,"M207.03",{"$f":"VLOOKUP(C58,Traduction!$B$426:$E$926,'Info de l''escadron'!$A$1+1,0)","v":"Reconnaître les rôles et responsabilités du répondant local"},1,{"$f":"COUNTIF(Horaire!K:M,$C58)+COUNTIF(POC!K:M,$C58)+COUNTIF(Horaire!K:M,SUBSTITUTE($C58,\".\",\",\"))+COUNTIF(POC!K:M,SUBSTITUTE($C58,\".\",\",\"))","v":1},{"$f":"COUNTIF(Horaire!N:P,$C58)+COUNTIF(POC!N:P,$C58)+COUNTIF(Horaire!N:P,SUBSTITUTE($C58,\".\",\",\"))+COUNTIF(POC!N:P,SUBSTITUTE($C58,\".\",\",\"))","v":0},null,1,0]
[null,null,"M207.04",{"$f":"VLOOKUP(C59,Traduction!$B$426:$E$926,'Info de l''escadron'!$A$1+1,0)","v":"Identifier les occasions d'instruction du niveau de deuxième année du CIEC"},1,{"$f":"COUNTIF(Horaire!K:M,$C59)+COUNTIF(POC!K:M,$C59)+COUNTIF(Horaire!K:M,SUBSTITUTE($C59,\".\",\",\"))+COUNTIF(POC!K:M,SUBSTITUTE($C59,\".\",\",\"))","v":1},{"$f":"COUNTIF(Horaire!N:P,$C59)+COUNTIF(POC!N:P,$C59)+COUNTIF(Horaire!N:P,SUBSTITUTE($C59,\".\",\",\"))+COUNTIF(POC!N:P,SUBSTITUTE($C59,\".\",\",\"))","v":0},null,1,0]
[null,null,"C207.01",{"$f":"VLOOKUP(C60,Traduction!$B$426:$E$926,'Info de l''escadron'!$A$1+1,0)","v":"Décrire la structure des grades des cadets de la Marine Royale candienne et des cadets royaux de l'Armée canadienne"},1,{"$f":"COUNTIF(Horaire!K:M,$C60)+COUNTIF(POC!K:M,$C60)+COUNTIF(Horaire!K:M,SUBSTITUTE($C60,\".\",\",\"))+COUNTIF(POC!K:M,SUBSTITUTE($C60,\".\",\",\"))","v":1},{"$f":"COUNTIF(Horaire!N:P,$C60)+COUNTIF(POC!N:P,$C60)+COUNTIF(Horaire!N:P,SUBSTITUTE($C60,\".\",\",\"))+COUNTIF(POC!N:P,SUBSTITUTE($C60,\".\",\",\"))","v":0},null,null,null,null,{"$f":"MIN($E60,F60)","v":1},0]
[null,null,"C207.02",{"$f":"VLOOKUP(C61,Traduction!$B$426:$E$926,'Info de l''escadron'!$A$1+1,0)","v":"Visiter un corps de cadets de la Marine royale canadienne/corps de cadets royaux de l'Armée canadienne ou un escadron de cadets de l'Air"},3,{"$f":"COUNTIF(Horaire!K:M,$C61)+COUNTIF(POC!K:M,$C61)+COUNTIF(Horaire!K:M,SUBSTITUTE($C61,\".\",\",\"))+COUNTIF(POC!K:M,SUBSTITUTE($C61,\".\",\",\"))","v":0},{"$f":"COUNTIF(Horaire!N:P,$C61)+COUNTIF(POC!N:P,$C61)+COUNTIF(Horaire!N:P,SUBSTITUTE($C61,\".\",\",\"))+COUNTIF(POC!N:P,SUBSTITUTE($C61,\".\",\",\"))","v":0},null,null,null,null,0,0]
[null,null,"C207.03",{"$f":"VLOOKUP(C62,Traduction!$B$426:$E$926,'Info de l''escadron'!$A$1+1,0)","v":"Décrire l'unité d'affiliation"},1,{"$f":"COUNTIF(Horaire!K:M,$C62)+COUNTIF(POC!K:M,$C62)+COUNTIF(Horaire!K:M,SUBSTITUTE($C62,\".\",\",\"))+COUNTIF(POC!K:M,SUBSTITUTE($C62,\".\",\",\"))","v":0},{"$f":"COUNTIF(Horaire!N:P,$C62)+COUNTIF(POC!N:P,$C62)+COUNTIF(Horaire!N:P,SUBSTITUTE($C62,\".\",\",\"))+COUNTIF(POC!N:P,SUBSTITUTE($C62,\".\",\",\"))","v":0},null,null,null,null,0,0]
[null,null,"C207.04",{"$f":"VLOOKUP(C63,Traduction!$B$426:$E$926,'Info de l''escadron'!$A$1+1,0)","v":"Visiter l'unité d'affiliation"},3,{"$f":"COUNTIF(Horaire!K:M,$C63)+COUNTIF(POC!K:M,$C63)+COUNTIF(Horaire!K:M,SUBSTITUTE($C63,\".\",\",\"))+COUNTIF(POC!K:M,SUBSTITUTE($C63,\".\",\",\"))","v":0},{"$f":"COUNTIF(Horaire!N:P,$C63)+COUNTIF(POC!N:P,$C63)+COUNTIF(Horaire!N:P,SUBSTITUTE($C63,\".\",\",\"))+COUNTIF(POC!N:P,SUBSTITUTE($C63,\".\",\",\"))","v":0},null,null,null,null,0,0]
[null,null,"C107.04",{"$f":"VLOOKUP(C64,Traduction!$B$426:$E$926,'Info de l''escadron'!$A$1+1,0)","v":"Participer à une activité relative à l'histoire de l'escadron"},2,{"$f":"COUNTIF(Horaire!K:M,$C64)+COUNTIF(POC!K:M,$C64)+COUNTIF(Horaire!K:M,SUBSTITUTE($C64,\".\",\",\"))+COUNTIF(POC!K:M,SUBSTITUTE($C64,\".\",\",\"))","v":0},{"$f":"COUNTIF(Horaire!N:P,$C64)+COUNTIF(POC!N:P,$C64)+COUNTIF(Horaire!N:P,SUBSTITUTE($C64,\".\",\",\"))+COUNTIF(POC!N:P,SUBSTITUTE($C64,\".\",\",\"))","v":0},null,null,null,null,0,0]
[null,null,{"$f":"CONCATENATE($A$2,\" \",A56,\" - \",VLOOKUP(160,Traduction!$B$6:$E$250,'Info de l''escadron'!$A$1+1,0))","v":"OREN 207 - Total des périodes d'instruction Obligatoires  "},null,4,{"$f":"SUM(F56:F59)","v":4},{"$f":"SUM(G56:G59)","v":0}]
[null,null,{"$f":"CONCATENATE($A$2,\" \",A56,\" - \",VLOOKUP(161,Traduction!$B$6:$E$250,'Info de l''escadron'!$A$1+1,0))","v":"OREN 207 - Total des périodes d'instruction Complémentaires  "},null,10,{"$f":"SUM(F60:F64)","v":1},{"$f":"SUM(G60:G64)","v":0}]
[208,{"$f":"VLOOKUP(A67,Traduction!$B$300:$E$388,'Info de l''escadron'!$A$1+1,0)","v":"Exécuter de l'exercice militaire à titre de membre d'une escouade"},"M208.01",{"$f":"VLOOKUP(C67,Traduction!$B$426:$E$926,'Info de l''escadron'!$A$1+1,0)","v":"Tourner à gauche et à droite en marchant"},2,{"$f":"COUNTIF(Horaire!K:M,$C67)+COUNTIF(POC!K:M,$C67)+COUNTIF(Horaire!K:M,SUBSTITUTE($C67,\".\",\",\"))+COUNTIF(POC!K:M,SUBSTITUTE($C67,\".\",\",\"))","v":2},{"$f":"COUNTIF(Horaire!N:P,$C67)+COUNTIF(POC!N:P,$C67)+COUNTIF(Horaire!N:P,SUBSTITUTE($C67,\".\",\",\"))+COUNTIF(POC!N:P,SUBSTITUTE($C67,\".\",\",\"))","v":0},null,{"$f":"MIN($E67,F67)","v":2},{"$f":"MIN($E67,G67)","v":0}]
[null,null,"M208.02",{"$f":"VLOOKUP(C68,Traduction!$B$426:$E$926,'Info de l''escadron'!$A$1+1,0)","v":"Former une file indienne de la halte"},1,{"$f":"COUNTIF(Horaire!K:M,$C68)+COUNTIF(POC!K:M,$C68)+COUNTIF(Horaire!K:M,SUBSTITUTE($C68,\".\",\",\"))+COUNTIF(POC!K:M,SUBSTITUTE($C68,\".\",\",\"))","v":1},{"$f":"COUNTIF(Horaire!N:P,$C68)+COUNTIF(POC!N:P,$C68)+COUNTIF(Horaire!N:P,SUBSTITUTE($C68,\".\",\",\"))+COUNTIF(POC!N:P,SUBSTITUTE($C68,\".\",\",\"))","v":0},null,{"$f":"MIN($E68,F68)","v":1},{"$f":"MIN($E68,G68)","v":0}]
[null,null,"C208.01",{"$f":"VLOOKUP(C69,Traduction!$B$426:$E$926,'Info de l''escadron'!$A$1+1,0)","v":"S'exercer à une cérémonie militaire dans le cadre d'une revue"},2,{"$f":"COUNTIF(Horaire!K:M,$C69)+COUNTIF(POC!K:M,$C69)+COUNTIF(Horaire!K:M,SUBSTITUTE($C69,\".\",\",\"))+COUNTIF(POC!K:M,SUBSTITUTE($C69,\".\",\",\"))","v":0},{"$f":"COUNTIF(Horaire!N:P,$C69)+COUNTIF(POC!N:P,$C69)+COUNTIF(Horaire!N:P,SUBSTITUTE($C69,\".\",\",\"))+COUNTIF(POC!N:P,SUBSTITUTE($C69,\".\",\",\"))","v":0},null,null,null,null,{"$f":"MIN($E69,F69)","v":0},0]
[null,null,"C208.02",{"$f":"VLOOKUP(C70,Traduction!$B$426:$E$926,'Info de l''escadron'!$A$1+1,0)","v":"Exécuter de l'exercice militaire avec armes"},8,{"$f":"COUNTIF(Horaire!K:M,$C70)+COUNTIF(POC!K:M,$C70)+COUNTIF(Horaire!K:M,SUBSTITUTE($C70,\".\",\",\"))+COUNTIF(POC!K:M,SUBSTITUTE($C70,\".\",\",\"))","v":0},{"$f":"COUNTIF(Horaire!N:P,$C70)+COUNTIF(POC!N:P,$C70)+COUNTIF(Horaire!N:P,SUBSTITUTE($C70,\".\",\",\"))+COUNTIF(POC!N:P,SUBSTITUTE($C70,\".\",\",\"))","v":0},null,null,null,null,0,0]
[null,null,"C108.01",{"$f":"VLOOKUP(C71,Traduction!$B$426:$E$926,'Info de l''escadron'!$A$1+1,0)","v":"Exécuter des mouvements d’exercice militaire supplémentaires "},6,{"$f":"COUNTIF(Horaire!K:M,$C71)+COUNTIF(POC!K:M,$C71)+COUNTIF(Horaire!K:M,SUBSTITUTE($C71,\".\",\",\"))+COUNTIF(POC!K:M,SUBSTITUTE($C71,\".\",\",\"))","v":1},{"$f":"COUNTIF(Horaire!N:P,$C71)+COUNTIF(POC!N:P,$C71)+COUNTIF(Horaire!N:P,SUBSTITUTE($C71,\".\",\",\"))+COUNTIF(POC!N:P,SUBSTITUTE($C71,\".\",\",\"))","v":0},null,null,null,null,1,0]
[null,null,{"$f":"CONCATENATE($A$2,\" \",A67,\" - \",VLOOKUP(160,Traduction!$B$6:$E$250,'Info de l''escadron'!$A$1+1,0))","v":"OREN 208 - Total des périodes d'instruction Obligatoires  "},null,3,{"$f":"SUM(F67:F68)","v":3},{"$f":"SUM(G67:G68)","v":0}]
[null,null,{"$f":"CONCATENATE($A$2,\" \",A67,\" - \",VLOOKUP(161,Traduction!$B$6:$E$250,'Info de l''escadron'!$A$1+1,0))","v":"OREN 208 - Total des périodes d'instruction Complémentaires  "},null,16,{"$f":"SUM(F69:F71)","v":1},{"$f":"SUM(G69:G71)","v":0}]
[211,{"$f":"VLOOKUP(A74,Traduction!$B$300:$E$388,'Info de l''escadron'!$A$1+1,0)","v":"Biathlon d'été"},"C211.01",{"$f":"VLOOKUP(C74,Traduction!$B$426:$E$926,'Info de l''escadron'!$A$1+1,0)","v":"Reconnaître les occasions de biathlon civil"},1,{"$f":"COUNTIF(Horaire!K:M,$C74)+COUNTIF(POC!K:M,$C74)+COUNTIF(Horaire!K:M,SUBSTITUTE($C74,\".\",\",\"))+COUNTIF(POC!K:M,SUBSTITUTE($C74,\".\",\",\"))","v":0},{"$f":"COUNTIF(Horaire!N:P,$C74)+COUNTIF(POC!N:P,$C74)+COUNTIF(Horaire!N:P,SUBSTITUTE($C74,\".\",\",\"))+COUNTIF(POC!N:P,SUBSTITUTE($C74,\".\",\",\"))","v":0},null,null,null,null,{"$f":"MIN($E74,F74)","v":0},0]
[null,null,"C211.02",{"$f":"VLOOKUP(C75,Traduction!$B$426:$E$926,'Info de l''escadron'!$A$1+1,0)","v":"Courir sur un terrain à géographie différente"},1,{"$f":"COUNTIF(Horaire!K:M,$C75)+COUNTIF(POC!K:M,$C75)+COUNTIF(Horaire!K:M,SUBSTITUTE($C75,\".\",\",\"))+COUNTIF(POC!K:M,SUBSTITUTE($C75,\".\",\",\"))","v":0},{"$f":"COUNTIF(Horaire!N:P,$C75)+COUNTIF(POC!N:P,$C75)+COUNTIF(Horaire!N:P,SUBSTITUTE($C75,\".\",\",\"))+COUNTIF(POC!N:P,SUBSTITUTE($C75,\".\",\",\"))","v":0},null,null,null,null,0,0]
[null,null,"C211.03",{"$f":"VLOOKUP(C76,Traduction!$B$426:$E$926,'Info de l''escadron'!$A$1+1,0)","v":"Tirer avec la carabine à air comprimé des cadets en se servant d'une bretelle après une activité physique"},1,{"$f":"COUNTIF(Horaire!K:M,$C76)+COUNTIF(POC!K:M,$C76)+COUNTIF(Horaire!K:M,SUBSTITUTE($C76,\".\",\",\"))+COUNTIF(POC!K:M,SUBSTITUTE($C76,\".\",\",\"))","v":0},{"$f":"COUNTIF(Horaire!N:P,$C76)+COUNTIF(POC!N:P,$C76)+COUNTIF(Horaire!N:P,SUBSTITUTE($C76,\".\",\",\"))+COUNTIF(POC!N:P,SUBSTITUTE($C76,\".\",\",\"))","v":0},null,null,null,null,0,0]
[null,null,"C211.04",{"$f":"VLOOKUP(C77,Traduction!$B$426:$E$926,'Info de l''escadron'!$A$1+1,0)","v":"Participer à une activité compétitive de biathlon d'été"},6,{"$f":"COUNTIF(Horaire!K:M,$C77)+COUNTIF(POC!K:M,$C77)+COUNTIF(Horaire!K:M,SUBSTITUTE($C77,\".\",\",\"))+COUNTIF(POC!K:M,SUBSTITUTE($C77,\".\",\",\"))","v":0},{"$f":"COUNTIF(Horaire!N:P,$C77)+COUNTIF(POC!N:P,$C77)+COUNTIF(Horaire!N:P,SUBSTITUTE($C77,\".\",\",\"))+COUNTIF(POC!N:P,SUBSTITUTE($C77,\".\",\",\"))","v":0},null,null,null,null,0,0]
[null,null,{"$f":"CONCATENATE($A$2,\" \",A74,\" - \",VLOOKUP(160,Traduction!$B$6:$E$250,'Info de l''escadron'!$A$1+1,0))","v":"OREN 211 - Total des périodes d'instruction Obligatoires  "},null,0,0]
[null,null,{"$f":"CONCATENATE($A$2,\" \",A74,\" - \",VLOOKUP(161,Traduction!$B$6:$E$250,'Info de l''escadron'!$A$1+1,0))","v":"OREN 211 - Total des périodes d'instruction Complémentaires  "},null,9,{"$f":"SUM(F74:F77)","v":0},{"$f":"SUM(G74:G77)","v":0}]
[220,"Participer aux activités de familiarisation avec les Forces canadiennes (FC)\n\n\n\n\n\n\n\n\n\n","M220.01A","Participer à une activité des FAC",0,{"$f":"COUNTIF(Horaire!E:G,$C80)+COUNTIF(POC!E:G,$C80)+COUNTIF(Horaire!E:G,SUBSTITUTE($C80,\".\",\",\"))+COUNTIF(POC!E:G,SUBSTITUTE($C80,\".\",\",\"))","v":0},{"$f":"COUNTIF(Horaire!H:J,$C80)+COUNTIF(POC!H:J,$C80)+COUNTIF(Horaire!H:J,SUBSTITUTE($C80,\".\",\",\"))+COUNTIF(POC!H:J,SUBSTITUTE($C80,\".\",\",\"))","v":0},null,{"$f":"MIN($E80,F80)","v":0},{"$f":"MIN($E80,G80)","v":0}]
[null,null,"M220.01B","Participer à une activité de familiarisation des FAC",0,{"$f":"COUNTIF(Horaire!E:G,$C81)+COUNTIF(POC!E:G,$C81)+COUNTIF(Horaire!E:G,SUBSTITUTE($C81,\".\",\",\"))+COUNTIF(POC!E:G,SUBSTITUTE($C81,\".\",\",\"))","v":0},{"$f":"COUNTIF(Horaire!H:J,$C81)+COUNTIF(POC!H:J,$C81)+COUNTIF(Horaire!H:J,SUBSTITUTE($C81,\".\",\",\"))+COUNTIF(POC!H:J,SUBSTITUTE($C81,\".\",\",\"))","v":0},null,{"$f":"MIN($E81,F81)","v":0},{"$f":"MIN($E81,G81)","v":0}]
[null,null,"M220.01C","Tirer avec le fusil C7",0,{"$f":"COUNTIF(Horaire!E:G,$C82)+COUNTIF(POC!E:G,$C82)+COUNTIF(Horaire!E:G,SUBSTITUTE($C82,\".\",\",\"))+COUNTIF(POC!E:G,SUBSTITUTE($C82,\".\",\",\"))","v":0},{"$f":"COUNTIF(Horaire!H:J,$C82)+COUNTIF(POC!H:J,$C82)+COUNTIF(Horaire!H:J,SUBSTITUTE($C82,\".\",\",\"))+COUNTIF(POC!H:J,SUBSTITUTE($C82,\".\",\",\"))","v":0},null,null,null,null,{"$f":"MIN($E82,F82)","v":0},0]
[null,null,"M220.01D","Participer à une dîner régimentaire",0,3,{"$f":"COUNTIF(Horaire!H:J,$C83)+COUNTIF(POC!H:J,$C83)+COUNTIF(Horaire!H:J,SUBSTITUTE($C83,\".\",\",\"))+COUNTIF(POC!H:J,SUBSTITUTE($C83,\".\",\",\"))","v":0},null,null,null,null,0,0]
[null,null,"M220.01E","Assister à une présentation des FAC",0,1]
[null,null,"M220.01F","Assister à une cérémonie commémorative des FAC",0,{"$f":"COUNTIF(Horaire!E:G,$C85)+COUNTIF(POC!E:G,$C85)+COUNTIF(Horaire!E:G,SUBSTITUTE($C85,\".\",\",\"))+COUNTIF(POC!E:G,SUBSTITUTE($C85,\".\",\",\"))","v":0}]
[null,null,"M220.01G","Participer à des activités relatives aux vidéos des FAC",0,{"$f":"COUNTIF(Horaire!E:G,$C86)+COUNTIF(POC!E:G,$C86)+COUNTIF(Horaire!E:G,SUBSTITUTE($C86,\".\",\",\"))+COUNTIF(POC!E:G,SUBSTITUTE($C86,\".\",\",\"))","v":0}]
[null,null,"M220.01H","Participer à des activités d'apprentissage des FAC",0,{"$f":"COUNTIF(Horaire!E:G,$C87)+COUNTIF(POC!E:G,$C87)+COUNTIF(Horaire!E:G,SUBSTITUTE($C87,\".\",\",\"))+COUNTIF(POC!E:G,SUBSTITUTE($C87,\".\",\",\"))","v":0}]
[null,null,"C220.01","Participer à des activités de familiarisation des FAC",18,{"$f":"COUNTIF(Horaire!E:G,$C88)+COUNTIF(POC!E:G,$C88)+COUNTIF(Horaire!E:G,SUBSTITUTE($C88,\".\",\",\"))+COUNTIF(POC!E:G,SUBSTITUTE($C88,\".\",\",\"))","v":0},{"$f":"COUNTIF(Horaire!H:J,$C88)+COUNTIF(POC!H:J,$C88)+COUNTIF(Horaire!H:J,SUBSTITUTE($C88,\".\",\",\"))+COUNTIF(POC!H:J,SUBSTITUTE($C88,\".\",\",\"))","v":0},null,null,null,null,0,0]
[null,null,{"$f":"CONCATENATE($A$2,\" \",A80,\" - \",VLOOKUP(160,Traduction!$B$6:$E$250,'Info de l''escadron'!$A$1+1,0))","v":"OREN 220 - Total des périodes d'instruction Obligatoires  "},null,0,{"$f":"SUM(F80:F87)","v":4},{"$f":"SUM(G80:G81)","v":0}]
[null,null,{"$f":"CONCATENATE($A$2,\" \",A80,\" - \",VLOOKUP(161,Traduction!$B$6:$E$250,'Info de l''escadron'!$A$1+1,0))","v":"OREN 220 - Total des périodes d'instruction Complémentaires  "},null,18,{"$f":"SUM(F88)","v":0},{"$f":"SUM(G82:G88)","v":0}]
[230,{"$f":"VLOOKUP(A91,Traduction!$B$300:$E$388,'Info de l''escadron'!$A$1+1,0)","v":"Histoire de l'aviation canadienne"},"M230.01",{"$f":"VLOOKUP(C91,Traduction!$B$426:$E$926,'Info de l''escadron'!$A$1+1,0)","v":"Discuter des aéronefs pilotés pendant les Première et Seconde Guerres mondiales"},1,{"$f":"COUNTIF(Horaire!K:M,$C91)+COUNTIF(POC!K:M,$C91)+COUNTIF(Horaire!K:M,SUBSTITUTE($C91,\".\",\",\"))+COUNTIF(POC!K:M,SUBSTITUTE($C91,\".\",\",\"))","v":1},{"$f":"COUNTIF(Horaire!N:P,$C91)+COUNTIF(POC!N:P,$C91)+COUNTIF(Horaire!N:P,SUBSTITUTE($C91,\".\",\",\"))+COUNTIF(POC!N:P,SUBSTITUTE($C91,\".\",\",\"))","v":0},null,{"$f":"MIN($E91,F91)","v":1},{"$f":"MIN($E91,G91)","v":0}]
[null,null,"M230.02",{"$f":"VLOOKUP(C92,Traduction!$B$426:$E$926,'Info de l''escadron'!$A$1+1,0)","v":"Discuter des événements qui ont marqué l'histoire militaire canadienne du 20e siècle"},1,{"$f":"COUNTIF(Horaire!K:M,$C92)+COUNTIF(POC!K:M,$C92)+COUNTIF(Horaire!K:M,SUBSTITUTE($C92,\".\",\",\"))+COUNTIF(POC!K:M,SUBSTITUTE($C92,\".\",\",\"))","v":1},{"$f":"COUNTIF(Horaire!N:P,$C92)+COUNTIF(POC!N:P,$C92)+COUNTIF(Horaire!N:P,SUBSTITUTE($C92,\".\",\",\"))+COUNTIF(POC!N:P,SUBSTITUTE($C92,\".\",\",\"))","v":0},null,{"$f":"MIN($E92,F92)","v":1},{"$f":"MIN($E92,G92)","v":0}]
[null,null,"C230.01",{"$f":"VLOOKUP(C93,Traduction!$B$426:$E$926,'Info de l''escadron'!$A$1+1,0)","v":"Participer à une présentation donnée par un membre du bureau des orateurs du Projet Mémoire"},2,{"$f":"COUNTIF(Horaire!K:M,$C93)+COUNTIF(POC!K:M,$C93)+COUNTIF(Horaire!K:M,SUBSTITUTE($C93,\".\",\",\"))+COUNTIF(POC!K:M,SUBSTITUTE($C93,\".\",\",\"))","v":0},{"$f":"COUNTIF(Horaire!N:P,$C93)+COUNTIF(POC!N:P,$C93)+COUNTIF(Horaire!N:P,SUBSTITUTE($C93,\".\",\",\"))+COUNTIF(POC!N:P,SUBSTITUTE($C93,\".\",\",\"))","v":0},null,null,null,null,{"$f":"MIN($E93,F93)","v":0},0]
[null,null,"C230.02",{"$f":"VLOOKUP(C94,Traduction!$B$426:$E$926,'Info de l''escadron'!$A$1+1,0)","v":"Visiter un musée d'aviation de la région"},3,{"$f":"COUNTIF(Horaire!K:M,$C94)+COUNTIF(POC!K:M,$C94)+COUNTIF(Horaire!K:M,SUBSTITUTE($C94,\".\",\",\"))+COUNTIF(POC!K:M,SUBSTITUTE($C94,\".\",\",\"))","v":0},{"$f":"COUNTIF(Horaire!N:P,$C94)+COUNTIF(POC!N:P,$C94)+COUNTIF(Horaire!N:P,SUBSTITUTE($C94,\".\",\",\"))+COUNTIF(POC!N:P,SUBSTITUTE($C94,\".\",\",\"))","v":0},null,null,null,null,0,0]
[null,null,"C230.03",{"$f":"VLOOKUP(C95,Traduction!$B$426:$E$926,'Info de l''escadron'!$A$1+1,0)","v":"Discuter des événements qui ont marqué l'histoire de l'aviation canadienne"},1,{"$f":"COUNTIF(Horaire!K:M,$C95)+COUNTIF(POC!K:M,$C95)+COUNTIF(Horaire!K:M,SUBSTITUTE($C95,\".\",\",\"))+COUNTIF(POC!K:M,SUBSTITUTE($C95,\".\",\",\"))","v":0},{"$f":"COUNTIF(Horaire!N:P,$C95)+COUNTIF(POC!N:P,$C95)+COUNTIF(Horaire!N:P,SUBSTITUTE($C95,\".\",\",\"))+COUNTIF(POC!N:P,SUBSTITUTE($C95,\".\",\",\"))","v":0},null,null,null,null,0,0]
[null,null,"C130.03",{"$f":"VLOOKUP(C96,Traduction!$B$426:$E$926,'Info de l''escadron'!$A$1+1,0)","v":"Visionner un épisode de Sur des ailes canadiennes "},8,{"$f":"COUNTIF(Horaire!K:M,$C96)+COUNTIF(POC!K:M,$C96)+COUNTIF(Horaire!K:M,SUBSTITUTE($C96,\".\",\",\"))+COUNTIF(POC!K:M,SUBSTITUTE($C96,\".\",\",\"))","v":0},{"$f":"COUNTIF(Horaire!N:P,$C96)+COUNTIF(POC!N:P,$C96)+COUNTIF(Horaire!N:P,SUBSTITUTE($C96,\".\",\",\"))+COUNTIF(POC!N:P,SUBSTITUTE($C96,\".\",\",\"))","v":0},null,null,null,null,0,0]
[null,null,{"$f":"CONCATENATE($A$2,\" \",A91,\" - \",VLOOKUP(160,Traduction!$B$6:$E$250,'Info de l''escadron'!$A$1+1,0))","v":"OREN 230 - Total des périodes d'instruction Obligatoires  "},null,2,{"$f":"SUM(F91:F92)","v":2},{"$f":"SUM(G91:G92)","v":0}]
[null,null,{"$f":"CONCATENATE($A$2,\" \",A91,\" - \",VLOOKUP(161,Traduction!$B$6:$E$250,'Info de l''escadron'!$A$1+1,0))","v":"OREN 230 - Total des périodes d'instruction Complémentaires  "},null,14,{"$f":"SUM(F93:F96)","v":0},{"$f":"SUM(G93:G96)","v":0}]
[231,{"$f":"VLOOKUP(A99,Traduction!$B$300:$E$388,'Info de l''escadron'!$A$1+1,0)","v":"Principes de vol"},"M231.01",{"$f":"VLOOKUP(C99,Traduction!$B$426:$E$926,'Info de l''escadron'!$A$1+1,0)","v":"Identifier les quatre forces qui agissent sur un aéronef"},2,{"$f":"COUNTIF(Horaire!K:M,$C99)+COUNTIF(POC!K:M,$C99)+COUNTIF(Horaire!K:M,SUBSTITUTE($C99,\".\",\",\"))+COUNTIF(POC!K:M,SUBSTITUTE($C99,\".\",\",\"))","v":2},{"$f":"COUNTIF(Horaire!N:P,$C99)+COUNTIF(POC!N:P,$C99)+COUNTIF(Horaire!N:P,SUBSTITUTE($C99,\".\",\",\"))+COUNTIF(POC!N:P,SUBSTITUTE($C99,\".\",\",\"))","v":0},null,{"$f":"MIN($E99,F99)","v":2},0]
[null,null,"M231.02",{"$f":"VLOOKUP(C100,Traduction!$B$426:$E$926,'Info de l''escadron'!$A$1+1,0)","v":"Décrire la façon dont la portance se développe sur une voilure d'aéronef"},2,{"$f":"COUNTIF(Horaire!K:M,$C100)+COUNTIF(POC!K:M,$C100)+COUNTIF(Horaire!K:M,SUBSTITUTE($C100,\".\",\",\"))+COUNTIF(POC!K:M,SUBSTITUTE($C100,\".\",\",\"))","v":2},{"$f":"COUNTIF(Horaire!N:P,$C100)+COUNTIF(POC!N:P,$C100)+COUNTIF(Horaire!N:P,SUBSTITUTE($C100,\".\",\",\"))+COUNTIF(POC!N:P,SUBSTITUTE($C100,\".\",\",\"))","v":0},null,2,0]
[null,null,"M231.03",{"$f":"VLOOKUP(C101,Traduction!$B$426:$E$926,'Info de l''escadron'!$A$1+1,0)","v":"Décrire les types de trainée qui agissent sur un aéronef"},2,{"$f":"COUNTIF(Horaire!K:M,$C101)+COUNTIF(POC!K:M,$C101)+COUNTIF(Horaire!K:M,SUBSTITUTE($C101,\".\",\",\"))+COUNTIF(POC!K:M,SUBSTITUTE($C101,\".\",\",\"))","v":2},{"$f":"COUNTIF(Horaire!N:P,$C101)+COUNTIF(POC!N:P,$C101)+COUNTIF(Horaire!N:P,SUBSTITUTE($C101,\".\",\",\"))+COUNTIF(POC!N:P,SUBSTITUTE($C101,\".\",\",\"))","v":0},null,2,0]
[null,null,"M231.04",{"$f":"VLOOKUP(C102,Traduction!$B$426:$E$926,'Info de l''escadron'!$A$1+1,0)","v":"Décrire les mouvements axiaux d'un aéronef"},1,{"$f":"COUNTIF(Horaire!K:M,$C102)+COUNTIF(POC!K:M,$C102)+COUNTIF(Horaire!K:M,SUBSTITUTE($C102,\".\",\",\"))+COUNTIF(POC!K:M,SUBSTITUTE($C102,\".\",\",\"))","v":1},{"$f":"COUNTIF(Horaire!N:P,$C102)+COUNTIF(POC!N:P,$C102)+COUNTIF(Horaire!N:P,SUBSTITUTE($C102,\".\",\",\"))+COUNTIF(POC!N:P,SUBSTITUTE($C102,\".\",\",\"))","v":0},null,1,0]
[null,null,"M231.05",{"$f":"VLOOKUP(C103,Traduction!$B$426:$E$926,'Info de l''escadron'!$A$1+1,0)","v":"Décrire les gouvernes d'un aéronef"},2,{"$f":"COUNTIF(Horaire!K:M,$C103)+COUNTIF(POC!K:M,$C103)+COUNTIF(Horaire!K:M,SUBSTITUTE($C103,\".\",\",\"))+COUNTIF(POC!K:M,SUBSTITUTE($C103,\".\",\",\"))","v":2},{"$f":"COUNTIF(Horaire!N:P,$C103)+COUNTIF(POC!N:P,$C103)+COUNTIF(Horaire!N:P,SUBSTITUTE($C103,\".\",\",\"))+COUNTIF(POC!N:P,SUBSTITUTE($C103,\".\",\",\"))","v":0},null,2,0]
[null,null,"C231.01",{"$f":"VLOOKUP(C104,Traduction!$B$426:$E$926,'Info de l''escadron'!$A$1+1,0)","v":"Faire fonctionner une voilure expérimentale"},2,{"$f":"COUNTIF(Horaire!K:M,$C104)+COUNTIF(POC!K:M,$C104)+COUNTIF(Horaire!K:M,SUBSTITUTE($C104,\".\",\",\"))+COUNTIF(POC!K:M,SUBSTITUTE($C104,\".\",\",\"))","v":0},{"$f":"COUNTIF(Horaire!N:P,$C104)+COUNTIF(POC!N:P,$C104)+COUNTIF(Horaire!N:P,SUBSTITUTE($C104,\".\",\",\"))+COUNTIF(POC!N:P,SUBSTITUTE($C104,\".\",\",\"))","v":0},null,null,null,null,{"$f":"MIN($E104,F104)","v":0},{"$f":"MIN($E104,G104)","v":0}]
[null,null,"C231.02",{"$f":"VLOOKUP(C105,Traduction!$B$426:$E$926,'Info de l''escadron'!$A$1+1,0)","v":"Faire voler un planeur Golditz en papier"},2,{"$f":"COUNTIF(Horaire!K:M,$C105)+COUNTIF(POC!K:M,$C105)+COUNTIF(Horaire!K:M,SUBSTITUTE($C105,\".\",\",\"))+COUNTIF(POC!K:M,SUBSTITUTE($C105,\".\",\",\"))","v":0},{"$f":"COUNTIF(Horaire!N:P,$C105)+COUNTIF(POC!N:P,$C105)+COUNTIF(Horaire!N:P,SUBSTITUTE($C105,\".\",\",\"))+COUNTIF(POC!N:P,SUBSTITUTE($C105,\".\",\",\"))","v":0},null,null,null,null,0,0]
[null,null,"C231.03",{"$f":"VLOOKUP(C106,Traduction!$B$426:$E$926,'Info de l''escadron'!$A$1+1,0)","v":"Visiter une école de pilotage"},3,{"$f":"COUNTIF(Horaire!K:M,$C106)+COUNTIF(POC!K:M,$C106)+COUNTIF(Horaire!K:M,SUBSTITUTE($C106,\".\",\",\"))+COUNTIF(POC!K:M,SUBSTITUTE($C106,\".\",\",\"))","v":0},{"$f":"COUNTIF(Horaire!N:P,$C106)+COUNTIF(POC!N:P,$C106)+COUNTIF(Horaire!N:P,SUBSTITUTE($C106,\".\",\",\"))+COUNTIF(POC!N:P,SUBSTITUTE($C106,\".\",\",\"))","v":0},null,null,null,null,0,0]
[null,null,"C231.04",{"$f":"VLOOKUP(C107,Traduction!$B$426:$E$926,'Info de l''escadron'!$A$1+1,0)","v":"Participer à une présentation donnée par un conférencier du milieu de l'aviation local"},2,{"$f":"COUNTIF(Horaire!K:M,$C107)+COUNTIF(POC!K:M,$C107)+COUNTIF(Horaire!K:M,SUBSTITUTE($C107,\".\",\",\"))+COUNTIF(POC!K:M,SUBSTITUTE($C107,\".\",\",\"))","v":0},{"$f":"COUNTIF(Horaire!N:P,$C107)+COUNTIF(POC!N:P,$C107)+COUNTIF(Horaire!N:P,SUBSTITUTE($C107,\".\",\",\"))+COUNTIF(POC!N:P,SUBSTITUTE($C107,\".\",\",\"))","v":0},null,null,null,null,0,0]
[null,null,"C231.05",{"$f":"VLOOKUP(C108,Traduction!$B$426:$E$926,'Info de l''escadron'!$A$1+1,0)","v":"Visiter un simulateur de vol"},3,{"$f":"COUNTIF(Horaire!K:M,$C108)+COUNTIF(POC!K:M,$C108)+COUNTIF(Horaire!K:M,SUBSTITUTE($C108,\".\",\",\"))+COUNTIF(POC!K:M,SUBSTITUTE($C108,\".\",\",\"))","v":0},{"$f":"COUNTIF(Horaire!N:P,$C108)+COUNTIF(POC!N:P,$C108)+COUNTIF(Horaire!N:P,SUBSTITUTE($C108,\".\",\",\"))+COUNTIF(POC!N:P,SUBSTITUTE($C108,\".\",\",\"))","v":0},null,null,null,null,0,0]
[null,null,"C231.06",{"$f":"VLOOKUP(C109,Traduction!$B$426:$E$926,'Info de l''escadron'!$A$1+1,0)","v":"Assister à un spectacle aérien de la région"},6,{"$f":"COUNTIF(Horaire!K:M,$C109)+COUNTIF(POC!K:M,$C109)+COUNTIF(Horaire!K:M,SUBSTITUTE($C109,\".\",\",\"))+COUNTIF(POC!K:M,SUBSTITUTE($C109,\".\",\",\"))","v":0},{"$f":"COUNTIF(Horaire!N:P,$C109)+COUNTIF(POC!N:P,$C109)+COUNTIF(Horaire!N:P,SUBSTITUTE($C109,\".\",\",\"))+COUNTIF(POC!N:P,SUBSTITUTE($C109,\".\",\",\"))","v":0},null,null,null,null,0,0]
[null,null,{"$f":"CONCATENATE($A$2,\" \",A99,\" - \",VLOOKUP(160,Traduction!$B$6:$E$250,'Info de l''escadron'!$A$1+1,0))","v":"OREN 231 - Total des périodes d'instruction Obligatoires  "},null,9,{"$f":"SUM(F99:F103)","v":9},{"$f":"SUM(G99:G103)","v":0}]
[null,null,{"$f":"CONCATENATE($A$2,\" \",A99,\" - \",VLOOKUP(161,Traduction!$B$6:$E$250,'Info de l''escadron'!$A$1+1,0))","v":"OREN 231 - Total des périodes d'instruction Complémentaires  "},null,18,{"$f":"SUM(F104:F109)","v":0},{"$f":"SUM(G104:G109)","v":0}]
[232,{"$f":"VLOOKUP(A112,Traduction!$B$300:$E$388,'Info de l''escadron'!$A$1+1,0)","v":"Identifier les caractéristiques d'un aéronef à moteur à pistons"},"M232.01",{"$f":"VLOOKUP(C112,Traduction!$B$426:$E$926,'Info de l''escadron'!$A$1+1,0)","v":"Identifier les types de moteurs d'aéronef"},1,{"$f":"COUNTIF(Horaire!K:M,$C112)+COUNTIF(POC!K:M,$C112)+COUNTIF(Horaire!K:M,SUBSTITUTE($C112,\".\",\",\"))+COUNTIF(POC!K:M,SUBSTITUTE($C112,\".\",\",\"))","v":1},{"$f":"COUNTIF(Horaire!N:P,$C112)+COUNTIF(POC!N:P,$C112)+COUNTIF(Horaire!N:P,SUBSTITUTE($C112,\".\",\",\"))+COUNTIF(POC!N:P,SUBSTITUTE($C112,\".\",\",\"))","v":0},null,{"$f":"MIN($E112,F112)","v":1},0]
[null,null,"M232.02",{"$f":"VLOOKUP(C113,Traduction!$B$426:$E$926,'Info de l''escadron'!$A$1+1,0)","v":"Identifier les composants des moteurs à piston à combustion interne"},2,{"$f":"COUNTIF(Horaire!K:M,$C113)+COUNTIF(POC!K:M,$C113)+COUNTIF(Horaire!K:M,SUBSTITUTE($C113,\".\",\",\"))+COUNTIF(POC!K:M,SUBSTITUTE($C113,\".\",\",\"))","v":2},{"$f":"COUNTIF(Horaire!N:P,$C113)+COUNTIF(POC!N:P,$C113)+COUNTIF(Horaire!N:P,SUBSTITUTE($C113,\".\",\",\"))+COUNTIF(POC!N:P,SUBSTITUTE($C113,\".\",\",\"))","v":0},null,2,0]
[null,null,"M232.03",{"$f":"VLOOKUP(C114,Traduction!$B$426:$E$926,'Info de l''escadron'!$A$1+1,0)","v":"Expliquer les cycles d'un moteur à piston à quatre temps"},2,{"$f":"COUNTIF(Horaire!K:M,$C114)+COUNTIF(POC!K:M,$C114)+COUNTIF(Horaire!K:M,SUBSTITUTE($C114,\".\",\",\"))+COUNTIF(POC!K:M,SUBSTITUTE($C114,\".\",\",\"))","v":2},{"$f":"COUNTIF(Horaire!N:P,$C114)+COUNTIF(POC!N:P,$C114)+COUNTIF(Horaire!N:P,SUBSTITUTE($C114,\".\",\",\"))+COUNTIF(POC!N:P,SUBSTITUTE($C114,\".\",\",\"))","v":0},null,2,0]
[null,null,"M232.04",{"$f":"VLOOKUP(C115,Traduction!$B$426:$E$926,'Info de l''escadron'!$A$1+1,0)","v":"Reconnaître les fonctions de l'huile dans un moteur à piston à quatre temps"},1,{"$f":"COUNTIF(Horaire!K:M,$C115)+COUNTIF(POC!K:M,$C115)+COUNTIF(Horaire!K:M,SUBSTITUTE($C115,\".\",\",\"))+COUNTIF(POC!K:M,SUBSTITUTE($C115,\".\",\",\"))","v":1},{"$f":"COUNTIF(Horaire!N:P,$C115)+COUNTIF(POC!N:P,$C115)+COUNTIF(Horaire!N:P,SUBSTITUTE($C115,\".\",\",\"))+COUNTIF(POC!N:P,SUBSTITUTE($C115,\".\",\",\"))","v":0},null,1,0]
[null,null,"C232.01",{"$f":"VLOOKUP(C116,Traduction!$B$426:$E$926,'Info de l''escadron'!$A$1+1,0)","v":"Identifier les caractéristiques des turbines à gaz"},2,{"$f":"COUNTIF(Horaire!K:M,$C116)+COUNTIF(POC!K:M,$C116)+COUNTIF(Horaire!K:M,SUBSTITUTE($C116,\".\",\",\"))+COUNTIF(POC!K:M,SUBSTITUTE($C116,\".\",\",\"))","v":1},{"$f":"COUNTIF(Horaire!N:P,$C116)+COUNTIF(POC!N:P,$C116)+COUNTIF(Horaire!N:P,SUBSTITUTE($C116,\".\",\",\"))+COUNTIF(POC!N:P,SUBSTITUTE($C116,\".\",\",\"))","v":0},null,null,null,null,{"$f":"MIN($E116,F116)","v":1},0]
[null,null,"C232.02",{"$f":"VLOOKUP(C117,Traduction!$B$426:$E$926,'Info de l''escadron'!$A$1+1,0)","v":"Identifier les caractéristiques des moteurs-fusées"},2,{"$f":"COUNTIF(Horaire!K:M,$C117)+COUNTIF(POC!K:M,$C117)+COUNTIF(Horaire!K:M,SUBSTITUTE($C117,\".\",\",\"))+COUNTIF(POC!K:M,SUBSTITUTE($C117,\".\",\",\"))","v":1},{"$f":"COUNTIF(Horaire!N:P,$C117)+COUNTIF(POC!N:P,$C117)+COUNTIF(Horaire!N:P,SUBSTITUTE($C117,\".\",\",\"))+COUNTIF(POC!N:P,SUBSTITUTE($C117,\".\",\",\"))","v":0},null,null,null,null,1,0]
[null,null,"C232.03",{"$f":"VLOOKUP(C118,Traduction!$B$426:$E$926,'Info de l''escadron'!$A$1+1,0)","v":"Identifier les caractéristiques des moteurs d'hélicoptère"},2,{"$f":"COUNTIF(Horaire!K:M,$C118)+COUNTIF(POC!K:M,$C118)+COUNTIF(Horaire!K:M,SUBSTITUTE($C118,\".\",\",\"))+COUNTIF(POC!K:M,SUBSTITUTE($C118,\".\",\",\"))","v":1},{"$f":"COUNTIF(Horaire!N:P,$C118)+COUNTIF(POC!N:P,$C118)+COUNTIF(Horaire!N:P,SUBSTITUTE($C118,\".\",\",\"))+COUNTIF(POC!N:P,SUBSTITUTE($C118,\".\",\",\"))","v":0},null,null,null,null,1,0]
[null,null,{"$f":"CONCATENATE($A$2,\" \",A112,\" - \",VLOOKUP(160,Traduction!$B$6:$E$250,'Info de l''escadron'!$A$1+1,0))","v":"OREN 232 - Total des périodes d'instruction Obligatoires  "},null,6,{"$f":"SUM(F112:F115)","v":6},{"$f":"SUM(G112:G115)","v":0}]
[null,null,{"$f":"CONCATENATE($A$2,\" \",A112,\" - \",VLOOKUP(161,Traduction!$B$6:$E$250,'Info de l''escadron'!$A$1+1,0))","v":"OREN 232 - Total des périodes d'instruction Complémentaires  "},null,6,{"$f":"SUM(F116:F118)","v":3},{"$f":"SUM(G116:G118)","v":0}]
[240,{"$f":"VLOOKUP(A121,Traduction!$B$300:$E$388,'Info de l''escadron'!$A$1+1,0)","v":"Participer à des activités aérospatiales"},"M240.01",{"$f":"VLOOKUP(C121,Traduction!$B$426:$E$926,'Info de l''escadron'!$A$1+1,0)","v":"Explorer les avancées technologiques actuelles en aérospatiale"},1,{"$f":"COUNTIF(Horaire!K:M,$C121)+COUNTIF(POC!K:M,$C121)+COUNTIF(Horaire!K:M,SUBSTITUTE($C121,\".\",\",\"))+COUNTIF(POC!K:M,SUBSTITUTE($C121,\".\",\",\"))","v":1},{"$f":"COUNTIF(Horaire!N:P,$C121)+COUNTIF(POC!N:P,$C121)+COUNTIF(Horaire!N:P,SUBSTITUTE($C121,\".\",\",\"))+COUNTIF(POC!N:P,SUBSTITUTE($C121,\".\",\",\"))","v":0},null,{"$f":"MIN($E121,F121)","v":1},0]
[null,null,"M240.02",{"$f":"VLOOKUP(C122,Traduction!$B$426:$E$926,'Info de l''escadron'!$A$1+1,0)","v":"Inventer un objet comportant une technologie spatiale"},2,{"$f":"COUNTIF(Horaire!K:M,$C122)+COUNTIF(POC!K:M,$C122)+COUNTIF(Horaire!K:M,SUBSTITUTE($C122,\".\",\",\"))+COUNTIF(POC!K:M,SUBSTITUTE($C122,\".\",\",\"))","v":2},{"$f":"COUNTIF(Horaire!N:P,$C122)+COUNTIF(POC!N:P,$C122)+COUNTIF(Horaire!N:P,SUBSTITUTE($C122,\".\",\",\"))+COUNTIF(POC!N:P,SUBSTITUTE($C122,\".\",\",\"))","v":0},null,2,0]
[null,null,"M240.03",{"$f":"VLOOKUP(C123,Traduction!$B$426:$E$926,'Info de l''escadron'!$A$1+1,0)","v":"Participer à une mise en situation de survie dans l'espace"},1,{"$f":"COUNTIF(Horaire!K:M,$C123)+COUNTIF(POC!K:M,$C123)+COUNTIF(Horaire!K:M,SUBSTITUTE($C123,\".\",\",\"))+COUNTIF(POC!K:M,SUBSTITUTE($C123,\".\",\",\"))","v":1},{"$f":"COUNTIF(Horaire!N:P,$C123)+COUNTIF(POC!N:P,$C123)+COUNTIF(Horaire!N:P,SUBSTITUTE($C123,\".\",\",\"))+COUNTIF(POC!N:P,SUBSTITUTE($C123,\".\",\",\"))","v":0},null,1,0]
[null,null,"C240.01",{"$f":"VLOOKUP(C124,Traduction!$B$426:$E$926,'Info de l''escadron'!$A$1+1,0)","v":"Participer à une activité de communication non verbale"},1,{"$f":"COUNTIF(Horaire!K:M,$C124)+COUNTIF(POC!K:M,$C124)+COUNTIF(Horaire!K:M,SUBSTITUTE($C124,\".\",\",\"))+COUNTIF(POC!K:M,SUBSTITUTE($C124,\".\",\",\"))","v":1},{"$f":"COUNTIF(Horaire!N:P,$C124)+COUNTIF(POC!N:P,$C124)+COUNTIF(Horaire!N:P,SUBSTITUTE($C124,\".\",\",\"))+COUNTIF(POC!N:P,SUBSTITUTE($C124,\".\",\",\"))","v":0},null,null,null,null,{"$f":"MIN($E124,F124)","v":1},{"$f":"MIN($E124,G124)","v":0}]
[null,null,"C240.02",{"$f":"VLOOKUP(C125,Traduction!$B$426:$E$926,'Info de l''escadron'!$A$1+1,0)","v":"Inventer un système de communication pour l'espace"},2,{"$f":"COUNTIF(Horaire!K:M,$C125)+COUNTIF(POC!K:M,$C125)+COUNTIF(Horaire!K:M,SUBSTITUTE($C125,\".\",\",\"))+COUNTIF(POC!K:M,SUBSTITUTE($C125,\".\",\",\"))","v":0},{"$f":"COUNTIF(Horaire!N:P,$C125)+COUNTIF(POC!N:P,$C125)+COUNTIF(Horaire!N:P,SUBSTITUTE($C125,\".\",\",\"))+COUNTIF(POC!N:P,SUBSTITUTE($C125,\".\",\",\"))","v":0},null,null,null,null,0,0]
[null,null,"C240.03",{"$f":"VLOOKUP(C126,Traduction!$B$426:$E$926,'Info de l''escadron'!$A$1+1,0)","v":"identifier les parties d'une fusée"},1,{"$f":"COUNTIF(Horaire!K:M,$C126)+COUNTIF(POC!K:M,$C126)+COUNTIF(Horaire!K:M,SUBSTITUTE($C126,\".\",\",\"))+COUNTIF(POC!K:M,SUBSTITUTE($C126,\".\",\",\"))","v":1},{"$f":"COUNTIF(Horaire!N:P,$C126)+COUNTIF(POC!N:P,$C126)+COUNTIF(Horaire!N:P,SUBSTITUTE($C126,\".\",\",\"))+COUNTIF(POC!N:P,SUBSTITUTE($C126,\".\",\",\"))","v":0},null,null,null,null,1,0]
[null,null,"C240.04",{"$f":"VLOOKUP(C127,Traduction!$B$426:$E$926,'Info de l''escadron'!$A$1+1,0)","v":"Naviguer à l'aide d'un système mondial de positionnement (GPS)"},3,{"$f":"COUNTIF(Horaire!K:M,$C127)+COUNTIF(POC!K:M,$C127)+COUNTIF(Horaire!K:M,SUBSTITUTE($C127,\".\",\",\"))+COUNTIF(POC!K:M,SUBSTITUTE($C127,\".\",\",\"))","v":0},{"$f":"COUNTIF(Horaire!N:P,$C127)+COUNTIF(POC!N:P,$C127)+COUNTIF(Horaire!N:P,SUBSTITUTE($C127,\".\",\",\"))+COUNTIF(POC!N:P,SUBSTITUTE($C127,\".\",\",\"))","v":0},null,null,null,null,0,0]
[null,null,"C240.05",{"$f":"VLOOKUP(C128,Traduction!$B$426:$E$926,'Info de l''escadron'!$A$1+1,0)","v":"Simuler une situation de survie dans l’espace"},2,{"$f":"COUNTIF(Horaire!K:M,$C128)+COUNTIF(POC!K:M,$C128)+COUNTIF(Horaire!K:M,SUBSTITUTE($C128,\".\",\",\"))+COUNTIF(POC!K:M,SUBSTITUTE($C128,\".\",\",\"))","v":0},{"$f":"COUNTIF(Horaire!N:P,$C128)+COUNTIF(POC!N:P,$C128)+COUNTIF(Horaire!N:P,SUBSTITUTE($C128,\".\",\",\"))+COUNTIF(POC!N:P,SUBSTITUTE($C128,\".\",\",\"))","v":0},null,null,null,null,0,0]
[null,null,"C240.06",{"$f":"VLOOKUP(C129,Traduction!$B$426:$E$926,'Info de l''escadron'!$A$1+1,0)","v":"S'orienter à l'aide des constellations pendant un exercice d'entraînement en campagne"},1,{"$f":"COUNTIF(Horaire!K:M,$C129)+COUNTIF(POC!K:M,$C129)+COUNTIF(Horaire!K:M,SUBSTITUTE($C129,\".\",\",\"))+COUNTIF(POC!K:M,SUBSTITUTE($C129,\".\",\",\"))","v":0},{"$f":"COUNTIF(Horaire!N:P,$C129)+COUNTIF(POC!N:P,$C129)+COUNTIF(Horaire!N:P,SUBSTITUTE($C129,\".\",\",\"))+COUNTIF(POC!N:P,SUBSTITUTE($C129,\".\",\",\"))","v":0},null,null,null,null,0,0]
[null,null,{"$f":"CONCATENATE($A$2,\" \",A121,\" - \",VLOOKUP(160,Traduction!$B$6:$E$250,'Info de l''escadron'!$A$1+1,0))","v":"OREN 240 - Total des périodes d'instruction Obligatoires  "},null,4,{"$f":"SUM(F121:F123)","v":4},{"$f":"SUM(G121:G123)","v":0}]
[null,null,{"$f":"CONCATENATE($A$2,\" \",A121,\" - \",VLOOKUP(161,Traduction!$B$6:$E$250,'Info de l''escadron'!$A$1+1,0))","v":"OREN 240 - Total des périodes d'instruction Complémentaires  "},null,10,{"$f":"SUM(F124:F129)","v":2},{"$f":"SUM(G124:G129)","v":0}]
[260,{"$f":"VLOOKUP(A132,Traduction!$B$300:$E$388,'Info de l''escadron'!$A$1+1,0)","v":"Opérations d'aérodrome"},"M260.01",{"$f":"VLOOKUP(C132,Traduction!$B$426:$E$926,'Info de l''escadron'!$A$1+1,0)","v":"Expliquer les aspects du contrôle de la circulation aérienne"},1,{"$f":"COUNTIF(Horaire!K:M,$C132)+COUNTIF(POC!K:M,$C132)+COUNTIF(Horaire!K:M,SUBSTITUTE($C132,\".\",\",\"))+COUNTIF(POC!K:M,SUBSTITUTE($C132,\".\",\",\"))","v":1},{"$f":"COUNTIF(Horaire!N:P,$C132)+COUNTIF(POC!N:P,$C132)+COUNTIF(Horaire!N:P,SUBSTITUTE($C132,\".\",\",\"))+COUNTIF(POC!N:P,SUBSTITUTE($C132,\".\",\",\"))","v":0},null,{"$f":"MIN($E132,F132)","v":1},{"$f":"MIN($E132,G132)","v":0}]
[null,null,"M260.02",{"$f":"VLOOKUP(C133,Traduction!$B$426:$E$926,'Info de l''escadron'!$A$1+1,0)","v":"Identifier les aspects des opérations d'aérodrome de la base"},1,{"$f":"COUNTIF(Horaire!K:M,$C133)+COUNTIF(POC!K:M,$C133)+COUNTIF(Horaire!K:M,SUBSTITUTE($C133,\".\",\",\"))+COUNTIF(POC!K:M,SUBSTITUTE($C133,\".\",\",\"))","v":1},{"$f":"COUNTIF(Horaire!N:P,$C133)+COUNTIF(POC!N:P,$C133)+COUNTIF(Horaire!N:P,SUBSTITUTE($C133,\".\",\",\"))+COUNTIF(POC!N:P,SUBSTITUTE($C133,\".\",\",\"))","v":0},null,{"$f":"MIN($E133,F133)","v":1},{"$f":"MIN($E133,G133)","v":0}]
[null,null,"C260.01",{"$f":"VLOOKUP(C134,Traduction!$B$426:$E$926,'Info de l''escadron'!$A$1+1,0)","v":"Visiter l'installation de sécurité d'un aérodrome"},3,{"$f":"COUNTIF(Horaire!K:M,$C134)+COUNTIF(POC!K:M,$C134)+COUNTIF(Horaire!K:M,SUBSTITUTE($C134,\".\",\",\"))+COUNTIF(POC!K:M,SUBSTITUTE($C134,\".\",\",\"))","v":0},{"$f":"COUNTIF(Horaire!N:P,$C134)+COUNTIF(POC!N:P,$C134)+COUNTIF(Horaire!N:P,SUBSTITUTE($C134,\".\",\",\"))+COUNTIF(POC!N:P,SUBSTITUTE($C134,\".\",\",\"))","v":0},null,null,null,null,{"$f":"MIN($E134,F134)","v":0},0]
[null,null,"C260.02",{"$f":"VLOOKUP(C135,Traduction!$B$426:$E$926,'Info de l''escadron'!$A$1+1,0)","v":"Visiter une tour de contrôle de la circulation aérienne"},3,{"$f":"COUNTIF(Horaire!K:M,$C135)+COUNTIF(POC!K:M,$C135)+COUNTIF(Horaire!K:M,SUBSTITUTE($C135,\".\",\",\"))+COUNTIF(POC!K:M,SUBSTITUTE($C135,\".\",\",\"))","v":0},{"$f":"COUNTIF(Horaire!N:P,$C135)+COUNTIF(POC!N:P,$C135)+COUNTIF(Horaire!N:P,SUBSTITUTE($C135,\".\",\",\"))+COUNTIF(POC!N:P,SUBSTITUTE($C135,\".\",\",\"))","v":0},null,null,null,null,0,0]
[null,null,"C260.03",{"$f":"VLOOKUP(C136,Traduction!$B$426:$E$926,'Info de l''escadron'!$A$1+1,0)","v":"Participer à une présentation donnée par un employé d'aérodrome"},2,{"$f":"COUNTIF(Horaire!K:M,$C136)+COUNTIF(POC!K:M,$C136)+COUNTIF(Horaire!K:M,SUBSTITUTE($C136,\".\",\",\"))+COUNTIF(POC!K:M,SUBSTITUTE($C136,\".\",\",\"))","v":0},{"$f":"COUNTIF(Horaire!N:P,$C136)+COUNTIF(POC!N:P,$C136)+COUNTIF(Horaire!N:P,SUBSTITUTE($C136,\".\",\",\"))+COUNTIF(POC!N:P,SUBSTITUTE($C136,\".\",\",\"))","v":0},null,null,null,null,0,0]
[null,null,"C260.04",{"$f":"VLOOKUP(C137,Traduction!$B$426:$E$926,'Info de l''escadron'!$A$1+1,0)","v":"Effectuer le guidage des avions au sol"},1,{"$f":"COUNTIF(Horaire!K:M,$C137)+COUNTIF(POC!K:M,$C137)+COUNTIF(Horaire!K:M,SUBSTITUTE($C137,\".\",\",\"))+COUNTIF(POC!K:M,SUBSTITUTE($C137,\".\",\",\"))","v":0},{"$f":"COUNTIF(Horaire!N:P,$C137)+COUNTIF(POC!N:P,$C137)+COUNTIF(Horaire!N:P,SUBSTITUTE($C137,\".\",\",\"))+COUNTIF(POC!N:P,SUBSTITUTE($C137,\".\",\",\"))","v":0},null,null,null,null,0,0]
[null,null,"C260.05",{"$f":"VLOOKUP(C138,Traduction!$B$426:$E$926,'Info de l''escadron'!$A$1+1,0)","v":"Visiter un aérodrome"},3,{"$f":"COUNTIF(Horaire!K:M,$C138)+COUNTIF(POC!K:M,$C138)+COUNTIF(Horaire!K:M,SUBSTITUTE($C138,\".\",\",\"))+COUNTIF(POC!K:M,SUBSTITUTE($C138,\".\",\",\"))","v":0},{"$f":"COUNTIF(Horaire!N:P,$C138)+COUNTIF(POC!N:P,$C138)+COUNTIF(Horaire!N:P,SUBSTITUTE($C138,\".\",\",\"))+COUNTIF(POC!N:P,SUBSTITUTE($C138,\".\",\",\"))","v":0},null,null,null,null,0,0]
[null,null,{"$f":"CONCATENATE($A$2,\" \",A132,\" - \",VLOOKUP(160,Traduction!$B$6:$E$250,'Info de l''escadron'!$A$1+1,0))","v":"OREN 260 - Total des périodes d'instruction Obligatoires  "},null,2,{"$f":"SUM(F132:F133)","v":2},{"$f":"SUM(G132:G133)","v":0}]
[null,null,{"$f":"CONCATENATE($A$2,\" \",A132,\" - \",VLOOKUP(161,Traduction!$B$6:$E$250,'Info de l''escadron'!$A$1+1,0))","v":"OREN 260 - Total des périodes d'instruction Complémentaires  "},null,12,{"$f":"SUM(F134:F138)","v":0},{"$f":"SUM(G134:G138)","v":0}]
[270,{"$f":"VLOOKUP(A141,Traduction!$B$300:$E$388,'Info de l''escadron'!$A$1+1,0)","v":"Discuter de la fabrication et la maintenance des aéronefs"},"M270.01",{"$f":"VLOOKUP(C141,Traduction!$B$426:$E$926,'Info de l''escadron'!$A$1+1,0)","v":"Identifier les aspects de la fabrication des aéronefs"},2,{"$f":"COUNTIF(Horaire!K:M,$C141)+COUNTIF(POC!K:M,$C141)+COUNTIF(Horaire!K:M,SUBSTITUTE($C141,\".\",\",\"))+COUNTIF(POC!K:M,SUBSTITUTE($C141,\".\",\",\"))","v":2},{"$f":"COUNTIF(Horaire!N:P,$C141)+COUNTIF(POC!N:P,$C141)+COUNTIF(Horaire!N:P,SUBSTITUTE($C141,\".\",\",\"))+COUNTIF(POC!N:P,SUBSTITUTE($C141,\".\",\",\"))","v":0},null,{"$f":"MIN($E141,F141)","v":2},0]
[null,null,"M270.02",{"$f":"VLOOKUP(C142,Traduction!$B$426:$E$926,'Info de l''escadron'!$A$1+1,0)","v":"Identifier les exigences de maintenance des aéronefs"},2,{"$f":"COUNTIF(Horaire!K:M,$C142)+COUNTIF(POC!K:M,$C142)+COUNTIF(Horaire!K:M,SUBSTITUTE($C142,\".\",\",\"))+COUNTIF(POC!K:M,SUBSTITUTE($C142,\".\",\",\"))","v":2},{"$f":"COUNTIF(Horaire!N:P,$C142)+COUNTIF(POC!N:P,$C142)+COUNTIF(Horaire!N:P,SUBSTITUTE($C142,\".\",\",\"))+COUNTIF(POC!N:P,SUBSTITUTE($C142,\".\",\",\"))","v":0},null,2,0]
[null,null,"M270.03",{"$f":"VLOOKUP(C143,Traduction!$B$426:$E$926,'Info de l''escadron'!$A$1+1,0)","v":"Discuter des occasions d'éducation et d'emploi dans le domaine de la fabrication et de la maintenance d'aéronef"},2,{"$f":"COUNTIF(Horaire!K:M,$C143)+COUNTIF(POC!K:M,$C143)+COUNTIF(Horaire!K:M,SUBSTITUTE($C143,\".\",\",\"))+COUNTIF(POC!K:M,SUBSTITUTE($C143,\".\",\",\"))","v":2},{"$f":"COUNTIF(Horaire!N:P,$C143)+COUNTIF(POC!N:P,$C143)+COUNTIF(Horaire!N:P,SUBSTITUTE($C143,\".\",\",\"))+COUNTIF(POC!N:P,SUBSTITUTE($C143,\".\",\",\"))","v":0},null,2,0]
[null,null,"C270.01",{"$f":"VLOOKUP(C144,Traduction!$B$426:$E$926,'Info de l''escadron'!$A$1+1,0)","v":"Participer à une présentation donnée par un employé du domaine de la fabrication et de la maintenance d'aéronef"},2,{"$f":"COUNTIF(Horaire!K:M,$C144)+COUNTIF(POC!K:M,$C144)+COUNTIF(Horaire!K:M,SUBSTITUTE($C144,\".\",\",\"))+COUNTIF(POC!K:M,SUBSTITUTE($C144,\".\",\",\"))","v":0},{"$f":"COUNTIF(Horaire!N:P,$C144)+COUNTIF(POC!N:P,$C144)+COUNTIF(Horaire!N:P,SUBSTITUTE($C144,\".\",\",\"))+COUNTIF(POC!N:P,SUBSTITUTE($C144,\".\",\",\"))","v":0},null,null,null,null,{"$f":"MIN($E144,F144)","v":0},0]
[null,null,"C270.02",{"$f":"VLOOKUP(C145,Traduction!$B$426:$E$926,'Info de l''escadron'!$A$1+1,0)","v":"Identifier les activités de l'Outil d'apprentissage multimédia interactif (OAMI) du conseil canadien de l'entretien des aéronefs (CCEA)"},1,{"$f":"COUNTIF(Horaire!K:M,$C145)+COUNTIF(POC!K:M,$C145)+COUNTIF(Horaire!K:M,SUBSTITUTE($C145,\".\",\",\"))+COUNTIF(POC!K:M,SUBSTITUTE($C145,\".\",\",\"))","v":0},{"$f":"COUNTIF(Horaire!N:P,$C145)+COUNTIF(POC!N:P,$C145)+COUNTIF(Horaire!N:P,SUBSTITUTE($C145,\".\",\",\"))+COUNTIF(POC!N:P,SUBSTITUTE($C145,\".\",\",\"))","v":0},null,null,null,null,0,0]
[null,null,"C270.03",{"$f":"VLOOKUP(C146,Traduction!$B$426:$E$926,'Info de l''escadron'!$A$1+1,0)","v":"Visiter une avionnerie ou une installation de maintenance d'aéronef"},3,{"$f":"COUNTIF(Horaire!K:M,$C146)+COUNTIF(POC!K:M,$C146)+COUNTIF(Horaire!K:M,SUBSTITUTE($C146,\".\",\",\"))+COUNTIF(POC!K:M,SUBSTITUTE($C146,\".\",\",\"))","v":0},{"$f":"COUNTIF(Horaire!N:P,$C146)+COUNTIF(POC!N:P,$C146)+COUNTIF(Horaire!N:P,SUBSTITUTE($C146,\".\",\",\"))+COUNTIF(POC!N:P,SUBSTITUTE($C146,\".\",\",\"))","v":0},null,null,null,null,0,0]
[null,null,"C270.04",{"$f":"VLOOKUP(C147,Traduction!$B$426:$E$926,'Info de l''escadron'!$A$1+1,0)","v":"Visionner la vidéo intitulée < World Biggest Airliner : Airbus 380 — coming together >"},2,{"$f":"COUNTIF(Horaire!K:M,$C147)+COUNTIF(POC!K:M,$C147)+COUNTIF(Horaire!K:M,SUBSTITUTE($C147,\".\",\",\"))+COUNTIF(POC!K:M,SUBSTITUTE($C147,\".\",\",\"))","v":0},{"$f":"COUNTIF(Horaire!N:P,$C147)+COUNTIF(POC!N:P,$C147)+COUNTIF(Horaire!N:P,SUBSTITUTE($C147,\".\",\",\"))+COUNTIF(POC!N:P,SUBSTITUTE($C147,\".\",\",\"))","v":0},null,null,null,null,0,0]
[null,null,{"$f":"CONCATENATE($A$2,\" \",A141,\" - \",VLOOKUP(160,Traduction!$B$6:$E$250,'Info de l''escadron'!$A$1+1,0))","v":"OREN 270 - Total des périodes d'instruction Obligatoires  "},null,6,{"$f":"SUM(F141:F143)","v":6},{"$f":"SUM(G141:G143)","v":0}]
[null,null,{"$f":"CONCATENATE($A$2,\" \",A141,\" - \",VLOOKUP(161,Traduction!$B$6:$E$250,'Info de l''escadron'!$A$1+1,0))","v":"OREN 270 - Total des périodes d'instruction Complémentaires  "},null,8,{"$f":"SUM(F144:F147)","v":0},{"$f":"SUM(G144:G147)","v":0}]
[290,{"$f":"VLOOKUP(A150,Traduction!$B$300:$E$388,'Info de l''escadron'!$A$1+1,0)","v":"Participer à un exercice en campagne"},"M290.01",{"$f":"VLOOKUP(C150,Traduction!$B$426:$E$926,'Info de l''escadron'!$A$1+1,0)","v":"Construire, allumer, entretenir et éteindre un feu de signalisation"},2,{"$f":"COUNTIF(Horaire!K:M,$C150)+COUNTIF(POC!K:M,$C150)+COUNTIF(Horaire!K:M,SUBSTITUTE($C150,\".\",\",\"))+COUNTIF(POC!K:M,SUBSTITUTE($C150,\".\",\",\"))","v":2},{"$f":"COUNTIF(Horaire!N:P,$C150)+COUNTIF(POC!N:P,$C150)+COUNTIF(Horaire!N:P,SUBSTITUTE($C150,\".\",\",\"))+COUNTIF(POC!N:P,SUBSTITUTE($C150,\".\",\",\"))","v":0},null,{"$f":"MIN($E150,F150)","v":2},{"$f":"MIN($E150,G150)","v":0}]
[null,null,"M290.02",{"$f":"VLOOKUP(C151,Traduction!$B$426:$E$926,'Info de l''escadron'!$A$1+1,0)","v":"Construire un abri de style appentis"},3,{"$f":"COUNTIF(Horaire!K:M,$C151)+COUNTIF(POC!K:M,$C151)+COUNTIF(Horaire!K:M,SUBSTITUTE($C151,\".\",\",\"))+COUNTIF(POC!K:M,SUBSTITUTE($C151,\".\",\",\"))","v":3},{"$f":"COUNTIF(Horaire!N:P,$C151)+COUNTIF(POC!N:P,$C151)+COUNTIF(Horaire!N:P,SUBSTITUTE($C151,\".\",\",\"))+COUNTIF(POC!N:P,SUBSTITUTE($C151,\".\",\",\"))","v":0},null,3,0]
[null,null,"M290.03",{"$f":"VLOOKUP(C152,Traduction!$B$426:$E$926,'Info de l''escadron'!$A$1+1,0)","v":"Construire un collet simple"},2,{"$f":"COUNTIF(Horaire!K:M,$C152)+COUNTIF(POC!K:M,$C152)+COUNTIF(Horaire!K:M,SUBSTITUTE($C152,\".\",\",\"))+COUNTIF(POC!K:M,SUBSTITUTE($C152,\".\",\",\"))","v":2},{"$f":"COUNTIF(Horaire!N:P,$C152)+COUNTIF(POC!N:P,$C152)+COUNTIF(Horaire!N:P,SUBSTITUTE($C152,\".\",\",\"))+COUNTIF(POC!N:P,SUBSTITUTE($C152,\".\",\",\"))","v":0},null,2,0]
[null,null,"M290.04",{"$f":"VLOOKUP(C153,Traduction!$B$426:$E$926,'Info de l''escadron'!$A$1+1,0)","v":"Construire des signaux sol-air"},2,{"$f":"COUNTIF(Horaire!K:M,$C153)+COUNTIF(POC!K:M,$C153)+COUNTIF(Horaire!K:M,SUBSTITUTE($C153,\".\",\",\"))+COUNTIF(POC!K:M,SUBSTITUTE($C153,\".\",\",\"))","v":2},{"$f":"COUNTIF(Horaire!N:P,$C153)+COUNTIF(POC!N:P,$C153)+COUNTIF(Horaire!N:P,SUBSTITUTE($C153,\".\",\",\"))+COUNTIF(POC!N:P,SUBSTITUTE($C153,\".\",\",\"))","v":0},null,2,0]
[null,null,"M290.05",{"$f":"VLOOKUP(C154,Traduction!$B$426:$E$926,'Info de l''escadron'!$A$1+1,0)","v":"Identifier les techniques de randonnée pédestre"},2,{"$f":"COUNTIF(Horaire!K:M,$C154)+COUNTIF(POC!K:M,$C154)+COUNTIF(Horaire!K:M,SUBSTITUTE($C154,\".\",\",\"))+COUNTIF(POC!K:M,SUBSTITUTE($C154,\".\",\",\"))","v":2},{"$f":"COUNTIF(Horaire!N:P,$C154)+COUNTIF(POC!N:P,$C154)+COUNTIF(Horaire!N:P,SUBSTITUTE($C154,\".\",\",\"))+COUNTIF(POC!N:P,SUBSTITUTE($C154,\".\",\",\"))","v":0},null,2,0]
[null,null,"M290.06",{"$f":"VLOOKUP(C155,Traduction!$B$426:$E$926,'Info de l''escadron'!$A$1+1,0)","v":"Utililiser une radio portative"},1,{"$f":"COUNTIF(Horaire!K:M,$C155)+COUNTIF(POC!K:M,$C155)+COUNTIF(Horaire!K:M,SUBSTITUTE($C155,\".\",\",\"))+COUNTIF(POC!K:M,SUBSTITUTE($C155,\".\",\",\"))","v":1},{"$f":"COUNTIF(Horaire!N:P,$C155)+COUNTIF(POC!N:P,$C155)+COUNTIF(Horaire!N:P,SUBSTITUTE($C155,\".\",\",\"))+COUNTIF(POC!N:P,SUBSTITUTE($C155,\".\",\",\"))","v":0},null,1,0]
[null,null,"C290.01",{"$f":"VLOOKUP(C156,Traduction!$B$426:$E$926,'Info de l''escadron'!$A$1+1,0)","v":"Participer à une présentation donnée par un membre d'un organisme de survie"},2,{"$f":"COUNTIF(Horaire!K:M,$C156)+COUNTIF(POC!K:M,$C156)+COUNTIF(Horaire!K:M,SUBSTITUTE($C156,\".\",\",\"))+COUNTIF(POC!K:M,SUBSTITUTE($C156,\".\",\",\"))","v":0},{"$f":"COUNTIF(Horaire!N:P,$C156)+COUNTIF(POC!N:P,$C156)+COUNTIF(Horaire!N:P,SUBSTITUTE($C156,\".\",\",\"))+COUNTIF(POC!N:P,SUBSTITUTE($C156,\".\",\",\"))","v":0},null,null,null,null,{"$f":"MIN($E156,F156)","v":0},0]
[null,null,"C290.02",{"$f":"VLOOKUP(C157,Traduction!$B$426:$E$926,'Info de l''escadron'!$A$1+1,0)","v":"Discuter du dépouillement et de la cuisson des petits animaux"},1,{"$f":"COUNTIF(Horaire!K:M,$C157)+COUNTIF(POC!K:M,$C157)+COUNTIF(Horaire!K:M,SUBSTITUTE($C157,\".\",\",\"))+COUNTIF(POC!K:M,SUBSTITUTE($C157,\".\",\",\"))","v":0},{"$f":"COUNTIF(Horaire!N:P,$C157)+COUNTIF(POC!N:P,$C157)+COUNTIF(Horaire!N:P,SUBSTITUTE($C157,\".\",\",\"))+COUNTIF(POC!N:P,SUBSTITUTE($C157,\".\",\",\"))","v":0},null,null,null,null,0,0]
[null,null,"C290.03",{"$f":"VLOOKUP(C158,Traduction!$B$426:$E$926,'Info de l''escadron'!$A$1+1,0)","v":"Creuser une caverne dans la neige"},3,{"$f":"COUNTIF(Horaire!K:M,$C158)+COUNTIF(POC!K:M,$C158)+COUNTIF(Horaire!K:M,SUBSTITUTE($C158,\".\",\",\"))+COUNTIF(POC!K:M,SUBSTITUTE($C158,\".\",\",\"))","v":0},{"$f":"COUNTIF(Horaire!N:P,$C158)+COUNTIF(POC!N:P,$C158)+COUNTIF(Horaire!N:P,SUBSTITUTE($C158,\".\",\",\"))+COUNTIF(POC!N:P,SUBSTITUTE($C158,\".\",\",\"))","v":0},null,null,null,null,0,0]
[null,null,"C290.04",{"$f":"VLOOKUP(C159,Traduction!$B$426:$E$926,'Info de l''escadron'!$A$1+1,0)","v":"Recueillir de l'eau potable avec un distillateur solaire"},2,{"$f":"COUNTIF(Horaire!K:M,$C159)+COUNTIF(POC!K:M,$C159)+COUNTIF(Horaire!K:M,SUBSTITUTE($C159,\".\",\",\"))+COUNTIF(POC!K:M,SUBSTITUTE($C159,\".\",\",\"))","v":0},{"$f":"COUNTIF(Horaire!N:P,$C159)+COUNTIF(POC!N:P,$C159)+COUNTIF(Horaire!N:P,SUBSTITUTE($C159,\".\",\",\"))+COUNTIF(POC!N:P,SUBSTITUTE($C159,\".\",\",\"))","v":0},null,null,null,null,0,0]
[null,null,"C290.05",{"$f":"VLOOKUP(C160,Traduction!$B$426:$E$926,'Info de l''escadron'!$A$1+1,0)","v":"Participer à une randonnée pédestre"},6,{"$f":"COUNTIF(Horaire!K:M,$C160)+COUNTIF(POC!K:M,$C160)+COUNTIF(Horaire!K:M,SUBSTITUTE($C160,\".\",\",\"))+COUNTIF(POC!K:M,SUBSTITUTE($C160,\".\",\",\"))","v":0},{"$f":"COUNTIF(Horaire!N:P,$C160)+COUNTIF(POC!N:P,$C160)+COUNTIF(Horaire!N:P,SUBSTITUTE($C160,\".\",\",\"))+COUNTIF(POC!N:P,SUBSTITUTE($C160,\".\",\",\"))","v":0},null,null,null,null,0,0]
[null,null,{"$f":"CONCATENATE($A$2,\" \",A150,\" - \",VLOOKUP(160,Traduction!$B$6:$E$250,'Info de l''escadron'!$A$1+1,0))","v":"OREN 290 - Total des périodes d'instruction Obligatoires  "},null,12,{"$f":"SUM(F150:F155)","v":12},{"$f":"SUM(G150:G155)","v":0}]
[null,null,{"$f":"CONCATENATE($A$2,\" \",A150,\" - \",VLOOKUP(161,Traduction!$B$6:$E$250,'Info de l''escadron'!$A$1+1,0))","v":"OREN 290 - Total des périodes d'instruction Complémentaires  "},null,14,{"$f":"SUM(F156:F160)","v":0},{"$f":"SUM(G156:G160)","v":0}]
[{"$f":"VLOOKUP(183,Traduction!$B$6:$E$250,'Info de l''escadron'!$A$1+1,0)","v":"Revue"},{"$f":"VLOOKUP(A163,Traduction!$B$300:$E$388,'Info de l''escadron'!$A$1+1,0)","v":"Cérémonie de la revue annuelle"},{"$f":"VLOOKUP(183,Traduction!$B$6:$E$250,'Info de l''escadron'!$A$1+1,0)","v":"Revue"},{"$f":"VLOOKUP(C163,Traduction!$B$426:$E$926,'Info de l''escadron'!$A$1+1,0)","v":"Cérémonie de la revue annuelle"},3,3,{"$f":"COUNTIF(Horaire!N:P,D163)+COUNTIF(POC!N:P,D163)","v":0},null,{"$f":"MIN($E163,F163)","v":3},{"$f":"MIN($E163,G163)","v":0}]
[null,null,{"$f":"CONCATENATE($A$2,\" \",A163,\" - \",VLOOKUP(160,Traduction!$B$6:$E$250,'Info de l''escadron'!$A$1+1,0))","v":"OREN Revue - Total des périodes d'instruction Obligatoires  "},null,3,{"$f":"F163","v":3},{"$f":"SUM(G163:G163)","v":0}]
[]
[null,null,null,{"$f":"VLOOKUP(172,Traduction!$B$6:$E$250,'Info de l''escadron'!$A$1+1,0)","v":"Total des périodes d'instruction Obligatoires"},{"$f":"SUM(E12,E16,E32,E42,E47,E54,E65,E72,E78,E97,E110,E119,E130,E139,E148,E164)","v":79},{"$f":"SUM(I3:I164)-F167","v":64},{"$f":"SUM(J3:J164)-G167","v":0}]
[null,null,null,{"$f":"VLOOKUP(201,Traduction!$B$6:$E$250,'Info de l''escadron'!$A$1+1,0)","v":"Grand total des périodes d'instruction Obligatoires en campagne"},{"$f":"SUM(E161)","v":12},{"$f":"SUM(I150:I155)","v":12},{"$f":"SUM(J150:J155)","v":0}]
[null,null,null,{"$f":"VLOOKUP(173,Traduction!$B$6:$E$250,'Info de l''escadron'!$A$1+1,0)","v":"Total des périodes d'instruction Complémentaires"},{"$f":"SUM(E13,E17,E33,E43,E48,E55,E66,E73,E79,E98,E111,E120,E131,E140,E149,E162)","v":211},{"$f":"SUM(L3:L164)","v":10},{"$f":"SUM(M3:M164)","v":3}]

{"sheet":"Niv 3","index":5,"n_rows":204,"n_cols":13,"rows_kept":204,"cut":false,"hidden":false,"merged":[[163,0,174,0],[163,1,174,1],[173,2,173,3],[174,2,174,3],[135,0,140,0],[135,1,140,1],[139,2,139,3],[140,2,140,3],[154,2,154,3],[155,0,162,0],[155,1,162,1],[161,2,161,3],[162,2,162,3],[141,0,154,0],[141,1,154,1],[153,2,153,3],[198,0,199,0],[198,1,199,1],[199,2,199,3],[175,0,197,0],[175,1,197,1],[196,2,196,3],[197,2,197,3],[94,0,105,0],[94,1,105,1],[106,0,116,0],[106,1,116,1],[104,2,104,3],[105,2,105,3],[115,2,115,3],[116,2,116,3],[125,0,134,0],[125,1,134,1],[133,2,133,3],[134,2,134,3],[123,2,123,3],[124,2,124,3],[117,0,124,0],[117,1,124,1],[77,2,77,3],[78,0,93,0],[78,1,93,1],[92,2,92,3],[93,2,93,3],[69,0,77,0],[69,1,77,1],[76,2,76,3],[17,0,34,0],[17,1,34,1],[33,2,33,3],[61,0,68,0],[46,0,50,0],[46,1,50,1],[51,0,60,0],[51,1,60,1],[67,2,67,3],[35,0,45,0],[45,2,45,3],[61,1,68,1],[68,2,68,3],[34,2,34,3],[35,1,45,1],[60,2,60,3],[49,2,49,3],[50,2,50,3],[59,2,59,3],[44,2,44,3],[0,8,0,9],[15,2,15,3],[16,2,16,3],[13,0,16,0],[13,1,16,1],[0,11,0,12],[0,0,0,5],[2,0,12,0],[2,1,12,1],[11,2,11,3],[12,2,12,3]]}
["827 Longueuil",null,null,null,null,null,null,null,"M",null,null,"C"]
[{"$f":"VLOOKUP(26,Traduction!$B$6:$E$250,'Info de l''escadron'!$A$1+1,0)","v":"OREN"},{"$f":"VLOOKUP(156,Traduction!$B$6:$E$250,'Info de l''escadron'!$A$1+1,0)","v":"Sujet"},{"$f":"VLOOKUP(65,Traduction!$B$6:$E$250,'Info de l''escadron'!$A$1+1,0)","v":"OCOM"},{"$f":"VLOOKUP(157,Traduction!$B$6:$E$250,'Info de l''escadron'!$A$1+1,0)","v":"Énoncé de performance"},{"$f":"VLOOKUP(158,Traduction!$B$6:$E$250,'Info de l''escadron'!$A$1+1,0)","v":"Prog."},{"$f":"Horaire!Q3","v":"Niveau 3"},{"$f":"Horaire!T3","v":"Niveau 3B"},null,"3","3B",null,"3","3B"]
[301,"Participer à des activités sur le civisme","M301.01A","Participer à une visite reliée au civisme",0,{"$f":"COUNTIF(Horaire!K:M,$C3)+COUNTIF(POC!K:M,$C3)+COUNTIF(Horaire!K:M,SUBSTITUTE($C3,\".\",\",\"))+COUNTIF(POC!K:M,SUBSTITUTE($C3,\".\",\",\"))","v":0},{"$f":"COUNTIF(Horaire!N:P,$C3)+COUNTIF(POC!N:P,$C3)+COUNTIF(Horaire!N:P,SUBSTITUTE($C3,\".\",\",\"))+COUNTIF(POC!N:P,SUBSTITUTE($C3,\".\",\",\"))","v":0},null,{"$f":"MIN($E3,F3)","v":0},{"$f":"MIN($E3,G3)","v":0}]
[null,null,"M301.01B","Assister à une présentation donnée par un organisme communautaire",0,{"$f":"COUNTIF(Horaire!K:M,$C4)+COUNTIF(POC!K:M,$C4)+COUNTIF(Horaire!K:M,SUBSTITUTE($C4,\".\",\",\"))+COUNTIF(POC!K:M,SUBSTITUTE($C4,\".\",\",\"))","v":0},{"$f":"COUNTIF(Horaire!N:P,$C4)+COUNTIF(POC!N:P,$C4)+COUNTIF(Horaire!N:P,SUBSTITUTE($C4,\".\",\",\"))+COUNTIF(POC!N:P,SUBSTITUTE($C4,\".\",\",\"))","v":0},null,{"$f":"MIN($E4,F4)","v":0},{"$f":"MIN($E4,G4)","v":0}]
[null,null,"M301.01C","Assister à une présentation donnée par un citoyen d'intérêt",0,3,{"$f":"COUNTIF(Horaire!N:P,$C5)+COUNTIF(POC!N:P,$C5)+COUNTIF(Horaire!N:P,SUBSTITUTE($C5,\".\",\",\"))+COUNTIF(POC!N:P,SUBSTITUTE($C5,\".\",\",\"))","v":0},null,null,null,null,{"$f":"MIN($E5,F5)","v":0},0]
[null,null,"M301.01D","Participer au défi de la citoyenneté canadienne",0,{"$f":"COUNTIF(Horaire!K:M,$C6)+COUNTIF(POC!K:M,$C6)+COUNTIF(Horaire!K:M,SUBSTITUTE($C6,\".\",\",\"))+COUNTIF(POC!K:M,SUBSTITUTE($C6,\".\",\",\"))","v":0},{"$f":"COUNTIF(Horaire!N:P,$C6)+COUNTIF(POC!N:P,$C6)+COUNTIF(Horaire!N:P,SUBSTITUTE($C6,\".\",\",\"))+COUNTIF(POC!N:P,SUBSTITUTE($C6,\".\",\",\"))","v":0},null,null,null,null,0,0]
[null,null,"M301.01E","Organiser une cérémonie de citoyenneté",0,{"$f":"COUNTIF(Horaire!K:M,$C7)+COUNTIF(POC!K:M,$C7)+COUNTIF(Horaire!K:M,SUBSTITUTE($C7,\".\",\",\"))+COUNTIF(POC!K:M,SUBSTITUTE($C7,\".\",\",\"))","v":0},{"$f":"COUNTIF(Horaire!N:P,$C7)+COUNTIF(POC!N:P,$C7)+COUNTIF(Horaire!N:P,SUBSTITUTE($C7,\".\",\",\"))+COUNTIF(POC!N:P,SUBSTITUTE($C7,\".\",\",\"))","v":0},null,null,null,null,0,0]
[null,null,"M301.01F","Participer à une élection",0,{"$f":"COUNTIF(Horaire!K:M,$C8)+COUNTIF(POC!K:M,$C8)+COUNTIF(Horaire!K:M,SUBSTITUTE($C8,\".\",\",\"))+COUNTIF(POC!K:M,SUBSTITUTE($C8,\".\",\",\"))","v":0},{"$f":"COUNTIF(Horaire!N:P,$C8)+COUNTIF(POC!N:P,$C8)+COUNTIF(Horaire!N:P,SUBSTITUTE($C8,\".\",\",\"))+COUNTIF(POC!N:P,SUBSTITUTE($C8,\".\",\",\"))","v":0},null,null,null,null,0,0]
[null,null,"M301.01G","Participer à des activités relatives aux vidéos sur les Minutes du Patrimoine",0,{"$f":"COUNTIF(Horaire!K:M,$C9)+COUNTIF(POC!K:M,$C9)+COUNTIF(Horaire!K:M,SUBSTITUTE($C9,\".\",\",\"))+COUNTIF(POC!K:M,SUBSTITUTE($C9,\".\",\",\"))","v":0}]
[null,null,"M301.01H","Participer à des ateliers d'apprentissage sur le civisme",0,{"$f":"COUNTIF(Horaire!K:M,$C10)+COUNTIF(POC!K:M,$C10)+COUNTIF(Horaire!K:M,SUBSTITUTE($C10,\".\",\",\"))+COUNTIF(POC!K:M,SUBSTITUTE($C10,\".\",\",\"))","v":0}]
[null,null,"C301.01","Participer à des activités sur le civisme",18,{"$f":"COUNTIF(Horaire!K:M,$C11)+COUNTIF(POC!K:M,$C11)+COUNTIF(Horaire!K:M,SUBSTITUTE($C11,\".\",\",\"))+COUNTIF(POC!K:M,SUBSTITUTE($C11,\".\",\",\"))","v":0},{"$f":"COUNTIF(Horaire!N:P,$C11)+COUNTIF(POC!N:P,$C11)+COUNTIF(Horaire!N:P,SUBSTITUTE($C11,\".\",\",\"))+COUNTIF(POC!N:P,SUBSTITUTE($C11,\".\",\",\"))","v":0},null,null,null,null,0,0]
[null,null,{"$f":"CONCATENATE($A$2,\" \",A3,\" - \",VLOOKUP(160,Traduction!$B$6:$E$250,'Info de l''escadron'!$A$1+1,0))","v":"OREN 301 - Total des périodes d'instruction Obligatoires  "},null,0,{"$f":"SUM(F3:F10)","v":3},{"$f":"SUM(G3:G4)","v":0}]
[null,null,{"$f":"CONCATENATE($A$2,\" \",A3,\" - \",VLOOKUP(161,Traduction!$B$6:$E$250,'Info de l''escadron'!$A$1+1,0))","v":"OREN 301 - Total des périodes d'instruction Complémentaires  "},null,18,{"$f":"SUM(F11)","v":0},{"$f":"SUM(G5:G11)","v":0}]
[302,{"$f":"VLOOKUP(A14,Traduction!$B$300:$E$388,'Info de l''escadron'!$A$1+1,0)","v":"Effectuer un service communautaire"},"M302.01",{"$f":"VLOOKUP(C14,Traduction!$B$426:$E$926,'Info de l''escadron'!$A$1+1,0)","v":"Effectuer un service communautaire"},9,9,{"$f":"COUNTIF(Horaire!N:P,$C14)+COUNTIF(POC!N:P,$C14)+COUNTIF(Horaire!N:P,SUBSTITUTE($C14,\".\",\",\"))+COUNTIF(POC!N:P,SUBSTITUTE($C14,\".\",\",\"))","v":0},null,{"$f":"MIN($E14,F14)","v":9},{"$f":"MIN($E14,G14)","v":0}]
[null,null,"C302.01","Effectuer un service communautaire",12,{"$f":"COUNTIF(Horaire!K:M,$C15)+COUNTIF(POC!K:M,$C15)+COUNTIF(Horaire!K:M,SUBSTITUTE($C15,\".\",\",\"))+COUNTIF(POC!K:M,SUBSTITUTE($C15,\".\",\",\"))","v":0},{"$f":"COUNTIF(Horaire!N:P,$C15)+COUNTIF(POC!N:P,$C15)+COUNTIF(Horaire!N:P,SUBSTITUTE($C15,\".\",\",\"))+COUNTIF(POC!N:P,SUBSTITUTE($C15,\".\",\",\"))","v":0},null,null,null,null,{"$f":"MIN($E15,F15)","v":0},{"$f":"MIN($E15,G15)","v":0}]
[null,null,{"$f":"CONCATENATE($A$2,\" \",A14,\" - \",VLOOKUP(160,Traduction!$B$6:$E$250,'Info de l''escadron'!$A$1+1,0))","v":"OREN 302 - Total des périodes d'instruction Obligatoires  "},null,9,{"$f":"F14","v":9},{"$f":"G14","v":0}]
[null,null,{"$f":"CONCATENATE($A$2,\" \",A14,\" - \",VLOOKUP(161,Traduction!$B$6:$E$250,'Info de l''escadron'!$A$1+1,0))","v":"OREN 302 - Total des périodes d'instruction Complémentaires  "},null,12,{"$f":"SUM(F15)","v":0},{"$f":"SUM(G15:G15)","v":0}]
[303,{"$f":"VLOOKUP(A18,Traduction!$B$300:$E$388,'Info de l''escadron'!$A$1+1,0)","v":"Exercer le rôle d'un chef d'équipe"},"M303.01",{"$f":"VLOOKUP(C18,Traduction!$B$426:$E$926,'Info de l''escadron'!$A$1+1,0)","v":"Définir le rôle d'un chef d'équipe"},2,{"$f":"COUNTIF(Horaire!Q:S,$C18)+COUNTIF(POC!Q:S,$C18)+COUNTIF(Horaire!Q:S,SUBSTITUTE($C18,\".\",\",\"))+COUNTIF(POC!Q:S,SUBSTITUTE($C18,\".\",\",\"))","v":2},{"$f":"COUNTIF(Horaire!T:V,$C18)+COUNTIF(POC!T:V,$C18)+COUNTIF(Horaire!T:V,SUBSTITUTE($C18,\".\",\",\"))+COUNTIF(POC!T:V,SUBSTITUTE($C18,\".\",\",\"))","v":0},null,{"$f":"MIN($E18,F18)","v":2},{"$f":"MIN($E18,G18)","v":0}]
[null,null,"M303.02",{"$f":"VLOOKUP(C19,Traduction!$B$426:$E$926,'Info de l''escadron'!$A$1+1,0)","v":"Participer à une relation de mentorat"},1,{"$f":"COUNTIF(Horaire!Q:S,$C19)+COUNTIF(POC!Q:S,$C19)+COUNTIF(Horaire!Q:S,SUBSTITUTE($C19,\".\",\",\"))+COUNTIF(POC!Q:S,SUBSTITUTE($C19,\".\",\",\"))","v":1},{"$f":"COUNTIF(Horaire!T:V,$C19)+COUNTIF(POC!T:V,$C19)+COUNTIF(Horaire!T:V,SUBSTITUTE($C19,\".\",\",\"))+COUNTIF(POC!T:V,SUBSTITUTE($C19,\".\",\",\"))","v":0},null,1,0]
[null,null,"M303.03",{"$f":"VLOOKUP(C20,Traduction!$B$426:$E$926,'Info de l''escadron'!$A$1+1,0)","v":"S'exercer à faire une auto-évaluation"},1,{"$f":"COUNTIF(Horaire!Q:S,$C20)+COUNTIF(POC!Q:S,$C20)+COUNTIF(Horaire!Q:S,SUBSTITUTE($C20,\".\",\",\"))+COUNTIF(POC!Q:S,SUBSTITUTE($C20,\".\",\",\"))","v":1},{"$f":"COUNTIF(Horaire!T:V,$C20)+COUNTIF(POC!T:V,$C20)+COUNTIF(Horaire!T:V,SUBSTITUTE($C20,\".\",\",\"))+COUNTIF(POC!T:V,SUBSTITUTE($C20,\".\",\",\"))","v":0},null,1,0]
[null,null,"M303.04",{"$f":"VLOOKUP(C21,Traduction!$B$426:$E$926,'Info de l''escadron'!$A$1+1,0)","v":"Communiquer à titre de chef d'équipe"},2,{"$f":"COUNTIF(Horaire!Q:S,$C21)+COUNTIF(POC!Q:S,$C21)+COUNTIF(Horaire!Q:S,SUBSTITUTE($C21,\".\",\",\"))+COUNTIF(POC!Q:S,SUBSTITUTE($C21,\".\",\",\"))","v":2},{"$f":"COUNTIF(Horaire!T:V,$C21)+COUNTIF(POC!T:V,$C21)+COUNTIF(Horaire!T:V,SUBSTITUTE($C21,\".\",\",\"))+COUNTIF(POC!T:V,SUBSTITUTE($C21,\".\",\",\"))","v":0},null,2,0]
[null,null,"M303.05",{"$f":"VLOOKUP(C22,Traduction!$B$426:$E$926,'Info de l''escadron'!$A$1+1,0)","v":"Superviser les cadets"},2,{"$f":"COUNTIF(Horaire!Q:S,$C22)+COUNTIF(POC!Q:S,$C22)+COUNTIF(Horaire!Q:S,SUBSTITUTE($C22,\".\",\",\"))+COUNTIF(POC!Q:S,SUBSTITUTE($C22,\".\",\",\"))","v":2},{"$f":"COUNTIF(Horaire!T:V,$C22)+COUNTIF(POC!T:V,$C22)+COUNTIF(Horaire!T:V,SUBSTITUTE($C22,\".\",\",\"))+COUNTIF(POC!T:V,SUBSTITUTE($C22,\".\",\",\"))","v":0},null,2,0]
[null,null,"M303.06",{"$f":"VLOOKUP(C23,Traduction!$B$426:$E$926,'Info de l''escadron'!$A$1+1,0)","v":"Résoudre les problèmes"},2,{"$f":"COUNTIF(Horaire!Q:S,$C23)+COUNTIF(POC!Q:S,$C23)+COUNTIF(Horaire!Q:S,SUBSTITUTE($C23,\".\",\",\"))+COUNTIF(POC!Q:S,SUBSTITUTE($C23,\".\",\",\"))","v":2},{"$f":"COUNTIF(Horaire!T:V,$C23)+COUNTIF(POC!T:V,$C23)+COUNTIF(Horaire!T:V,SUBSTITUTE($C23,\".\",\",\"))+COUNTIF(POC!T:V,SUBSTITUTE($C23,\".\",\",\"))","v":0},null,2,0]
[null,null,"M303.07",{"$f":"VLOOKUP(C24,Traduction!$B$426:$E$926,'Info de l''escadron'!$A$1+1,0)","v":"Diriger les cadets tout au long d'une tâche en leadership"},2,{"$f":"COUNTIF(Horaire!Q:S,$C24)+COUNTIF(POC!Q:S,$C24)+COUNTIF(Horaire!Q:S,SUBSTITUTE($C24,\".\",\",\"))+COUNTIF(POC!Q:S,SUBSTITUTE($C24,\".\",\",\"))","v":2},{"$f":"COUNTIF(Horaire!T:V,$C24)+COUNTIF(POC!T:V,$C24)+COUNTIF(Horaire!T:V,SUBSTITUTE($C24,\".\",\",\"))+COUNTIF(POC!T:V,SUBSTITUTE($C24,\".\",\",\"))","v":0},null,2,0]
[null,null,{"$f":"VLOOKUP(166,Traduction!$B$6:$E$250,'Info de l''escadron'!$A$1+1,0)","v":"COREN 303"},{"$f":"VLOOKUP(C25,Traduction!$B$426:$E$926,'Info de l''escadron'!$A$1+1,0)","v":"Exercer le rôle d'un chef d'équipe"},0,{"$f":"COUNTIF(Horaire!Q:S,$C25)+COUNTIF(POC!Q:S,$C25)","v":0},{"$f":"COUNTIF(Horaire!T:V,$C25)+COUNTIF(POC!T:V,$C25)","v":0},null,null,null,null,{"$f":"MIN($E25,F25)","v":0},{"$f":"MIN($E25,G25)","v":0}]
[null,null,"C303.01",{"$f":"VLOOKUP(C26,Traduction!$B$426:$E$926,'Info de l''escadron'!$A$1+1,0)","v":"Diriger une activité de promotion du travail d'équipe"},3,{"$f":"COUNTIF(Horaire!Q:S,$C26)+COUNTIF(POC!Q:S,$C26)+COUNTIF(Horaire!Q:S,SUBSTITUTE($C26,\".\",\",\"))+COUNTIF(POC!Q:S,SUBSTITUTE($C26,\".\",\",\"))","v":0},{"$f":"COUNTIF(Horaire!T:V,$C26)+COUNTIF(POC!T:V,$C26)+COUNTIF(Horaire!T:V,SUBSTITUTE($C26,\".\",\",\"))+COUNTIF(POC!T:V,SUBSTITUTE($C26,\".\",\",\"))","v":0},null,null,null,null,0,0]
[null,null,"C303.02",{"$f":"VLOOKUP(C27,Traduction!$B$426:$E$926,'Info de l''escadron'!$A$1+1,0)","v":"Donner une présentation au sujet d'un chef"},2,{"$f":"COUNTIF(Horaire!Q:S,$C27)+COUNTIF(POC!Q:S,$C27)+COUNTIF(Horaire!Q:S,SUBSTITUTE($C27,\".\",\",\"))+COUNTIF(POC!Q:S,SUBSTITUTE($C27,\".\",\",\"))","v":0},{"$f":"COUNTIF(Horaire!T:V,$C27)+COUNTIF(POC!T:V,$C27)+COUNTIF(Horaire!T:V,SUBSTITUTE($C27,\".\",\",\"))+COUNTIF(POC!T:V,SUBSTITUTE($C27,\".\",\",\"))","v":0},null,null,null,null,0,0]
[null,null,"C203.01",{"$f":"VLOOKUP(C28,Traduction!$B$426:$E$926,'Info de l''escadron'!$A$1+1,0)","v":"Consigner des entrées dans un journal réflectif"},3,{"$f":"COUNTIF(Horaire!Q:S,$C28)+COUNTIF(POC!Q:S,$C28)+COUNTIF(Horaire!Q:S,SUBSTITUTE($C28,\".\",\",\"))+COUNTIF(POC!Q:S,SUBSTITUTE($C28,\".\",\",\"))","v":0},{"$f":"COUNTIF(Horaire!T:V,$C28)+COUNTIF(POC!T:V,$C28)+COUNTIF(Horaire!T:V,SUBSTITUTE($C28,\".\",\",\"))+COUNTIF(POC!T:V,SUBSTITUTE($C28,\".\",\",\"))","v":0},null,null,null,null,0,0]
[null,null,"C203.02",{"$f":"VLOOKUP(C29,Traduction!$B$426:$E$926,'Info de l''escadron'!$A$1+1,0)","v":"Utiliser la résolution de problème"},2,{"$f":"COUNTIF(Horaire!Q:S,$C29)+COUNTIF(POC!Q:S,$C29)+COUNTIF(Horaire!Q:S,SUBSTITUTE($C29,\".\",\",\"))+COUNTIF(POC!Q:S,SUBSTITUTE($C29,\".\",\",\"))","v":2},{"$f":"COUNTIF(Horaire!T:V,$C29)+COUNTIF(POC!T:V,$C29)+COUNTIF(Horaire!T:V,SUBSTITUTE($C29,\".\",\",\"))+COUNTIF(POC!T:V,SUBSTITUTE($C29,\".\",\",\"))","v":0},null,null,null,null,2,0]
[null,null,"C203.04",{"$f":"VLOOKUP(C30,Traduction!$B$426:$E$926,'Info de l''escadron'!$A$1+1,0)","v":"Participer à une présentation donnée par un chef"},2,{"$f":"COUNTIF(Horaire!Q:S,$C30)+COUNTIF(POC!Q:S,$C30)+COUNTIF(Horaire!Q:S,SUBSTITUTE($C30,\".\",\",\"))+COUNTIF(POC!Q:S,SUBSTITUTE($C30,\".\",\",\"))","v":0},{"$f":"COUNTIF(Horaire!T:V,$C30)+COUNTIF(POC!T:V,$C30)+COUNTIF(Horaire!T:V,SUBSTITUTE($C30,\".\",\",\"))+COUNTIF(POC!T:V,SUBSTITUTE($C30,\".\",\",\"))","v":0},null,null,null,null,0,0]
[null,null,"C203.05",{"$f":"VLOOKUP(C31,Traduction!$B$426:$E$926,'Info de l''escadron'!$A$1+1,0)","v":"Participer à des activités de renforcement de la confiance"},1,{"$f":"COUNTIF(Horaire!Q:S,$C31)+COUNTIF(POC!Q:S,$C31)+COUNTIF(Horaire!Q:S,SUBSTITUTE($C31,\".\",\",\"))+COUNTIF(POC!Q:S,SUBSTITUTE($C31,\".\",\",\"))","v":0},{"$f":"COUNTIF(Horaire!T:V,$C31)+COUNTIF(POC!T:V,$C31)+COUNTIF(Horaire!T:V,SUBSTITUTE($C31,\".\",\",\"))+COUNTIF(POC!T:V,SUBSTITUTE($C31,\".\",\",\"))","v":0},null,null,null,null,0,0]
[null,null,"C203.06",{"$f":"VLOOKUP(C32,Traduction!$B$426:$E$926,'Info de l''escadron'!$A$1+1,0)","v":"Participer à des activités de résolution de problème"},2,{"$f":"COUNTIF(Horaire!Q:S,$C32)+COUNTIF(POC!Q:S,$C32)+COUNTIF(Horaire!Q:S,SUBSTITUTE($C32,\".\",\",\"))+COUNTIF(POC!Q:S,SUBSTITUTE($C32,\".\",\",\"))","v":0},{"$f":"COUNTIF(Horaire!T:V,$C32)+COUNTIF(POC!T:V,$C32)+COUNTIF(Horaire!T:V,SUBSTITUTE($C32,\".\",\",\"))+COUNTIF(POC!T:V,SUBSTITUTE($C32,\".\",\",\"))","v":0},null,null,null,null,0,0]
[null,null,"C103.03",{"$f":"VLOOKUP(C33,Traduction!$B$426:$E$926,'Info de l''escadron'!$A$1+1,0)","v":"Participer à des activités de promotion du travail d'équipe"},1,{"$f":"COUNTIF(Horaire!Q:S,$C33)+COUNTIF(POC!Q:S,$C33)+COUNTIF(Horaire!Q:S,SUBSTITUTE($C33,\".\",\",\"))+COUNTIF(POC!Q:S,SUBSTITUTE($C33,\".\",\",\"))","v":0},{"$f":"COUNTIF(Horaire!T:V,$C33)+COUNTIF(POC!T:V,$C33)+COUNTIF(Horaire!T:V,SUBSTITUTE($C33,\".\",\",\"))+COUNTIF(POC!T:V,SUBSTITUTE($C33,\".\",\",\"))","v":0},null,null,null,null,0,0]
[null,null,{"$f":"CONCATENATE($A$2,\" \",A18,\" - \",VLOOKUP(160,Traduction!$B$6:$E$250,'Info de l''escadron'!$A$1+1,0))","v":"OREN 303 - Total des périodes d'instruction Obligatoires  "},null,12,{"$f":"SUM(F18:F24)","v":12},{"$f":"SUM(G18:G25)","v":0}]
[null,null,{"$f":"CONCATENATE($A$2,\" \",A18,\" - \",VLOOKUP(161,Traduction!$B$6:$E$250,'Info de l''escadron'!$A$1+1,0))","v":"OREN 303 - Total des périodes d'instruction Complémentaires  "},null,16,{"$f":"SUM(F26:F33)","v":2},{"$f":"SUM(G26:G33)","v":0}]
["X04",{"$f":"VLOOKUP(A36,Traduction!$B$300:$E$388,'Info de l''escadron'!$A$1+1,0)","v":"Suivre la participation aux activités physiques"},"MX04.01",{"$f":"VLOOKUP(C36,Traduction!$B$426:$E$926,'Info de l''escadron'!$A$1+1,0)","v":"Participer à une séance d'activité physique d'intensité modérée à élevée de 60 minutes et suivre la participation aux activités physiques"},3,{"$f":"COUNTIF(Horaire!Q:S,$C36)+COUNTIF(POC!Q:S,$C36)+COUNTIF(Horaire!Q:S,SUBSTITUTE($C36,\".\",\",\"))+COUNTIF(POC!Q:S,SUBSTITUTE($C36,\".\",\",\"))","v":0},{"$f":"COUNTIF(Horaire!H:J,$C36)+COUNTIF(POC!H:J,$C36)+COUNTIF(Horaire!H:J,SUBSTITUTE($C36,\".\",\",\"))+COUNTIF(POC!H:J,SUBSTITUTE($C36,\".\",\",\"))","v":0},null,{"$f":"MIN($E36,F36)","v":0},0]
[null,null,"MX04.02",{"$f":"VLOOKUP(C37,Traduction!$B$426:$E$926,'Info de l''escadron'!$A$1+1,0)","v":"Définir des stratégies pour accroître la participation à des activités physiques et participer à l'évaluation de la condition physique des cadets"},3,{"$f":"COUNTIF(Horaire!Q:S,$C37)+COUNTIF(POC!Q:S,$C37)+COUNTIF(Horaire!Q:S,SUBSTITUTE($C37,\".\",\",\"))+COUNTIF(POC!Q:S,SUBSTITUTE($C37,\".\",\",\"))","v":0},{"$f":"COUNTIF(Horaire!H:J,$C37)+COUNTIF(POC!H:J,$C37)+COUNTIF(Horaire!H:J,SUBSTITUTE($C37,\".\",\",\"))+COUNTIF(POC!H:J,SUBSTITUTE($C37,\".\",\",\"))","v":0},null,0,0]
[null,null,"MX04.03",{"$f":"VLOOKUP(C38,Traduction!$B$426:$E$926,'Info de l''escadron'!$A$1+1,0)","v":"Participer à l'évaluation de la condition physique des cadets et définir des stratégies pour améliorer la condition physique personnelle"},3,{"$f":"COUNTIF(Horaire!Q:S,$C38)+COUNTIF(POC!Q:S,$C38)+COUNTIF(Horaire!Q:S,SUBSTITUTE($C38,\".\",\",\"))+COUNTIF(POC!Q:S,SUBSTITUTE($C38,\".\",\",\"))","v":3},{"$f":"COUNTIF(Horaire!H:J,$C38)+COUNTIF(POC!H:J,$C38)+COUNTIF(Horaire!H:J,SUBSTITUTE($C38,\".\",\",\"))+COUNTIF(POC!H:J,SUBSTITUTE($C38,\".\",\",\"))","v":0},null,3,0]
[null,null,{"$f":"VLOOKUP(230,Traduction!$B$6:$E$250,'Info de l''escadron'!$A$1+1,0)","v":"COREN 304"},{"$f":"VLOOKUP(C39,Traduction!$B$426:$E$926,'Info de l''escadron'!$A$1+1,0)","v":"Condition physique et mode de vie sain"},0,{"$f":"COUNTIF(Horaire!Q:S,$C39)+COUNTIF(POC!Q:S,$C39)+COUNTIF(Horaire!Q:S,SUBSTITUTE($C39,\".\",\",\"))+COUNTIF(POC!Q:S,SUBSTITUTE($C39,\".\",\",\"))","v":0},{"$f":"COUNTIF(Horaire!T:V,$C39)+COUNTIF(POC!T:V,$C39)+COUNTIF(Horaire!T:V,SUBSTITUTE($C39,\".\",\",\"))+COUNTIF(POC!T:V,SUBSTITUTE($C39,\".\",\",\"))","v":0},null,null,null,null,{"$f":"MIN($E39,F39)","v":0},{"$f":"MIN($E39,G39)","v":0}]
[null,null,"CX04.01",{"$f":"VLOOKUP(C40,Traduction!$B$426:$E$926,'Info de l''escadron'!$A$1+1,0)","v":"Participer à l'évaluation de la condition physique des cadets et définir des stratégies pour améliorer la condition physique personnelle"},3,{"$f":"COUNTIF(Horaire!Q:S,$C40)+COUNTIF(POC!Q:S,$C40)+COUNTIF(Horaire!Q:S,SUBSTITUTE($C40,\".\",\",\"))+COUNTIF(POC!Q:S,SUBSTITUTE($C40,\".\",\",\"))","v":0},{"$f":"COUNTIF(Horaire!H:J,$C40)+COUNTIF(POC!H:J,$C40)+COUNTIF(Horaire!H:J,SUBSTITUTE($C40,\".\",\",\"))+COUNTIF(POC!H:J,SUBSTITUTE($C40,\".\",\",\"))","v":0},null,null,null,null,0,0]
[null,null,"CX04.02",{"$f":"VLOOKUP(C41,Traduction!$B$426:$E$926,'Info de l''escadron'!$A$1+1,0)","v":"Participer à des activités de renforcement des trois composantes de la condition physique"},3,{"$f":"COUNTIF(Horaire!Q:S,$C41)+COUNTIF(POC!Q:S,$C41)+COUNTIF(Horaire!Q:S,SUBSTITUTE($C41,\".\",\",\"))+COUNTIF(POC!Q:S,SUBSTITUTE($C41,\".\",\",\"))","v":0},{"$f":"COUNTIF(Horaire!H:J,$C41)+COUNTIF(POC!H:J,$C41)+COUNTIF(Horaire!H:J,SUBSTITUTE($C41,\".\",\",\"))+COUNTIF(POC!H:J,SUBSTITUTE($C41,\".\",\",\"))","v":0},null,null,null,null,0,0]
[null,null,"CX04.03",{"$f":"VLOOKUP(C42,Traduction!$B$426:$E$926,'Info de l''escadron'!$A$1+1,0)","v":"Participer à un cours de cuisine"},3,{"$f":"COUNTIF(Horaire!Q:S,$C42)+COUNTIF(POC!Q:S,$C42)+COUNTIF(Horaire!Q:S,SUBSTITUTE($C42,\".\",\",\"))+COUNTIF(POC!Q:S,SUBSTITUTE($C42,\".\",\",\"))","v":0},{"$f":"COUNTIF(Horaire!H:J,$C42)+COUNTIF(POC!H:J,$C42)+COUNTIF(Horaire!H:J,SUBSTITUTE($C42,\".\",\",\"))+COUNTIF(POC!H:J,SUBSTITUTE($C42,\".\",\",\"))","v":0},null,null,null,null,0,0]
[null,null,"CX04.04",{"$f":"VLOOKUP(C43,Traduction!$B$426:$E$926,'Info de l''escadron'!$A$1+1,0)","v":"Assister à un présentation sur la condition physique personnelle et les saines habitudes de vie"},3,{"$f":"COUNTIF(Horaire!Q:S,$C43)+COUNTIF(POC!Q:S,$C43)+COUNTIF(Horaire!Q:S,SUBSTITUTE($C43,\".\",\",\"))+COUNTIF(POC!Q:S,SUBSTITUTE($C43,\".\",\",\"))","v":0},{"$f":"COUNTIF(Horaire!H:J,$C43)+COUNTIF(POC!H:J,$C43)+COUNTIF(Horaire!H:J,SUBSTITUTE($C43,\".\",\",\"))+COUNTIF(POC!H:J,SUBSTITUTE($C43,\".\",\",\"))","v":0},null,null,null,null,0,0]
[null,null,"CX04.05",{"$f":"VLOOKUP(C44,Traduction!$B$426:$E$926,'Info de l''escadron'!$A$1+1,0)","v":"Assister à un événement sportif amateur"},3,{"$f":"COUNTIF(Horaire!Q:S,$C44)+COUNTIF(POC!Q:S,$C44)+COUNTIF(Horaire!Q:S,SUBSTITUTE($C44,\".\",\",\"))+COUNTIF(POC!Q:S,SUBSTITUTE($C44,\".\",\",\"))","v":0},{"$f":"COUNTIF(Horaire!H:J,$C44)+COUNTIF(POC!H:J,$C44)+COUNTIF(Horaire!H:J,SUBSTITUTE($C44,\".\",\",\"))+COUNTIF(POC!H:J,SUBSTITUTE($C44,\".\",\",\"))","v":0},null,null,null,null,0,0]
[null,null,{"$f":"CONCATENATE($A$2,\" \",A36,\" - \",VLOOKUP(160,Traduction!$B$6:$E$250,'Info de l''escadron'!$A$1+1,0))","v":"OREN X04 - Total des périodes d'instruction Obligatoires  "},null,9,{"$f":"SUM(F36:F38)","v":3},{"$f":"SUM(G36:G38)","v":0}]
[null,null,{"$f":"CONCATENATE($A$2,\" \",A36,\" - \",VLOOKUP(161,Traduction!$B$6:$E$250,'Info de l''escadron'!$A$1+1,0))","v":"OREN X04 - Total des périodes d'instruction Complémentaires  "},null,15,{"$f":"SUM(F40:F44)","v":0},{"$f":"SUM(G40:G44)","v":0}]
[305,{"$f":"VLOOKUP(A47,Traduction!$B$300:$E$388,'Info de l''escadron'!$A$1+1,0)","v":"Participer à des sports récréatifs"},"M305.01","Participer à des activités physiques",9,{"$f":"COUNTIF(Horaire!Q:S,$C47)+COUNTIF(POC!Q:S,$C47)+COUNTIF(Horaire!Q:S,SUBSTITUTE($C47,\".\",\",\"))+COUNTIF(POC!Q:S,SUBSTITUTE($C47,\".\",\",\"))","v":0},{"$f":"COUNTIF(Horaire!T:V,$C47)+COUNTIF(POC!T:V,$C47)+COUNTIF(Horaire!T:V,SUBSTITUTE($C47,\".\",\",\"))+COUNTIF(POC!T:V,SUBSTITUTE($C47,\".\",\",\"))","v":0},null,{"$f":"MIN($E47,F47)","v":0},{"$f":"MIN($E47,G47)","v":0}]
[null,null,"C305.01","Participer à des activités physiques",9,{"$f":"COUNTIF(Horaire!Q:S,$C48)+COUNTIF(POC!Q:S,$C48)+COUNTIF(Horaire!Q:S,SUBSTITUTE($C48,\".\",\",\"))+COUNTIF(POC!Q:S,SUBSTITUTE($C48,\".\",\",\"))","v":0}]
[null,null,"C305.02","Participer à un tournoi",9,{"$f":"COUNTIF(Horaire!Q:S,$C49)+COUNTIF(POC!Q:S,$C49)+COUNTIF(Horaire!Q:S,SUBSTITUTE($C49,\".\",\",\"))+COUNTIF(POC!Q:S,SUBSTITUTE($C49,\".\",\",\"))","v":0},{"$f":"COUNTIF(Horaire!T:V,$C49)+COUNTIF(POC!T:V,$C49)+COUNTIF(Horaire!T:V,SUBSTITUTE($C49,\".\",\",\"))+COUNTIF(POC!T:V,SUBSTITUTE($C49,\".\",\",\"))","v":0},null,null,null,null,{"$f":"MIN($E49,F49)","v":0},{"$f":"MIN($E49,G49)","v":0}]
[null,null,{"$f":"CONCATENATE($A$2,\" \",A47,\" - \",VLOOKUP(160,Traduction!$B$6:$E$250,'Info de l''escadron'!$A$1+1,0))","v":"OREN 305 - Total des périodes d'instruction Obligatoires  "},null,9,{"$f":"F47","v":0},{"$f":"G47","v":0}]
[null,null,{"$f":"CONCATENATE($A$2,\" \",A47,\" - \",VLOOKUP(161,Traduction!$B$6:$E$250,'Info de l''escadron'!$A$1+1,0))","v":"OREN 305 - Total des périodes d'instruction Complémentaires  "},null,18,{"$f":"SUM(F48:F49)","v":0},{"$f":"SUM(G49:G49)","v":0}]
[306,{"$f":"VLOOKUP(A52,Traduction!$B$300:$E$388,'Info de l''escadron'!$A$1+1,0)","v":"Tirer avec la carabine à air comprimé des cadets pendant une activité récréative de tir de précision"},"M306.01",{"$f":"VLOOKUP(C52,Traduction!$B$426:$E$926,'Info de l''escadron'!$A$1+1,0)","v":"Participer à une activité récréative de tir de précision"},3,{"$f":"COUNTIF(Horaire!Q:S,$C52)+COUNTIF(POC!Q:S,$C52)+COUNTIF(Horaire!Q:S,SUBSTITUTE($C52,\".\",\",\"))+COUNTIF(POC!Q:S,SUBSTITUTE($C52,\".\",\",\"))","v":3},{"$f":"COUNTIF(Horaire!T:V,$C52)+COUNTIF(POC!T:V,$C52)+COUNTIF(Horaire!T:V,SUBSTITUTE($C52,\".\",\",\"))+COUNTIF(POC!T:V,SUBSTITUTE($C52,\".\",\",\"))","v":0},null,{"$f":"MIN($E52,F52)","v":3},{"$f":"MIN($E52,G52)","v":0}]
[null,null,"C306.01",{"$f":"VLOOKUP(C53,Traduction!$B$426:$E$926,'Info de l''escadron'!$A$1+1,0)","v":"Identifier les associations civiles de tir de précision"},1,{"$f":"COUNTIF(Horaire!Q:S,$C53)+COUNTIF(POC!Q:S,$C53)+COUNTIF(Horaire!Q:S,SUBSTITUTE($C53,\".\",\",\"))+COUNTIF(POC!Q:S,SUBSTITUTE($C53,\".\",\",\"))","v":0},{"$f":"COUNTIF(Horaire!T:V,$C53)+COUNTIF(POC!T:V,$C53)+COUNTIF(Horaire!T:V,SUBSTITUTE($C53,\".\",\",\"))+COUNTIF(POC!T:V,SUBSTITUTE($C53,\".\",\",\"))","v":0},null,null,null,null,{"$f":"MIN($E53,F53)","v":0},{"$f":"MIN($E53,G53)","v":0}]
[null,null,"C306.02",{"$f":"VLOOKUP(C54,Traduction!$B$426:$E$926,'Info de l''escadron'!$A$1+1,0)","v":"Corriger l'erreur de tir"},2,{"$f":"COUNTIF(Horaire!Q:S,$C54)+COUNTIF(POC!Q:S,$C54)+COUNTIF(Horaire!Q:S,SUBSTITUTE($C54,\".\",\",\"))+COUNTIF(POC!Q:S,SUBSTITUTE($C54,\".\",\",\"))","v":0},{"$f":"COUNTIF(Horaire!T:V,$C54)+COUNTIF(POC!T:V,$C54)+COUNTIF(Horaire!T:V,SUBSTITUTE($C54,\".\",\",\"))+COUNTIF(POC!T:V,SUBSTITUTE($C54,\".\",\",\"))","v":0},null,null,null,null,0,0]
[null,null,"C306.03",{"$f":"VLOOKUP(C55,Traduction!$B$426:$E$926,'Info de l''escadron'!$A$1+1,0)","v":"Adopter la position debout avec la carabine à air comprimé des cadets"},2,{"$f":"COUNTIF(Horaire!Q:S,$C55)+COUNTIF(POC!Q:S,$C55)+COUNTIF(Horaire!Q:S,SUBSTITUTE($C55,\".\",\",\"))+COUNTIF(POC!Q:S,SUBSTITUTE($C55,\".\",\",\"))","v":0},{"$f":"COUNTIF(Horaire!T:V,$C55)+COUNTIF(POC!T:V,$C55)+COUNTIF(Horaire!T:V,SUBSTITUTE($C55,\".\",\",\"))+COUNTIF(POC!T:V,SUBSTITUTE($C55,\".\",\",\"))","v":0},null,null,null,null,0,0]
[null,null,"C206.01",{"$f":"VLOOKUP(C56,Traduction!$B$426:$E$926,'Info de l''escadron'!$A$1+1,0)","v":"Pratiquer les techniques pour tenir la carabine"},1,{"$f":"COUNTIF(Horaire!Q:S,$C56)+COUNTIF(POC!Q:S,$C56)+COUNTIF(Horaire!Q:S,SUBSTITUTE($C56,\".\",\",\"))+COUNTIF(POC!Q:S,SUBSTITUTE($C56,\".\",\",\"))","v":0},{"$f":"COUNTIF(Horaire!T:V,$C56)+COUNTIF(POC!T:V,$C56)+COUNTIF(Horaire!T:V,SUBSTITUTE($C56,\".\",\",\"))+COUNTIF(POC!T:V,SUBSTITUTE($C56,\".\",\",\"))","v":0},null,null,null,null,0,0]
[null,null,"C206.02",{"$f":"VLOOKUP(C57,Traduction!$B$426:$E$926,'Info de l''escadron'!$A$1+1,0)","v":"Pratiquer les techniques de visée"},2,{"$f":"COUNTIF(Horaire!Q:S,$C57)+COUNTIF(POC!Q:S,$C57)+COUNTIF(Horaire!Q:S,SUBSTITUTE($C57,\".\",\",\"))+COUNTIF(POC!Q:S,SUBSTITUTE($C57,\".\",\",\"))","v":0},{"$f":"COUNTIF(Horaire!T:V,$C57)+COUNTIF(POC!T:V,$C57)+COUNTIF(Horaire!T:V,SUBSTITUTE($C57,\".\",\",\"))+COUNTIF(POC!T:V,SUBSTITUTE($C57,\".\",\",\"))","v":0},null,null,null,null,0,0]
[null,null,"C206.03",{"$f":"VLOOKUP(C58,Traduction!$B$426:$E$926,'Info de l''escadron'!$A$1+1,0)","v":"Pratiquer les techniques de tir"},1,{"$f":"COUNTIF(Horaire!Q:S,$C58)+COUNTIF(POC!Q:S,$C58)+COUNTIF(Horaire!Q:S,SUBSTITUTE($C58,\".\",\",\"))+COUNTIF(POC!Q:S,SUBSTITUTE($C58,\".\",\",\"))","v":0},{"$f":"COUNTIF(Horaire!T:V,$C58)+COUNTIF(POC!T:V,$C58)+COUNTIF(Horaire!T:V,SUBSTITUTE($C58,\".\",\",\"))+COUNTIF(POC!T:V,SUBSTITUTE($C58,\".\",\",\"))","v":0},null,null,null,null,0,0]
[null,null,"C106.01",{"$f":"VLOOKUP(C59,Traduction!$B$426:$E$926,'Info de l''escadron'!$A$1+1,0)","v":"Participer à une activité récréative de tir de précision"},6,{"$f":"COUNTIF(Horaire!Q:S,$C59)+COUNTIF(POC!Q:S,$C59)+COUNTIF(Horaire!Q:S,SUBSTITUTE($C59,\".\",\",\"))+COUNTIF(POC!Q:S,SUBSTITUTE($C59,\".\",\",\"))","v":0},{"$f":"COUNTIF(Horaire!T:V,$C59)+COUNTIF(POC!T:V,$C59)+COUNTIF(Horaire!T:V,SUBSTITUTE($C59,\".\",\",\"))+COUNTIF(POC!T:V,SUBSTITUTE($C59,\".\",\",\"))","v":0},null,null,null,null,0,0]
[null,null,{"$f":"CONCATENATE($A$2,\" \",A52,\" - \",VLOOKUP(160,Traduction!$B$6:$E$250,'Info de l''escadron'!$A$1+1,0))","v":"OREN 306 - Total des périodes d'instruction Obligatoires  "},null,3,{"$f":"F52","v":3},{"$f":"G52","v":0}]
[null,null,{"$f":"CONCATENATE($A$2,\" \",A52,\" - \",VLOOKUP(161,Traduction!$B$6:$E$250,'Info de l''escadron'!$A$1+1,0))","v":"OREN 306 - Total des périodes d'instruction Complémentaires  "},null,15,{"$f":"SUM(F53:F59)","v":0},{"$f":"SUM(G53:G59)","v":0}]
[307,{"$f":"VLOOKUP(A62,Traduction!$B$300:$E$388,'Info de l''escadron'!$A$1+1,0)","v":"Servir dans un escadron de cadets de l'Air"},"M307.01",{"$f":"VLOOKUP(C62,Traduction!$B$426:$E$926,'Info de l''escadron'!$A$1+1,0)","v":"Identifier les occasions d'instruction de niveau de qualification trois"},1,{"$f":"COUNTIF(Horaire!Q:S,$C62)+COUNTIF(POC!Q:S,$C62)+COUNTIF(Horaire!Q:S,SUBSTITUTE($C62,\".\",\",\"))+COUNTIF(POC!Q:S,SUBSTITUTE($C62,\".\",\",\"))","v":1},{"$f":"COUNTIF(Horaire!T:V,$C62)+COUNTIF(POC!T:V,$C62)+COUNTIF(Horaire!T:V,SUBSTITUTE($C62,\".\",\",\"))+COUNTIF(POC!T:V,SUBSTITUTE($C62,\".\",\",\"))","v":0},null,{"$f":"MIN($E62,F62)","v":1},0]
[null,null,"M307.02",{"$f":"VLOOKUP(C63,Traduction!$B$426:$E$926,'Info de l''escadron'!$A$1+1,0)","v":"Identifier les occasions d'instruction de troisième année du CIEC"},1,{"$f":"COUNTIF(Horaire!Q:S,$C63)+COUNTIF(POC!Q:S,$C63)+COUNTIF(Horaire!Q:S,SUBSTITUTE($C63,\".\",\",\"))+COUNTIF(POC!Q:S,SUBSTITUTE($C63,\".\",\",\"))","v":1},{"$f":"COUNTIF(Horaire!T:V,$C63)+COUNTIF(POC!T:V,$C63)+COUNTIF(Horaire!T:V,SUBSTITUTE($C63,\".\",\",\"))+COUNTIF(POC!T:V,SUBSTITUTE($C63,\".\",\",\"))","v":0},null,1,0]
[null,null,"M307.03",{"$f":"VLOOKUP(C64,Traduction!$B$426:$E$926,'Info de l''escadron'!$A$1+1,0)","v":"Reconnaitre le partenariat entre la Ligue des cadets de l'Air du Canada (LCAC) et le MDN"},1,{"$f":"COUNTIF(Horaire!Q:S,$C64)+COUNTIF(POC!Q:S,$C64)+COUNTIF(Horaire!Q:S,SUBSTITUTE($C64,\".\",\",\"))+COUNTIF(POC!Q:S,SUBSTITUTE($C64,\".\",\",\"))","v":1},{"$f":"COUNTIF(Horaire!T:V,$C64)+COUNTIF(POC!T:V,$C64)+COUNTIF(Horaire!T:V,SUBSTITUTE($C64,\".\",\",\"))+COUNTIF(POC!T:V,SUBSTITUTE($C64,\".\",\",\"))","v":0},null,1,0]
[null,null,"C307.01",{"$f":"VLOOKUP(C65,Traduction!$B$426:$E$926,'Info de l''escadron'!$A$1+1,0)","v":"Participer à une présentation donnée par un conférencier d'une Unité régionale de soutien aux cadets (URSC)"},2,{"$f":"COUNTIF(Horaire!Q:S,$C65)+COUNTIF(POC!Q:S,$C65)+COUNTIF(Horaire!Q:S,SUBSTITUTE($C65,\".\",\",\"))+COUNTIF(POC!Q:S,SUBSTITUTE($C65,\".\",\",\"))","v":0},{"$f":"COUNTIF(Horaire!T:V,$C65)+COUNTIF(POC!T:V,$C65)+COUNTIF(Horaire!T:V,SUBSTITUTE($C65,\".\",\",\"))+COUNTIF(POC!T:V,SUBSTITUTE($C65,\".\",\",\"))","v":0},null,null,null,null,{"$f":"MIN($E65,F65)","v":0},0]
[null,null,"C307.02",{"$f":"VLOOKUP(C66,Traduction!$B$426:$E$926,'Info de l''escadron'!$A$1+1,0)","v":"Participer à une présentation donnée par l'officier de liaison - cadets (OLC)"},2,{"$f":"COUNTIF(Horaire!Q:S,$C66)+COUNTIF(POC!Q:S,$C66)+COUNTIF(Horaire!Q:S,SUBSTITUTE($C66,\".\",\",\"))+COUNTIF(POC!Q:S,SUBSTITUTE($C66,\".\",\",\"))","v":0},{"$f":"COUNTIF(Horaire!T:V,$C66)+COUNTIF(POC!T:V,$C66)+COUNTIF(Horaire!T:V,SUBSTITUTE($C66,\".\",\",\"))+COUNTIF(POC!T:V,SUBSTITUTE($C66,\".\",\",\"))","v":0},null,null,null,null,0,0]
[null,null,"C307.03",{"$f":"VLOOKUP(C67,Traduction!$B$426:$E$926,'Info de l''escadron'!$A$1+1,0)","v":"Participer à une présentation donnée par un conférencier de la Ligue des cadets de l'Air du Canada (LCAC)"},2,{"$f":"COUNTIF(Horaire!Q:S,$C67)+COUNTIF(POC!Q:S,$C67)+COUNTIF(Horaire!Q:S,SUBSTITUTE($C67,\".\",\",\"))+COUNTIF(POC!Q:S,SUBSTITUTE($C67,\".\",\",\"))","v":0},{"$f":"COUNTIF(Horaire!T:V,$C67)+COUNTIF(POC!T:V,$C67)+COUNTIF(Horaire!T:V,SUBSTITUTE($C67,\".\",\",\"))+COUNTIF(POC!T:V,SUBSTITUTE($C67,\".\",\",\"))","v":0},null,null,null,null,0,0]
[null,null,{"$f":"CONCATENATE($A$2,\" \",A62,\" - \",VLOOKUP(160,Traduction!$B$6:$E$250,'Info de l''escadron'!$A$1+1,0))","v":"OREN 307 - Total des périodes d'instruction Obligatoires  "},null,3,{"$f":"SUM(F62:F64)","v":3},{"$f":"SUM(G62:G64)","v":0}]
[null,null,{"$f":"CONCATENATE($A$2,\" \",A62,\" - \",VLOOKUP(161,Traduction!$B$6:$E$250,'Info de l''escadron'!$A$1+1,0))","v":"OREN 307 - Total des périodes d'instruction Complémentaires  "},null,6,{"$f":"SUM(F65:F67)","v":0},{"$f":"SUM(G65:G67)","v":0}]
[308,{"$f":"VLOOKUP(A70,Traduction!$B$300:$E$388,'Info de l''escadron'!$A$1+1,0)","v":"Diriger une escouade avant un rassemblement"},"M308.01",{"$f":"VLOOKUP(C70,Traduction!$B$426:$E$926,'Info de l''escadron'!$A$1+1,0)","v":"Préparer une escouade pour le rassemblement"},3,{"$f":"COUNTIF(Horaire!Q:S,$C70)+COUNTIF(POC!Q:S,$C70)+COUNTIF(Horaire!Q:S,SUBSTITUTE($C70,\".\",\",\"))+COUNTIF(POC!Q:S,SUBSTITUTE($C70,\".\",\",\"))","v":3},{"$f":"COUNTIF(Horaire!T:V,$C70)+COUNTIF(POC!T:V,$C70)+COUNTIF(Horaire!T:V,SUBSTITUTE($C70,\".\",\",\"))+COUNTIF(POC!T:V,SUBSTITUTE($C70,\".\",\",\"))","v":0},null,{"$f":"MIN($E70,F70)","v":3},{"$f":"MIN($E70,G70)","v":0}]
[null,null,"M308.02",{"$f":"VLOOKUP(C71,Traduction!$B$426:$E$926,'Info de l''escadron'!$A$1+1,0)","v":"Donner des commandements"},1,{"$f":"COUNTIF(Horaire!Q:S,$C71)+COUNTIF(POC!Q:S,$C71)+COUNTIF(Horaire!Q:S,SUBSTITUTE($C71,\".\",\",\"))+COUNTIF(POC!Q:S,SUBSTITUTE($C71,\".\",\",\"))","v":1},{"$f":"COUNTIF(Horaire!T:V,$C71)+COUNTIF(POC!T:V,$C71)+COUNTIF(Horaire!T:V,SUBSTITUTE($C71,\".\",\",\"))+COUNTIF(POC!T:V,SUBSTITUTE($C71,\".\",\",\"))","v":0},null,{"$f":"MIN($E71,F71)","v":1},{"$f":"MIN($E71,G71)","v":0}]
[null,null,{"$f":"VLOOKUP(167,Traduction!$B$6:$E$250,'Info de l''escadron'!$A$1+1,0)","v":"COREN 308"},{"$f":"VLOOKUP(C72,Traduction!$B$426:$E$926,'Info de l''escadron'!$A$1+1,0)","v":"Diriger une escouade avant rassemblement"},0,{"$f":"COUNTIF(Horaire!Q:S,$C72)+COUNTIF(POC!Q:S,$C72)","v":0},{"$f":"COUNTIF(Horaire!T:V,$C72)+COUNTIF(POC!T:V,$C72)","v":0},null,null,null,null,{"$f":"MIN($E72,F72)","v":0},0]
[null,null,"C308.01",{"$f":"VLOOKUP(C73,Traduction!$B$426:$E$926,'Info de l''escadron'!$A$1+1,0)","v":"Exécuter de l'exercice militaire avec drapeaux"},4,{"$f":"COUNTIF(Horaire!Q:S,$C73)+COUNTIF(POC!Q:S,$C73)+COUNTIF(Horaire!Q:S,SUBSTITUTE($C73,\".\",\",\"))+COUNTIF(POC!Q:S,SUBSTITUTE($C73,\".\",\",\"))","v":1},{"$f":"COUNTIF(Horaire!T:V,$C73)+COUNTIF(POC!T:V,$C73)+COUNTIF(Horaire!T:V,SUBSTITUTE($C73,\".\",\",\"))+COUNTIF(POC!T:V,SUBSTITUTE($C73,\".\",\",\"))","v":0},null,null,null,null,1,0]
[null,null,"C308.02",{"$f":"VLOOKUP(C74,Traduction!$B$426:$E$926,'Info de l''escadron'!$A$1+1,0)","v":"Donner des commandements"},2,{"$f":"COUNTIF(Horaire!Q:S,$C74)+COUNTIF(POC!Q:S,$C74)+COUNTIF(Horaire!Q:S,SUBSTITUTE($C74,\".\",\",\"))+COUNTIF(POC!Q:S,SUBSTITUTE($C74,\".\",\",\"))","v":0},{"$f":"COUNTIF(Horaire!T:V,$C74)+COUNTIF(POC!T:V,$C74)+COUNTIF(Horaire!T:V,SUBSTITUTE($C74,\".\",\",\"))+COUNTIF(POC!T:V,SUBSTITUTE($C74,\".\",\",\"))","v":0},null,null,null,null,0,0]
[null,null,"C208.01",{"$f":"VLOOKUP(C75,Traduction!$B$426:$E$926,'Info de l''escadron'!$A$1+1,0)","v":"S'exercer à une cérémonie militaire dans le cadre d'une revue"},2,{"$f":"COUNTIF(Horaire!Q:S,$C75)+COUNTIF(POC!Q:S,$C75)+COUNTIF(Horaire!Q:S,SUBSTITUTE($C75,\".\",\",\"))+COUNTIF(POC!Q:S,SUBSTITUTE($C75,\".\",\",\"))","v":0},{"$f":"COUNTIF(Horaire!T:V,$C75)+COUNTIF(POC!T:V,$C75)+COUNTIF(Horaire!T:V,SUBSTITUTE($C75,\".\",\",\"))+COUNTIF(POC!T:V,SUBSTITUTE($C75,\".\",\",\"))","v":0},null,null,null,null,0,0]
[null,null,"C208.02",{"$f":"VLOOKUP(C76,Traduction!$B$426:$E$926,'Info de l''escadron'!$A$1+1,0)","v":"Exécuter de l'exercice militaire avec armes"},8,{"$f":"COUNTIF(Horaire!Q:S,$C76)+COUNTIF(POC!Q:S,$C76)+COUNTIF(Horaire!Q:S,SUBSTITUTE($C76,\".\",\",\"))+COUNTIF(POC!Q:S,SUBSTITUTE($C76,\".\",\",\"))","v":0},{"$f":"COUNTIF(Horaire!T:V,$C76)+COUNTIF(POC!T:V,$C76)+COUNTIF(Horaire!T:V,SUBSTITUTE($C76,\".\",\",\"))+COUNTIF(POC!T:V,SUBSTITUTE($C76,\".\",\",\"))","v":0},null,null,null,null,0,0]
[null,null,{"$f":"CONCATENATE($A$2,\" \",A70,\" - \",VLOOKUP(160,Traduction!$B$6:$E$250,'Info de l''escadron'!$A$1+1,0))","v":"OREN 308 - Total des périodes d'instruction Obligatoires  "},null,4,{"$f":"SUM(F70:F71)","v":4},{"$f":"SUM(G70:G71)","v":0}]
[null,null,{"$f":"CONCATENATE($A$2,\" \",A70,\" - \",VLOOKUP(161,Traduction!$B$6:$E$250,'Info de l''escadron'!$A$1+1,0))","v":"OREN 308 - Total des périodes d'instruction Complémentaires  "},null,16,{"$f":"SUM(F73:F76)","v":1},{"$f":"SUM(G72:G76)","v":0}]
[309,{"$f":"VLOOKUP(A79,Traduction!$B$300:$E$388,'Info de l''escadron'!$A$1+1,0)","v":"Enseigner une leçon"},"M309.01",{"$f":"VLOOKUP(C79,Traduction!$B$426:$E$926,'Info de l''escadron'!$A$1+1,0)","v":"Expliquer les principes d'instruction"},2,{"$f":"COUNTIF(Horaire!Q:S,$C79)+COUNTIF(POC!Q:S,$C79)+COUNTIF(Horaire!Q:S,SUBSTITUTE($C79,\".\",\",\"))+COUNTIF(POC!Q:S,SUBSTITUTE($C79,\".\",\",\"))","v":2},{"$f":"COUNTIF(Horaire!T:V,$C79)+COUNTIF(POC!T:V,$C79)+COUNTIF(Horaire!T:V,SUBSTITUTE($C79,\".\",\",\"))+COUNTIF(POC!T:V,SUBSTITUTE($C79,\".\",\",\"))","v":0},null,{"$f":"MIN($E79,F79)","v":2},{"$f":"MIN($E79,G79)","v":0}]
[null,null,"M309.02",{"$f":"VLOOKUP(C80,Traduction!$B$426:$E$926,'Info de l''escadron'!$A$1+1,0)","v":"Identifer les méthodes d'instruction"},2,{"$f":"COUNTIF(Horaire!Q:S,$C80)+COUNTIF(POC!Q:S,$C80)+COUNTIF(Horaire!Q:S,SUBSTITUTE($C80,\".\",\",\"))+COUNTIF(POC!Q:S,SUBSTITUTE($C80,\".\",\",\"))","v":2},{"$f":"COUNTIF(Horaire!T:V,$C80)+COUNTIF(POC!T:V,$C80)+COUNTIF(Horaire!T:V,SUBSTITUTE($C80,\".\",\",\"))+COUNTIF(POC!T:V,SUBSTITUTE($C80,\".\",\",\"))","v":0},null,2,0]
[null,null,"M309.03","Décrire les techniques de communication efficace",1,{"$f":"COUNTIF(Horaire!Q:S,$C81)+COUNTIF(POC!Q:S,$C81)+COUNTIF(Horaire!Q:S,SUBSTITUTE($C81,\".\",\",\"))+COUNTIF(POC!Q:S,SUBSTITUTE($C81,\".\",\",\"))","v":1},{"$f":"COUNTIF(Horaire!T:V,$C81)+COUNTIF(POC!T:V,$C81)+COUNTIF(Horaire!T:V,SUBSTITUTE($C81,\".\",\",\"))+COUNTIF(POC!T:V,SUBSTITUTE($C81,\".\",\",\"))","v":0},null,1,0]
[null,null,"M309.04","Décrire les techniques de question",1,{"$f":"COUNTIF(Horaire!Q:S,$C82)+COUNTIF(POC!Q:S,$C82)+COUNTIF(Horaire!Q:S,SUBSTITUTE($C82,\".\",\",\"))+COUNTIF(POC!Q:S,SUBSTITUTE($C82,\".\",\",\"))","v":1},{"$f":"COUNTIF(Horaire!T:V,$C82)+COUNTIF(POC!T:V,$C82)+COUNTIF(Horaire!T:V,SUBSTITUTE($C82,\".\",\",\"))+COUNTIF(POC!T:V,SUBSTITUTE($C82,\".\",\",\"))","v":0},null,1,0]
[null,null,"M309.05",{"$f":"VLOOKUP(C83,Traduction!$B$426:$E$926,'Info de l''escadron'!$A$1+1,0)","v":"Choisir les aides didactiques appropriées"},2,{"$f":"COUNTIF(Horaire!Q:S,$C83)+COUNTIF(POC!Q:S,$C83)+COUNTIF(Horaire!Q:S,SUBSTITUTE($C83,\".\",\",\"))+COUNTIF(POC!Q:S,SUBSTITUTE($C83,\".\",\",\"))","v":2},{"$f":"COUNTIF(Horaire!T:V,$C83)+COUNTIF(POC!T:V,$C83)+COUNTIF(Horaire!T:V,SUBSTITUTE($C83,\".\",\",\"))+COUNTIF(POC!T:V,SUBSTITUTE($C83,\".\",\",\"))","v":0},null,2,0]
[null,null,"M309.06",{"$f":"VLOOKUP(C84,Traduction!$B$426:$E$926,'Info de l''escadron'!$A$1+1,0)","v":"Planifier une leçon"},2,{"$f":"COUNTIF(Horaire!Q:S,$C84)+COUNTIF(POC!Q:S,$C84)+COUNTIF(Horaire!Q:S,SUBSTITUTE($C84,\".\",\",\"))+COUNTIF(POC!Q:S,SUBSTITUTE($C84,\".\",\",\"))","v":2},{"$f":"COUNTIF(Horaire!T:V,$C84)+COUNTIF(POC!T:V,$C84)+COUNTIF(Horaire!T:V,SUBSTITUTE($C84,\".\",\",\"))+COUNTIF(POC!T:V,SUBSTITUTE($C84,\".\",\",\"))","v":0},null,2,0]
[null,null,"M309.07",{"$f":"VLOOKUP(C85,Traduction!$B$426:$E$926,'Info de l''escadron'!$A$1+1,0)","v":"Enseigner une leçon de 15 minutes"},3,{"$f":"COUNTIF(Horaire!Q:S,$C85)+COUNTIF(POC!Q:S,$C85)+COUNTIF(Horaire!Q:S,SUBSTITUTE($C85,\".\",\",\"))+COUNTIF(POC!Q:S,SUBSTITUTE($C85,\".\",\",\"))","v":6},{"$f":"COUNTIF(Horaire!T:V,$C85)+COUNTIF(POC!T:V,$C85)+COUNTIF(Horaire!T:V,SUBSTITUTE($C85,\".\",\",\"))+COUNTIF(POC!T:V,SUBSTITUTE($C85,\".\",\",\"))","v":0},null,3,0]
[null,null,{"$f":"VLOOKUP(168,Traduction!$B$6:$E$250,'Info de l''escadron'!$A$1+1,0)","v":"COREN 309"},{"$f":"VLOOKUP(C86,Traduction!$B$426:$E$926,'Info de l''escadron'!$A$1+1,0)","v":"Enseigner une leçon"},0,{"$f":"COUNTIF(Horaire!Q:S,$C86)+COUNTIF(POC!Q:S,$C86)","v":0},{"$f":"COUNTIF(Horaire!T:V,$C86)+COUNTIF(POC!T:V,$C86)","v":0},null,null,null,null,{"$f":"MIN($E86,F86)","v":0},{"$f":"MIN($E86,G86)","v":0}]
[null,null,"C309.01",{"$f":"VLOOKUP(C87,Traduction!$B$426:$E$926,'Info de l''escadron'!$A$1+1,0)","v":"Donner un exposé oral d'une minute"},2,{"$f":"COUNTIF(Horaire!Q:S,$C87)+COUNTIF(POC!Q:S,$C87)+COUNTIF(Horaire!Q:S,SUBSTITUTE($C87,\".\",\",\"))+COUNTIF(POC!Q:S,SUBSTITUTE($C87,\".\",\",\"))","v":0},{"$f":"COUNTIF(Horaire!T:V,$C87)+COUNTIF(POC!T:V,$C87)+COUNTIF(Horaire!T:V,SUBSTITUTE($C87,\".\",\",\"))+COUNTIF(POC!T:V,SUBSTITUTE($C87,\".\",\",\"))","v":0},null,null,null,null,0,0]
[null,null,"C309.02",{"$f":"VLOOKUP(C88,Traduction!$B$426:$E$926,'Info de l''escadron'!$A$1+1,0)","v":"Planifier une leçon"},2,{"$f":"COUNTIF(Horaire!Q:S,$C88)+COUNTIF(POC!Q:S,$C88)+COUNTIF(Horaire!Q:S,SUBSTITUTE($C88,\".\",\",\"))+COUNTIF(POC!Q:S,SUBSTITUTE($C88,\".\",\",\"))","v":0},{"$f":"COUNTIF(Horaire!T:V,$C88)+COUNTIF(POC!T:V,$C88)+COUNTIF(Horaire!T:V,SUBSTITUTE($C88,\".\",\",\"))+COUNTIF(POC!T:V,SUBSTITUTE($C88,\".\",\",\"))","v":0},null,null,null,null,0,0]
[null,null,"C309.03",{"$f":"VLOOKUP(C89,Traduction!$B$426:$E$926,'Info de l''escadron'!$A$1+1,0)","v":"Enseigner une leçon de 15 minutes"},3,{"$f":"COUNTIF(Horaire!Q:S,$C89)+COUNTIF(POC!Q:S,$C89)+COUNTIF(Horaire!Q:S,SUBSTITUTE($C89,\".\",\",\"))+COUNTIF(POC!Q:S,SUBSTITUTE($C89,\".\",\",\"))","v":0},{"$f":"COUNTIF(Horaire!T:V,$C89)+COUNTIF(POC!T:V,$C89)+COUNTIF(Horaire!T:V,SUBSTITUTE($C89,\".\",\",\"))+COUNTIF(POC!T:V,SUBSTITUTE($C89,\".\",\",\"))","v":0},null,null,null,null,0,0]
[null,null,"C309.04",{"$f":"VLOOKUP(C90,Traduction!$B$426:$E$926,'Info de l''escadron'!$A$1+1,0)","v":"Identifier les formations pour l'instruction d'exercice militaire"},1,{"$f":"COUNTIF(Horaire!Q:S,$C90)+COUNTIF(POC!Q:S,$C90)+COUNTIF(Horaire!Q:S,SUBSTITUTE($C90,\".\",\",\"))+COUNTIF(POC!Q:S,SUBSTITUTE($C90,\".\",\",\"))","v":1},{"$f":"COUNTIF(Horaire!T:V,$C90)+COUNTIF(POC!T:V,$C90)+COUNTIF(Horaire!T:V,SUBSTITUTE($C90,\".\",\",\"))+COUNTIF(POC!T:V,SUBSTITUTE($C90,\".\",\",\"))","v":0},null,null,null,null,1,0]
[null,null,"C309.05",{"$f":"VLOOKUP(C91,Traduction!$B$426:$E$926,'Info de l''escadron'!$A$1+1,0)","v":"Planifier une leçon d'exercice militaire"},2,{"$f":"COUNTIF(Horaire!Q:S,$C91)+COUNTIF(POC!Q:S,$C91)+COUNTIF(Horaire!Q:S,SUBSTITUTE($C91,\".\",\",\"))+COUNTIF(POC!Q:S,SUBSTITUTE($C91,\".\",\",\"))","v":2},{"$f":"COUNTIF(Horaire!T:V,$C91)+COUNTIF(POC!T:V,$C91)+COUNTIF(Horaire!T:V,SUBSTITUTE($C91,\".\",\",\"))+COUNTIF(POC!T:V,SUBSTITUTE($C91,\".\",\",\"))","v":0},null,null,null,null,2,0]
[null,null,"C309.06",{"$f":"VLOOKUP(C92,Traduction!$B$426:$E$926,'Info de l''escadron'!$A$1+1,0)","v":"Enseigner une leçon d'exercice militaire de 15 minutes"},3,{"$f":"COUNTIF(Horaire!Q:S,$C92)+COUNTIF(POC!Q:S,$C92)+COUNTIF(Horaire!Q:S,SUBSTITUTE($C92,\".\",\",\"))+COUNTIF(POC!Q:S,SUBSTITUTE($C92,\".\",\",\"))","v":0},{"$f":"COUNTIF(Horaire!T:V,$C92)+COUNTIF(POC!T:V,$C92)+COUNTIF(Horaire!T:V,SUBSTITUTE($C92,\".\",\",\"))+COUNTIF(POC!T:V,SUBSTITUTE($C92,\".\",\",\"))","v":0},null,null,null,null,0,0]
[null,null,{"$f":"CONCATENATE($A$2,\" \",A79,\" - \",VLOOKUP(160,Traduction!$B$6:$E$250,'Info de l''escadron'!$A$1+1,0))","v":"OREN 309 - Total des périodes d'instruction Obligatoires  "},null,13,{"$f":"SUM(F79:F85)","v":16},{"$f":"SUM(G79:G86)","v":0}]
[null,null,{"$f":"CONCATENATE($A$2,\" \",A79,\" - \",VLOOKUP(161,Traduction!$B$6:$E$250,'Info de l''escadron'!$A$1+1,0))","v":"OREN 309 - Total des périodes d'instruction Complémentaires  "},null,13,{"$f":"SUM(F87:F92)","v":3},{"$f":"SUM(G87:G92)","v":0}]
[311,{"$f":"VLOOKUP(A95,Traduction!$B$300:$E$388,'Info de l''escadron'!$A$1+1,0)","v":"Participer à une activité récréative de biathlon d'été"},"C311.01",{"$f":"VLOOKUP(C95,Traduction!$B$426:$E$926,'Info de l''escadron'!$A$1+1,0)","v":"Pratiquer la visée et le tir à la carabine à air comprimé des cadets après une activité physique"},3,{"$f":"COUNTIF(Horaire!Q:S,$C95)+COUNTIF(POC!Q:S,$C95)+COUNTIF(Horaire!Q:S,SUBSTITUTE($C95,\".\",\",\"))+COUNTIF(POC!Q:S,SUBSTITUTE($C95,\".\",\",\"))","v":0},{"$f":"COUNTIF(Horaire!T:V,$C95)+COUNTIF(POC!T:V,$C95)+COUNTIF(Horaire!T:V,SUBSTITUTE($C95,\".\",\",\"))+COUNTIF(POC!T:V,SUBSTITUTE($C95,\".\",\",\"))","v":0},null,null,null,null,{"$f":"MIN($E95,F95)","v":0},{"$f":"MIN($E95,G95)","v":0}]
[null,null,"C311.02",{"$f":"VLOOKUP(C96,Traduction!$B$426:$E$926,'Info de l''escadron'!$A$1+1,0)","v":"Participer à une activité récréative de biathlon d'été"},6,{"$f":"COUNTIF(Horaire!Q:S,$C96)+COUNTIF(POC!Q:S,$C96)+COUNTIF(Horaire!Q:S,SUBSTITUTE($C96,\".\",\",\"))+COUNTIF(POC!Q:S,SUBSTITUTE($C96,\".\",\",\"))","v":0},{"$f":"COUNTIF(Horaire!T:V,$C96)+COUNTIF(POC!T:V,$C96)+COUNTIF(Horaire!T:V,SUBSTITUTE($C96,\".\",\",\"))+COUNTIF(POC!T:V,SUBSTITUTE($C96,\".\",\",\"))","v":0},null,null,null,null,0,0]
[null,null,"C211.01",{"$f":"VLOOKUP(C97,Traduction!$B$426:$E$926,'Info de l''escadron'!$A$1+1,0)","v":"Reconnaître les occasions de biathlon civil"},1,{"$f":"COUNTIF(Horaire!Q:S,$C97)+COUNTIF(POC!Q:S,$C97)+COUNTIF(Horaire!Q:S,SUBSTITUTE($C97,\".\",\",\"))+COUNTIF(POC!Q:S,SUBSTITUTE($C97,\".\",\",\"))","v":0},{"$f":"COUNTIF(Horaire!T:V,$C97)+COUNTIF(POC!T:V,$C97)+COUNTIF(Horaire!T:V,SUBSTITUTE($C97,\".\",\",\"))+COUNTIF(POC!T:V,SUBSTITUTE($C97,\".\",\",\"))","v":0},null,null,null,null,0,0]
[null,null,"C211.02",{"$f":"VLOOKUP(C98,Traduction!$B$426:$E$926,'Info de l''escadron'!$A$1+1,0)","v":"Courir sur un terrain à géographie différente"},1,{"$f":"COUNTIF(Horaire!Q:S,$C98)+COUNTIF(POC!Q:S,$C98)+COUNTIF(Horaire!Q:S,SUBSTITUTE($C98,\".\",\",\"))+COUNTIF(POC!Q:S,SUBSTITUTE($C98,\".\",\",\"))","v":0},{"$f":"COUNTIF(Horaire!T:V,$C98)+COUNTIF(POC!T:V,$C98)+COUNTIF(Horaire!T:V,SUBSTITUTE($C98,\".\",\",\"))+COUNTIF(POC!T:V,SUBSTITUTE($C98,\".\",\",\"))","v":0},null,null,null,null,0,0]
[null,null,"C211.03",{"$f":"VLOOKUP(C99,Traduction!$B$426:$E$926,'Info de l''escadron'!$A$1+1,0)","v":"Tirer avec la carabine à air comprimé des cadets en se servant d'une bretelle après une activité physique"},1,{"$f":"COUNTIF(Horaire!Q:S,$C99)+COUNTIF(POC!Q:S,$C99)+COUNTIF(Horaire!Q:S,SUBSTITUTE($C99,\".\",\",\"))+COUNTIF(POC!Q:S,SUBSTITUTE($C99,\".\",\",\"))","v":0},{"$f":"COUNTIF(Horaire!T:V,$C99)+COUNTIF(POC!T:V,$C99)+COUNTIF(Horaire!T:V,SUBSTITUTE($C99,\".\",\",\"))+COUNTIF(POC!T:V,SUBSTITUTE($C99,\".\",\",\"))","v":0},null,null,null,null,0,0]
[null,null,"C211.04",{"$f":"VLOOKUP(C100,Traduction!$B$426:$E$926,'Info de l''escadron'!$A$1+1,0)","v":"Participer à une activité compétitive de biathlon d'été"},6,{"$f":"COUNTIF(Horaire!Q:S,$C100)+COUNTIF(POC!Q:S,$C100)+COUNTIF(Horaire!Q:S,SUBSTITUTE($C100,\".\",\",\"))+COUNTIF(POC!Q:S,SUBSTITUTE($C100,\".\",\",\"))","v":0},{"$f":"COUNTIF(Horaire!T:V,$C100)+COUNTIF(POC!T:V,$C100)+COUNTIF(Horaire!T:V,SUBSTITUTE($C100,\".\",\",\"))+COUNTIF(POC!T:V,SUBSTITUTE($C100,\".\",\",\"))","v":0},null,null,null,null,0,0]
[null,null,"C111.01",{"$f":"VLOOKUP(C101,Traduction!$B$426:$E$926,'Info de l''escadron'!$A$1+1,0)","v":"Participer à une séance d'information sur le biathlon"},1,{"$f":"COUNTIF(Horaire!Q:S,$C101)+COUNTIF(POC!Q:S,$C101)+COUNTIF(Horaire!Q:S,SUBSTITUTE($C101,\".\",\",\"))+COUNTIF(POC!Q:S,SUBSTITUTE($C101,\".\",\",\"))","v":0},{"$f":"COUNTIF(Horaire!T:V,$C101)+COUNTIF(POC!T:V,$C101)+COUNTIF(Horaire!T:V,SUBSTITUTE($C101,\".\",\",\"))+COUNTIF(POC!T:V,SUBSTITUTE($C101,\".\",\",\"))","v":0},null,null,null,null,0,0]
[null,null,"C111.02",{"$f":"VLOOKUP(C102,Traduction!$B$426:$E$926,'Info de l''escadron'!$A$1+1,0)","v":"Courir des sprints courts"},1,{"$f":"COUNTIF(Horaire!Q:S,$C102)+COUNTIF(POC!Q:S,$C102)+COUNTIF(Horaire!Q:S,SUBSTITUTE($C102,\".\",\",\"))+COUNTIF(POC!Q:S,SUBSTITUTE($C102,\".\",\",\"))","v":0},{"$f":"COUNTIF(Horaire!T:V,$C102)+COUNTIF(POC!T:V,$C102)+COUNTIF(Horaire!T:V,SUBSTITUTE($C102,\".\",\",\"))+COUNTIF(POC!T:V,SUBSTITUTE($C102,\".\",\",\"))","v":0},null,null,null,null,0,0]
[null,null,"C111.03",{"$f":"VLOOKUP(C103,Traduction!$B$426:$E$926,'Info de l''escadron'!$A$1+1,0)","v":"Simuler un tir avec la carabine à air comprimé des cadets après une activité physique"},1,{"$f":"COUNTIF(Horaire!Q:S,$C103)+COUNTIF(POC!Q:S,$C103)+COUNTIF(Horaire!Q:S,SUBSTITUTE($C103,\".\",\",\"))+COUNTIF(POC!Q:S,SUBSTITUTE($C103,\".\",\",\"))","v":0},{"$f":"COUNTIF(Horaire!T:V,$C103)+COUNTIF(POC!T:V,$C103)+COUNTIF(Horaire!T:V,SUBSTITUTE($C103,\".\",\",\"))+COUNTIF(POC!T:V,SUBSTITUTE($C103,\".\",\",\"))","v":0},null,null,null,null,0,0]
[null,null,"C111.04",{"$f":"VLOOKUP(C104,Traduction!$B$426:$E$926,'Info de l''escadron'!$A$1+1,0)","v":"Participer à une activité récréative de biathlon d'été"},6,{"$f":"COUNTIF(Horaire!Q:S,$C104)+COUNTIF(POC!Q:S,$C104)+COUNTIF(Horaire!Q:S,SUBSTITUTE($C104,\".\",\",\"))+COUNTIF(POC!Q:S,SUBSTITUTE($C104,\".\",\",\"))","v":0},{"$f":"COUNTIF(Horaire!T:V,$C104)+COUNTIF(POC!T:V,$C104)+COUNTIF(Horaire!T:V,SUBSTITUTE($C104,\".\",\",\"))+COUNTIF(POC!T:V,SUBSTITUTE($C104,\".\",\",\"))","v":0},null,null,null,null,0,0]
[null,null,{"$f":"CONCATENATE($A$2,\" \",A95,\" - \",VLOOKUP(160,Traduction!$B$6:$E$250,'Info de l''escadron'!$A$1+1,0))","v":"OREN 311 - Total des périodes d'instruction Obligatoires  "},null,0,0,0]
[null,null,{"$f":"CONCATENATE($A$2,\" \",A95,\" - \",VLOOKUP(161,Traduction!$B$6:$E$250,'Info de l''escadron'!$A$1+1,0))","v":"OREN 311 - Total des périodes d'instruction Complémentaires  "},null,27,{"$f":"SUM(F95:F104)","v":0},{"$f":"SUM(G95:G104)","v":0}]
[320,{"$f":"VLOOKUP(A107,Traduction!$B$300:$E$388,'Info de l''escadron'!$A$1+1,0)","v":"Participer aux activités de familiarisation des Forces canadiennes (FC)"},"M320.01A","Participer à une activité des FAC",0,{"$f":"COUNTIF(Horaire!Q:S,$C107)+COUNTIF(POC!Q:S,$C107)+COUNTIF(Horaire!Q:S,SUBSTITUTE($C107,\".\",\",\"))+COUNTIF(POC!Q:S,SUBSTITUTE($C107,\".\",\",\"))","v":0},{"$f":"COUNTIF(Horaire!T:V,$C107)+COUNTIF(POC!T:V,$C107)+COUNTIF(Horaire!T:V,SUBSTITUTE($C107,\".\",\",\"))+COUNTIF(POC!T:V,SUBSTITUTE($C107,\".\",\",\"))","v":0},null,{"$f":"MIN($E107,F107)","v":0},{"$f":"MIN($E107,G107)","v":0}]
[null,null,"M320.01B","Participer à une activité de familiarisation des FAC",0,{"$f":"COUNTIF(Horaire!Q:S,$C108)+COUNTIF(POC!Q:S,$C108)+COUNTIF(Horaire!Q:S,SUBSTITUTE($C108,\".\",\",\"))+COUNTIF(POC!Q:S,SUBSTITUTE($C108,\".\",\",\"))","v":0},{"$f":"COUNTIF(Horaire!T:V,$C108)+COUNTIF(POC!T:V,$C108)+COUNTIF(Horaire!T:V,SUBSTITUTE($C108,\".\",\",\"))+COUNTIF(POC!T:V,SUBSTITUTE($C108,\".\",\",\"))","v":0},null,null,null,null,{"$f":"MIN($E108,F108)","v":0},0]
[null,null,"M320.01C","Tirer avec le fusil C7",0,{"$f":"COUNTIF(Horaire!Q:S,$C109)+COUNTIF(POC!Q:S,$C109)+COUNTIF(Horaire!Q:S,SUBSTITUTE($C109,\".\",\",\"))+COUNTIF(POC!Q:S,SUBSTITUTE($C109,\".\",\",\"))","v":0},{"$f":"COUNTIF(Horaire!T:V,$C109)+COUNTIF(POC!T:V,$C109)+COUNTIF(Horaire!T:V,SUBSTITUTE($C109,\".\",\",\"))+COUNTIF(POC!T:V,SUBSTITUTE($C109,\".\",\",\"))","v":0},null,null,null,null,0,0]
[null,null,"M320.01D","Participer à une dîner régimentaire",0,3]
[null,null,"M320.01E","Assister à une présentation des FAC",0,{"$f":"COUNTIF(Horaire!Q:S,$C111)+COUNTIF(POC!Q:S,$C111)+COUNTIF(Horaire!Q:S,SUBSTITUTE($C111,\".\",\",\"))+COUNTIF(POC!Q:S,SUBSTITUTE($C111,\".\",\",\"))","v":0}]
[null,null,"M320.01F","Assister à une cérémonie commémorative des FAC",0,{"$f":"COUNTIF(Horaire!Q:S,$C112)+COUNTIF(POC!Q:S,$C112)+COUNTIF(Horaire!Q:S,SUBSTITUTE($C112,\".\",\",\"))+COUNTIF(POC!Q:S,SUBSTITUTE($C112,\".\",\",\"))","v":0}]
[null,null,"M320.01G","Participer à des activités relatives aux vidéos des FAC",0,{"$f":"COUNTIF(Horaire!Q:S,$C113)+COUNTIF(POC!Q:S,$C113)+COUNTIF(Horaire!Q:S,SUBSTITUTE($C113,\".\",\",\"))+COUNTIF(POC!Q:S,SUBSTITUTE($C113,\".\",\",\"))","v":0},{"$f":"COUNTIF(Horaire!T:V,$C113)+COUNTIF(POC!T:V,$C113)+COUNTIF(Horaire!T:V,SUBSTITUTE($C113,\".\",\",\"))+COUNTIF(POC!T:V,SUBSTITUTE($C113,\".\",\",\"))","v":0},null,null,null,null,0,0]
[null,null,"M320.01H","Participer à des activités d'apprentissage des FAC",0,{"$f":"COUNTIF(Horaire!Q:S,$C114)+COUNTIF(POC!Q:S,$C114)+COUNTIF(Horaire!Q:S,SUBSTITUTE($C114,\".\",\",\"))+COUNTIF(POC!Q:S,SUBSTITUTE($C114,\".\",\",\"))","v":0},{"$f":"COUNTIF(Horaire!T:V,$C114)+COUNTIF(POC!T:V,$C114)+COUNTIF(Horaire!T:V,SUBSTITUTE($C114,\".\",\",\"))+COUNTIF(POC!T:V,SUBSTITUTE($C114,\".\",\",\"))","v":0},null,null,null,null,0,0]
[null,null,"C320.01","Participer à des activités de familiarisation des FAC",18,{"$f":"COUNTIF(Horaire!Q:S,$C115)+COUNTIF(POC!Q:S,$C115)+COUNTIF(Horaire!Q:S,SUBSTITUTE($C115,\".\",\",\"))+COUNTIF(POC!Q:S,SUBSTITUTE($C115,\".\",\",\"))","v":0},{"$f":"COUNTIF(Horaire!T:V,$C115)+COUNTIF(POC!T:V,$C115)+COUNTIF(Horaire!T:V,SUBSTITUTE($C115,\".\",\",\"))+COUNTIF(POC!T:V,SUBSTITUTE($C115,\".\",\",\"))","v":0},null,null,null,null,0,0]
[null,null,{"$f":"CONCATENATE($A$2,\" \",A107,\" - \",VLOOKUP(160,Traduction!$B$6:$E$250,'Info de l''escadron'!$A$1+1,0))","v":"OREN 320 - Total des périodes d'instruction Obligatoires  "},null,0,3,{"$f":"G107","v":0}]
[null,null,{"$f":"CONCATENATE($A$2,\" \",A107,\" - \",VLOOKUP(161,Traduction!$B$6:$E$250,'Info de l''escadron'!$A$1+1,0))","v":"OREN 320 - Total des périodes d'instruction Complémentaires  "},null,18,{"$f":"SUM(F115)","v":0},{"$f":"SUM(G108:G115)","v":0}]
[331,{"$f":"VLOOKUP(A118,Traduction!$B$300:$E$388,'Info de l''escadron'!$A$1+1,0)","v":"Décrire les principes de vol"},"M331.01",{"$f":"VLOOKUP(C118,Traduction!$B$426:$E$926,'Info de l''escadron'!$A$1+1,0)","v":"Décrire la stabilité d'un aéronef"},2,{"$f":"COUNTIF(Horaire!Q:S,$C118)+COUNTIF(POC!Q:S,$C118)+COUNTIF(Horaire!Q:S,SUBSTITUTE($C118,\".\",\",\"))+COUNTIF(POC!Q:S,SUBSTITUTE($C118,\".\",\",\"))","v":2},{"$f":"COUNTIF(Horaire!T:V,$C118)+COUNTIF(POC!T:V,$C118)+COUNTIF(Horaire!T:V,SUBSTITUTE($C118,\".\",\",\"))+COUNTIF(POC!T:V,SUBSTITUTE($C118,\".\",\",\"))","v":0},null,{"$f":"MIN($E118,F118)","v":2},{"$f":"MIN($E118,G118)","v":0}]
[null,null,"C331.01",{"$f":"VLOOKUP(C119,Traduction!$B$426:$E$926,'Info de l''escadron'!$A$1+1,0)","v":"Réviser les principes de vol"},1,{"$f":"COUNTIF(Horaire!Q:S,$C119)+COUNTIF(POC!Q:S,$C119)+COUNTIF(Horaire!Q:S,SUBSTITUTE($C119,\".\",\",\"))+COUNTIF(POC!Q:S,SUBSTITUTE($C119,\".\",\",\"))","v":0},{"$f":"COUNTIF(Horaire!T:V,$C119)+COUNTIF(POC!T:V,$C119)+COUNTIF(Horaire!T:V,SUBSTITUTE($C119,\".\",\",\"))+COUNTIF(POC!T:V,SUBSTITUTE($C119,\".\",\",\"))","v":0},null,null,null,null,{"$f":"MIN($E119,F119)","v":0},0]
[null,null,"C331.02","Lire les instruments anémométriques",2,{"$f":"COUNTIF(Horaire!Q:S,$C120)+COUNTIF(POC!Q:S,$C120)+COUNTIF(Horaire!Q:S,SUBSTITUTE($C120,\".\",\",\"))+COUNTIF(POC!Q:S,SUBSTITUTE($C120,\".\",\",\"))","v":0},{"$f":"COUNTIF(Horaire!T:V,$C120)+COUNTIF(POC!T:V,$C120)+COUNTIF(Horaire!T:V,SUBSTITUTE($C120,\".\",\",\"))+COUNTIF(POC!T:V,SUBSTITUTE($C120,\".\",\",\"))","v":0},null,null,null,null,0,0]
[null,null,"C331.03",{"$f":"VLOOKUP(C121,Traduction!$B$426:$E$926,'Info de l''escadron'!$A$1+1,0)","v":"Identifier les aspects de l'aérodynamique d'un hélicoptère"},1,{"$f":"COUNTIF(Horaire!Q:S,$C121)+COUNTIF(POC!Q:S,$C121)+COUNTIF(Horaire!Q:S,SUBSTITUTE($C121,\".\",\",\"))+COUNTIF(POC!Q:S,SUBSTITUTE($C121,\".\",\",\"))","v":0},{"$f":"COUNTIF(Horaire!T:V,$C121)+COUNTIF(POC!T:V,$C121)+COUNTIF(Horaire!T:V,SUBSTITUTE($C121,\".\",\",\"))+COUNTIF(POC!T:V,SUBSTITUTE($C121,\".\",\",\"))","v":0},null,null,null,null,0,0]
[null,null,"C331.04",{"$f":"VLOOKUP(C122,Traduction!$B$426:$E$926,'Info de l''escadron'!$A$1+1,0)","v":"Faire la démonstration des assiettes et des mouvements dans un simulateur de vol"},3,{"$f":"COUNTIF(Horaire!Q:S,$C122)+COUNTIF(POC!Q:S,$C122)+COUNTIF(Horaire!Q:S,SUBSTITUTE($C122,\".\",\",\"))+COUNTIF(POC!Q:S,SUBSTITUTE($C122,\".\",\",\"))","v":0},{"$f":"COUNTIF(Horaire!T:V,$C122)+COUNTIF(POC!T:V,$C122)+COUNTIF(Horaire!T:V,SUBSTITUTE($C122,\".\",\",\"))+COUNTIF(POC!T:V,SUBSTITUTE($C122,\".\",\",\"))","v":0},null,null,null,null,0,0]
[null,null,"C331.05",{"$f":"VLOOKUP(C123,Traduction!$B$426:$E$926,'Info de l''escadron'!$A$1+1,0)","v":"Participer à une présentation donnée par un conférencier du milieu de l'aviation local"},2,{"$f":"COUNTIF(Horaire!Q:S,$C123)+COUNTIF(POC!Q:S,$C123)+COUNTIF(Horaire!Q:S,SUBSTITUTE($C123,\".\",\",\"))+COUNTIF(POC!Q:S,SUBSTITUTE($C123,\".\",\",\"))","v":0},{"$f":"COUNTIF(Horaire!T:V,$C123)+COUNTIF(POC!T:V,$C123)+COUNTIF(Horaire!T:V,SUBSTITUTE($C123,\".\",\",\"))+COUNTIF(POC!T:V,SUBSTITUTE($C123,\".\",\",\"))","v":0},null,null,null,null,0,0]
[null,null,{"$f":"CONCATENATE($A$2,\" \",A118,\" - \",VLOOKUP(160,Traduction!$B$6:$E$250,'Info de l''escadron'!$A$1+1,0))","v":"OREN 331 - Total des périodes d'instruction Obligatoires  "},null,2,{"$f":"F118","v":2},{"$f":"G118","v":0}]
[null,null,{"$f":"CONCATENATE($A$2,\" \",A118,\" - \",VLOOKUP(161,Traduction!$B$6:$E$250,'Info de l''escadron'!$A$1+1,0))","v":"OREN 331 - Total des périodes d'instruction Complémentaires  "},null,9,{"$f":"SUM(F119:F123)","v":0},{"$f":"SUM(G119:G123)","v":0}]
[336,{"$f":"VLOOKUP(A126,Traduction!$B$300:$E$388,'Info de l''escadron'!$A$1+1,0)","v":"Identifier les conditions météorologiques"},"M336.01",{"$f":"VLOOKUP(C126,Traduction!$B$426:$E$926,'Info de l''escadron'!$A$1+1,0)","v":"Décrire les propriétés de l'atmosphère"},1,{"$f":"COUNTIF(Horaire!Q:S,$C126)+COUNTIF(POC!Q:S,$C126)+COUNTIF(Horaire!Q:S,SUBSTITUTE($C126,\".\",\",\"))+COUNTIF(POC!Q:S,SUBSTITUTE($C126,\".\",\",\"))","v":1},{"$f":"COUNTIF(Horaire!T:V,$C126)+COUNTIF(POC!T:V,$C126)+COUNTIF(Horaire!T:V,SUBSTITUTE($C126,\".\",\",\"))+COUNTIF(POC!T:V,SUBSTITUTE($C126,\".\",\",\"))","v":0},null,{"$f":"MIN($E126,F126)","v":1},0]
[null,null,"M336.02",{"$f":"VLOOKUP(C127,Traduction!$B$426:$E$926,'Info de l''escadron'!$A$1+1,0)","v":"Expliquer la formation des nuages"},1,{"$f":"COUNTIF(Horaire!Q:S,$C127)+COUNTIF(POC!Q:S,$C127)+COUNTIF(Horaire!Q:S,SUBSTITUTE($C127,\".\",\",\"))+COUNTIF(POC!Q:S,SUBSTITUTE($C127,\".\",\",\"))","v":1},{"$f":"COUNTIF(Horaire!T:V,$C127)+COUNTIF(POC!T:V,$C127)+COUNTIF(Horaire!T:V,SUBSTITUTE($C127,\".\",\",\"))+COUNTIF(POC!T:V,SUBSTITUTE($C127,\".\",\",\"))","v":0},null,1,0]
[null,null,"M336.03",{"$f":"VLOOKUP(C128,Traduction!$B$426:$E$926,'Info de l''escadron'!$A$1+1,0)","v":"Expliquer les effets de la pression atmosphérique sur les conditions météorologiques"},1,{"$f":"COUNTIF(Horaire!Q:S,$C128)+COUNTIF(POC!Q:S,$C128)+COUNTIF(Horaire!Q:S,SUBSTITUTE($C128,\".\",\",\"))+COUNTIF(POC!Q:S,SUBSTITUTE($C128,\".\",\",\"))","v":1},{"$f":"COUNTIF(Horaire!T:V,$C128)+COUNTIF(POC!T:V,$C128)+COUNTIF(Horaire!T:V,SUBSTITUTE($C128,\".\",\",\"))+COUNTIF(POC!T:V,SUBSTITUTE($C128,\".\",\",\"))","v":0},null,1,0]
[null,null,"M336.04",{"$f":"VLOOKUP(C129,Traduction!$B$426:$E$926,'Info de l''escadron'!$A$1+1,0)","v":"Expliquer les effets de l'humidité et de la température sur les conditions météorologiques"},2,{"$f":"COUNTIF(Horaire!Q:S,$C129)+COUNTIF(POC!Q:S,$C129)+COUNTIF(Horaire!Q:S,SUBSTITUTE($C129,\".\",\",\"))+COUNTIF(POC!Q:S,SUBSTITUTE($C129,\".\",\",\"))","v":2},{"$f":"COUNTIF(Horaire!T:V,$C129)+COUNTIF(POC!T:V,$C129)+COUNTIF(Horaire!T:V,SUBSTITUTE($C129,\".\",\",\"))+COUNTIF(POC!T:V,SUBSTITUTE($C129,\".\",\",\"))","v":0},null,2,0]
[null,null,{"$f":"VLOOKUP(169,Traduction!$B$6:$E$250,'Info de l''escadron'!$A$1+1,0)","v":"COREN 331/336/337"},{"$f":"VLOOKUP(C130,Traduction!$B$426:$E$926,'Info de l''escadron'!$A$1+1,0)","v":"Sujets sur l'aviation - Évaluation combinée"},1,1,{"$f":"COUNTIF(Horaire!T:V,$C130)+COUNTIF(POC!T:V,$C130)","v":0},null,1,0]
[null,null,"C336.01",{"$f":"VLOOKUP(C131,Traduction!$B$426:$E$926,'Info de l''escadron'!$A$1+1,0)","v":"Lire un message d'observation météorologique régulière pour l'aviation (METAR)"},2,{"$f":"COUNTIF(Horaire!Q:S,$C131)+COUNTIF(POC!Q:S,$C131)+COUNTIF(Horaire!Q:S,SUBSTITUTE($C131,\".\",\",\"))+COUNTIF(POC!Q:S,SUBSTITUTE($C131,\".\",\",\"))","v":0},{"$f":"COUNTIF(Horaire!T:V,$C131)+COUNTIF(POC!T:V,$C131)+COUNTIF(Horaire!T:V,SUBSTITUTE($C131,\".\",\",\"))+COUNTIF(POC!T:V,SUBSTITUTE($C131,\".\",\",\"))","v":0},null,null,null,null,{"$f":"MIN($E131,F131)","v":0},0]
[null,null,"C336.02",{"$f":"VLOOKUP(C132,Traduction!$B$426:$E$926,'Info de l''escadron'!$A$1+1,0)","v":"Visiter une installation météorologique"},3,{"$f":"COUNTIF(Horaire!Q:S,$C132)+COUNTIF(POC!Q:S,$C132)+COUNTIF(Horaire!Q:S,SUBSTITUTE($C132,\".\",\",\"))+COUNTIF(POC!Q:S,SUBSTITUTE($C132,\".\",\",\"))","v":0},{"$f":"COUNTIF(Horaire!T:V,$C132)+COUNTIF(POC!T:V,$C132)+COUNTIF(Horaire!T:V,SUBSTITUTE($C132,\".\",\",\"))+COUNTIF(POC!T:V,SUBSTITUTE($C132,\".\",\",\"))","v":0},null,null,null,null,0,0]
[null,null,"C336.03",{"$f":"VLOOKUP(C133,Traduction!$B$426:$E$926,'Info de l''escadron'!$A$1+1,0)","v":"Participer à une présentation donnée par un spécialiste de l'information de vol"},2,{"$f":"COUNTIF(Horaire!Q:S,$C133)+COUNTIF(POC!Q:S,$C133)+COUNTIF(Horaire!Q:S,SUBSTITUTE($C133,\".\",\",\"))+COUNTIF(POC!Q:S,SUBSTITUTE($C133,\".\",\",\"))","v":0},{"$f":"COUNTIF(Horaire!T:V,$C133)+COUNTIF(POC!T:V,$C133)+COUNTIF(Horaire!T:V,SUBSTITUTE($C133,\".\",\",\"))+COUNTIF(POC!T:V,SUBSTITUTE($C133,\".\",\",\"))","v":0},null,null,null,null,0,0]
[null,null,{"$f":"CONCATENATE($A$2,\" \",A126,\" - \",VLOOKUP(160,Traduction!$B$6:$E$250,'Info de l''escadron'!$A$1+1,0))","v":"OREN 336 - Total des périodes d'instruction Obligatoires  "},null,6,{"$f":"SUM(F126:F130)","v":6},{"$f":"SUM(G126:G130)","v":0}]
[null,null,{"$f":"CONCATENATE($A$2,\" \",A126,\" - \",VLOOKUP(161,Traduction!$B$6:$E$250,'Info de l''escadron'!$A$1+1,0))","v":"OREN 336 - Total des périodes d'instruction Complémentaires  "},null,7,{"$f":"SUM(F131:F133)","v":0},{"$f":"SUM(G131:G133)","v":0}]
[337,{"$f":"VLOOKUP(A136,Traduction!$B$300:$E$388,'Info de l''escadron'!$A$1+1,0)","v":"Démontrer les habiletés en navigation aérienne"},"M337.01",{"$f":"VLOOKUP(C136,Traduction!$B$426:$E$926,'Info de l''escadron'!$A$1+1,0)","v":"Mesurer la distance le long d'un itinéraire"},1,{"$f":"COUNTIF(Horaire!Q:S,$C136)+COUNTIF(POC!Q:S,$C136)+COUNTIF(Horaire!Q:S,SUBSTITUTE($C136,\".\",\",\"))+COUNTIF(POC!Q:S,SUBSTITUTE($C136,\".\",\",\"))","v":1},{"$f":"COUNTIF(Horaire!T:V,$C136)+COUNTIF(POC!T:V,$C136)+COUNTIF(Horaire!T:V,SUBSTITUTE($C136,\".\",\",\"))+COUNTIF(POC!T:V,SUBSTITUTE($C136,\".\",\",\"))","v":0},null,{"$f":"MIN($E136,F136)","v":1},{"$f":"MIN($E136,G136)","v":0}]
[null,null,"M337.02",{"$f":"VLOOKUP(C137,Traduction!$B$426:$E$926,'Info de l''escadron'!$A$1+1,0)","v":"Déterminer une position sur une carte aéronautique de navigation VFR (VNC)"},1,{"$f":"COUNTIF(Horaire!Q:S,$C137)+COUNTIF(POC!Q:S,$C137)+COUNTIF(Horaire!Q:S,SUBSTITUTE($C137,\".\",\",\"))+COUNTIF(POC!Q:S,SUBSTITUTE($C137,\".\",\",\"))","v":1},{"$f":"COUNTIF(Horaire!T:V,$C137)+COUNTIF(POC!T:V,$C137)+COUNTIF(Horaire!T:V,SUBSTITUTE($C137,\".\",\",\"))+COUNTIF(POC!T:V,SUBSTITUTE($C137,\".\",\",\"))","v":0},null,{"$f":"MIN($E137,F137)","v":1},{"$f":"MIN($E137,G137)","v":0}]
[null,null,"C337.01",{"$f":"VLOOKUP(C138,Traduction!$B$426:$E$926,'Info de l''escadron'!$A$1+1,0)","v":"Utiliser une radio pour les transmissions destinées à l'aviation"},1,{"$f":"COUNTIF(Horaire!Q:S,$C138)+COUNTIF(POC!Q:S,$C138)+COUNTIF(Horaire!Q:S,SUBSTITUTE($C138,\".\",\",\"))+COUNTIF(POC!Q:S,SUBSTITUTE($C138,\".\",\",\"))","v":0},{"$f":"COUNTIF(Horaire!T:V,$C138)+COUNTIF(POC!T:V,$C138)+COUNTIF(Horaire!T:V,SUBSTITUTE($C138,\".\",\",\"))+COUNTIF(POC!T:V,SUBSTITUTE($C138,\".\",\",\"))","v":0},null,null,null,null,{"$f":"MIN($E138,F138)","v":0},{"$f":"MIN($E138,G138)","v":0}]
[null,null,"C337.02",{"$f":"VLOOKUP(C139,Traduction!$B$426:$E$926,'Info de l''escadron'!$A$1+1,0)","v":"Pratiquer des habiletés en navigation aérienne"},1,{"$f":"COUNTIF(Horaire!Q:S,$C139)+COUNTIF(POC!Q:S,$C139)+COUNTIF(Horaire!Q:S,SUBSTITUTE($C139,\".\",\",\"))+COUNTIF(POC!Q:S,SUBSTITUTE($C139,\".\",\",\"))","v":0},{"$f":"COUNTIF(Horaire!T:V,$C139)+COUNTIF(POC!T:V,$C139)+COUNTIF(Horaire!T:V,SUBSTITUTE($C139,\".\",\",\"))+COUNTIF(POC!T:V,SUBSTITUTE($C139,\".\",\",\"))","v":0},null,null,null,null,{"$f":"MIN($E139,F139)","v":0},{"$f":"MIN($E139,G139)","v":0}]
[null,null,{"$f":"CONCATENATE($A$2,\" \",A136,\" - \",VLOOKUP(160,Traduction!$B$6:$E$250,'Info de l''escadron'!$A$1+1,0))","v":"OREN 337 - Total des périodes d'instruction Obligatoires  "},null,2,{"$f":"SUM(F136:F137)","v":2},{"$f":"SUM(G136:G137)","v":0}]
[null,null,{"$f":"CONCATENATE($A$2,\" \",A136,\" - \",VLOOKUP(161,Traduction!$B$6:$E$250,'Info de l''escadron'!$A$1+1,0))","v":"OREN 337 - Total des périodes d'instruction Complémentaires  "},null,2,{"$f":"SUM(F138:F139)","v":0},{"$f":"SUM(G138:G139)","v":0}]
[340,{"$f":"VLOOKUP(A142,Traduction!$B$300:$E$388,'Info de l''escadron'!$A$1+1,0)","v":"Identifier des aspects de l'exploration spatiale"},"M340.01",{"$f":"VLOOKUP(C142,Traduction!$B$426:$E$926,'Info de l''escadron'!$A$1+1,0)","v":"Identifier des astronautes canadiens"},1,{"$f":"COUNTIF(Horaire!Q:S,$C142)+COUNTIF(POC!Q:S,$C142)+COUNTIF(Horaire!Q:S,SUBSTITUTE($C142,\".\",\",\"))+COUNTIF(POC!Q:S,SUBSTITUTE($C142,\".\",\",\"))","v":1},{"$f":"COUNTIF(Horaire!T:V,$C142)+COUNTIF(POC!T:V,$C142)+COUNTIF(Horaire!T:V,SUBSTITUTE($C142,\".\",\",\"))+COUNTIF(POC!T:V,SUBSTITUTE($C142,\".\",\",\"))","v":0},null,{"$f":"MIN($E142,F142)","v":1},{"$f":"MIN($E142,G142)","v":0}]
[null,null,"M340.02",{"$f":"VLOOKUP(C143,Traduction!$B$426:$E$926,'Info de l''escadron'!$A$1+1,0)","v":"Discuter de l'histoire de l'exploration spatiale habitée"},1,{"$f":"COUNTIF(Horaire!Q:S,$C143)+COUNTIF(POC!Q:S,$C143)+COUNTIF(Horaire!Q:S,SUBSTITUTE($C143,\".\",\",\"))+COUNTIF(POC!Q:S,SUBSTITUTE($C143,\".\",\",\"))","v":1},{"$f":"COUNTIF(Horaire!T:V,$C143)+COUNTIF(POC!T:V,$C143)+COUNTIF(Horaire!T:V,SUBSTITUTE($C143,\".\",\",\"))+COUNTIF(POC!T:V,SUBSTITUTE($C143,\".\",\",\"))","v":0},null,{"$f":"MIN($E143,F143)","v":1},{"$f":"MIN($E143,G143)","v":0}]
[null,null,"C340.01",{"$f":"VLOOKUP(C144,Traduction!$B$426:$E$926,'Info de l''escadron'!$A$1+1,0)","v":"Identifier des astronautes canadiens"},2,{"$f":"COUNTIF(Horaire!Q:S,$C144)+COUNTIF(POC!Q:S,$C144)+COUNTIF(Horaire!Q:S,SUBSTITUTE($C144,\".\",\",\"))+COUNTIF(POC!Q:S,SUBSTITUTE($C144,\".\",\",\"))","v":1},{"$f":"COUNTIF(Horaire!T:V,$C144)+COUNTIF(POC!T:V,$C144)+COUNTIF(Horaire!T:V,SUBSTITUTE($C144,\".\",\",\"))+COUNTIF(POC!T:V,SUBSTITUTE($C144,\".\",\",\"))","v":0},null,null,null,null,{"$f":"MIN($E144,F144)","v":1},{"$f":"MIN($E144,G144)","v":0}]
[null,null,"C340.02",{"$f":"VLOOKUP(C145,Traduction!$B$426:$E$926,'Info de l''escadron'!$A$1+1,0)","v":"Discuter du Programme spatial canadien"},1,{"$f":"COUNTIF(Horaire!Q:S,$C145)+COUNTIF(POC!Q:S,$C145)+COUNTIF(Horaire!Q:S,SUBSTITUTE($C145,\".\",\",\"))+COUNTIF(POC!Q:S,SUBSTITUTE($C145,\".\",\",\"))","v":0},{"$f":"COUNTIF(Horaire!T:V,$C145)+COUNTIF(POC!T:V,$C145)+COUNTIF(Horaire!T:V,SUBSTITUTE($C145,\".\",\",\"))+COUNTIF(POC!T:V,SUBSTITUTE($C145,\".\",\",\"))","v":0},null,null,null,null,0,0]
[null,null,"C340.03",{"$f":"VLOOKUP(C146,Traduction!$B$426:$E$926,'Info de l''escadron'!$A$1+1,0)","v":"Discuter de l'exploration spatiale non habitée"},2,{"$f":"COUNTIF(Horaire!Q:S,$C146)+COUNTIF(POC!Q:S,$C146)+COUNTIF(Horaire!Q:S,SUBSTITUTE($C146,\".\",\",\"))+COUNTIF(POC!Q:S,SUBSTITUTE($C146,\".\",\",\"))","v":0},{"$f":"COUNTIF(Horaire!T:V,$C146)+COUNTIF(POC!T:V,$C146)+COUNTIF(Horaire!T:V,SUBSTITUTE($C146,\".\",\",\"))+COUNTIF(POC!T:V,SUBSTITUTE($C146,\".\",\",\"))","v":0},null,null,null,null,0,0]
[null,null,"C340.04",{"$f":"VLOOKUP(C147,Traduction!$B$426:$E$926,'Info de l''escadron'!$A$1+1,0)","v":"Décrire les éléments du ciel nocturne"},1,{"$f":"COUNTIF(Horaire!Q:S,$C147)+COUNTIF(POC!Q:S,$C147)+COUNTIF(Horaire!Q:S,SUBSTITUTE($C147,\".\",\",\"))+COUNTIF(POC!Q:S,SUBSTITUTE($C147,\".\",\",\"))","v":0},{"$f":"COUNTIF(Horaire!T:V,$C147)+COUNTIF(POC!T:V,$C147)+COUNTIF(Horaire!T:V,SUBSTITUTE($C147,\".\",\",\"))+COUNTIF(POC!T:V,SUBSTITUTE($C147,\".\",\",\"))","v":0},null,null,null,null,0,0]
[null,null,"C340.05",{"$f":"VLOOKUP(C148,Traduction!$B$426:$E$926,'Info de l''escadron'!$A$1+1,0)","v":"Simuler la vie dans l'espace"},3,{"$f":"COUNTIF(Horaire!Q:S,$C148)+COUNTIF(POC!Q:S,$C148)+COUNTIF(Horaire!Q:S,SUBSTITUTE($C148,\".\",\",\"))+COUNTIF(POC!Q:S,SUBSTITUTE($C148,\".\",\",\"))","v":0},{"$f":"COUNTIF(Horaire!T:V,$C148)+COUNTIF(POC!T:V,$C148)+COUNTIF(Horaire!T:V,SUBSTITUTE($C148,\".\",\",\"))+COUNTIF(POC!T:V,SUBSTITUTE($C148,\".\",\",\"))","v":0},null,null,null,null,0,0]
[null,null,"C340.06",{"$f":"VLOOKUP(C149,Traduction!$B$426:$E$926,'Info de l''escadron'!$A$1+1,0)","v":"Lancer une fusée à eau"},3,{"$f":"COUNTIF(Horaire!Q:S,$C149)+COUNTIF(POC!Q:S,$C149)+COUNTIF(Horaire!Q:S,SUBSTITUTE($C149,\".\",\",\"))+COUNTIF(POC!Q:S,SUBSTITUTE($C149,\".\",\",\"))","v":0},{"$f":"COUNTIF(Horaire!T:V,$C149)+COUNTIF(POC!T:V,$C149)+COUNTIF(Horaire!T:V,SUBSTITUTE($C149,\".\",\",\"))+COUNTIF(POC!T:V,SUBSTITUTE($C149,\".\",\",\"))","v":0},null,null,null,null,0,0]
[null,null,"C340.07",{"$f":"VLOOKUP(C150,Traduction!$B$426:$E$926,'Info de l''escadron'!$A$1+1,0)","v":"Identifier les composantes du système mondial de positionnement (GPS)"},2,{"$f":"COUNTIF(Horaire!Q:S,$C150)+COUNTIF(POC!Q:S,$C150)+COUNTIF(Horaire!Q:S,SUBSTITUTE($C150,\".\",\",\"))+COUNTIF(POC!Q:S,SUBSTITUTE($C150,\".\",\",\"))","v":0},{"$f":"COUNTIF(Horaire!T:V,$C150)+COUNTIF(POC!T:V,$C150)+COUNTIF(Horaire!T:V,SUBSTITUTE($C150,\".\",\",\"))+COUNTIF(POC!T:V,SUBSTITUTE($C150,\".\",\",\"))","v":0},null,null,null,null,0,0]
[null,null,"C340.08",{"$f":"VLOOKUP(C151,Traduction!$B$426:$E$926,'Info de l''escadron'!$A$1+1,0)","v":"Décrire les aspects de la Station spatiale internationale (SSI)"},1,{"$f":"COUNTIF(Horaire!Q:S,$C151)+COUNTIF(POC!Q:S,$C151)+COUNTIF(Horaire!Q:S,SUBSTITUTE($C151,\".\",\",\"))+COUNTIF(POC!Q:S,SUBSTITUTE($C151,\".\",\",\"))","v":0},{"$f":"COUNTIF(Horaire!T:V,$C151)+COUNTIF(POC!T:V,$C151)+COUNTIF(Horaire!T:V,SUBSTITUTE($C151,\".\",\",\"))+COUNTIF(POC!T:V,SUBSTITUTE($C151,\".\",\",\"))","v":0},null,null,null,null,0,0]
[null,null,"C340.09",{"$f":"VLOOKUP(C152,Traduction!$B$426:$E$926,'Info de l''escadron'!$A$1+1,0)","v":"Participer à une présentation donnée par un conférencier du milieu de l'astronomie ou de l'aérospatiale"},2,{"$f":"COUNTIF(Horaire!Q:S,$C152)+COUNTIF(POC!Q:S,$C152)+COUNTIF(Horaire!Q:S,SUBSTITUTE($C152,\".\",\",\"))+COUNTIF(POC!Q:S,SUBSTITUTE($C152,\".\",\",\"))","v":0},{"$f":"COUNTIF(Horaire!T:V,$C152)+COUNTIF(POC!T:V,$C152)+COUNTIF(Horaire!T:V,SUBSTITUTE($C152,\".\",\",\"))+COUNTIF(POC!T:V,SUBSTITUTE($C152,\".\",\",\"))","v":0},null,null,null,null,0,0]
[null,null,"C340.10",{"$f":"VLOOKUP(C153,Traduction!$B$426:$E$926,'Info de l''escadron'!$A$1+1,0)","v":"Identifier les programmes d'astronomie en ligne"},1,{"$f":"COUNTIF(Horaire!Q:S,$C153)+COUNTIF(POC!Q:S,$C153)+COUNTIF(Horaire!Q:S,SUBSTITUTE($C153,\".\",\",\"))+COUNTIF(POC!Q:S,SUBSTITUTE($C153,\".\",\",\"))","v":0},{"$f":"COUNTIF(Horaire!T:V,$C153)+COUNTIF(POC!T:V,$C153)+COUNTIF(Horaire!T:V,SUBSTITUTE($C153,\".\",\",\"))+COUNTIF(POC!T:V,SUBSTITUTE($C153,\".\",\",\"))","v":0},null,null,null,null,0,0]
[null,null,{"$f":"CONCATENATE($A$2,\" \",A142,\" - \",VLOOKUP(160,Traduction!$B$6:$E$250,'Info de l''escadron'!$A$1+1,0))","v":"OREN 340 - Total des périodes d'instruction Obligatoires  "},null,2,{"$f":"SUM(F142:F143)","v":2},{"$f":"SUM(G142:G143)","v":0}]
[null,null,{"$f":"CONCATENATE($A$2,\" \",A142,\" - \",VLOOKUP(161,Traduction!$B$6:$E$250,'Info de l''escadron'!$A$1+1,0))","v":"OREN 340 - Total des périodes d'instruction Complémentaires  "},null,18,{"$f":"SUM(F144:F153)","v":1},{"$f":"SUM(G144:G153)","v":0}]
[360,{"$f":"VLOOKUP(A156,Traduction!$B$300:$E$388,'Info de l''escadron'!$A$1+1,0)","v":"Reconnaître les aspects des opérations d'aérodrome"},"C360.01",{"$f":"VLOOKUP(C156,Traduction!$B$426:$E$926,'Info de l''escadron'!$A$1+1,0)","v":"Identifier les types d'aérodrome"},1,{"$f":"COUNTIF(Horaire!Q:S,$C156)+COUNTIF(POC!Q:S,$C156)+COUNTIF(Horaire!Q:S,SUBSTITUTE($C156,\".\",\",\"))+COUNTIF(POC!Q:S,SUBSTITUTE($C156,\".\",\",\"))","v":1},{"$f":"COUNTIF(Horaire!T:V,$C156)+COUNTIF(POC!T:V,$C156)+COUNTIF(Horaire!T:V,SUBSTITUTE($C156,\".\",\",\"))+COUNTIF(POC!T:V,SUBSTITUTE($C156,\".\",\",\"))","v":0},null,null,null,null,{"$f":"MIN($E156,F156)","v":1},{"$f":"MIN($E156,G156)","v":0}]
[null,null,"C360.02",{"$f":"VLOOKUP(C157,Traduction!$B$426:$E$926,'Info de l''escadron'!$A$1+1,0)","v":"Expliquer les aspects du balisage lumineux d'un aérodrome"},1,{"$f":"COUNTIF(Horaire!Q:S,$C157)+COUNTIF(POC!Q:S,$C157)+COUNTIF(Horaire!Q:S,SUBSTITUTE($C157,\".\",\",\"))+COUNTIF(POC!Q:S,SUBSTITUTE($C157,\".\",\",\"))","v":0},{"$f":"COUNTIF(Horaire!T:V,$C157)+COUNTIF(POC!T:V,$C157)+COUNTIF(Horaire!T:V,SUBSTITUTE($C157,\".\",\",\"))+COUNTIF(POC!T:V,SUBSTITUTE($C157,\".\",\",\"))","v":0},null,null,null,null,0,0]
[null,null,"C360.03",{"$f":"VLOOKUP(C158,Traduction!$B$426:$E$926,'Info de l''escadron'!$A$1+1,0)","v":"Fabriquer un modèle réduit de l'espace aérien d'un aérodrome"},3,{"$f":"COUNTIF(Horaire!Q:S,$C158)+COUNTIF(POC!Q:S,$C158)+COUNTIF(Horaire!Q:S,SUBSTITUTE($C158,\".\",\",\"))+COUNTIF(POC!Q:S,SUBSTITUTE($C158,\".\",\",\"))","v":0},{"$f":"COUNTIF(Horaire!T:V,$C158)+COUNTIF(POC!T:V,$C158)+COUNTIF(Horaire!T:V,SUBSTITUTE($C158,\".\",\",\"))+COUNTIF(POC!T:V,SUBSTITUTE($C158,\".\",\",\"))","v":0},null,null,null,null,0,0]
[null,null,"C360.04",{"$f":"VLOOKUP(C159,Traduction!$B$426:$E$926,'Info de l''escadron'!$A$1+1,0)","v":"Identifier la façon dont l'équipement est utilisé à un aérodrome"},1,{"$f":"COUNTIF(Horaire!Q:S,$C159)+COUNTIF(POC!Q:S,$C159)+COUNTIF(Horaire!Q:S,SUBSTITUTE($C159,\".\",\",\"))+COUNTIF(POC!Q:S,SUBSTITUTE($C159,\".\",\",\"))","v":0},{"$f":"COUNTIF(Horaire!T:V,$C159)+COUNTIF(POC!T:V,$C159)+COUNTIF(Horaire!T:V,SUBSTITUTE($C159,\".\",\",\"))+COUNTIF(POC!T:V,SUBSTITUTE($C159,\".\",\",\"))","v":0},null,null,null,null,0,0]
[null,null,"C360.05",{"$f":"VLOOKUP(C160,Traduction!$B$426:$E$926,'Info de l''escadron'!$A$1+1,0)","v":"Identifier les aspects des interventions d'urgence et de la sécurité des aérodromes"},1,{"$f":"COUNTIF(Horaire!Q:S,$C160)+COUNTIF(POC!Q:S,$C160)+COUNTIF(Horaire!Q:S,SUBSTITUTE($C160,\".\",\",\"))+COUNTIF(POC!Q:S,SUBSTITUTE($C160,\".\",\",\"))","v":0},{"$f":"COUNTIF(Horaire!T:V,$C160)+COUNTIF(POC!T:V,$C160)+COUNTIF(Horaire!T:V,SUBSTITUTE($C160,\".\",\",\"))+COUNTIF(POC!T:V,SUBSTITUTE($C160,\".\",\",\"))","v":0},null,null,null,null,0,0]
[null,null,"C360.06",{"$f":"VLOOKUP(C161,Traduction!$B$426:$E$926,'Info de l''escadron'!$A$1+1,0)","v":"Expliquer les aspects des services de la circulation aérienne"},1,{"$f":"COUNTIF(Horaire!Q:S,$C161)+COUNTIF(POC!Q:S,$C161)+COUNTIF(Horaire!Q:S,SUBSTITUTE($C161,\".\",\",\"))+COUNTIF(POC!Q:S,SUBSTITUTE($C161,\".\",\",\"))","v":0},{"$f":"COUNTIF(Horaire!T:V,$C161)+COUNTIF(POC!T:V,$C161)+COUNTIF(Horaire!T:V,SUBSTITUTE($C161,\".\",\",\"))+COUNTIF(POC!T:V,SUBSTITUTE($C161,\".\",\",\"))","v":0},null,null,null,null,0,0]
[null,null,{"$f":"CONCATENATE($A$2,\" \",A156,\" - \",VLOOKUP(160,Traduction!$B$6:$E$250,'Info de l''escadron'!$A$1+1,0))","v":"OREN 360 - Total des périodes d'instruction Obligatoires  "},null,0,0]
[null,null,{"$f":"CONCATENATE($A$2,\" \",A156,\" - \",VLOOKUP(161,Traduction!$B$6:$E$250,'Info de l''escadron'!$A$1+1,0))","v":"OREN 360 - Total des périodes d'instruction Complémentaires  "},null,8,{"$f":"SUM(F156:F161)","v":1},{"$f":"SUM(G156:G161)","v":0}]
[370,{"$f":"VLOOKUP(A164,Traduction!$B$300:$E$388,'Info de l''escadron'!$A$1+1,0)","v":"Reconnaître les aspects de la construction et de maintenance des aéronefs"},"M370.01",{"$f":"VLOOKUP(C164,Traduction!$B$426:$E$926,'Info de l''escadron'!$A$1+1,0)","v":"Identifier les composantes du circuit statique du système Pitot"},1,{"$f":"COUNTIF(Horaire!Q:S,$C164)+COUNTIF(POC!Q:S,$C164)+COUNTIF(Horaire!Q:S,SUBSTITUTE($C164,\".\",\",\"))+COUNTIF(POC!Q:S,SUBSTITUTE($C164,\".\",\",\"))","v":1},{"$f":"COUNTIF(Horaire!T:V,$C164)+COUNTIF(POC!T:V,$C164)+COUNTIF(Horaire!T:V,SUBSTITUTE($C164,\".\",\",\"))+COUNTIF(POC!T:V,SUBSTITUTE($C164,\".\",\",\"))","v":0},null,{"$f":"MIN($E164,F164)","v":1},0]
[null,null,"M370.02",{"$f":"VLOOKUP(C165,Traduction!$B$426:$E$926,'Info de l''escadron'!$A$1+1,0)","v":"Identifier les avionneurs"},1,{"$f":"COUNTIF(Horaire!Q:S,$C165)+COUNTIF(POC!Q:S,$C165)+COUNTIF(Horaire!Q:S,SUBSTITUTE($C165,\".\",\",\"))+COUNTIF(POC!Q:S,SUBSTITUTE($C165,\".\",\",\"))","v":1},{"$f":"COUNTIF(Horaire!T:V,$C165)+COUNTIF(POC!T:V,$C165)+COUNTIF(Horaire!T:V,SUBSTITUTE($C165,\".\",\",\"))+COUNTIF(POC!T:V,SUBSTITUTE($C165,\".\",\",\"))","v":0},null,1,0]
[null,null,"M370.03",{"$f":"VLOOKUP(C166,Traduction!$B$426:$E$926,'Info de l''escadron'!$A$1+1,0)","v":"Décrire les procédures d'inspection de routine des aéronefs"},1,{"$f":"COUNTIF(Horaire!Q:S,$C166)+COUNTIF(POC!Q:S,$C166)+COUNTIF(Horaire!Q:S,SUBSTITUTE($C166,\".\",\",\"))+COUNTIF(POC!Q:S,SUBSTITUTE($C166,\".\",\",\"))","v":1},{"$f":"COUNTIF(Horaire!T:V,$C166)+COUNTIF(POC!T:V,$C166)+COUNTIF(Horaire!T:V,SUBSTITUTE($C166,\".\",\",\"))+COUNTIF(POC!T:V,SUBSTITUTE($C166,\".\",\",\"))","v":0},null,1,0]
[null,null,"C370.01",{"$f":"VLOOKUP(C167,Traduction!$B$426:$E$926,'Info de l''escadron'!$A$1+1,0)","v":"Identifier les tâches requises pour la maintenance des aéronefs"},1,{"$f":"COUNTIF(Horaire!Q:S,$C167)+COUNTIF(POC!Q:S,$C167)+COUNTIF(Horaire!Q:S,SUBSTITUTE($C167,\".\",\",\"))+COUNTIF(POC!Q:S,SUBSTITUTE($C167,\".\",\",\"))","v":0},{"$f":"COUNTIF(Horaire!T:V,$C167)+COUNTIF(POC!T:V,$C167)+COUNTIF(Horaire!T:V,SUBSTITUTE($C167,\".\",\",\"))+COUNTIF(POC!T:V,SUBSTITUTE($C167,\".\",\",\"))","v":0},null,null,null,null,{"$f":"MIN($E167,F167)","v":0},{"$f":"MIN($E167,G167)","v":0}]
[null,null,"C370.02",{"$f":"VLOOKUP(C168,Traduction!$B$426:$E$926,'Info de l''escadron'!$A$1+1,0)","v":"Décrire les matériaux utilisés pour la construction d'aéronef"},1,{"$f":"COUNTIF(Horaire!Q:S,$C168)+COUNTIF(POC!Q:S,$C168)+COUNTIF(Horaire!Q:S,SUBSTITUTE($C168,\".\",\",\"))+COUNTIF(POC!Q:S,SUBSTITUTE($C168,\".\",\",\"))","v":0},{"$f":"COUNTIF(Horaire!T:V,$C168)+COUNTIF(POC!T:V,$C168)+COUNTIF(Horaire!T:V,SUBSTITUTE($C168,\".\",\",\"))+COUNTIF(POC!T:V,SUBSTITUTE($C168,\".\",\",\"))","v":0},null,null,null,null,0,0]
[null,null,"C370.03",{"$f":"VLOOKUP(C169,Traduction!$B$426:$E$926,'Info de l''escadron'!$A$1+1,0)","v":"Identifier les outils électriques élémentaires utilisés pour la construction aéronautique et de la maintenance d'aéronef"},1,{"$f":"COUNTIF(Horaire!Q:S,$C169)+COUNTIF(POC!Q:S,$C169)+COUNTIF(Horaire!Q:S,SUBSTITUTE($C169,\".\",\",\"))+COUNTIF(POC!Q:S,SUBSTITUTE($C169,\".\",\",\"))","v":0},{"$f":"COUNTIF(Horaire!T:V,$C169)+COUNTIF(POC!T:V,$C169)+COUNTIF(Horaire!T:V,SUBSTITUTE($C169,\".\",\",\"))+COUNTIF(POC!T:V,SUBSTITUTE($C169,\".\",\",\"))","v":0},null,null,null,null,0,0]
[null,null,"C370.04",{"$f":"VLOOKUP(C170,Traduction!$B$426:$E$926,'Info de l''escadron'!$A$1+1,0)","v":"Fabriquer un modèle réduit de biplan en aluminium"},12,{"$f":"COUNTIF(Horaire!Q:S,$C170)+COUNTIF(POC!Q:S,$C170)+COUNTIF(Horaire!Q:S,SUBSTITUTE($C170,\".\",\",\"))+COUNTIF(POC!Q:S,SUBSTITUTE($C170,\".\",\",\"))","v":0},{"$f":"COUNTIF(Horaire!T:V,$C170)+COUNTIF(POC!T:V,$C170)+COUNTIF(Horaire!T:V,SUBSTITUTE($C170,\".\",\",\"))+COUNTIF(POC!T:V,SUBSTITUTE($C170,\".\",\",\"))","v":0},null,null,null,null,0,0]
[null,null,"C370.05",{"$f":"VLOOKUP(C171,Traduction!$B$426:$E$926,'Info de l''escadron'!$A$1+1,0)","v":"Visiter un projet de restauration d'aéronef"},3,{"$f":"COUNTIF(Horaire!Q:S,$C171)+COUNTIF(POC!Q:S,$C171)+COUNTIF(Horaire!Q:S,SUBSTITUTE($C171,\".\",\",\"))+COUNTIF(POC!Q:S,SUBSTITUTE($C171,\".\",\",\"))","v":0},{"$f":"COUNTIF(Horaire!T:V,$C171)+COUNTIF(POC!T:V,$C171)+COUNTIF(Horaire!T:V,SUBSTITUTE($C171,\".\",\",\"))+COUNTIF(POC!T:V,SUBSTITUTE($C171,\".\",\",\"))","v":0},null,null,null,null,0,0]
[null,null,"C270.01",{"$f":"VLOOKUP(C172,Traduction!$B$426:$E$926,'Info de l''escadron'!$A$1+1,0)","v":"Participer à une présentation donnée par un employé du domaine de la fabrication et de la maintenance d'aéronef"},2,{"$f":"COUNTIF(Horaire!Q:S,$C172)+COUNTIF(POC!Q:S,$C172)+COUNTIF(Horaire!Q:S,SUBSTITUTE($C172,\".\",\",\"))+COUNTIF(POC!Q:S,SUBSTITUTE($C172,\".\",\",\"))","v":0},{"$f":"COUNTIF(Horaire!T:V,$C172)+COUNTIF(POC!T:V,$C172)+COUNTIF(Horaire!T:V,SUBSTITUTE($C172,\".\",\",\"))+COUNTIF(POC!T:V,SUBSTITUTE($C172,\".\",\",\"))","v":0},null,null,null,null,0,0]
[null,null,"C270.03",{"$f":"VLOOKUP(C173,Traduction!$B$426:$E$926,'Info de l''escadron'!$A$1+1,0)","v":"Visiter une avionnerie ou une installation de maintenance d'aéronef"},3,{"$f":"COUNTIF(Horaire!Q:S,$C173)+COUNTIF(POC!Q:S,$C173)+COUNTIF(Horaire!Q:S,SUBSTITUTE($C173,\".\",\",\"))+COUNTIF(POC!Q:S,SUBSTITUTE($C173,\".\",\",\"))","v":0},{"$f":"COUNTIF(Horaire!T:V,$C173)+COUNTIF(POC!T:V,$C173)+COUNTIF(Horaire!T:V,SUBSTITUTE($C173,\".\",\",\"))+COUNTIF(POC!T:V,SUBSTITUTE($C173,\".\",\",\"))","v":0},null,null,null,null,0,0]
[null,null,{"$f":"CONCATENATE($A$2,\" \",A164,\" - \",VLOOKUP(160,Traduction!$B$6:$E$250,'Info de l''escadron'!$A$1+1,0))","v":"OREN 370 - Total des périodes d'instruction Obligatoires  "},null,3,{"$f":"SUM(F164:F166)","v":3},{"$f":"SUM(G164:G166)","v":0}]
[null,null,{"$f":"CONCATENATE($A$2,\" \",A164,\" - \",VLOOKUP(161,Traduction!$B$6:$E$250,'Info de l''escadron'!$A$1+1,0))","v":"OREN 370 - Total des périodes d'instruction Complémentaires  "},null,23,{"$f":"SUM(F167:F173)","v":0},{"$f":"SUM(G167:G173)","v":0}]
[390,{"$f":"VLOOKUP(A176,Traduction!$B$300:$E$388,'Info de l''escadron'!$A$1+1,0)","v":"Naviguer selon un itinéraire à l'aide d'une carte et d'une boussole"},"M390.01",{"$f":"VLOOKUP(C176,Traduction!$B$426:$E$926,'Info de l''escadron'!$A$1+1,0)","v":"Identifer les parties d'une boussole"},1,{"$f":"COUNTIF(Horaire!Q:S,$C176)+COUNTIF(POC!Q:S,$C176)+COUNTIF(Horaire!Q:S,SUBSTITUTE($C176,\".\",\",\"))+COUNTIF(POC!Q:S,SUBSTITUTE($C176,\".\",\",\"))","v":1},{"$f":"COUNTIF(Horaire!T:V,$C176)+COUNTIF(POC!T:V,$C176)+COUNTIF(Horaire!T:V,SUBSTITUTE($C176,\".\",\",\"))+COUNTIF(POC!T:V,SUBSTITUTE($C176,\".\",\",\"))","v":0},null,{"$f":"MIN($E176,F176)","v":1},{"$f":"MIN($E176,G176)","v":0}]
[null,null,"M390.02",{"$f":"VLOOKUP(C177,Traduction!$B$426:$E$926,'Info de l''escadron'!$A$1+1,0)","v":"Identifier les données marginales et les signes conventionnels"},2,{"$f":"COUNTIF(Horaire!Q:S,$C177)+COUNTIF(POC!Q:S,$C177)+COUNTIF(Horaire!Q:S,SUBSTITUTE($C177,\".\",\",\"))+COUNTIF(POC!Q:S,SUBSTITUTE($C177,\".\",\",\"))","v":2},{"$f":"COUNTIF(Horaire!T:V,$C177)+COUNTIF(POC!T:V,$C177)+COUNTIF(Horaire!T:V,SUBSTITUTE($C177,\".\",\",\"))+COUNTIF(POC!T:V,SUBSTITUTE($C177,\".\",\",\"))","v":0},null,2,0]
[null,null,"M390.03",{"$f":"VLOOKUP(C178,Traduction!$B$426:$E$926,'Info de l''escadron'!$A$1+1,0)","v":"Déterminer les coordonnées topographiques (coord)"},2,{"$f":"COUNTIF(Horaire!Q:S,$C178)+COUNTIF(POC!Q:S,$C178)+COUNTIF(Horaire!Q:S,SUBSTITUTE($C178,\".\",\",\"))+COUNTIF(POC!Q:S,SUBSTITUTE($C178,\".\",\",\"))","v":2},{"$f":"COUNTIF(Horaire!T:V,$C178)+COUNTIF(POC!T:V,$C178)+COUNTIF(Horaire!T:V,SUBSTITUTE($C178,\".\",\",\"))+COUNTIF(POC!T:V,SUBSTITUTE($C178,\".\",\",\"))","v":0},null,2,0]
[null,null,"M390.04",{"$f":"VLOOKUP(C179,Traduction!$B$426:$E$926,'Info de l''escadron'!$A$1+1,0)","v":"Déterminer la distance sur une carte et au sol"},3,{"$f":"COUNTIF(Horaire!Q:S,$C179)+COUNTIF(POC!Q:S,$C179)+COUNTIF(Horaire!Q:S,SUBSTITUTE($C179,\".\",\",\"))+COUNTIF(POC!Q:S,SUBSTITUTE($C179,\".\",\",\"))","v":3},{"$f":"COUNTIF(Horaire!T:V,$C179)+COUNTIF(POC!T:V,$C179)+COUNTIF(Horaire!T:V,SUBSTITUTE($C179,\".\",\",\"))+COUNTIF(POC!T:V,SUBSTITUTE($C179,\".\",\",\"))","v":0},null,3,0]
[null,null,"M390.05",{"$f":"VLOOKUP(C180,Traduction!$B$426:$E$926,'Info de l''escadron'!$A$1+1,0)","v":"Déterminer les azimuts sur une carte et au sol"},2,{"$f":"COUNTIF(Horaire!Q:S,$C180)+COUNTIF(POC!Q:S,$C180)+COUNTIF(Horaire!Q:S,SUBSTITUTE($C180,\".\",\",\"))+COUNTIF(POC!Q:S,SUBSTITUTE($C180,\".\",\",\"))","v":2},{"$f":"COUNTIF(Horaire!T:V,$C180)+COUNTIF(POC!T:V,$C180)+COUNTIF(Horaire!T:V,SUBSTITUTE($C180,\".\",\",\"))+COUNTIF(POC!T:V,SUBSTITUTE($C180,\".\",\",\"))","v":0},null,2,0]
[null,null,{"$f":"VLOOKUP(170,Traduction!$B$6:$E$250,'Info de l''escadron'!$A$1+1,0)","v":"COREN 390"},{"$f":"VLOOKUP(C181,Traduction!$B$426:$E$926,'Info de l''escadron'!$A$1+1,0)","v":"Naviguer selon un itinéraire à l'aide d'une carte et d'une boussole"},4,4,{"$f":"COUNTIF(Horaire!T:V,$C181)+COUNTIF(POC!T:V,$C181)","v":0},null,4,0]
[null,null,"C390.01",{"$f":"VLOOKUP(C182,Traduction!$B$426:$E$926,'Info de l''escadron'!$A$1+1,0)","v":"Identifier les types de cartes"},1,{"$f":"COUNTIF(Horaire!Q:S,$C182)+COUNTIF(POC!Q:S,$C182)+COUNTIF(Horaire!Q:S,SUBSTITUTE($C182,\".\",\",\"))+COUNTIF(POC!Q:S,SUBSTITUTE($C182,\".\",\",\"))","v":0},{"$f":"COUNTIF(Horaire!T:V,$C182)+COUNTIF(POC!T:V,$C182)+COUNTIF(Horaire!T:V,SUBSTITUTE($C182,\".\",\",\"))+COUNTIF(POC!T:V,SUBSTITUTE($C182,\".\",\",\"))","v":0},null,null,null,null,{"$f":"MIN($E182,F182)","v":0},{"$f":"MIN($E182,G182)","v":0}]
[null,null,"C390.02",{"$f":"VLOOKUP(C183,Traduction!$B$426:$E$926,'Info de l''escadron'!$A$1+1,0)","v":"Interpréter les courbes de niveau"},1,{"$f":"COUNTIF(Horaire!Q:S,$C183)+COUNTIF(POC!Q:S,$C183)+COUNTIF(Horaire!Q:S,SUBSTITUTE($C183,\".\",\",\"))+COUNTIF(POC!Q:S,SUBSTITUTE($C183,\".\",\",\"))","v":0},{"$f":"COUNTIF(Horaire!T:V,$C183)+COUNTIF(POC!T:V,$C183)+COUNTIF(Horaire!T:V,SUBSTITUTE($C183,\".\",\",\"))+COUNTIF(POC!T:V,SUBSTITUTE($C183,\".\",\",\"))","v":0},null,null,null,null,0,0]
[null,null,"C390.03",{"$f":"VLOOKUP(C184,Traduction!$B$426:$E$926,'Info de l''escadron'!$A$1+1,0)","v":"Orienter une carte par inspection"},1,{"$f":"COUNTIF(Horaire!Q:S,$C184)+COUNTIF(POC!Q:S,$C184)+COUNTIF(Horaire!Q:S,SUBSTITUTE($C184,\".\",\",\"))+COUNTIF(POC!Q:S,SUBSTITUTE($C184,\".\",\",\"))","v":0},{"$f":"COUNTIF(Horaire!T:V,$C184)+COUNTIF(POC!T:V,$C184)+COUNTIF(Horaire!T:V,SUBSTITUTE($C184,\".\",\",\"))+COUNTIF(POC!T:V,SUBSTITUTE($C184,\".\",\",\"))","v":0},null,null,null,null,0,0]
[null,null,"C390.04",{"$f":"VLOOKUP(C185,Traduction!$B$426:$E$926,'Info de l''escadron'!$A$1+1,0)","v":"Orienter une carte en utilisant une boussole"},1,{"$f":"COUNTIF(Horaire!Q:S,$C185)+COUNTIF(POC!Q:S,$C185)+COUNTIF(Horaire!Q:S,SUBSTITUTE($C185,\".\",\",\"))+COUNTIF(POC!Q:S,SUBSTITUTE($C185,\".\",\",\"))","v":0},{"$f":"COUNTIF(Horaire!T:V,$C185)+COUNTIF(POC!T:V,$C185)+COUNTIF(Horaire!T:V,SUBSTITUTE($C185,\".\",\",\"))+COUNTIF(POC!T:V,SUBSTITUTE($C185,\".\",\",\"))","v":0},null,null,null,null,0,0]
[null,null,"C390.05",{"$f":"VLOOKUP(C186,Traduction!$B$426:$E$926,'Info de l''escadron'!$A$1+1,0)","v":"Calculer la déclinaison magnétique"},2,{"$f":"COUNTIF(Horaire!Q:S,$C186)+COUNTIF(POC!Q:S,$C186)+COUNTIF(Horaire!Q:S,SUBSTITUTE($C186,\".\",\",\"))+COUNTIF(POC!Q:S,SUBSTITUTE($C186,\".\",\",\"))","v":0},{"$f":"COUNTIF(Horaire!T:V,$C186)+COUNTIF(POC!T:V,$C186)+COUNTIF(Horaire!T:V,SUBSTITUTE($C186,\".\",\",\"))+COUNTIF(POC!T:V,SUBSTITUTE($C186,\".\",\",\"))","v":0},null,null,null,null,0,0]
[null,null,"C390.06",{"$f":"VLOOKUP(C187,Traduction!$B$426:$E$926,'Info de l''escadron'!$A$1+1,0)","v":"Déterminer la direction à l'aide du soleil"},1,{"$f":"COUNTIF(Horaire!Q:S,$C187)+COUNTIF(POC!Q:S,$C187)+COUNTIF(Horaire!Q:S,SUBSTITUTE($C187,\".\",\",\"))+COUNTIF(POC!Q:S,SUBSTITUTE($C187,\".\",\",\"))","v":0},{"$f":"COUNTIF(Horaire!T:V,$C187)+COUNTIF(POC!T:V,$C187)+COUNTIF(Horaire!T:V,SUBSTITUTE($C187,\".\",\",\"))+COUNTIF(POC!T:V,SUBSTITUTE($C187,\".\",\",\"))","v":0},null,null,null,null,0,0]
[null,null,"C390.07",{"$f":"VLOOKUP(C188,Traduction!$B$426:$E$926,'Info de l''escadron'!$A$1+1,0)","v":"Déterminer la direction la nuit"},1,{"$f":"COUNTIF(Horaire!Q:S,$C188)+COUNTIF(POC!Q:S,$C188)+COUNTIF(Horaire!Q:S,SUBSTITUTE($C188,\".\",\",\"))+COUNTIF(POC!Q:S,SUBSTITUTE($C188,\".\",\",\"))","v":0},{"$f":"COUNTIF(Horaire!T:V,$C188)+COUNTIF(POC!T:V,$C188)+COUNTIF(Horaire!T:V,SUBSTITUTE($C188,\".\",\",\"))+COUNTIF(POC!T:V,SUBSTITUTE($C188,\".\",\",\"))","v":0},null,null,null,null,0,0]
[null,null,"C390.08",{"$f":"VLOOKUP(C189,Traduction!$B$426:$E$926,'Info de l''escadron'!$A$1+1,0)","v":"Utiliser les techniques de marquage"},1,{"$f":"COUNTIF(Horaire!Q:S,$C189)+COUNTIF(POC!Q:S,$C189)+COUNTIF(Horaire!Q:S,SUBSTITUTE($C189,\".\",\",\"))+COUNTIF(POC!Q:S,SUBSTITUTE($C189,\".\",\",\"))","v":0},{"$f":"COUNTIF(Horaire!T:V,$C189)+COUNTIF(POC!T:V,$C189)+COUNTIF(Horaire!T:V,SUBSTITUTE($C189,\".\",\",\"))+COUNTIF(POC!T:V,SUBSTITUTE($C189,\".\",\",\"))","v":0},null,null,null,null,0,0]
[null,null,"C390.09",{"$f":"VLOOKUP(C190,Traduction!$B$426:$E$926,'Info de l''escadron'!$A$1+1,0)","v":"Identifier les éléments du ciel nocturne"},4,{"$f":"COUNTIF(Horaire!Q:S,$C190)+COUNTIF(POC!Q:S,$C190)+COUNTIF(Horaire!Q:S,SUBSTITUTE($C190,\".\",\",\"))+COUNTIF(POC!Q:S,SUBSTITUTE($C190,\".\",\",\"))","v":0},{"$f":"COUNTIF(Horaire!T:V,$C190)+COUNTIF(POC!T:V,$C190)+COUNTIF(Horaire!T:V,SUBSTITUTE($C190,\".\",\",\"))+COUNTIF(POC!T:V,SUBSTITUTE($C190,\".\",\",\"))","v":0},null,null,null,null,0,0]
[null,null,"C390.10",{"$f":"VLOOKUP(C191,Traduction!$B$426:$E$926,'Info de l''escadron'!$A$1+1,0)","v":"Identifier les méthodes de préparation et de cuisson d'un petit animal ou d'un poisson"},2,{"$f":"COUNTIF(Horaire!Q:S,$C191)+COUNTIF(POC!Q:S,$C191)+COUNTIF(Horaire!Q:S,SUBSTITUTE($C191,\".\",\",\"))+COUNTIF(POC!Q:S,SUBSTITUTE($C191,\".\",\",\"))","v":0},{"$f":"COUNTIF(Horaire!T:V,$C191)+COUNTIF(POC!T:V,$C191)+COUNTIF(Horaire!T:V,SUBSTITUTE($C191,\".\",\",\"))+COUNTIF(POC!T:V,SUBSTITUTE($C191,\".\",\",\"))","v":0},null,null,null,null,0,0]
[null,null,"C390.11",{"$f":"VLOOKUP(C192,Traduction!$B$426:$E$926,'Info de l''escadron'!$A$1+1,0)","v":"Construire des outils de campement"},4,{"$f":"COUNTIF(Horaire!Q:S,$C192)+COUNTIF(POC!Q:S,$C192)+COUNTIF(Horaire!Q:S,SUBSTITUTE($C192,\".\",\",\"))+COUNTIF(POC!Q:S,SUBSTITUTE($C192,\".\",\",\"))","v":0},{"$f":"COUNTIF(Horaire!T:V,$C192)+COUNTIF(POC!T:V,$C192)+COUNTIF(Horaire!T:V,SUBSTITUTE($C192,\".\",\",\"))+COUNTIF(POC!T:V,SUBSTITUTE($C192,\".\",\",\"))","v":0},null,null,null,null,0,0]
[null,null,"C390.12",{"$f":"VLOOKUP(C193,Traduction!$B$426:$E$926,'Info de l''escadron'!$A$1+1,0)","v":"Donner les premiers soins mineurs dans un environnement de campagne"},4,{"$f":"COUNTIF(Horaire!Q:S,$C193)+COUNTIF(POC!Q:S,$C193)+COUNTIF(Horaire!Q:S,SUBSTITUTE($C193,\".\",\",\"))+COUNTIF(POC!Q:S,SUBSTITUTE($C193,\".\",\",\"))","v":0},{"$f":"COUNTIF(Horaire!T:V,$C193)+COUNTIF(POC!T:V,$C193)+COUNTIF(Horaire!T:V,SUBSTITUTE($C193,\".\",\",\"))+COUNTIF(POC!T:V,SUBSTITUTE($C193,\".\",\",\"))","v":0},null,null,null,null,0,0]
[null,null,"C390.13",{"$f":"VLOOKUP(C194,Traduction!$B$426:$E$926,'Info de l''escadron'!$A$1+1,0)","v":"Agir en tant que membre d'une équipe de recherche et sauvetage au sol (SAR)"},4,{"$f":"COUNTIF(Horaire!Q:S,$C194)+COUNTIF(POC!Q:S,$C194)+COUNTIF(Horaire!Q:S,SUBSTITUTE($C194,\".\",\",\"))+COUNTIF(POC!Q:S,SUBSTITUTE($C194,\".\",\",\"))","v":0},{"$f":"COUNTIF(Horaire!T:V,$C194)+COUNTIF(POC!T:V,$C194)+COUNTIF(Horaire!T:V,SUBSTITUTE($C194,\".\",\",\"))+COUNTIF(POC!T:V,SUBSTITUTE($C194,\".\",\",\"))","v":0},null,null,null,null,0,0]
[null,null,"C390.14",{"$f":"VLOOKUP(C195,Traduction!$B$426:$E$926,'Info de l''escadron'!$A$1+1,0)","v":"Participer à une présentation donnée par un conférencier du milieu de la recherche et sauvetage (SAR)"},2,{"$f":"COUNTIF(Horaire!Q:S,$C195)+COUNTIF(POC!Q:S,$C195)+COUNTIF(Horaire!Q:S,SUBSTITUTE($C195,\".\",\",\"))+COUNTIF(POC!Q:S,SUBSTITUTE($C195,\".\",\",\"))","v":0},{"$f":"COUNTIF(Horaire!T:V,$C195)+COUNTIF(POC!T:V,$C195)+COUNTIF(Horaire!T:V,SUBSTITUTE($C195,\".\",\",\"))+COUNTIF(POC!T:V,SUBSTITUTE($C195,\".\",\",\"))","v":0},null,null,null,null,0,0]
[null,null,"C290.04",{"$f":"VLOOKUP(C196,Traduction!$B$426:$E$926,'Info de l''escadron'!$A$1+1,0)","v":"Recueillir de l'eau potable avec un distillateur solaire"},2,{"$f":"COUNTIF(Horaire!Q:S,$C196)+COUNTIF(POC!Q:S,$C196)+COUNTIF(Horaire!Q:S,SUBSTITUTE($C196,\".\",\",\"))+COUNTIF(POC!Q:S,SUBSTITUTE($C196,\".\",\",\"))","v":0},{"$f":"COUNTIF(Horaire!T:V,$C196)+COUNTIF(POC!T:V,$C196)+COUNTIF(Horaire!T:V,SUBSTITUTE($C196,\".\",\",\"))+COUNTIF(POC!T:V,SUBSTITUTE($C196,\".\",\",\"))","v":0},null,null,null,null,0,0]
[null,null,{"$f":"CONCATENATE($A$2,\" \",A176,\" - \",VLOOKUP(160,Traduction!$B$6:$E$250,'Info de l''escadron'!$A$1+1,0))","v":"OREN 390 - Total des périodes d'instruction Obligatoires  "},null,14,{"$f":"SUM(F176:F181)","v":14},{"$f":"SUM(G176:G181)","v":0}]
[null,null,{"$f":"CONCATENATE($A$2,\" \",A176,\" - \",VLOOKUP(161,Traduction!$B$6:$E$250,'Info de l''escadron'!$A$1+1,0))","v":"OREN 390 - Total des périodes d'instruction Complémentaires  "},null,31,{"$f":"SUM(F182:F196)","v":0},{"$f":"SUM(G182:G196)","v":0}]
[{"$f":"VLOOKUP(183,Traduction!$B$6:$E$250,'Info de l''escadron'!$A$1+1,0)","v":"Revue"},{"$f":"VLOOKUP(A199,Traduction!$B$300:$E$388,'Info de l''escadron'!$A$1+1,0)","v":"Cérémonie de la revue annuelle"},{"$f":"VLOOKUP(183,Traduction!$B$6:$E$250,'Info de l''escadron'!$A$1+1,0)","v":"Revue"},{"$f":"VLOOKUP(C199,Traduction!$B$426:$E$926,'Info de l''escadron'!$A$1+1,0)","v":"Cérémonie de la revue annuelle"},3,3,{"$f":"COUNTIF(Horaire!T:V,D199)+COUNTIF(POC!T:V,D199)","v":0},null,{"$f":"MIN($E199,F199)","v":3},{"$f":"MIN($E199,G199)","v":0}]
[null,null,{"$f":"CONCATENATE($A$2,\" \",A199,\" - \",VLOOKUP(160,Traduction!$B$6:$E$250,'Info de l''escadron'!$A$1+1,0))","v":"OREN Revue - Total des périodes d'instruction Obligatoires  "},null,3,{"$f":"F199","v":3},{"$f":"SUM(G199:G199)","v":0}]
[]
[null,null,null,{"$f":"VLOOKUP(172,Traduction!$B$6:$E$250,'Info de l''escadron'!$A$1+1,0)","v":"Total des périodes d'instruction Obligatoires"},{"$f":"SUM(E12,E16,E34,E45,E50,E60,E68,E77,E93,E105,E116,E124,E134,E140,E154,E162,E174,E200)","v":80},{"$f":"SUM(I18:I199)-F203","v":56},{"$f":"SUM(J18:J199)-G203","v":0}]
[null,null,null,{"$f":"VLOOKUP(201,Traduction!$B$6:$E$250,'Info de l''escadron'!$A$1+1,0)","v":"Grand total des périodes d'instruction Obligatoires en campagne"},{"$f":"SUM(E197)","v":14},{"$f":"SUM(I176:I181)","v":14},{"$f":"SUM(J176:J181)","v":0}]
[null,null,null,{"$f":"VLOOKUP(173,Traduction!$B$6:$E$250,'Info de l''escadron'!$A$1+1,0)","v":"Total des périodes d'instruction Complémentaires"},{"$f":"SUM(E13,E17,E35,E46,E51,E61,E69,E78,E94,E106,E117,E125,E135,E141,E155,E163,E175,E198)","v":272},{"$f":"SUM(L18:L199)","v":8},{"$f":"SUM(M18:M199)","v":0}]

{"sheet":"Niv 4","index":6,"n_rows":205,"n_cols":13,"rows_kept":205,"cut":false,"hidden":false,"merged":[[0,8,0,9],[0,11,0,12],[22,1,33,1],[0,0,0,5],[7,0,17,0],[7,1,17,1],[20,2,20,3],[16,2,16,3],[18,0,21,0],[18,1,21,1],[22,0,33,0],[17,2,17,3],[21,2,21,3],[32,2,32,3],[33,2,33,3],[2,0,6,0],[2,1,6,1],[5,2,5,3],[34,0,44,0],[34,1,44,1],[43,2,43,3],[44,2,44,3],[6,2,6,3],[50,1,58,1],[50,0,58,0],[57,2,57,3],[58,2,58,3],[45,0,49,0],[49,2,49,3],[48,2,48,3],[45,1,49,1],[70,1,82,1],[70,0,82,0],[81,2,81,3],[82,2,82,3],[59,1,69,1],[59,0,69,0],[68,2,68,3],[69,2,69,3],[83,1,99,1],[83,0,99,0],[98,2,98,3],[99,2,99,3],[100,1,111,1],[100,0,111,0],[110,2,110,3],[111,2,111,3],[112,1,122,1],[112,0,122,0],[121,2,121,3],[122,2,122,3],[123,1,129,1],[123,0,129,0],[128,2,128,3],[129,2,129,3],[130,1,136,1],[130,0,136,0],[135,2,135,3],[136,2,136,3],[137,1,144,1],[137,0,144,0],[143,2,143,3],[144,2,144,3],[159,1,173,1],[159,0,173,0],[172,2,172,3],[173,2,173,3],[145,1,151,1],[145,0,151,0],[150,2,150,3],[151,2,151,3],[152,1,158,1],[152,0,158,0],[157,2,157,3],[158,2,158,3],[185,0,199,0],[184,2,184,3],[198,2,198,3],[178,2,178,3],[199,2,199,3],[179,1,184,1],[185,1,199,1],[183,2,183,3],[174,1,178,1],[174,0,178,0],[179,0,184,0],[177,2,177,3]]}
["827 Longueuil",null,null,null,null,null,null,null,"M",null,null,"C"]
[{"$f":"VLOOKUP(26,Traduction!$B$6:$E$250,'Info de l''escadron'!$A$1+1,0)","v":"OREN"},{"$f":"VLOOKUP(156,Traduction!$B$6:$E$250,'Info de l''escadron'!$A$1+1,0)","v":"Sujet"},{"$f":"VLOOKUP(65,Traduction!$B$6:$E$250,'Info de l''escadron'!$A$1+1,0)","v":"OCOM"},{"$f":"VLOOKUP(157,Traduction!$B$6:$E$250,'Info de l''escadron'!$A$1+1,0)","v":"Énoncé de performance"},{"$f":"VLOOKUP(158,Traduction!$B$6:$E$250,'Info de l''escadron'!$A$1+1,0)","v":"Prog."},{"$f":"Horaire!W3","v":"Niveau 4"},{"$f":"Horaire!Z3","v":"Niveau 4B"},null,"4","4B",null,"4","4B"]
[400,"Participer à l'instruction sur les relations positives et sociales pour les jeunes","M400.01","Votre responsabilité en tant que chef à influencer les relations sociales et positives",2,2,{"$f":"COUNTIF(Horaire!H:J,$C3)+COUNTIF(POC!H:J,$C3)+COUNTIF(Horaire!H:J,SUBSTITUTE($C3,\".\",\",\"))+COUNTIF(POC!H:J,SUBSTITUTE($C3,\".\",\",\"))","v":0},null,{"$f":"MIN($E3,F3)","v":2},0]
[null,null,"M400.02","Ce que les plaintes et le consentement sont et la façon de pratiquer la réduction du risque",2,2,{"$f":"COUNTIF(Horaire!H:J,$C4)+COUNTIF(POC!H:J,$C4)+COUNTIF(Horaire!H:J,SUBSTITUTE($C4,\".\",\",\"))+COUNTIF(POC!H:J,SUBSTITUTE($C4,\".\",\",\"))","v":0},null,2,0]
[null,null,"M400.03","Votre responsabilité en tant que chef pour aider à gérer les conflits",2,2,{"$f":"COUNTIF(Horaire!H:J,$C5)+COUNTIF(POC!H:J,$C5)+COUNTIF(Horaire!H:J,SUBSTITUTE($C5,\".\",\",\"))+COUNTIF(POC!H:J,SUBSTITUTE($C5,\".\",\",\"))","v":0},null,2,0]
[null,null,{"$f":"CONCATENATE($A$2,\" \",A3,\" - \",VLOOKUP(160,Traduction!$B$6:$E$250,'Info de l''escadron'!$A$1+1,0))","v":"OREN 400 - Total des périodes d'instruction Obligatoires  "},null,6,{"$f":"SUM(F3:F5)","v":6},{"$f":"SUM(G3:G5)","v":0}]
[null,null,{"$f":"CONCATENATE($A$2,\" \",A3,\" - \",VLOOKUP(161,Traduction!$B$6:$E$250,'Info de l''escadron'!$A$1+1,0))","v":"OREN 400 - Total des périodes d'instruction Complémentaires  "},null,0,0,0]
[401,"Participer à des activités sur le civisme","M401.01A","Participer à une visite reliée au civisme",0,{"$f":"COUNTIF(Horaire!W:X,$C8)+COUNTIF(POC!W:Y,$C8)+COUNTIF(Horaire!W:X,SUBSTITUTE($C8,\".\",\",\"))+COUNTIF(POC!W:Y,SUBSTITUTE($C8,\".\",\",\"))","v":0},{"$f":"COUNTIF(Horaire!X:Y,$C8)+COUNTIF(POC!X:Z,$C8)+COUNTIF(Horaire!X:Y,SUBSTITUTE($C8,\".\",\",\"))+COUNTIF(POC!X:Z,SUBSTITUTE($C8,\".\",\",\"))","v":0},null,null,null,null,{"$f":"MIN($E8,F8)","v":0},0]
[null,null,"M401.01B","Assister à une présentation donnée par un organisme communautaire",0,{"$f":"COUNTIF(Horaire!W:X,$C9)+COUNTIF(POC!W:Y,$C9)+COUNTIF(Horaire!W:X,SUBSTITUTE($C9,\".\",\",\"))+COUNTIF(POC!W:Y,SUBSTITUTE($C9,\".\",\",\"))","v":0}]
[null,null,"M401.01C","Assister à une présentation donnée par un citoyen d'intérêt",0,3]
[null,null,"M401.01D","Participer au défi de la citoyenneté canadienne",0,{"$f":"COUNTIF(Horaire!W:X,$C11)+COUNTIF(POC!W:Y,$C11)+COUNTIF(Horaire!W:X,SUBSTITUTE($C11,\".\",\",\"))+COUNTIF(POC!W:Y,SUBSTITUTE($C11,\".\",\",\"))","v":0}]
[null,null,"M401.01E","Organiser une cérémonie de citoyenneté",0,{"$f":"COUNTIF(Horaire!W:X,$C12)+COUNTIF(POC!W:Y,$C12)+COUNTIF(Horaire!W:X,SUBSTITUTE($C12,\".\",\",\"))+COUNTIF(POC!W:Y,SUBSTITUTE($C12,\".\",\",\"))","v":0}]
[null,null,"M401.01F","Participer à une élection",0,{"$f":"COUNTIF(Horaire!W:X,$C13)+COUNTIF(POC!W:Y,$C13)+COUNTIF(Horaire!W:X,SUBSTITUTE($C13,\".\",\",\"))+COUNTIF(POC!W:Y,SUBSTITUTE($C13,\".\",\",\"))","v":0}]
[null,null,"M401.01G","Participer à des activités relatives aux vidéos sur les Minutes du Patrimoine",0,{"$f":"COUNTIF(Horaire!W:X,$C14)+COUNTIF(POC!W:Y,$C14)+COUNTIF(Horaire!W:X,SUBSTITUTE($C14,\".\",\",\"))+COUNTIF(POC!W:Y,SUBSTITUTE($C14,\".\",\",\"))","v":0},{"$f":"COUNTIF(Horaire!X:Y,$C14)+COUNTIF(POC!X:Z,$C14)+COUNTIF(Horaire!X:Y,SUBSTITUTE($C14,\".\",\",\"))+COUNTIF(POC!X:Z,SUBSTITUTE($C14,\".\",\",\"))","v":0},null,null,null,null,0,0]
[null,null,"M401.01H","Participer à des ateliers d'apprentissage sur le civisme",0,{"$f":"COUNTIF(Horaire!W:X,$C15)+COUNTIF(POC!W:Y,$C15)+COUNTIF(Horaire!W:X,SUBSTITUTE($C15,\".\",\",\"))+COUNTIF(POC!W:Y,SUBSTITUTE($C15,\".\",\",\"))","v":0},{"$f":"COUNTIF(Horaire!X:Y,$C15)+COUNTIF(POC!X:Z,$C15)+COUNTIF(Horaire!X:Y,SUBSTITUTE($C15,\".\",\",\"))+COUNTIF(POC!X:Z,SUBSTITUTE($C15,\".\",\",\"))","v":0},null,null,null,null,0,0]
[null,null,"C401.01","Participer à des activités sur le civisme",18,{"$f":"COUNTIF(Horaire!W:X,$C16)+COUNTIF(POC!W:Y,$C16)+COUNTIF(Horaire!W:X,SUBSTITUTE($C16,\".\",\",\"))+COUNTIF(POC!W:Y,SUBSTITUTE($C16,\".\",\",\"))","v":0},{"$f":"COUNTIF(Horaire!X:Y,$C16)+COUNTIF(POC!X:Z,$C16)+COUNTIF(Horaire!X:Y,SUBSTITUTE($C16,\".\",\",\"))+COUNTIF(POC!X:Z,SUBSTITUTE($C16,\".\",\",\"))","v":0},null,null,null,null,0,0]
[null,null,{"$f":"CONCATENATE($A$2,\" \",A8,\" - \",VLOOKUP(160,Traduction!$B$6:$E$250,'Info de l''escadron'!$A$1+1,0))","v":"OREN 401 - Total des périodes d'instruction Obligatoires  "},null,0,3,0]
[null,null,{"$f":"CONCATENATE($A$2,\" \",A8,\" - \",VLOOKUP(161,Traduction!$B$6:$E$250,'Info de l''escadron'!$A$1+1,0))","v":"OREN 401 - Total des périodes d'instruction Complémentaires  "},null,18,{"$f":"SUM(F16)","v":0},{"$f":"SUM(G8:G16)","v":0}]
[402,{"$f":"VLOOKUP(A19,Traduction!$B$300:$E$388,'Info de l''escadron'!$A$1+1,0)","v":"Effectuer un service communautaire"},"M402.01",{"$f":"VLOOKUP(C19,Traduction!$B$426:$E$926,'Info de l''escadron'!$A$1+1,0)","v":"Effectuer un service communautaire"},9,9,{"$f":"COUNTIF(Horaire!X:Y,$C19)+COUNTIF(POC!X:Z,$C19)+COUNTIF(Horaire!X:Y,SUBSTITUTE($C19,\".\",\",\"))+COUNTIF(POC!X:Z,SUBSTITUTE($C19,\".\",\",\"))","v":6},null,{"$f":"MIN($E19,F19)","v":9},{"$f":"MIN($E19,G19)","v":6}]
[null,null,"C402.01","Effectuer un service communautaire",18,{"$f":"COUNTIF(Horaire!W:X,$C20)+COUNTIF(POC!W:Y,$C20)+COUNTIF(Horaire!W:X,SUBSTITUTE($C20,\".\",\",\"))+COUNTIF(POC!W:Y,SUBSTITUTE($C20,\".\",\",\"))","v":0},{"$f":"COUNTIF(Horaire!X:Y,$C20)+COUNTIF(POC!X:Z,$C20)+COUNTIF(Horaire!X:Y,SUBSTITUTE($C20,\".\",\",\"))+COUNTIF(POC!X:Z,SUBSTITUTE($C20,\".\",\",\"))","v":0},null,null,null,null,{"$f":"MIN($E20,F20)","v":0},{"$f":"MIN($E20,G20)","v":0}]
[null,null,{"$f":"CONCATENATE($A$2,\" \",A19,\" - \",VLOOKUP(160,Traduction!$B$6:$E$250,'Info de l''escadron'!$A$1+1,0))","v":"OREN 402 - Total des périodes d'instruction Obligatoires  "},null,9,{"$f":"F19","v":9},{"$f":"G19","v":6}]
[null,null,{"$f":"CONCATENATE($A$2,\" \",A19,\" - \",VLOOKUP(161,Traduction!$B$6:$E$250,'Info de l''escadron'!$A$1+1,0))","v":"OREN 402 - Total des périodes d'instruction Complémentaires  "},null,18,{"$f":"SUM(F20)","v":0},{"$f":"SUM(G20:G20)","v":0}]
[403,{"$f":"VLOOKUP(A23,Traduction!$B$300:$E$388,'Info de l''escadron'!$A$1+1,0)","v":"Agir à titre de chef d’équipe"},"M403.01",{"$f":"VLOOKUP(C23,Traduction!$B$426:$E$926,'Info de l''escadron'!$A$1+1,0)","v":"Décrire les besoins et les attentes des membres de l’équipe"},1,{"$f":"COUNTIF(Horaire!W:X,$C23)+COUNTIF(POC!W:Y,$C23)+COUNTIF(Horaire!W:X,SUBSTITUTE($C23,\".\",\",\"))+COUNTIF(POC!W:Y,SUBSTITUTE($C23,\".\",\",\"))","v":1},{"$f":"COUNTIF(Horaire!X:Y,$C23)+COUNTIF(POC!X:Z,$C23)+COUNTIF(Horaire!X:Y,SUBSTITUTE($C23,\".\",\",\"))+COUNTIF(POC!X:Z,SUBSTITUTE($C23,\".\",\",\"))","v":0},null,{"$f":"MIN($E23,F23)","v":1},{"$f":"MIN($E23,G23)","v":0}]
[null,null,"M403.02",{"$f":"VLOOKUP(C24,Traduction!$B$426:$E$926,'Info de l''escadron'!$A$1+1,0)","v":"Choisir une approche de leadership"},2,{"$f":"COUNTIF(Horaire!W:X,$C24)+COUNTIF(POC!W:Y,$C24)+COUNTIF(Horaire!W:X,SUBSTITUTE($C24,\".\",\",\"))+COUNTIF(POC!W:Y,SUBSTITUTE($C24,\".\",\",\"))","v":2},{"$f":"COUNTIF(Horaire!X:Y,$C24)+COUNTIF(POC!X:Z,$C24)+COUNTIF(Horaire!X:Y,SUBSTITUTE($C24,\".\",\",\"))+COUNTIF(POC!X:Z,SUBSTITUTE($C24,\".\",\",\"))","v":0},null,2,0]
[null,null,"M403.03",{"$f":"VLOOKUP(C25,Traduction!$B$426:$E$926,'Info de l''escadron'!$A$1+1,0)","v":"Motiver les membres de l’équipe"},2,{"$f":"COUNTIF(Horaire!W:X,$C25)+COUNTIF(POC!W:Y,$C25)+COUNTIF(Horaire!W:X,SUBSTITUTE($C25,\".\",\",\"))+COUNTIF(POC!W:Y,SUBSTITUTE($C25,\".\",\",\"))","v":2},{"$f":"COUNTIF(Horaire!X:Y,$C25)+COUNTIF(POC!X:Z,$C25)+COUNTIF(Horaire!X:Y,SUBSTITUTE($C25,\".\",\",\"))+COUNTIF(POC!X:Z,SUBSTITUTE($C25,\".\",\",\"))","v":0},null,2,0]
[null,null,"M403.04",{"$f":"VLOOKUP(C26,Traduction!$B$426:$E$926,'Info de l''escadron'!$A$1+1,0)","v":"Donner de la rétroaction aux membres de l'équipe"},2,{"$f":"COUNTIF(Horaire!W:X,$C26)+COUNTIF(POC!W:Y,$C26)+COUNTIF(Horaire!W:X,SUBSTITUTE($C26,\".\",\",\"))+COUNTIF(POC!W:Y,SUBSTITUTE($C26,\".\",\",\"))","v":2},{"$f":"COUNTIF(Horaire!X:Y,$C26)+COUNTIF(POC!X:Z,$C26)+COUNTIF(Horaire!X:Y,SUBSTITUTE($C26,\".\",\",\"))+COUNTIF(POC!X:Z,SUBSTITUTE($C26,\".\",\",\"))","v":0},null,2,0]
[null,null,"M403.05",{"$f":"VLOOKUP(C27,Traduction!$B$426:$E$926,'Info de l''escadron'!$A$1+1,0)","v":"Participer à une relation de mentorat"},2,{"$f":"COUNTIF(Horaire!W:X,$C27)+COUNTIF(POC!W:Y,$C27)+COUNTIF(Horaire!W:X,SUBSTITUTE($C27,\".\",\",\"))+COUNTIF(POC!W:Y,SUBSTITUTE($C27,\".\",\",\"))","v":2},{"$f":"COUNTIF(Horaire!X:Y,$C27)+COUNTIF(POC!X:Z,$C27)+COUNTIF(Horaire!X:Y,SUBSTITUTE($C27,\".\",\",\"))+COUNTIF(POC!X:Z,SUBSTITUTE($C27,\".\",\",\"))","v":0},null,2,0]
[null,null,"M403.06",{"$f":"VLOOKUP(C28,Traduction!$B$426:$E$926,'Info de l''escadron'!$A$1+1,0)","v":"Agir à titre de chef d'équipe lors d’une affectation à un poste de leadership"},1,{"$f":"COUNTIF(Horaire!W:X,$C28)+COUNTIF(POC!W:Y,$C28)+COUNTIF(Horaire!W:X,SUBSTITUTE($C28,\".\",\",\"))+COUNTIF(POC!W:Y,SUBSTITUTE($C28,\".\",\",\"))","v":1},{"$f":"COUNTIF(Horaire!X:Y,$C28)+COUNTIF(POC!X:Z,$C28)+COUNTIF(Horaire!X:Y,SUBSTITUTE($C28,\".\",\",\"))+COUNTIF(POC!X:Z,SUBSTITUTE($C28,\".\",\",\"))","v":0},null,1,0]
[null,null,{"$f":"VLOOKUP(195,Traduction!$B$6:$E$250,'Info de l''escadron'!$A$1+1,0)","v":"COREN 403"},{"$f":"VLOOKUP(C29,Traduction!$B$426:$E$926,'Info de l''escadron'!$A$1+1,0)","v":"Agir à titre de chef d'équipe"},0,{"$f":"COUNTIF(Horaire!W:X,$C29)+COUNTIF(POC!W:Y,$C29)","v":0},{"$f":"COUNTIF(Horaire!X:Y,$C29)+COUNTIF(POC!X:Z,$C29)","v":0},null,null,null,null,{"$f":"MIN($E29,F29)","v":0},0]
[null,null,"C403.01",{"$f":"VLOOKUP(C30,Traduction!$B$426:$E$926,'Info de l''escadron'!$A$1+1,0)","v":"Participer à un séminaire sur le leadership"},"4 x 3",{"$f":"COUNTIF(Horaire!W:X,$C30)+COUNTIF(POC!W:Y,$C30)+COUNTIF(Horaire!W:X,SUBSTITUTE($C30,\".\",\",\"))+COUNTIF(POC!W:Y,SUBSTITUTE($C30,\".\",\",\"))","v":0},{"$f":"COUNTIF(Horaire!X:Y,$C30)+COUNTIF(POC!X:Z,$C30)+COUNTIF(Horaire!X:Y,SUBSTITUTE($C30,\".\",\",\"))+COUNTIF(POC!X:Z,SUBSTITUTE($C30,\".\",\",\"))","v":0},null,null,null,null,0,0]
[null,null,"C303.01",{"$f":"VLOOKUP(C31,Traduction!$B$426:$E$926,'Info de l''escadron'!$A$1+1,0)","v":"Diriger une activité de promotion du travail d'équipe"},3,{"$f":"COUNTIF(Horaire!W:X,$C31)+COUNTIF(POC!W:Y,$C31)+COUNTIF(Horaire!W:X,SUBSTITUTE($C31,\".\",\",\"))+COUNTIF(POC!W:Y,SUBSTITUTE($C31,\".\",\",\"))","v":1},{"$f":"COUNTIF(Horaire!X:Y,$C31)+COUNTIF(POC!X:Z,$C31)+COUNTIF(Horaire!X:Y,SUBSTITUTE($C31,\".\",\",\"))+COUNTIF(POC!X:Z,SUBSTITUTE($C31,\".\",\",\"))","v":0},null,null,null,null,1,0]
[null,null,"C303.02",{"$f":"VLOOKUP(C32,Traduction!$B$426:$E$926,'Info de l''escadron'!$A$1+1,0)","v":"Donner une présentation au sujet d'un chef"},2,{"$f":"COUNTIF(Horaire!W:X,$C32)+COUNTIF(POC!W:Y,$C32)+COUNTIF(Horaire!W:X,SUBSTITUTE($C32,\".\",\",\"))+COUNTIF(POC!W:Y,SUBSTITUTE($C32,\".\",\",\"))","v":0},{"$f":"COUNTIF(Horaire!X:Y,$C32)+COUNTIF(POC!X:Z,$C32)+COUNTIF(Horaire!X:Y,SUBSTITUTE($C32,\".\",\",\"))+COUNTIF(POC!X:Z,SUBSTITUTE($C32,\".\",\",\"))","v":0},null,null,null,null,0,0]
[null,null,{"$f":"CONCATENATE($A$2,\" \",A23,\" - \",VLOOKUP(160,Traduction!$B$6:$E$250,'Info de l''escadron'!$A$1+1,0))","v":"OREN 403 - Total des périodes d'instruction Obligatoires  "},null,10,{"$f":"SUM(F23:F28)","v":10},{"$f":"SUM(G23:G28)","v":0}]
[null,null,{"$f":"CONCATENATE($A$2,\" \",A23,\" - \",VLOOKUP(161,Traduction!$B$6:$E$250,'Info de l''escadron'!$A$1+1,0))","v":"OREN 403 - Total des périodes d'instruction Complémentaires  "},null,17,{"$f":"SUM(F30:F32)","v":1},{"$f":"SUM(G29:G32)","v":0}]
["X04",{"$f":"VLOOKUP(A35,Traduction!$B$300:$E$388,'Info de l''escadron'!$A$1+1,0)","v":"Suivre la participation aux activités physiques"},"MX04.01",{"$f":"VLOOKUP(C35,Traduction!$B$426:$E$926,'Info de l''escadron'!$A$1+1,0)","v":"Participer à une séance d'activité physique d'intensité modérée à élevée de 60 minutes et suivre la participation aux activités physiques"},3,{"$f":"COUNTIF(Horaire!W:X,$C35)+COUNTIF(POC!W:Y,$C35)+COUNTIF(Horaire!W:X,SUBSTITUTE($C35,\".\",\",\"))+COUNTIF(POC!W:Y,SUBSTITUTE($C35,\".\",\",\"))","v":0},{"$f":"COUNTIF(Horaire!H:J,$C35)+COUNTIF(POC!H:J,$C35)+COUNTIF(Horaire!H:J,SUBSTITUTE($C35,\".\",\",\"))+COUNTIF(POC!H:J,SUBSTITUTE($C35,\".\",\",\"))","v":0},null,{"$f":"MIN($E35,F35)","v":0},0]
[null,null,"MX04.02",{"$f":"VLOOKUP(C36,Traduction!$B$426:$E$926,'Info de l''escadron'!$A$1+1,0)","v":"Définir des stratégies pour accroître la participation à des activités physiques et participer à l'évaluation de la condition physique des cadets"},3,{"$f":"COUNTIF(Horaire!W:X,$C36)+COUNTIF(POC!W:Y,$C36)+COUNTIF(Horaire!W:X,SUBSTITUTE($C36,\".\",\",\"))+COUNTIF(POC!W:Y,SUBSTITUTE($C36,\".\",\",\"))","v":0},{"$f":"COUNTIF(Horaire!H:J,$C36)+COUNTIF(POC!H:J,$C36)+COUNTIF(Horaire!H:J,SUBSTITUTE($C36,\".\",\",\"))+COUNTIF(POC!H:J,SUBSTITUTE($C36,\".\",\",\"))","v":0},null,0,0]
[null,null,"MX04.03",{"$f":"VLOOKUP(C37,Traduction!$B$426:$E$926,'Info de l''escadron'!$A$1+1,0)","v":"Participer à l'évaluation de la condition physique des cadets et définir des stratégies pour améliorer la condition physique personnelle"},3,{"$f":"COUNTIF(Horaire!W:X,$C37)+COUNTIF(POC!W:Y,$C37)+COUNTIF(Horaire!W:X,SUBSTITUTE($C37,\".\",\",\"))+COUNTIF(POC!W:Y,SUBSTITUTE($C37,\".\",\",\"))","v":3},{"$f":"COUNTIF(Horaire!H:J,$C37)+COUNTIF(POC!H:J,$C37)+COUNTIF(Horaire!H:J,SUBSTITUTE($C37,\".\",\",\"))+COUNTIF(POC!H:J,SUBSTITUTE($C37,\".\",\",\"))","v":0},null,3,0]
[null,null,{"$f":"VLOOKUP(231,Traduction!$B$6:$E$250,'Info de l''escadron'!$A$1+1,0)","v":"COREN 404"},{"$f":"VLOOKUP(C38,Traduction!$B$426:$E$926,'Info de l''escadron'!$A$1+1,0)","v":"Condition physique et mode de vie sain"},0,{"$f":"COUNTIF(Horaire!W:X,$C38)+COUNTIF(POC!W:Y,$C38)+COUNTIF(Horaire!W:X,SUBSTITUTE($C38,\".\",\",\"))+COUNTIF(POC!W:Y,SUBSTITUTE($C38,\".\",\",\"))","v":0},{"$f":"COUNTIF(Horaire!X:Y,$C38)+COUNTIF(POC!X:Z,$C38)+COUNTIF(Horaire!X:Y,SUBSTITUTE($C38,\".\",\",\"))+COUNTIF(POC!X:Z,SUBSTITUTE($C38,\".\",\",\"))","v":0},null,null,null,null,{"$f":"MIN($E38,F38)","v":0},{"$f":"MIN($E38,G38)","v":0}]
[null,null,"CX04.01",{"$f":"VLOOKUP(C39,Traduction!$B$426:$E$926,'Info de l''escadron'!$A$1+1,0)","v":"Participer à l'évaluation de la condition physique des cadets et définir des stratégies pour améliorer la condition physique personnelle"},3,{"$f":"COUNTIF(Horaire!W:X,$C39)+COUNTIF(POC!W:Y,$C39)+COUNTIF(Horaire!W:X,SUBSTITUTE($C39,\".\",\",\"))+COUNTIF(POC!W:Y,SUBSTITUTE($C39,\".\",\",\"))","v":0},{"$f":"COUNTIF(Horaire!H:J,$C39)+COUNTIF(POC!H:J,$C39)+COUNTIF(Horaire!H:J,SUBSTITUTE($C39,\".\",\",\"))+COUNTIF(POC!H:J,SUBSTITUTE($C39,\".\",\",\"))","v":0},null,null,null,null,0,0]
[null,null,"CX04.02",{"$f":"VLOOKUP(C40,Traduction!$B$426:$E$926,'Info de l''escadron'!$A$1+1,0)","v":"Participer à des activités de renforcement des trois composantes de la condition physique"},3,{"$f":"COUNTIF(Horaire!W:X,$C40)+COUNTIF(POC!W:Y,$C40)+COUNTIF(Horaire!W:X,SUBSTITUTE($C40,\".\",\",\"))+COUNTIF(POC!W:Y,SUBSTITUTE($C40,\".\",\",\"))","v":0},{"$f":"COUNTIF(Horaire!H:J,$C40)+COUNTIF(POC!H:J,$C40)+COUNTIF(Horaire!H:J,SUBSTITUTE($C40,\".\",\",\"))+COUNTIF(POC!H:J,SUBSTITUTE($C40,\".\",\",\"))","v":0},null,null,null,null,0,0]
[null,null,"CX04.03",{"$f":"VLOOKUP(C41,Traduction!$B$426:$E$926,'Info de l''escadron'!$A$1+1,0)","v":"Participer à un cours de cuisine"},3,{"$f":"COUNTIF(Horaire!W:X,$C41)+COUNTIF(POC!W:Y,$C41)+COUNTIF(Horaire!W:X,SUBSTITUTE($C41,\".\",\",\"))+COUNTIF(POC!W:Y,SUBSTITUTE($C41,\".\",\",\"))","v":0},{"$f":"COUNTIF(Horaire!H:J,$C41)+COUNTIF(POC!H:J,$C41)+COUNTIF(Horaire!H:J,SUBSTITUTE($C41,\".\",\",\"))+COUNTIF(POC!H:J,SUBSTITUTE($C41,\".\",\",\"))","v":0},null,null,null,null,0,0]
[null,null,"CX04.04",{"$f":"VLOOKUP(C42,Traduction!$B$426:$E$926,'Info de l''escadron'!$A$1+1,0)","v":"Assister à un présentation sur la condition physique personnelle et les saines habitudes de vie"},3,{"$f":"COUNTIF(Horaire!W:X,$C42)+COUNTIF(POC!W:Y,$C42)+COUNTIF(Horaire!W:X,SUBSTITUTE($C42,\".\",\",\"))+COUNTIF(POC!W:Y,SUBSTITUTE($C42,\".\",\",\"))","v":0},{"$f":"COUNTIF(Horaire!H:J,$C42)+COUNTIF(POC!H:J,$C42)+COUNTIF(Horaire!H:J,SUBSTITUTE($C42,\".\",\",\"))+COUNTIF(POC!H:J,SUBSTITUTE($C42,\".\",\",\"))","v":0},null,null,null,null,0,0]
[null,null,"CX04.05",{"$f":"VLOOKUP(C43,Traduction!$B$426:$E$926,'Info de l''escadron'!$A$1+1,0)","v":"Assister à un événement sportif amateur"},3,{"$f":"COUNTIF(Horaire!W:X,$C43)+COUNTIF(POC!W:Y,$C43)+COUNTIF(Horaire!W:X,SUBSTITUTE($C43,\".\",\",\"))+COUNTIF(POC!W:Y,SUBSTITUTE($C43,\".\",\",\"))","v":0},{"$f":"COUNTIF(Horaire!H:J,$C43)+COUNTIF(POC!H:J,$C43)+COUNTIF(Horaire!H:J,SUBSTITUTE($C43,\".\",\",\"))+COUNTIF(POC!H:J,SUBSTITUTE($C43,\".\",\",\"))","v":0},null,null,null,null,0,0]
[null,null,{"$f":"CONCATENATE($A$2,\" \",A35,\" - \",VLOOKUP(160,Traduction!$B$6:$E$250,'Info de l''escadron'!$A$1+1,0))","v":"OREN X04 - Total des périodes d'instruction Obligatoires  "},null,9,{"$f":"SUM(F35:F37)","v":3},{"$f":"SUM(G35:G37)","v":0}]
[null,null,{"$f":"CONCATENATE($A$2,\" \",A35,\" - \",VLOOKUP(161,Traduction!$B$6:$E$250,'Info de l''escadron'!$A$1+1,0))","v":"OREN X04 - Total des périodes d'instruction Complémentaires  "},null,15,{"$f":"SUM(F39:F43)","v":0},{"$f":"SUM(G39:G43)","v":0}]
[405,{"$f":"VLOOKUP(A46,Traduction!$B$300:$E$388,'Info de l''escadron'!$A$1+1,0)","v":"Participer à des sports récréatifs"},"M405.01","Participer à des activités physiques",9,{"$f":"COUNTIF(Horaire!W:X,$C46)+COUNTIF(POC!W:Y,$C46)+COUNTIF(Horaire!W:X,SUBSTITUTE($C46,\".\",\",\"))+COUNTIF(POC!W:Y,SUBSTITUTE($C46,\".\",\",\"))","v":0},{"$f":"COUNTIF(Horaire!X:Y,$C46)+COUNTIF(POC!X:Z,$C46)+COUNTIF(Horaire!X:Y,SUBSTITUTE($C46,\".\",\",\"))+COUNTIF(POC!X:Z,SUBSTITUTE($C46,\".\",\",\"))","v":0},null,{"$f":"MIN($E46,F46)","v":0},{"$f":"MIN($E46,G46)","v":0}]
[null,null,"C405.01","Participer à des activités physiques",9,{"$f":"COUNTIF(Horaire!W:X,$C47)+COUNTIF(POC!W:Y,$C47)+COUNTIF(Horaire!W:X,SUBSTITUTE($C47,\".\",\",\"))+COUNTIF(POC!W:Y,SUBSTITUTE($C47,\".\",\",\"))","v":0}]
[null,null,"C405.02","Participer à un tournoi",9,{"$f":"COUNTIF(Horaire!W:X,$C48)+COUNTIF(POC!W:Y,$C48)+COUNTIF(Horaire!W:X,SUBSTITUTE($C48,\".\",\",\"))+COUNTIF(POC!W:Y,SUBSTITUTE($C48,\".\",\",\"))","v":0},{"$f":"COUNTIF(Horaire!X:Y,$C48)+COUNTIF(POC!X:Z,$C48)+COUNTIF(Horaire!X:Y,SUBSTITUTE($C48,\".\",\",\"))+COUNTIF(POC!X:Z,SUBSTITUTE($C48,\".\",\",\"))","v":0},null,null,null,null,{"$f":"MIN($E48,F48)","v":0},{"$f":"MIN($E48,G48)","v":0}]
[null,null,{"$f":"CONCATENATE($A$2,\" \",A46,\" - \",VLOOKUP(160,Traduction!$B$6:$E$250,'Info de l''escadron'!$A$1+1,0))","v":"OREN 405 - Total des périodes d'instruction Obligatoires  "},null,9,{"$f":"F46","v":0},{"$f":"G46","v":0}]
[null,null,{"$f":"CONCATENATE($A$2,\" \",A46,\" - \",VLOOKUP(161,Traduction!$B$6:$E$250,'Info de l''escadron'!$A$1+1,0))","v":"OREN 405 - Total des périodes d'instruction Complémentaires  "},null,18,{"$f":"SUM(F47:F48)","v":0},{"$f":"SUM(G48:G48)","v":0}]
[406,{"$f":"VLOOKUP(A51,Traduction!$B$300:$E$388,'Info de l''escadron'!$A$1+1,0)","v":"Tirer avec la carabine à air comprimé des cadets pendant une activité récréative de tir de précision"},"M406.01",{"$f":"VLOOKUP(C51,Traduction!$B$426:$E$926,'Info de l''escadron'!$A$1+1,0)","v":"Participer à une activité récréative de tir de précision"},3,{"$f":"COUNTIF(Horaire!W:X,$C51)+COUNTIF(POC!W:Y,$C51)+COUNTIF(Horaire!W:X,SUBSTITUTE($C51,\".\",\",\"))+COUNTIF(POC!W:Y,SUBSTITUTE($C51,\".\",\",\"))","v":3},{"$f":"COUNTIF(Horaire!X:Y,$C51)+COUNTIF(POC!X:Z,$C51)+COUNTIF(Horaire!X:Y,SUBSTITUTE($C51,\".\",\",\"))+COUNTIF(POC!X:Z,SUBSTITUTE($C51,\".\",\",\"))","v":3},null,{"$f":"MIN($E51,F51)","v":3},{"$f":"MIN($E51,G51)","v":3}]
[null,null,"C406.01",{"$f":"VLOOKUP(C52,Traduction!$B$426:$E$926,'Info de l''escadron'!$A$1+1,0)","v":"Assister l'officier de sécurité de champ de tir (O Sécur Tir)"},1,{"$f":"COUNTIF(Horaire!W:X,$C52)+COUNTIF(POC!W:Y,$C52)+COUNTIF(Horaire!W:X,SUBSTITUTE($C52,\".\",\",\"))+COUNTIF(POC!W:Y,SUBSTITUTE($C52,\".\",\",\"))","v":0},{"$f":"COUNTIF(Horaire!X:Y,$C52)+COUNTIF(POC!X:Z,$C52)+COUNTIF(Horaire!X:Y,SUBSTITUTE($C52,\".\",\",\"))+COUNTIF(POC!X:Z,SUBSTITUTE($C52,\".\",\",\"))","v":0},null,null,null,null,{"$f":"MIN($E52,F52)","v":0},{"$f":"MIN($E52,G52)","v":0}]
[null,null,"C406.02",{"$f":"VLOOKUP(C53,Traduction!$B$426:$E$926,'Info de l''escadron'!$A$1+1,0)","v":"Marquer les cibles de tir de précision avec la carabine à air comprimé"},1,{"$f":"COUNTIF(Horaire!W:X,$C53)+COUNTIF(POC!W:Y,$C53)+COUNTIF(Horaire!W:X,SUBSTITUTE($C53,\".\",\",\"))+COUNTIF(POC!W:Y,SUBSTITUTE($C53,\".\",\",\"))","v":0},{"$f":"COUNTIF(Horaire!X:Y,$C53)+COUNTIF(POC!X:Z,$C53)+COUNTIF(Horaire!X:Y,SUBSTITUTE($C53,\".\",\",\"))+COUNTIF(POC!X:Z,SUBSTITUTE($C53,\".\",\",\"))","v":0},null,null,null,null,0,0]
[null,null,"C306.01",{"$f":"VLOOKUP(C54,Traduction!$B$426:$E$926,'Info de l''escadron'!$A$1+1,0)","v":"Identifier les associations civiles de tir de précision"},1,{"$f":"COUNTIF(Horaire!W:X,$C54)+COUNTIF(POC!W:Y,$C54)+COUNTIF(Horaire!W:X,SUBSTITUTE($C54,\".\",\",\"))+COUNTIF(POC!W:Y,SUBSTITUTE($C54,\".\",\",\"))","v":0},{"$f":"COUNTIF(Horaire!X:Y,$C54)+COUNTIF(POC!X:Z,$C54)+COUNTIF(Horaire!X:Y,SUBSTITUTE($C54,\".\",\",\"))+COUNTIF(POC!X:Z,SUBSTITUTE($C54,\".\",\",\"))","v":0},null,null,null,null,0,0]
[null,null,"C306.02",{"$f":"VLOOKUP(C55,Traduction!$B$426:$E$926,'Info de l''escadron'!$A$1+1,0)","v":"Corriger l'erreur de tir"},2,{"$f":"COUNTIF(Horaire!W:X,$C55)+COUNTIF(POC!W:Y,$C55)+COUNTIF(Horaire!W:X,SUBSTITUTE($C55,\".\",\",\"))+COUNTIF(POC!W:Y,SUBSTITUTE($C55,\".\",\",\"))","v":0},{"$f":"COUNTIF(Horaire!X:Y,$C55)+COUNTIF(POC!X:Z,$C55)+COUNTIF(Horaire!X:Y,SUBSTITUTE($C55,\".\",\",\"))+COUNTIF(POC!X:Z,SUBSTITUTE($C55,\".\",\",\"))","v":0},null,null,null,null,0,0]
[null,null,"C306.03",{"$f":"VLOOKUP(C56,Traduction!$B$426:$E$926,'Info de l''escadron'!$A$1+1,0)","v":"Adopter la position debout avec la carabine à air comprimé des cadets"},2,{"$f":"COUNTIF(Horaire!W:X,$C56)+COUNTIF(POC!W:Y,$C56)+COUNTIF(Horaire!W:X,SUBSTITUTE($C56,\".\",\",\"))+COUNTIF(POC!W:Y,SUBSTITUTE($C56,\".\",\",\"))","v":0},{"$f":"COUNTIF(Horaire!X:Y,$C56)+COUNTIF(POC!X:Z,$C56)+COUNTIF(Horaire!X:Y,SUBSTITUTE($C56,\".\",\",\"))+COUNTIF(POC!X:Z,SUBSTITUTE($C56,\".\",\",\"))","v":0},null,null,null,null,0,0]
[null,null,"C106.01",{"$f":"VLOOKUP(C57,Traduction!$B$426:$E$926,'Info de l''escadron'!$A$1+1,0)","v":"Participer à une activité récréative de tir de précision"},6,{"$f":"COUNTIF(Horaire!W:X,$C57)+COUNTIF(POC!W:Y,$C57)+COUNTIF(Horaire!W:X,SUBSTITUTE($C57,\".\",\",\"))+COUNTIF(POC!W:Y,SUBSTITUTE($C57,\".\",\",\"))","v":0},{"$f":"COUNTIF(Horaire!X:Y,$C57)+COUNTIF(POC!X:Z,$C57)+COUNTIF(Horaire!X:Y,SUBSTITUTE($C57,\".\",\",\"))+COUNTIF(POC!X:Z,SUBSTITUTE($C57,\".\",\",\"))","v":0},null,null,null,null,0,0]
[null,null,{"$f":"CONCATENATE($A$2,\" \",A51,\" - \",VLOOKUP(160,Traduction!$B$6:$E$250,'Info de l''escadron'!$A$1+1,0))","v":"OREN 406 - Total des périodes d'instruction Obligatoires  "},null,3,{"$f":"F51","v":3},{"$f":"G51","v":3}]
[null,null,{"$f":"CONCATENATE($A$2,\" \",A51,\" - \",VLOOKUP(161,Traduction!$B$6:$E$250,'Info de l''escadron'!$A$1+1,0))","v":"OREN 406 - Total des périodes d'instruction Complémentaires  "},null,13,{"$f":"SUM(F52:F57)","v":0},{"$f":"SUM(G52:G57)","v":0}]
[407,{"$f":"VLOOKUP(A60,Traduction!$B$300:$E$388,'Info de l''escadron'!$A$1+1,0)","v":"Servir dans un escadron de cadets de l’Air"},"M407.01",{"$f":"VLOOKUP(C60,Traduction!$B$426:$E$926,'Info de l''escadron'!$A$1+1,0)","v":"Discuter des occasions d'instruction du niveau de qualification quatre"},1,{"$f":"COUNTIF(Horaire!W:X,$C60)+COUNTIF(POC!W:Y,$C60)+COUNTIF(Horaire!W:X,SUBSTITUTE($C60,\".\",\",\"))+COUNTIF(POC!W:Y,SUBSTITUTE($C60,\".\",\",\"))","v":1},{"$f":"COUNTIF(Horaire!X:Y,$C60)+COUNTIF(POC!X:Z,$C60)+COUNTIF(Horaire!X:Y,SUBSTITUTE($C60,\".\",\",\"))+COUNTIF(POC!X:Z,SUBSTITUTE($C60,\".\",\",\"))","v":0},null,{"$f":"MIN($E60,F60)","v":1},{"$f":"MIN($E60,G60)","v":0}]
[null,null,"M407.02",{"$f":"VLOOKUP(C61,Traduction!$B$426:$E$926,'Info de l''escadron'!$A$1+1,0)","v":"Discuter des occasions d’instruction de quatrième année au Centre d’instruction d’été des cadets (CIEC)."},1,{"$f":"COUNTIF(Horaire!W:X,$C61)+COUNTIF(POC!W:Y,$C61)+COUNTIF(Horaire!W:X,SUBSTITUTE($C61,\".\",\",\"))+COUNTIF(POC!W:Y,SUBSTITUTE($C61,\".\",\",\"))","v":1},{"$f":"COUNTIF(Horaire!X:Y,$C61)+COUNTIF(POC!X:Z,$C61)+COUNTIF(Horaire!X:Y,SUBSTITUTE($C61,\".\",\",\"))+COUNTIF(POC!X:Z,SUBSTITUTE($C61,\".\",\",\"))","v":0},null,{"$f":"MIN($E61,F61)","v":1},{"$f":"MIN($E61,G61)","v":0},null,{"$f":"MIN($E61,F61)","v":1},{"$f":"MIN($E61,G61)","v":0}]
[null,null,"C407.01",{"$f":"VLOOKUP(C62,Traduction!$B$426:$E$926,'Info de l''escadron'!$A$1+1,0)","v":"Se préparer pour un conseil de mérite"},3,{"$f":"COUNTIF(Horaire!W:X,$C62)+COUNTIF(POC!W:Y,$C62)+COUNTIF(Horaire!W:X,SUBSTITUTE($C62,\".\",\",\"))+COUNTIF(POC!W:Y,SUBSTITUTE($C62,\".\",\",\"))","v":0},{"$f":"COUNTIF(Horaire!X:Y,$C62)+COUNTIF(POC!X:Z,$C62)+COUNTIF(Horaire!X:Y,SUBSTITUTE($C62,\".\",\",\"))+COUNTIF(POC!X:Z,SUBSTITUTE($C62,\".\",\",\"))","v":0},null,null,null,null,0,0]
[null,null,"C407.02","Décrire la procédure de demande pour participer aux cours et aux échanges nationaux",1,{"$f":"COUNTIF(Horaire!W:X,$C63)+COUNTIF(POC!W:Y,$C63)+COUNTIF(Horaire!W:X,SUBSTITUTE($C63,\".\",\",\"))+COUNTIF(POC!W:Y,SUBSTITUTE($C63,\".\",\",\"))","v":0}]
[null,null,"C307.01",{"$f":"VLOOKUP(C64,Traduction!$B$426:$E$926,'Info de l''escadron'!$A$1+1,0)","v":"Participer à une présentation donnée par un conférencier d'une Unité régionale de soutien aux cadets (URSC)"},2,{"$f":"COUNTIF(Horaire!W:X,$C64)+COUNTIF(POC!W:Y,$C64)+COUNTIF(Horaire!W:X,SUBSTITUTE($C64,\".\",\",\"))+COUNTIF(POC!W:Y,SUBSTITUTE($C64,\".\",\",\"))","v":0},{"$f":"COUNTIF(Horaire!X:Y,$C64)+COUNTIF(POC!X:Z,$C64)+COUNTIF(Horaire!X:Y,SUBSTITUTE($C64,\".\",\",\"))+COUNTIF(POC!X:Z,SUBSTITUTE($C64,\".\",\",\"))","v":0},null,null,null,null,0,0]
[null,null,"C307.02",{"$f":"VLOOKUP(C65,Traduction!$B$426:$E$926,'Info de l''escadron'!$A$1+1,0)","v":"Participer à une présentation donnée par l'officier de liaison - cadets (OLC)"},2,{"$f":"COUNTIF(Horaire!W:X,$C65)+COUNTIF(POC!W:Y,$C65)+COUNTIF(Horaire!W:X,SUBSTITUTE($C65,\".\",\",\"))+COUNTIF(POC!W:Y,SUBSTITUTE($C65,\".\",\",\"))","v":0},{"$f":"COUNTIF(Horaire!X:Y,$C65)+COUNTIF(POC!X:Z,$C65)+COUNTIF(Horaire!X:Y,SUBSTITUTE($C65,\".\",\",\"))+COUNTIF(POC!X:Z,SUBSTITUTE($C65,\".\",\",\"))","v":0},null,null,null,null,0,0]
[null,null,"C307.03",{"$f":"VLOOKUP(C66,Traduction!$B$426:$E$926,'Info de l''escadron'!$A$1+1,0)","v":"Participer à une présentation donnée par un conférencier de la Ligue des cadets de l'Air du Canada (LCAC)"},2,{"$f":"COUNTIF(Horaire!W:X,$C66)+COUNTIF(POC!W:Y,$C66)+COUNTIF(Horaire!W:X,SUBSTITUTE($C66,\".\",\",\"))+COUNTIF(POC!W:Y,SUBSTITUTE($C66,\".\",\",\"))","v":0},{"$f":"COUNTIF(Horaire!X:Y,$C66)+COUNTIF(POC!X:Z,$C66)+COUNTIF(Horaire!X:Y,SUBSTITUTE($C66,\".\",\",\"))+COUNTIF(POC!X:Z,SUBSTITUTE($C66,\".\",\",\"))","v":0},null,null,null,null,0,0]
[null,null,"C307.04",{"$f":"VLOOKUP(C67,Traduction!$B$426:$E$926,'Info de l''escadron'!$A$1+1,0)","v":"Identifier les procédures de mise en candidature aux bourses de pilote de planeur et de pilote d'avion"},2,{"$f":"COUNTIF(Horaire!W:X,$C67)+COUNTIF(POC!W:Y,$C67)+COUNTIF(Horaire!W:X,SUBSTITUTE($C67,\".\",\",\"))+COUNTIF(POC!W:Y,SUBSTITUTE($C67,\".\",\",\"))","v":0},{"$f":"COUNTIF(Horaire!X:Y,$C67)+COUNTIF(POC!X:Z,$C67)+COUNTIF(Horaire!X:Y,SUBSTITUTE($C67,\".\",\",\"))+COUNTIF(POC!X:Z,SUBSTITUTE($C67,\".\",\",\"))","v":0},null,null,null,null,0,0]
[null,null,"C307.05",{"$f":"VLOOKUP(C68,Traduction!$B$426:$E$926,'Info de l''escadron'!$A$1+1,0)","v":"Participer à une présentation sur le programme du Prix du Duc d'Édimbourg"},1,{"$f":"COUNTIF(Horaire!W:X,$C68)+COUNTIF(POC!W:Y,$C68)+COUNTIF(Horaire!W:X,SUBSTITUTE($C68,\".\",\",\"))+COUNTIF(POC!W:Y,SUBSTITUTE($C68,\".\",\",\"))","v":0},{"$f":"COUNTIF(Horaire!X:Y,$C68)+COUNTIF(POC!X:Z,$C68)+COUNTIF(Horaire!X:Y,SUBSTITUTE($C68,\".\",\",\"))+COUNTIF(POC!X:Z,SUBSTITUTE($C68,\".\",\",\"))","v":0},null,null,null,null,0,0]
[null,null,{"$f":"CONCATENATE($A$2,\" \",A60,\" - \",VLOOKUP(160,Traduction!$B$6:$E$250,'Info de l''escadron'!$A$1+1,0))","v":"OREN 407 - Total des périodes d'instruction Obligatoires  "},null,2,{"$f":"SUM(F60:F61)","v":2},{"$f":"SUM(G60:G61)","v":0}]
[null,null,{"$f":"CONCATENATE($A$2,\" \",A60,\" - \",VLOOKUP(161,Traduction!$B$6:$E$250,'Info de l''escadron'!$A$1+1,0))","v":"OREN 407 - Total des périodes d'instruction Complémentaires  "},null,13,{"$f":"SUM(F62:F68)","v":0},{"$f":"SUM(G62:G68)","v":0}]
[408,{"$f":"VLOOKUP(A71,Traduction!$B$300:$E$388,'Info de l''escadron'!$A$1+1,0)","v":"Commander une section lors d’un rassemblement"},"M408.01",{"$f":"VLOOKUP(C71,Traduction!$B$426:$E$926,'Info de l''escadron'!$A$1+1,0)","v":"Discuter de la façon de commander une section lors d’un rassemblement"},1,{"$f":"COUNTIF(Horaire!W:X,$C71)+COUNTIF(POC!W:Y,$C71)+COUNTIF(Horaire!W:X,SUBSTITUTE($C71,\".\",\",\"))+COUNTIF(POC!W:Y,SUBSTITUTE($C71,\".\",\",\"))","v":1},{"$f":"COUNTIF(Horaire!X:Y,$C71)+COUNTIF(POC!X:Z,$C71)+COUNTIF(Horaire!X:Y,SUBSTITUTE($C71,\".\",\",\"))+COUNTIF(POC!X:Z,SUBSTITUTE($C71,\".\",\",\"))","v":0},null,{"$f":"MIN($E71,F71)","v":1},0]
[null,null,"M408.02",{"$f":"VLOOKUP(C72,Traduction!$B$426:$E$926,'Info de l''escadron'!$A$1+1,0)","v":"Décrire la séquence d’un rassemblement"},1,{"$f":"COUNTIF(Horaire!W:X,$C72)+COUNTIF(POC!W:Y,$C72)+COUNTIF(Horaire!W:X,SUBSTITUTE($C72,\".\",\",\"))+COUNTIF(POC!W:Y,SUBSTITUTE($C72,\".\",\",\"))","v":1},{"$f":"COUNTIF(Horaire!X:Y,$C72)+COUNTIF(POC!X:Z,$C72)+COUNTIF(Horaire!X:Y,SUBSTITUTE($C72,\".\",\",\"))+COUNTIF(POC!X:Z,SUBSTITUTE($C72,\".\",\",\"))","v":0},null,1,0]
[null,null,"M408.03",{"$f":"VLOOKUP(C73,Traduction!$B$426:$E$926,'Info de l''escadron'!$A$1+1,0)","v":"Commander une escouade"},1,{"$f":"COUNTIF(Horaire!W:X,$C73)+COUNTIF(POC!W:Y,$C73)+COUNTIF(Horaire!W:X,SUBSTITUTE($C73,\".\",\",\"))+COUNTIF(POC!W:Y,SUBSTITUTE($C73,\".\",\",\"))","v":1},{"$f":"COUNTIF(Horaire!X:Y,$C73)+COUNTIF(POC!X:Z,$C73)+COUNTIF(Horaire!X:Y,SUBSTITUTE($C73,\".\",\",\"))+COUNTIF(POC!X:Z,SUBSTITUTE($C73,\".\",\",\"))","v":0},null,1,0]
[null,null,"M408.04",{"$f":"VLOOKUP(C74,Traduction!$B$426:$E$926,'Info de l''escadron'!$A$1+1,0)","v":"Inspecter un cadet lors d’un rassemblement"},1,{"$f":"COUNTIF(Horaire!W:X,$C74)+COUNTIF(POC!W:Y,$C74)+COUNTIF(Horaire!W:X,SUBSTITUTE($C74,\".\",\",\"))+COUNTIF(POC!W:Y,SUBSTITUTE($C74,\".\",\",\"))","v":1},{"$f":"COUNTIF(Horaire!X:Y,$C74)+COUNTIF(POC!X:Z,$C74)+COUNTIF(Horaire!X:Y,SUBSTITUTE($C74,\".\",\",\"))+COUNTIF(POC!X:Z,SUBSTITUTE($C74,\".\",\",\"))","v":0},null,1,0]
[null,null,{"$f":"VLOOKUP(196,Traduction!$B$6:$E$250,'Info de l''escadron'!$A$1+1,0)","v":"COREN 408"},{"$f":"VLOOKUP(C75,Traduction!$B$426:$E$926,'Info de l''escadron'!$A$1+1,0)","v":"Commander une section lors d’un rassemblement"},0,{"$f":"COUNTIF(Horaire!W:X,$C75)+COUNTIF(POC!W:Y,$C75)","v":0},{"$f":"COUNTIF(Horaire!X:Y,$C75)+COUNTIF(POC!X:Z,$C75)","v":0},null,null,null,null,{"$f":"MIN($E75,F75)","v":0},{"$f":"MIN($E75,G75)","v":0}]
[null,null,"C408.01",{"$f":"VLOOKUP(C76,Traduction!$B$426:$E$926,'Info de l''escadron'!$A$1+1,0)","v":"Discuter de l’histoire de l’exercice militaire"},1,{"$f":"COUNTIF(Horaire!W:X,$C76)+COUNTIF(POC!W:Y,$C76)+COUNTIF(Horaire!W:X,SUBSTITUTE($C76,\".\",\",\"))+COUNTIF(POC!W:Y,SUBSTITUTE($C76,\".\",\",\"))","v":0},{"$f":"COUNTIF(Horaire!X:Y,$C76)+COUNTIF(POC!X:Z,$C76)+COUNTIF(Horaire!X:Y,SUBSTITUTE($C76,\".\",\",\"))+COUNTIF(POC!X:Z,SUBSTITUTE($C76,\".\",\",\"))","v":0},null,null,null,null,0,0]
[null,null,"C408.02",{"$f":"VLOOKUP(C77,Traduction!$B$426:$E$926,'Info de l''escadron'!$A$1+1,0)","v":"Observer une reconstitution historique d’exercice militaire"},3,{"$f":"COUNTIF(Horaire!W:X,$C77)+COUNTIF(POC!W:Y,$C77)+COUNTIF(Horaire!W:X,SUBSTITUTE($C77,\".\",\",\"))+COUNTIF(POC!W:Y,SUBSTITUTE($C77,\".\",\",\"))","v":0},{"$f":"COUNTIF(Horaire!X:Y,$C77)+COUNTIF(POC!X:Z,$C77)+COUNTIF(Horaire!X:Y,SUBSTITUTE($C77,\".\",\",\"))+COUNTIF(POC!X:Z,SUBSTITUTE($C77,\".\",\",\"))","v":0},null,null,null,null,0,0]
[null,null,"C308.01",{"$f":"VLOOKUP(C78,Traduction!$B$426:$E$926,'Info de l''escadron'!$A$1+1,0)","v":"Exécuter de l'exercice militaire avec drapeaux"},6,{"$f":"COUNTIF(Horaire!W:X,$C78)+COUNTIF(POC!W:Y,$C78)+COUNTIF(Horaire!W:X,SUBSTITUTE($C78,\".\",\",\"))+COUNTIF(POC!W:Y,SUBSTITUTE($C78,\".\",\",\"))","v":1},{"$f":"COUNTIF(Horaire!X:Y,$C78)+COUNTIF(POC!X:Z,$C78)+COUNTIF(Horaire!X:Y,SUBSTITUTE($C78,\".\",\",\"))+COUNTIF(POC!X:Z,SUBSTITUTE($C78,\".\",\",\"))","v":0},null,null,null,null,1,0]
[null,null,"C308.02",{"$f":"VLOOKUP(C79,Traduction!$B$426:$E$926,'Info de l''escadron'!$A$1+1,0)","v":"Donner des commandements"},2,{"$f":"COUNTIF(Horaire!W:X,$C79)+COUNTIF(POC!W:Y,$C79)+COUNTIF(Horaire!W:X,SUBSTITUTE($C79,\".\",\",\"))+COUNTIF(POC!W:Y,SUBSTITUTE($C79,\".\",\",\"))","v":0},{"$f":"COUNTIF(Horaire!X:Y,$C79)+COUNTIF(POC!X:Z,$C79)+COUNTIF(Horaire!X:Y,SUBSTITUTE($C79,\".\",\",\"))+COUNTIF(POC!X:Z,SUBSTITUTE($C79,\".\",\",\"))","v":0},null,null,null,null,0,0]
[null,null,"C208.01",{"$f":"VLOOKUP(C80,Traduction!$B$426:$E$926,'Info de l''escadron'!$A$1+1,0)","v":"S'exercer à une cérémonie militaire dans le cadre d'une revue"},2,{"$f":"COUNTIF(Horaire!W:X,$C80)+COUNTIF(POC!W:Y,$C80)+COUNTIF(Horaire!W:X,SUBSTITUTE($C80,\".\",\",\"))+COUNTIF(POC!W:Y,SUBSTITUTE($C80,\".\",\",\"))","v":0},{"$f":"COUNTIF(Horaire!X:Y,$C80)+COUNTIF(POC!X:Z,$C80)+COUNTIF(Horaire!X:Y,SUBSTITUTE($C80,\".\",\",\"))+COUNTIF(POC!X:Z,SUBSTITUTE($C80,\".\",\",\"))","v":0},null,null,null,null,0,0]
[null,null,"C208.02",{"$f":"VLOOKUP(C81,Traduction!$B$426:$E$926,'Info de l''escadron'!$A$1+1,0)","v":"Exécuter de l'exercice militaire avec armes"},8,{"$f":"COUNTIF(Horaire!W:X,$C81)+COUNTIF(POC!W:Y,$C81)+COUNTIF(Horaire!W:X,SUBSTITUTE($C81,\".\",\",\"))+COUNTIF(POC!W:Y,SUBSTITUTE($C81,\".\",\",\"))","v":0},{"$f":"COUNTIF(Horaire!X:Y,$C81)+COUNTIF(POC!X:Z,$C81)+COUNTIF(Horaire!X:Y,SUBSTITUTE($C81,\".\",\",\"))+COUNTIF(POC!X:Z,SUBSTITUTE($C81,\".\",\",\"))","v":0},null,null,null,null,0,0]
[null,null,{"$f":"CONCATENATE($A$2,\" \",A71,\" - \",VLOOKUP(160,Traduction!$B$6:$E$250,'Info de l''escadron'!$A$1+1,0))","v":"OREN 408 - Total des périodes d'instruction Obligatoires  "},null,4,{"$f":"SUM(F71:F74)","v":4},{"$f":"SUM(G71:G74)","v":0}]
[null,null,{"$f":"CONCATENATE($A$2,\" \",A71,\" - \",VLOOKUP(161,Traduction!$B$6:$E$250,'Info de l''escadron'!$A$1+1,0))","v":"OREN 408 - Total des périodes d'instruction Complémentaires  "},null,22,{"$f":"SUM(F76:F81)","v":1},{"$f":"SUM(G75:G81)","v":0}]
[409,{"$f":"VLOOKUP(A84,Traduction!$B$300:$E$388,'Info de l''escadron'!$A$1+1,0)","v":"Enseigner une leçon"},"M409.01",{"$f":"VLOOKUP(C84,Traduction!$B$426:$E$926,'Info de l''escadron'!$A$1+1,0)","v":"Identifier les méthodes d’instruction"},2,{"$f":"COUNTIF(Horaire!W:X,$C84)+COUNTIF(POC!W:Y,$C84)+COUNTIF(Horaire!W:X,SUBSTITUTE($C84,\".\",\",\"))+COUNTIF(POC!W:Y,SUBSTITUTE($C84,\".\",\",\"))","v":2},{"$f":"COUNTIF(Horaire!X:Y,$C84)+COUNTIF(POC!X:Z,$C84)+COUNTIF(Horaire!X:Y,SUBSTITUTE($C84,\".\",\",\"))+COUNTIF(POC!X:Z,SUBSTITUTE($C84,\".\",\",\"))","v":0},null,{"$f":"MIN($E84,F84)","v":2},0]
[null,null,"M409.02",{"$f":"VLOOKUP(C85,Traduction!$B$426:$E$926,'Info de l''escadron'!$A$1+1,0)","v":"Identifier les éléments d’un environnement d’apprentissage positif"},2,{"$f":"COUNTIF(Horaire!W:X,$C85)+COUNTIF(POC!W:Y,$C85)+COUNTIF(Horaire!W:X,SUBSTITUTE($C85,\".\",\",\"))+COUNTIF(POC!W:Y,SUBSTITUTE($C85,\".\",\",\"))","v":2},{"$f":"COUNTIF(Horaire!X:Y,$C85)+COUNTIF(POC!X:Z,$C85)+COUNTIF(Horaire!X:Y,SUBSTITUTE($C85,\".\",\",\"))+COUNTIF(POC!X:Z,SUBSTITUTE($C85,\".\",\",\"))","v":0},null,2,0]
[null,null,"M409.03",{"$f":"VLOOKUP(C86,Traduction!$B$426:$E$926,'Info de l''escadron'!$A$1+1,0)","v":"Décrire les besoins de l’apprenant"},2,{"$f":"COUNTIF(Horaire!W:X,$C86)+COUNTIF(POC!W:Y,$C86)+COUNTIF(Horaire!W:X,SUBSTITUTE($C86,\".\",\",\"))+COUNTIF(POC!W:Y,SUBSTITUTE($C86,\".\",\",\"))","v":2},{"$f":"COUNTIF(Horaire!X:Y,$C86)+COUNTIF(POC!X:Z,$C86)+COUNTIF(Horaire!X:Y,SUBSTITUTE($C86,\".\",\",\"))+COUNTIF(POC!X:Z,SUBSTITUTE($C86,\".\",\",\"))","v":0},null,2,0]
[null,null,"M409.04",{"$f":"VLOOKUP(C87,Traduction!$B$426:$E$926,'Info de l''escadron'!$A$1+1,0)","v":"Expliquer l’évaluation"},1,{"$f":"COUNTIF(Horaire!W:X,$C87)+COUNTIF(POC!W:Y,$C87)+COUNTIF(Horaire!W:X,SUBSTITUTE($C87,\".\",\",\"))+COUNTIF(POC!W:Y,SUBSTITUTE($C87,\".\",\",\"))","v":0},{"$f":"COUNTIF(Horaire!X:Y,$C87)+COUNTIF(POC!X:Z,$C87)+COUNTIF(Horaire!X:Y,SUBSTITUTE($C87,\".\",\",\"))+COUNTIF(POC!X:Z,SUBSTITUTE($C87,\".\",\",\"))","v":0},null,0,0]
[null,null,"M409.05",{"$f":"VLOOKUP(C88,Traduction!$B$426:$E$926,'Info de l''escadron'!$A$1+1,0)","v":"Enseigner une leçon de 30 minutes"},3,{"$f":"COUNTIF(Horaire!W:X,$C88)+COUNTIF(POC!W:Y,$C88)+COUNTIF(Horaire!W:X,SUBSTITUTE($C88,\".\",\",\"))+COUNTIF(POC!W:Y,SUBSTITUTE($C88,\".\",\",\"))","v":8},{"$f":"COUNTIF(Horaire!X:Y,$C88)+COUNTIF(POC!X:Z,$C88)+COUNTIF(Horaire!X:Y,SUBSTITUTE($C88,\".\",\",\"))+COUNTIF(POC!X:Z,SUBSTITUTE($C88,\".\",\",\"))","v":0},null,3,0]
[null,null,{"$f":"VLOOKUP(197,Traduction!$B$6:$E$250,'Info de l''escadron'!$A$1+1,0)","v":"COREN 409"},{"$f":"VLOOKUP(C89,Traduction!$B$426:$E$926,'Info de l''escadron'!$A$1+1,0)","v":"Enseigner une leçon"},0,{"$f":"COUNTIF(Horaire!W:X,$C89)+COUNTIF(POC!W:Y,$C89)","v":0},{"$f":"COUNTIF(Horaire!X:Y,$C89)+COUNTIF(POC!X:Z,$C89)","v":0},null,null,null,null,{"$f":"MIN($E89,F89)","v":0},{"$f":"MIN($E89,G89)","v":0}]
[null,null,"C409.01",{"$f":"VLOOKUP(C90,Traduction!$B$426:$E$926,'Info de l''escadron'!$A$1+1,0)","v":"Planifier une leçon"},2,{"$f":"COUNTIF(Horaire!W:X,$C90)+COUNTIF(POC!W:Y,$C90)+COUNTIF(Horaire!W:X,SUBSTITUTE($C90,\".\",\",\"))+COUNTIF(POC!W:Y,SUBSTITUTE($C90,\".\",\",\"))","v":0},{"$f":"COUNTIF(Horaire!X:Y,$C90)+COUNTIF(POC!X:Z,$C90)+COUNTIF(Horaire!X:Y,SUBSTITUTE($C90,\".\",\",\"))+COUNTIF(POC!X:Z,SUBSTITUTE($C90,\".\",\",\"))","v":0},null,null,null,null,0,0]
[null,null,"C409.02",{"$f":"VLOOKUP(C91,Traduction!$B$426:$E$926,'Info de l''escadron'!$A$1+1,0)","v":"Enseigner une leçon de 30 minutes"},3,{"$f":"COUNTIF(Horaire!W:X,$C91)+COUNTIF(POC!W:Y,$C91)+COUNTIF(Horaire!W:X,SUBSTITUTE($C91,\".\",\",\"))+COUNTIF(POC!W:Y,SUBSTITUTE($C91,\".\",\",\"))","v":0},{"$f":"COUNTIF(Horaire!X:Y,$C91)+COUNTIF(POC!X:Z,$C91)+COUNTIF(Horaire!X:Y,SUBSTITUTE($C91,\".\",\",\"))+COUNTIF(POC!X:Z,SUBSTITUTE($C91,\".\",\",\"))","v":0},null,null,null,null,0,0]
[null,null,"C409.03",{"$f":"VLOOKUP(C92,Traduction!$B$426:$E$926,'Info de l''escadron'!$A$1+1,0)","v":"Agir à titre d’instructeur adjoint"},3,{"$f":"COUNTIF(Horaire!W:X,$C92)+COUNTIF(POC!W:Y,$C92)+COUNTIF(Horaire!W:X,SUBSTITUTE($C92,\".\",\",\"))+COUNTIF(POC!W:Y,SUBSTITUTE($C92,\".\",\",\"))","v":0},{"$f":"COUNTIF(Horaire!X:Y,$C92)+COUNTIF(POC!X:Z,$C92)+COUNTIF(Horaire!X:Y,SUBSTITUTE($C92,\".\",\",\"))+COUNTIF(POC!X:Z,SUBSTITUTE($C92,\".\",\",\"))","v":0},null,null,null,null,0,0]
[null,null,"C409.04",{"$f":"VLOOKUP(C93,Traduction!$B$426:$E$926,'Info de l''escadron'!$A$1+1,0)","v":"Participer à un atelier de planification de leçon créative"},3,{"$f":"COUNTIF(Horaire!W:X,$C93)+COUNTIF(POC!W:Y,$C93)+COUNTIF(Horaire!W:X,SUBSTITUTE($C93,\".\",\",\"))+COUNTIF(POC!W:Y,SUBSTITUTE($C93,\".\",\",\"))","v":0},{"$f":"COUNTIF(Horaire!X:Y,$C93)+COUNTIF(POC!X:Z,$C93)+COUNTIF(Horaire!X:Y,SUBSTITUTE($C93,\".\",\",\"))+COUNTIF(POC!X:Z,SUBSTITUTE($C93,\".\",\",\"))","v":0},null,null,null,null,0,0]
[null,null,"C409.05",{"$f":"VLOOKUP(C94,Traduction!$B$426:$E$926,'Info de l''escadron'!$A$1+1,0)","v":"Agir à titre d’instructeur adjoint de l’exercice militaire"},3,{"$f":"COUNTIF(Horaire!W:X,$C94)+COUNTIF(POC!W:Y,$C94)+COUNTIF(Horaire!W:X,SUBSTITUTE($C94,\".\",\",\"))+COUNTIF(POC!W:Y,SUBSTITUTE($C94,\".\",\",\"))","v":0},{"$f":"COUNTIF(Horaire!X:Y,$C94)+COUNTIF(POC!X:Z,$C94)+COUNTIF(Horaire!X:Y,SUBSTITUTE($C94,\".\",\",\"))+COUNTIF(POC!X:Z,SUBSTITUTE($C94,\".\",\",\"))","v":0},null,null,null,null,0,0]
[null,null,"C409.06",{"$f":"VLOOKUP(C95,Traduction!$B$426:$E$926,'Info de l''escadron'!$A$1+1,0)","v":"Enseigner une leçon d'exercice militaire de 30 minutes"},3,{"$f":"COUNTIF(Horaire!W:X,$C95)+COUNTIF(POC!W:Y,$C95)+COUNTIF(Horaire!W:X,SUBSTITUTE($C95,\".\",\",\"))+COUNTIF(POC!W:Y,SUBSTITUTE($C95,\".\",\",\"))","v":1},{"$f":"COUNTIF(Horaire!X:Y,$C95)+COUNTIF(POC!X:Z,$C95)+COUNTIF(Horaire!X:Y,SUBSTITUTE($C95,\".\",\",\"))+COUNTIF(POC!X:Z,SUBSTITUTE($C95,\".\",\",\"))","v":0},null,null,null,null,1,0]
[null,null,"C309.04",{"$f":"VLOOKUP(C96,Traduction!$B$426:$E$926,'Info de l''escadron'!$A$1+1,0)","v":"Identifier les formations pour l'instruction d'exercice militaire"},1,{"$f":"COUNTIF(Horaire!W:X,$C96)+COUNTIF(POC!W:Y,$C96)+COUNTIF(Horaire!W:X,SUBSTITUTE($C96,\".\",\",\"))+COUNTIF(POC!W:Y,SUBSTITUTE($C96,\".\",\",\"))","v":0},{"$f":"COUNTIF(Horaire!X:Y,$C96)+COUNTIF(POC!X:Z,$C96)+COUNTIF(Horaire!X:Y,SUBSTITUTE($C96,\".\",\",\"))+COUNTIF(POC!X:Z,SUBSTITUTE($C96,\".\",\",\"))","v":0},null,null,null,null,0,0]
[null,null,"C309.05",{"$f":"VLOOKUP(C97,Traduction!$B$426:$E$926,'Info de l''escadron'!$A$1+1,0)","v":"Planifier une leçon d'exercice militaire"},2,{"$f":"COUNTIF(Horaire!W:X,$C97)+COUNTIF(POC!W:Y,$C97)+COUNTIF(Horaire!W:X,SUBSTITUTE($C97,\".\",\",\"))+COUNTIF(POC!W:Y,SUBSTITUTE($C97,\".\",\",\"))","v":1},{"$f":"COUNTIF(Horaire!X:Y,$C97)+COUNTIF(POC!X:Z,$C97)+COUNTIF(Horaire!X:Y,SUBSTITUTE($C97,\".\",\",\"))+COUNTIF(POC!X:Z,SUBSTITUTE($C97,\".\",\",\"))","v":0},null,null,null,null,1,0]
[null,null,"C309.06",{"$f":"VLOOKUP(C98,Traduction!$B$426:$E$926,'Info de l''escadron'!$A$1+1,0)","v":"Enseigner une leçon d'exercice militaire de 15 minutes"},3,{"$f":"COUNTIF(Horaire!W:X,$C98)+COUNTIF(POC!W:Y,$C98)+COUNTIF(Horaire!W:X,SUBSTITUTE($C98,\".\",\",\"))+COUNTIF(POC!W:Y,SUBSTITUTE($C98,\".\",\",\"))","v":0},{"$f":"COUNTIF(Horaire!X:Y,$C98)+COUNTIF(POC!X:Z,$C98)+COUNTIF(Horaire!X:Y,SUBSTITUTE($C98,\".\",\",\"))+COUNTIF(POC!X:Z,SUBSTITUTE($C98,\".\",\",\"))","v":0},null,null,null,null,0,0]
[null,null,{"$f":"CONCATENATE($A$2,\" \",A84,\" - \",VLOOKUP(160,Traduction!$B$6:$E$250,'Info de l''escadron'!$A$1+1,0))","v":"OREN 409 - Total des périodes d'instruction Obligatoires  "},null,10,{"$f":"SUM(F84:F89)","v":14},{"$f":"SUM(G84:G88)","v":0}]
[null,null,{"$f":"CONCATENATE($A$2,\" \",A84,\" - \",VLOOKUP(161,Traduction!$B$6:$E$250,'Info de l''escadron'!$A$1+1,0))","v":"OREN 409 - Total des périodes d'instruction Complémentaires  "},null,23,{"$f":"SUM(F90:F98)","v":2},{"$f":"SUM(G89:G98)","v":0}]
[311,{"$f":"VLOOKUP(A101,Traduction!$B$300:$E$388,'Info de l''escadron'!$A$1+1,0)","v":"Participer à une activité récréative de biathlon d'été"},"C311.01",{"$f":"VLOOKUP(C101,Traduction!$B$426:$E$926,'Info de l''escadron'!$A$1+1,0)","v":"Pratiquer la visée et le tir à la carabine à air comprimé des cadets après une activité physique"},3,{"$f":"COUNTIF(Horaire!W:X,$C101)+COUNTIF(POC!W:Y,$C101)+COUNTIF(Horaire!W:X,SUBSTITUTE($C101,\".\",\",\"))+COUNTIF(POC!W:Y,SUBSTITUTE($C101,\".\",\",\"))","v":0},{"$f":"COUNTIF(Horaire!X:Y,$C101)+COUNTIF(POC!X:Z,$C101)+COUNTIF(Horaire!X:Y,SUBSTITUTE($C101,\".\",\",\"))+COUNTIF(POC!X:Z,SUBSTITUTE($C101,\".\",\",\"))","v":0},null,null,null,null,{"$f":"MIN($E101,F101)","v":0},{"$f":"MIN($E101,G101)","v":0}]
[null,null,"C311.02",{"$f":"VLOOKUP(C102,Traduction!$B$426:$E$926,'Info de l''escadron'!$A$1+1,0)","v":"Participer à une activité récréative de biathlon d'été"},6,{"$f":"COUNTIF(Horaire!W:X,$C102)+COUNTIF(POC!W:Y,$C102)+COUNTIF(Horaire!W:X,SUBSTITUTE($C102,\".\",\",\"))+COUNTIF(POC!W:Y,SUBSTITUTE($C102,\".\",\",\"))","v":0},{"$f":"COUNTIF(Horaire!X:Y,$C102)+COUNTIF(POC!X:Z,$C102)+COUNTIF(Horaire!X:Y,SUBSTITUTE($C102,\".\",\",\"))+COUNTIF(POC!X:Z,SUBSTITUTE($C102,\".\",\",\"))","v":0},null,null,null,null,0,0]
[null,null,"C211.01",{"$f":"VLOOKUP(C103,Traduction!$B$426:$E$926,'Info de l''escadron'!$A$1+1,0)","v":"Reconnaître les occasions de biathlon civil"},1,{"$f":"COUNTIF(Horaire!W:X,$C103)+COUNTIF(POC!W:Y,$C103)+COUNTIF(Horaire!W:X,SUBSTITUTE($C103,\".\",\",\"))+COUNTIF(POC!W:Y,SUBSTITUTE($C103,\".\",\",\"))","v":0},{"$f":"COUNTIF(Horaire!X:Y,$C103)+COUNTIF(POC!X:Z,$C103)+COUNTIF(Horaire!X:Y,SUBSTITUTE($C103,\".\",\",\"))+COUNTIF(POC!X:Z,SUBSTITUTE($C103,\".\",\",\"))","v":0},null,null,null,null,0,0]
[null,null,"C211.02",{"$f":"VLOOKUP(C104,Traduction!$B$426:$E$926,'Info de l''escadron'!$A$1+1,0)","v":"Courir sur un terrain à géographie différente"},1,{"$f":"COUNTIF(Horaire!W:X,$C104)+COUNTIF(POC!W:Y,$C104)+COUNTIF(Horaire!W:X,SUBSTITUTE($C104,\".\",\",\"))+COUNTIF(POC!W:Y,SUBSTITUTE($C104,\".\",\",\"))","v":0},{"$f":"COUNTIF(Horaire!X:Y,$C104)+COUNTIF(POC!X:Z,$C104)+COUNTIF(Horaire!X:Y,SUBSTITUTE($C104,\".\",\",\"))+COUNTIF(POC!X:Z,SUBSTITUTE($C104,\".\",\",\"))","v":0},null,null,null,null,0,0]
[null,null,"C211.03",{"$f":"VLOOKUP(C105,Traduction!$B$426:$E$926,'Info de l''escadron'!$A$1+1,0)","v":"Tirer avec la carabine à air comprimé des cadets en se servant d'une bretelle après une activité physique"},1,{"$f":"COUNTIF(Horaire!W:X,$C105)+COUNTIF(POC!W:Y,$C105)+COUNTIF(Horaire!W:X,SUBSTITUTE($C105,\".\",\",\"))+COUNTIF(POC!W:Y,SUBSTITUTE($C105,\".\",\",\"))","v":0},{"$f":"COUNTIF(Horaire!X:Y,$C105)+COUNTIF(POC!X:Z,$C105)+COUNTIF(Horaire!X:Y,SUBSTITUTE($C105,\".\",\",\"))+COUNTIF(POC!X:Z,SUBSTITUTE($C105,\".\",\",\"))","v":0},null,null,null,null,0,0]
[null,null,"C211.04",{"$f":"VLOOKUP(C106,Traduction!$B$426:$E$926,'Info de l''escadron'!$A$1+1,0)","v":"Participer à une activité compétitive de biathlon d'été"},6,{"$f":"COUNTIF(Horaire!W:X,$C106)+COUNTIF(POC!W:Y,$C106)+COUNTIF(Horaire!W:X,SUBSTITUTE($C106,\".\",\",\"))+COUNTIF(POC!W:Y,SUBSTITUTE($C106,\".\",\",\"))","v":0},{"$f":"COUNTIF(Horaire!X:Y,$C106)+COUNTIF(POC!X:Z,$C106)+COUNTIF(Horaire!X:Y,SUBSTITUTE($C106,\".\",\",\"))+COUNTIF(POC!X:Z,SUBSTITUTE($C106,\".\",\",\"))","v":0},null,null,null,null,0,0]
[null,null,"C111.01",{"$f":"VLOOKUP(C107,Traduction!$B$426:$E$926,'Info de l''escadron'!$A$1+1,0)","v":"Participer à une séance d'information sur le biathlon"},1,{"$f":"COUNTIF(Horaire!W:X,$C107)+COUNTIF(POC!W:Y,$C107)+COUNTIF(Horaire!W:X,SUBSTITUTE($C107,\".\",\",\"))+COUNTIF(POC!W:Y,SUBSTITUTE($C107,\".\",\",\"))","v":0},{"$f":"COUNTIF(Horaire!X:Y,$C107)+COUNTIF(POC!X:Z,$C107)+COUNTIF(Horaire!X:Y,SUBSTITUTE($C107,\".\",\",\"))+COUNTIF(POC!X:Z,SUBSTITUTE($C107,\".\",\",\"))","v":0},null,null,null,null,0,0]
[null,null,"C111.02",{"$f":"VLOOKUP(C108,Traduction!$B$426:$E$926,'Info de l''escadron'!$A$1+1,0)","v":"Courir des sprints courts"},1,{"$f":"COUNTIF(Horaire!W:X,$C108)+COUNTIF(POC!W:Y,$C108)+COUNTIF(Horaire!W:X,SUBSTITUTE($C108,\".\",\",\"))+COUNTIF(POC!W:Y,SUBSTITUTE($C108,\".\",\",\"))","v":0},{"$f":"COUNTIF(Horaire!X:Y,$C108)+COUNTIF(POC!X:Z,$C108)+COUNTIF(Horaire!X:Y,SUBSTITUTE($C108,\".\",\",\"))+COUNTIF(POC!X:Z,SUBSTITUTE($C108,\".\",\",\"))","v":0},null,null,null,null,0,0]
[null,null,"C111.03",{"$f":"VLOOKUP(C109,Traduction!$B$426:$E$926,'Info de l''escadron'!$A$1+1,0)","v":"Simuler un tir avec la carabine à air comprimé des cadets après une activité physique"},1,{"$f":"COUNTIF(Horaire!W:X,$C109)+COUNTIF(POC!W:Y,$C109)+COUNTIF(Horaire!W:X,SUBSTITUTE($C109,\".\",\",\"))+COUNTIF(POC!W:Y,SUBSTITUTE($C109,\".\",\",\"))","v":0},{"$f":"COUNTIF(Horaire!X:Y,$C109)+COUNTIF(POC!X:Z,$C109)+COUNTIF(Horaire!X:Y,SUBSTITUTE($C109,\".\",\",\"))+COUNTIF(POC!X:Z,SUBSTITUTE($C109,\".\",\",\"))","v":0},null,null,null,null,0,0]
[null,null,"C111.04",{"$f":"VLOOKUP(C110,Traduction!$B$426:$E$926,'Info de l''escadron'!$A$1+1,0)","v":"Participer à une activité récréative de biathlon d'été"},6,{"$f":"COUNTIF(Horaire!W:X,$C110)+COUNTIF(POC!W:Y,$C110)+COUNTIF(Horaire!W:X,SUBSTITUTE($C110,\".\",\",\"))+COUNTIF(POC!W:Y,SUBSTITUTE($C110,\".\",\",\"))","v":0},{"$f":"COUNTIF(Horaire!X:Y,$C110)+COUNTIF(POC!X:Z,$C110)+COUNTIF(Horaire!X:Y,SUBSTITUTE($C110,\".\",\",\"))+COUNTIF(POC!X:Z,SUBSTITUTE($C110,\".\",\",\"))","v":0},null,null,null,null,0,0]
[null,null,{"$f":"CONCATENATE($A$2,\" \",A101,\" - \",VLOOKUP(160,Traduction!$B$6:$E$250,'Info de l''escadron'!$A$1+1,0))","v":"OREN 311 - Total des périodes d'instruction Obligatoires  "},null,0,0,0]
[null,null,{"$f":"CONCATENATE($A$2,\" \",A101,\" - \",VLOOKUP(161,Traduction!$B$6:$E$250,'Info de l''escadron'!$A$1+1,0))","v":"OREN 311 - Total des périodes d'instruction Complémentaires  "},null,27,{"$f":"SUM(F101:F110)","v":0},{"$f":"SUM(G101:G110)","v":0}]
[420,{"$f":"VLOOKUP(A113,Traduction!$B$300:$E$388,'Info de l''escadron'!$A$1+1,0)","v":"Décrire les traditions de la Force aérienne du Canada"},"M420.01A","Participer à une activité des FAC",0,{"$f":"COUNTIF(Horaire!W:X,$C113)+COUNTIF(POC!W:Y,$C113)+COUNTIF(Horaire!W:X,SUBSTITUTE($C113,\".\",\",\"))+COUNTIF(POC!W:Y,SUBSTITUTE($C113,\".\",\",\"))","v":0},{"$f":"COUNTIF(Horaire!X:Y,$C113)+COUNTIF(POC!X:Z,$C113)+COUNTIF(Horaire!X:Y,SUBSTITUTE($C113,\".\",\",\"))+COUNTIF(POC!X:Z,SUBSTITUTE($C113,\".\",\",\"))","v":0},null,{"$f":"MIN($E113,F113)","v":0},{"$f":"MIN($E113,G113)","v":0}]
[null,null,"M420.01B","Participer à une activité de familiarisation des FAC",0,{"$f":"COUNTIF(Horaire!W:X,$C114)+COUNTIF(POC!W:Y,$C114)+COUNTIF(Horaire!W:X,SUBSTITUTE($C114,\".\",\",\"))+COUNTIF(POC!W:Y,SUBSTITUTE($C114,\".\",\",\"))","v":0}]
[null,null,"M420.01C","Tirer avec le fusil C7",0,{"$f":"COUNTIF(Horaire!W:X,$C115)+COUNTIF(POC!W:Y,$C115)+COUNTIF(Horaire!W:X,SUBSTITUTE($C115,\".\",\",\"))+COUNTIF(POC!W:Y,SUBSTITUTE($C115,\".\",\",\"))","v":0}]
[null,null,"M420.01D","Participer à une dîner régimentaire",0,3]
[null,null,"M420.01E","Assister à une présentation des FAC",0,{"$f":"COUNTIF(Horaire!W:X,$C117)+COUNTIF(POC!W:Y,$C117)+COUNTIF(Horaire!W:X,SUBSTITUTE($C117,\".\",\",\"))+COUNTIF(POC!W:Y,SUBSTITUTE($C117,\".\",\",\"))","v":0}]
[null,null,"M420.01F","Assister à une cérémonie commémorative des FAC",0,{"$f":"COUNTIF(Horaire!W:X,$C118)+COUNTIF(POC!W:Y,$C118)+COUNTIF(Horaire!W:X,SUBSTITUTE($C118,\".\",\",\"))+COUNTIF(POC!W:Y,SUBSTITUTE($C118,\".\",\",\"))","v":0}]
[null,null,"M420.01G","Participer à des activités relatives aux vidéos des FAC",0,{"$f":"COUNTIF(Horaire!W:X,$C119)+COUNTIF(POC!W:Y,$C119)+COUNTIF(Horaire!W:X,SUBSTITUTE($C119,\".\",\",\"))+COUNTIF(POC!W:Y,SUBSTITUTE($C119,\".\",\",\"))","v":0}]
[null,null,"M420.01H","Participer à des activités d'apprentissage des FAC",0,{"$f":"COUNTIF(Horaire!W:X,$C120)+COUNTIF(POC!W:Y,$C120)+COUNTIF(Horaire!W:X,SUBSTITUTE($C120,\".\",\",\"))+COUNTIF(POC!W:Y,SUBSTITUTE($C120,\".\",\",\"))","v":0},{"$f":"COUNTIF(Horaire!X:Y,$C120)+COUNTIF(POC!X:Z,$C120)+COUNTIF(Horaire!X:Y,SUBSTITUTE($C120,\".\",\",\"))+COUNTIF(POC!X:Z,SUBSTITUTE($C120,\".\",\",\"))","v":0},null,{"$f":"MIN($E120,F120)","v":0},{"$f":"MIN($E120,G120)","v":0}]
[null,null,"C420.01","Participer à des activités de familiarisation des FAC",18,{"$f":"COUNTIF(Horaire!W:X,$C121)+COUNTIF(POC!W:Y,$C121)+COUNTIF(Horaire!W:X,SUBSTITUTE($C121,\".\",\",\"))+COUNTIF(POC!W:Y,SUBSTITUTE($C121,\".\",\",\"))","v":0},{"$f":"COUNTIF(Horaire!X:Y,$C121)+COUNTIF(POC!X:Z,$C121)+COUNTIF(Horaire!X:Y,SUBSTITUTE($C121,\".\",\",\"))+COUNTIF(POC!X:Z,SUBSTITUTE($C121,\".\",\",\"))","v":0},null,null,null,null,{"$f":"MIN($E121,F121)","v":0},{"$f":"MIN($E121,G121)","v":0}]
[null,null,{"$f":"CONCATENATE($A$2,\" \",A113,\" - \",VLOOKUP(160,Traduction!$B$6:$E$250,'Info de l''escadron'!$A$1+1,0))","v":"OREN 420 - Total des périodes d'instruction Obligatoires  "},null,0,{"$f":"SUM(F113:F120)","v":3},{"$f":"SUM(G113:G120)","v":0}]
[null,null,{"$f":"CONCATENATE($A$2,\" \",A113,\" - \",VLOOKUP(161,Traduction!$B$6:$E$250,'Info de l''escadron'!$A$1+1,0))","v":"OREN 420 - Total des périodes d'instruction Complémentaires  "},null,18,{"$f":"SUM(F121)","v":0},{"$f":"SUM(G121:G121)","v":0}]
[429,{"$f":"VLOOKUP(A124,Traduction!$B$300:$E$388,'Info de l''escadron'!$A$1+1,0)","v":"Communiquer à l’aide des procédures radio pour les transmissions destinées à l’aviation"},"C429.01",{"$f":"VLOOKUP(C124,Traduction!$B$426:$E$926,'Info de l''escadron'!$A$1+1,0)","v":"Expliquer le règlement et les procédures d’opération pour les transmissions destinées à l’aviation et la délivrance de licence."},1,{"$f":"COUNTIF(Horaire!W:X,$C124)+COUNTIF(POC!W:Y,$C124)+COUNTIF(Horaire!W:X,SUBSTITUTE($C124,\".\",\",\"))+COUNTIF(POC!W:Y,SUBSTITUTE($C124,\".\",\",\"))","v":1},{"$f":"COUNTIF(Horaire!X:Y,$C124)+COUNTIF(POC!X:Z,$C124)+COUNTIF(Horaire!X:Y,SUBSTITUTE($C124,\".\",\",\"))+COUNTIF(POC!X:Z,SUBSTITUTE($C124,\".\",\",\"))","v":0},null,null,null,null,{"$f":"MIN($E124,F124)","v":1},0]
[null,null,"C429.02",{"$f":"VLOOKUP(C125,Traduction!$B$426:$E$926,'Info de l''escadron'!$A$1+1,0)","v":"Communiquer en utilisant les procédures radio pour les transmissions destinées à l'aviation"},1,{"$f":"COUNTIF(Horaire!W:X,$C125)+COUNTIF(POC!W:Y,$C125)+COUNTIF(Horaire!W:X,SUBSTITUTE($C125,\".\",\",\"))+COUNTIF(POC!W:Y,SUBSTITUTE($C125,\".\",\",\"))","v":1},{"$f":"COUNTIF(Horaire!X:Y,$C125)+COUNTIF(POC!X:Z,$C125)+COUNTIF(Horaire!X:Y,SUBSTITUTE($C125,\".\",\",\"))+COUNTIF(POC!X:Z,SUBSTITUTE($C125,\".\",\",\"))","v":0},null,null,null,null,1,0]
[null,null,"C429.03",{"$f":"VLOOKUP(C126,Traduction!$B$426:$E$926,'Info de l''escadron'!$A$1+1,0)","v":"Décrire les longueurs d’onde, les signaux, les licences et l’équipement radio"},1,{"$f":"COUNTIF(Horaire!W:X,$C126)+COUNTIF(POC!W:Y,$C126)+COUNTIF(Horaire!W:X,SUBSTITUTE($C126,\".\",\",\"))+COUNTIF(POC!W:Y,SUBSTITUTE($C126,\".\",\",\"))","v":0},{"$f":"COUNTIF(Horaire!X:Y,$C126)+COUNTIF(POC!X:Z,$C126)+COUNTIF(Horaire!X:Y,SUBSTITUTE($C126,\".\",\",\"))+COUNTIF(POC!X:Z,SUBSTITUTE($C126,\".\",\",\"))","v":0},null,null,null,null,0,0]
[null,null,"C429.04",{"$f":"VLOOKUP(C127,Traduction!$B$426:$E$926,'Info de l''escadron'!$A$1+1,0)","v":"Expliquer les communications de secours, d’urgence et de sécurité"},1,{"$f":"COUNTIF(Horaire!W:X,$C127)+COUNTIF(POC!W:Y,$C127)+COUNTIF(Horaire!W:X,SUBSTITUTE($C127,\".\",\",\"))+COUNTIF(POC!W:Y,SUBSTITUTE($C127,\".\",\",\"))","v":1},{"$f":"COUNTIF(Horaire!X:Y,$C127)+COUNTIF(POC!X:Z,$C127)+COUNTIF(Horaire!X:Y,SUBSTITUTE($C127,\".\",\",\"))+COUNTIF(POC!X:Z,SUBSTITUTE($C127,\".\",\",\"))","v":0},null,null,null,null,1,0]
[null,null,{"$f":"VLOOKUP(198,Traduction!$B$6:$E$250,'Info de l''escadron'!$A$1+1,0)","v":"COREN 429"},{"$f":"VLOOKUP(C128,Traduction!$B$426:$E$926,'Info de l''escadron'!$A$1+1,0)","v":"Communiquer à l’aide des procédures radio pour les transmissions destinées à l'aviation"},2,{"$f":"COUNTIF(Horaire!W:X,$C128)+COUNTIF(POC!W:Y,$C128)+COUNTIF(Horaire!W:X,SUBSTITUTE($C128,\".\",\",\"))+COUNTIF(POC!W:Y,SUBSTITUTE($C128,\".\",\",\"))","v":0},{"$f":"COUNTIF(Horaire!X:Y,$C128)+COUNTIF(POC!X:Z,$C128)","v":0},null,null,null,null,0,0]
[null,null,{"$f":"CONCATENATE($A$2,\" \",A124,\" - \",VLOOKUP(160,Traduction!$B$6:$E$250,'Info de l''escadron'!$A$1+1,0))","v":"OREN 429 - Total des périodes d'instruction Obligatoires  "},null,0,0,0]
[null,null,{"$f":"CONCATENATE($A$2,\" \",A124,\" - \",VLOOKUP(161,Traduction!$B$6:$E$250,'Info de l''escadron'!$A$1+1,0))","v":"OREN 429 - Total des périodes d'instruction Complémentaires  "},null,6,{"$f":"SUM(F124:F128)","v":3},{"$f":"SUM(G124:G128)","v":0}]
[431,{"$f":"VLOOKUP(A131,Traduction!$B$300:$E$388,'Info de l''escadron'!$A$1+1,0)","v":"Expliquer les principes de vol"},"M431.01",{"$f":"VLOOKUP(C131,Traduction!$B$426:$E$926,'Info de l''escadron'!$A$1+1,0)","v":"Expliquer les caractéristiques d’une voilure"},1,{"$f":"COUNTIF(Horaire!W:X,$C131)+COUNTIF(POC!W:Y,$C131)+COUNTIF(Horaire!W:X,SUBSTITUTE($C131,\".\",\",\"))+COUNTIF(POC!W:Y,SUBSTITUTE($C131,\".\",\",\"))","v":1},{"$f":"COUNTIF(Horaire!X:Y,$C131)+COUNTIF(POC!X:Z,$C131)+COUNTIF(Horaire!X:Y,SUBSTITUTE($C131,\".\",\",\"))+COUNTIF(POC!X:Z,SUBSTITUTE($C131,\".\",\",\"))","v":0},null,{"$f":"MIN($E131,F131)","v":1},{"$f":"MIN($E131,G131)","v":0}]
[null,null,"M431.02",{"$f":"VLOOKUP(C132,Traduction!$B$426:$E$926,'Info de l''escadron'!$A$1+1,0)","v":"Décrire les instruments de vol"},2,{"$f":"COUNTIF(Horaire!W:X,$C132)+COUNTIF(POC!W:Y,$C132)+COUNTIF(Horaire!W:X,SUBSTITUTE($C132,\".\",\",\"))+COUNTIF(POC!W:Y,SUBSTITUTE($C132,\".\",\",\"))","v":2},{"$f":"COUNTIF(Horaire!X:Y,$C132)+COUNTIF(POC!X:Z,$C132)+COUNTIF(Horaire!X:Y,SUBSTITUTE($C132,\".\",\",\"))+COUNTIF(POC!X:Z,SUBSTITUTE($C132,\".\",\",\"))","v":0},null,{"$f":"MIN($E132,F132)","v":2},{"$f":"MIN($E132,G132)","v":0}]
[null,null,"C431.01",{"$f":"VLOOKUP(C133,Traduction!$B$426:$E$926,'Info de l''escadron'!$A$1+1,0)","v":"Expliquer les caractéristiques de vol"},2,{"$f":"COUNTIF(Horaire!W:X,$C133)+COUNTIF(POC!W:Y,$C133)+COUNTIF(Horaire!W:X,SUBSTITUTE($C133,\".\",\",\"))+COUNTIF(POC!W:Y,SUBSTITUTE($C133,\".\",\",\"))","v":0},{"$f":"COUNTIF(Horaire!X:Y,$C133)+COUNTIF(POC!X:Z,$C133)+COUNTIF(Horaire!X:Y,SUBSTITUTE($C133,\".\",\",\"))+COUNTIF(POC!X:Z,SUBSTITUTE($C133,\".\",\",\"))","v":0},null,null,null,null,{"$f":"MIN($E133,F133)","v":0},0]
[null,null,"C431.02",{"$f":"VLOOKUP(C134,Traduction!$B$426:$E$926,'Info de l''escadron'!$A$1+1,0)","v":"Faire la démonstration des virages, des montées et de descentes dans un simulateur de vol"},3,{"$f":"COUNTIF(Horaire!W:X,$C134)+COUNTIF(POC!W:Y,$C134)+COUNTIF(Horaire!W:X,SUBSTITUTE($C134,\".\",\",\"))+COUNTIF(POC!W:Y,SUBSTITUTE($C134,\".\",\",\"))","v":0},{"$f":"COUNTIF(Horaire!X:Y,$C134)+COUNTIF(POC!X:Z,$C134)+COUNTIF(Horaire!X:Y,SUBSTITUTE($C134,\".\",\",\"))+COUNTIF(POC!X:Z,SUBSTITUTE($C134,\".\",\",\"))","v":0},null,null,null,null,0,0]
[null,null,"C431.03",{"$f":"VLOOKUP(C135,Traduction!$B$426:$E$926,'Info de l''escadron'!$A$1+1,0)","v":"Faire voler un aéronef radiocommandé"},3,{"$f":"COUNTIF(Horaire!W:X,$C135)+COUNTIF(POC!W:Y,$C135)+COUNTIF(Horaire!W:X,SUBSTITUTE($C135,\".\",\",\"))+COUNTIF(POC!W:Y,SUBSTITUTE($C135,\".\",\",\"))","v":0},{"$f":"COUNTIF(Horaire!X:Y,$C135)+COUNTIF(POC!X:Z,$C135)+COUNTIF(Horaire!X:Y,SUBSTITUTE($C135,\".\",\",\"))+COUNTIF(POC!X:Z,SUBSTITUTE($C135,\".\",\",\"))","v":0},null,null,null,null,0,0]
[null,null,{"$f":"CONCATENATE($A$2,\" \",A131,\" - \",VLOOKUP(160,Traduction!$B$6:$E$250,'Info de l''escadron'!$A$1+1,0))","v":"OREN 431 - Total des périodes d'instruction Obligatoires  "},null,3,{"$f":"SUM(F131:F132)","v":3},{"$f":"SUM(G131:G132)","v":0}]
[null,null,{"$f":"CONCATENATE($A$2,\" \",A131,\" - \",VLOOKUP(161,Traduction!$B$6:$E$250,'Info de l''escadron'!$A$1+1,0))","v":"OREN 431 - Total des périodes d'instruction Complémentaires  "},null,8,{"$f":"SUM(F133:F135)","v":0},{"$f":"SUM(G133:G135)","v":0}]
[432,{"$f":"VLOOKUP(A138,Traduction!$B$300:$E$388,'Info de l''escadron'!$A$1+1,0)","v":"Décrire les systèmes de moteur d’avion"},"M432.01",{"$f":"VLOOKUP(C138,Traduction!$B$426:$E$926,'Info de l''escadron'!$A$1+1,0)","v":"Décrire les circuits carburant"},1,{"$f":"COUNTIF(Horaire!W:X,$C138)+COUNTIF(POC!W:Y,$C138)+COUNTIF(Horaire!W:X,SUBSTITUTE($C138,\".\",\",\"))+COUNTIF(POC!W:Y,SUBSTITUTE($C138,\".\",\",\"))","v":1},{"$f":"COUNTIF(Horaire!X:Y,$C138)+COUNTIF(POC!X:Z,$C138)+COUNTIF(Horaire!X:Y,SUBSTITUTE($C138,\".\",\",\"))+COUNTIF(POC!X:Z,SUBSTITUTE($C138,\".\",\",\"))","v":0},null,{"$f":"MIN($E138,F138)","v":1},0]
[null,null,"M432.02",{"$f":"VLOOKUP(C139,Traduction!$B$426:$E$926,'Info de l''escadron'!$A$1+1,0)","v":"Décrire les systèmes d’hélice"},1,{"$f":"COUNTIF(Horaire!W:X,$C139)+COUNTIF(POC!W:Y,$C139)+COUNTIF(Horaire!W:X,SUBSTITUTE($C139,\".\",\",\"))+COUNTIF(POC!W:Y,SUBSTITUTE($C139,\".\",\",\"))","v":1},{"$f":"COUNTIF(Horaire!X:Y,$C139)+COUNTIF(POC!X:Z,$C139)+COUNTIF(Horaire!X:Y,SUBSTITUTE($C139,\".\",\",\"))+COUNTIF(POC!X:Z,SUBSTITUTE($C139,\".\",\",\"))","v":0},null,1,0]
[null,null,"M432.03",{"$f":"VLOOKUP(C140,Traduction!$B$426:$E$926,'Info de l''escadron'!$A$1+1,0)","v":"Décrire les instruments des moteurs"},1,{"$f":"COUNTIF(Horaire!W:X,$C140)+COUNTIF(POC!W:Y,$C140)+COUNTIF(Horaire!W:X,SUBSTITUTE($C140,\".\",\",\"))+COUNTIF(POC!W:Y,SUBSTITUTE($C140,\".\",\",\"))","v":1},{"$f":"COUNTIF(Horaire!X:Y,$C140)+COUNTIF(POC!X:Z,$C140)+COUNTIF(Horaire!X:Y,SUBSTITUTE($C140,\".\",\",\"))+COUNTIF(POC!X:Z,SUBSTITUTE($C140,\".\",\",\"))","v":0},null,1,0]
[null,null,"C432.01",{"$f":"VLOOKUP(C141,Traduction!$B$426:$E$926,'Info de l''escadron'!$A$1+1,0)","v":"Décrire le circuit d’allumage et le système électrique"},1,{"$f":"COUNTIF(Horaire!W:X,$C141)+COUNTIF(POC!W:Y,$C141)+COUNTIF(Horaire!W:X,SUBSTITUTE($C141,\".\",\",\"))+COUNTIF(POC!W:Y,SUBSTITUTE($C141,\".\",\",\"))","v":0},{"$f":"COUNTIF(Horaire!X:Y,$C141)+COUNTIF(POC!X:Z,$C141)+COUNTIF(Horaire!X:Y,SUBSTITUTE($C141,\".\",\",\"))+COUNTIF(POC!X:Z,SUBSTITUTE($C141,\".\",\",\"))","v":0},null,null,null,null,{"$f":"MIN($E141,F141)","v":0},0]
[null,null,"C432.02",{"$f":"VLOOKUP(C142,Traduction!$B$426:$E$926,'Info de l''escadron'!$A$1+1,0)","v":"Décrire les systèmes de suralimentation par turbocompresseur et par suppresseur"},1,{"$f":"COUNTIF(Horaire!W:X,$C142)+COUNTIF(POC!W:Y,$C142)+COUNTIF(Horaire!W:X,SUBSTITUTE($C142,\".\",\",\"))+COUNTIF(POC!W:Y,SUBSTITUTE($C142,\".\",\",\"))","v":0},{"$f":"COUNTIF(Horaire!X:Y,$C142)+COUNTIF(POC!X:Z,$C142)+COUNTIF(Horaire!X:Y,SUBSTITUTE($C142,\".\",\",\"))+COUNTIF(POC!X:Z,SUBSTITUTE($C142,\".\",\",\"))","v":0},null,null,null,null,0,0]
[null,null,"C432.03",{"$f":"VLOOKUP(C143,Traduction!$B$426:$E$926,'Info de l''escadron'!$A$1+1,0)","v":"Décrire les turbines à gaz"},1,{"$f":"COUNTIF(Horaire!W:X,$C143)+COUNTIF(POC!W:Y,$C143)+COUNTIF(Horaire!W:X,SUBSTITUTE($C143,\".\",\",\"))+COUNTIF(POC!W:Y,SUBSTITUTE($C143,\".\",\",\"))","v":0},{"$f":"COUNTIF(Horaire!X:Y,$C143)+COUNTIF(POC!X:Z,$C143)+COUNTIF(Horaire!X:Y,SUBSTITUTE($C143,\".\",\",\"))+COUNTIF(POC!X:Z,SUBSTITUTE($C143,\".\",\",\"))","v":0},null,null,null,null,0,0]
[null,null,{"$f":"CONCATENATE($A$2,\" \",A138,\" - \",VLOOKUP(160,Traduction!$B$6:$E$250,'Info de l''escadron'!$A$1+1,0))","v":"OREN 432 - Total des périodes d'instruction Obligatoires  "},null,3,{"$f":"SUM(F138:F140)","v":3},{"$f":"SUM(G138:G140)","v":0}]
[null,null,{"$f":"CONCATENATE($A$2,\" \",A138,\" - \",VLOOKUP(161,Traduction!$B$6:$E$250,'Info de l''escadron'!$A$1+1,0))","v":"OREN 432 - Total des périodes d'instruction Complémentaires  "},null,3,{"$f":"SUM(F141:F143)","v":0},{"$f":"SUM(G141:G143)","v":0}]
[436,{"$f":"VLOOKUP(A146,Traduction!$B$300:$E$388,'Info de l''escadron'!$A$1+1,0)","v":"Expliquer les aspects de météorologie"},"M436.01",{"$f":"VLOOKUP(C146,Traduction!$B$426:$E$926,'Info de l''escadron'!$A$1+1,0)","v":"Expliquer les vents"},1,{"$f":"COUNTIF(Horaire!W:X,$C146)+COUNTIF(POC!W:Y,$C146)+COUNTIF(Horaire!W:X,SUBSTITUTE($C146,\".\",\",\"))+COUNTIF(POC!W:Y,SUBSTITUTE($C146,\".\",\",\"))","v":1},{"$f":"COUNTIF(Horaire!X:Y,$C146)+COUNTIF(POC!X:Z,$C146)+COUNTIF(Horaire!X:Y,SUBSTITUTE($C146,\".\",\",\"))+COUNTIF(POC!X:Z,SUBSTITUTE($C146,\".\",\",\"))","v":0},null,{"$f":"MIN($E146,F146)","v":1},{"$f":"MIN($E146,G146)","v":0}]
[null,null,"M436.02",{"$f":"VLOOKUP(C147,Traduction!$B$426:$E$926,'Info de l''escadron'!$A$1+1,0)","v":"Décrire les masses et les fronts d’air"},3,{"$f":"COUNTIF(Horaire!W:X,$C147)+COUNTIF(POC!W:Y,$C147)+COUNTIF(Horaire!W:X,SUBSTITUTE($C147,\".\",\",\"))+COUNTIF(POC!W:Y,SUBSTITUTE($C147,\".\",\",\"))","v":3},{"$f":"COUNTIF(Horaire!X:Y,$C147)+COUNTIF(POC!X:Z,$C147)+COUNTIF(Horaire!X:Y,SUBSTITUTE($C147,\".\",\",\"))+COUNTIF(POC!X:Z,SUBSTITUTE($C147,\".\",\",\"))","v":0},null,{"$f":"MIN($E147,F147)","v":3},{"$f":"MIN($E147,G147)","v":0}]
[null,null,"C436.01",{"$f":"VLOOKUP(C148,Traduction!$B$426:$E$926,'Info de l''escadron'!$A$1+1,0)","v":"Expliquer le brouillard"},1,{"$f":"COUNTIF(Horaire!W:X,$C148)+COUNTIF(POC!W:Y,$C148)+COUNTIF(Horaire!W:X,SUBSTITUTE($C148,\".\",\",\"))+COUNTIF(POC!W:Y,SUBSTITUTE($C148,\".\",\",\"))","v":0},{"$f":"COUNTIF(Horaire!X:Y,$C148)+COUNTIF(POC!X:Z,$C148)+COUNTIF(Horaire!X:Y,SUBSTITUTE($C148,\".\",\",\"))+COUNTIF(POC!X:Z,SUBSTITUTE($C148,\".\",\",\"))","v":0},null,null,null,null,{"$f":"MIN($E148,F148)","v":0},0]
[null,null,"C436.02",{"$f":"VLOOKUP(C149,Traduction!$B$426:$E$926,'Info de l''escadron'!$A$1+1,0)","v":"Décrire les conditions météorologiques violentes"},1,{"$f":"COUNTIF(Horaire!W:X,$C149)+COUNTIF(POC!W:Y,$C149)+COUNTIF(Horaire!W:X,SUBSTITUTE($C149,\".\",\",\"))+COUNTIF(POC!W:Y,SUBSTITUTE($C149,\".\",\",\"))","v":0},{"$f":"COUNTIF(Horaire!X:Y,$C149)+COUNTIF(POC!X:Z,$C149)+COUNTIF(Horaire!X:Y,SUBSTITUTE($C149,\".\",\",\"))+COUNTIF(POC!X:Z,SUBSTITUTE($C149,\".\",\",\"))","v":0},null,null,null,null,0,0]
[null,null,"C436.03",{"$f":"VLOOKUP(C150,Traduction!$B$426:$E$926,'Info de l''escadron'!$A$1+1,0)","v":"Analyser les renseignements météorologiques"},3,{"$f":"COUNTIF(Horaire!W:X,$C150)+COUNTIF(POC!W:Y,$C150)+COUNTIF(Horaire!W:X,SUBSTITUTE($C150,\".\",\",\"))+COUNTIF(POC!W:Y,SUBSTITUTE($C150,\".\",\",\"))","v":0},{"$f":"COUNTIF(Horaire!X:Y,$C150)+COUNTIF(POC!X:Z,$C150)+COUNTIF(Horaire!X:Y,SUBSTITUTE($C150,\".\",\",\"))+COUNTIF(POC!X:Z,SUBSTITUTE($C150,\".\",\",\"))","v":0},null,null,null,null,0,0]
[null,null,{"$f":"CONCATENATE($A$2,\" \",A146,\" - \",VLOOKUP(160,Traduction!$B$6:$E$250,'Info de l''escadron'!$A$1+1,0))","v":"OREN 436 - Total des périodes d'instruction Obligatoires  "},null,4,{"$f":"SUM(F146:F147)","v":4},{"$f":"SUM(G146:G147)","v":0}]
[null,null,{"$f":"CONCATENATE($A$2,\" \",A146,\" - \",VLOOKUP(161,Traduction!$B$6:$E$250,'Info de l''escadron'!$A$1+1,0))","v":"OREN 436 - Total des périodes d'instruction Complémentaires  "},null,5,{"$f":"SUM(F148:F150)","v":0},{"$f":"SUM(G148:G150)","v":0}]
[437,{"$f":"VLOOKUP(A153,Traduction!$B$300:$E$388,'Info de l''escadron'!$A$1+1,0)","v":"Expliquer les aspects de la navigation aérienne"},"M437.01",{"$f":"VLOOKUP(C153,Traduction!$B$426:$E$926,'Info de l''escadron'!$A$1+1,0)","v":"Définir les termes de navigation aérienne"},2,{"$f":"COUNTIF(Horaire!W:X,$C153)+COUNTIF(POC!W:Y,$C153)+COUNTIF(Horaire!W:X,SUBSTITUTE($C153,\".\",\",\"))+COUNTIF(POC!W:Y,SUBSTITUTE($C153,\".\",\",\"))","v":2},{"$f":"COUNTIF(Horaire!X:Y,$C153)+COUNTIF(POC!X:Z,$C153)+COUNTIF(Horaire!X:Y,SUBSTITUTE($C153,\".\",\",\"))+COUNTIF(POC!X:Z,SUBSTITUTE($C153,\".\",\",\"))","v":0},null,{"$f":"MIN($E153,F153)","v":2},{"$f":"MIN($E153,G153)","v":0}]
[null,null,"M437.02",{"$f":"VLOOKUP(C154,Traduction!$B$426:$E$926,'Info de l''escadron'!$A$1+1,0)","v":"Décrire le compas magnétique"},1,{"$f":"COUNTIF(Horaire!W:X,$C154)+COUNTIF(POC!W:Y,$C154)+COUNTIF(Horaire!W:X,SUBSTITUTE($C154,\".\",\",\"))+COUNTIF(POC!W:Y,SUBSTITUTE($C154,\".\",\",\"))","v":1},{"$f":"COUNTIF(Horaire!X:Y,$C154)+COUNTIF(POC!X:Z,$C154)+COUNTIF(Horaire!X:Y,SUBSTITUTE($C154,\".\",\",\"))+COUNTIF(POC!X:Z,SUBSTITUTE($C154,\".\",\",\"))","v":0},null,{"$f":"MIN($E154,F154)","v":1},{"$f":"MIN($E154,G154)","v":0}]
[null,null,{"$f":"VLOOKUP(199,Traduction!$B$6:$E$250,'Info de l''escadron'!$A$1+1,0)","v":"COREN 431/432/436/437"},{"$f":"VLOOKUP(C155,Traduction!$B$426:$E$926,'Info de l''escadron'!$A$1+1,0)","v":"Sujets sur l’aviation - Évaluation combinée"},1,1,{"$f":"COUNTIF(Horaire!X:Y,$C155)+COUNTIF(POC!X:Z,$C155)","v":0},null,null,null,null,{"$f":"MIN($E155,F155)","v":1},0]
[null,null,"C437.01",{"$f":"VLOOKUP(C156,Traduction!$B$426:$E$926,'Info de l''escadron'!$A$1+1,0)","v":"Résoudre des problèmes de navigation à l’aide d’un calculateur de vol manuel"},2,{"$f":"COUNTIF(Horaire!W:X,$C156)+COUNTIF(POC!W:Y,$C156)+COUNTIF(Horaire!W:X,SUBSTITUTE($C156,\".\",\",\"))+COUNTIF(POC!W:Y,SUBSTITUTE($C156,\".\",\",\"))","v":0},{"$f":"COUNTIF(Horaire!X:Y,$C156)+COUNTIF(POC!X:Z,$C156)+COUNTIF(Horaire!X:Y,SUBSTITUTE($C156,\".\",\",\"))+COUNTIF(POC!X:Z,SUBSTITUTE($C156,\".\",\",\"))","v":0},null,null,null,null,0,0]
[null,null,"C437.02",{"$f":"VLOOKUP(C157,Traduction!$B$426:$E$926,'Info de l''escadron'!$A$1+1,0)","v":"Utiliser une carte aéronautique de navigation VFR [règles de vol à vue] (VNC)"},2,{"$f":"COUNTIF(Horaire!W:X,$C157)+COUNTIF(POC!W:Y,$C157)+COUNTIF(Horaire!W:X,SUBSTITUTE($C157,\".\",\",\"))+COUNTIF(POC!W:Y,SUBSTITUTE($C157,\".\",\",\"))","v":0},{"$f":"COUNTIF(Horaire!X:Y,$C157)+COUNTIF(POC!X:Z,$C157)+COUNTIF(Horaire!X:Y,SUBSTITUTE($C157,\".\",\",\"))+COUNTIF(POC!X:Z,SUBSTITUTE($C157,\".\",\",\"))","v":0},null,null,null,null,0,0]
[null,null,{"$f":"CONCATENATE($A$2,\" \",A153,\" - \",VLOOKUP(160,Traduction!$B$6:$E$250,'Info de l''escadron'!$A$1+1,0))","v":"OREN 437 - Total des périodes d'instruction Obligatoires  "},null,4,{"$f":"SUM(F153:F155)","v":4},{"$f":"SUM(G153:G154)","v":0}]
[null,null,{"$f":"CONCATENATE($A$2,\" \",A153,\" - \",VLOOKUP(161,Traduction!$B$6:$E$250,'Info de l''escadron'!$A$1+1,0))","v":"OREN 437 - Total des périodes d'instruction Complémentaires  "},null,4,{"$f":"SUM(F156:F157)","v":0},{"$f":"SUM(G155:G157)","v":0}]
[440,{"$f":"VLOOKUP(A160,Traduction!$B$300:$E$388,'Info de l''escadron'!$A$1+1,0)","v":"Discuter des structures aérospatiales"},"M440.01",{"$f":"VLOOKUP(C160,Traduction!$B$426:$E$926,'Info de l''escadron'!$A$1+1,0)","v":"Identifier les matériaux aérospatiaux"},1,{"$f":"COUNTIF(Horaire!W:X,$C160)+COUNTIF(POC!W:Y,$C160)+COUNTIF(Horaire!W:X,SUBSTITUTE($C160,\".\",\",\"))+COUNTIF(POC!W:Y,SUBSTITUTE($C160,\".\",\",\"))","v":0},{"$f":"COUNTIF(Horaire!X:Y,$C160)+COUNTIF(POC!X:Z,$C160)+COUNTIF(Horaire!X:Y,SUBSTITUTE($C160,\".\",\",\"))+COUNTIF(POC!X:Z,SUBSTITUTE($C160,\".\",\",\"))","v":0},null,{"$f":"MIN($E160,F160)","v":0},{"$f":"MIN($E160,G160)","v":0}]
[null,null,"M440.02",{"$f":"VLOOKUP(C161,Traduction!$B$426:$E$926,'Info de l''escadron'!$A$1+1,0)","v":"Décrire les satellites canadiens"},1,{"$f":"COUNTIF(Horaire!W:X,$C161)+COUNTIF(POC!W:Y,$C161)+COUNTIF(Horaire!W:X,SUBSTITUTE($C161,\".\",\",\"))+COUNTIF(POC!W:Y,SUBSTITUTE($C161,\".\",\",\"))","v":2},{"$f":"COUNTIF(Horaire!X:Y,$C161)+COUNTIF(POC!X:Z,$C161)+COUNTIF(Horaire!X:Y,SUBSTITUTE($C161,\".\",\",\"))+COUNTIF(POC!X:Z,SUBSTITUTE($C161,\".\",\",\"))","v":0},null,{"$f":"MIN($E161,F161)","v":1},{"$f":"MIN($E161,G161)","v":0}]
[null,null,"C440.01",{"$f":"VLOOKUP(C162,Traduction!$B$426:$E$926,'Info de l''escadron'!$A$1+1,0)","v":"Décrire les modèles réduits de fusées"},2,{"$f":"COUNTIF(Horaire!W:X,$C162)+COUNTIF(POC!W:Y,$C162)+COUNTIF(Horaire!W:X,SUBSTITUTE($C162,\".\",\",\"))+COUNTIF(POC!W:Y,SUBSTITUTE($C162,\".\",\",\"))","v":0},{"$f":"COUNTIF(Horaire!X:Y,$C162)+COUNTIF(POC!X:Z,$C162)+COUNTIF(Horaire!X:Y,SUBSTITUTE($C162,\".\",\",\"))+COUNTIF(POC!X:Z,SUBSTITUTE($C162,\".\",\",\"))","v":0},null,null,null,null,{"$f":"MIN($E162,F162)","v":0},{"$f":"MIN($E162,G162)","v":0}]
[null,null,"C440.02",{"$f":"VLOOKUP(C163,Traduction!$B$426:$E$926,'Info de l''escadron'!$A$1+1,0)","v":"Lancer un petit modèle réduit de fusée"},3,{"$f":"COUNTIF(Horaire!W:X,$C163)+COUNTIF(POC!W:Y,$C163)+COUNTIF(Horaire!W:X,SUBSTITUTE($C163,\".\",\",\"))+COUNTIF(POC!W:Y,SUBSTITUTE($C163,\".\",\",\"))","v":0},{"$f":"COUNTIF(Horaire!X:Y,$C163)+COUNTIF(POC!X:Z,$C163)+COUNTIF(Horaire!X:Y,SUBSTITUTE($C163,\".\",\",\"))+COUNTIF(POC!X:Z,SUBSTITUTE($C163,\".\",\",\"))","v":0},null,null,null,null,0,0]
[null,null,"C440.03",{"$f":"VLOOKUP(C164,Traduction!$B$426:$E$926,'Info de l''escadron'!$A$1+1,0)","v":"Discuter des caractéristiques des planètes du système solaire"},2,{"$f":"COUNTIF(Horaire!W:X,$C164)+COUNTIF(POC!W:Y,$C164)+COUNTIF(Horaire!W:X,SUBSTITUTE($C164,\".\",\",\"))+COUNTIF(POC!W:Y,SUBSTITUTE($C164,\".\",\",\"))","v":0},{"$f":"COUNTIF(Horaire!X:Y,$C164)+COUNTIF(POC!X:Z,$C164)+COUNTIF(Horaire!X:Y,SUBSTITUTE($C164,\".\",\",\"))+COUNTIF(POC!X:Z,SUBSTITUTE($C164,\".\",\",\"))","v":0},null,null,null,null,0,0]
[null,null,"C440.04",{"$f":"VLOOKUP(C165,Traduction!$B$426:$E$926,'Info de l''escadron'!$A$1+1,0)","v":"Appliquer la science des matériaux de longerons"},3,{"$f":"COUNTIF(Horaire!W:X,$C165)+COUNTIF(POC!W:Y,$C165)+COUNTIF(Horaire!W:X,SUBSTITUTE($C165,\".\",\",\"))+COUNTIF(POC!W:Y,SUBSTITUTE($C165,\".\",\",\"))","v":0},{"$f":"COUNTIF(Horaire!X:Y,$C165)+COUNTIF(POC!X:Z,$C165)+COUNTIF(Horaire!X:Y,SUBSTITUTE($C165,\".\",\",\"))+COUNTIF(POC!X:Z,SUBSTITUTE($C165,\".\",\",\"))","v":0},null,null,null,null,0,0]
[null,null,"C440.05",{"$f":"VLOOKUP(C166,Traduction!$B$426:$E$926,'Info de l''escadron'!$A$1+1,0)","v":"Décrire la robotique"},1,{"$f":"COUNTIF(Horaire!W:X,$C166)+COUNTIF(POC!W:Y,$C166)+COUNTIF(Horaire!W:X,SUBSTITUTE($C166,\".\",\",\"))+COUNTIF(POC!W:Y,SUBSTITUTE($C166,\".\",\",\"))","v":0},{"$f":"COUNTIF(Horaire!X:Y,$C166)+COUNTIF(POC!X:Z,$C166)+COUNTIF(Horaire!X:Y,SUBSTITUTE($C166,\".\",\",\"))+COUNTIF(POC!X:Z,SUBSTITUTE($C166,\".\",\",\"))","v":0},null,null,null,null,0,0]
[null,null,"C440.06",{"$f":"VLOOKUP(C167,Traduction!$B$426:$E$926,'Info de l''escadron'!$A$1+1,0)","v":"Utiliser des cartes du ciel"},2,{"$f":"COUNTIF(Horaire!W:X,$C167)+COUNTIF(POC!W:Y,$C167)+COUNTIF(Horaire!W:X,SUBSTITUTE($C167,\".\",\",\"))+COUNTIF(POC!W:Y,SUBSTITUTE($C167,\".\",\",\"))","v":0},{"$f":"COUNTIF(Horaire!X:Y,$C167)+COUNTIF(POC!X:Z,$C167)+COUNTIF(Horaire!X:Y,SUBSTITUTE($C167,\".\",\",\"))+COUNTIF(POC!X:Z,SUBSTITUTE($C167,\".\",\",\"))","v":0},null,null,null,null,0,0]
[null,null,"C440.07",{"$f":"VLOOKUP(C168,Traduction!$B$426:$E$926,'Info de l''escadron'!$A$1+1,0)","v":"Utiliser un télescope"},2,{"$f":"COUNTIF(Horaire!W:X,$C168)+COUNTIF(POC!W:Y,$C168)+COUNTIF(Horaire!W:X,SUBSTITUTE($C168,\".\",\",\"))+COUNTIF(POC!W:Y,SUBSTITUTE($C168,\".\",\",\"))","v":0},{"$f":"COUNTIF(Horaire!X:Y,$C168)+COUNTIF(POC!X:Z,$C168)+COUNTIF(Horaire!X:Y,SUBSTITUTE($C168,\".\",\",\"))+COUNTIF(POC!X:Z,SUBSTITUTE($C168,\".\",\",\"))","v":0},null,null,null,null,0,0]
[null,null,"C440.08",{"$f":"VLOOKUP(C169,Traduction!$B$426:$E$926,'Info de l''escadron'!$A$1+1,0)","v":"Regarder la vidéo intitulée BLAST! (Balloon-Borne Large Aperture Sub-Millimetre Telescope)"},3,{"$f":"COUNTIF(Horaire!W:X,$C169)+COUNTIF(POC!W:Y,$C169)+COUNTIF(Horaire!W:X,SUBSTITUTE($C169,\".\",\",\"))+COUNTIF(POC!W:Y,SUBSTITUTE($C169,\".\",\",\"))","v":0},{"$f":"COUNTIF(Horaire!X:Y,$C169)+COUNTIF(POC!X:Z,$C169)+COUNTIF(Horaire!X:Y,SUBSTITUTE($C169,\".\",\",\"))+COUNTIF(POC!X:Z,SUBSTITUTE($C169,\".\",\",\"))","v":0},null,null,null,null,0,0]
[null,null,"C440.09",{"$f":"VLOOKUP(C170,Traduction!$B$426:$E$926,'Info de l''escadron'!$A$1+1,0)","v":"Décrire le lien entre la gravité et l’espace-temps"},2,{"$f":"COUNTIF(Horaire!W:X,$C170)+COUNTIF(POC!W:Y,$C170)+COUNTIF(Horaire!W:X,SUBSTITUTE($C170,\".\",\",\"))+COUNTIF(POC!W:Y,SUBSTITUTE($C170,\".\",\",\"))","v":0},{"$f":"COUNTIF(Horaire!X:Y,$C170)+COUNTIF(POC!X:Z,$C170)+COUNTIF(Horaire!X:Y,SUBSTITUTE($C170,\".\",\",\"))+COUNTIF(POC!X:Z,SUBSTITUTE($C170,\".\",\",\"))","v":0},null,null,null,null,0,0]
[null,null,"C440.10",{"$f":"VLOOKUP(C171,Traduction!$B$426:$E$926,'Info de l''escadron'!$A$1+1,0)","v":"Discuter de l’énergie cinétique et de l’énergie potentielle"},1,{"$f":"COUNTIF(Horaire!W:X,$C171)+COUNTIF(POC!W:Y,$C171)+COUNTIF(Horaire!W:X,SUBSTITUTE($C171,\".\",\",\"))+COUNTIF(POC!W:Y,SUBSTITUTE($C171,\".\",\",\"))","v":0},{"$f":"COUNTIF(Horaire!X:Y,$C171)+COUNTIF(POC!X:Z,$C171)+COUNTIF(Horaire!X:Y,SUBSTITUTE($C171,\".\",\",\"))+COUNTIF(POC!X:Z,SUBSTITUTE($C171,\".\",\",\"))","v":0},null,null,null,null,0,0]
[null,null,"C440.11",{"$f":"VLOOKUP(C172,Traduction!$B$426:$E$926,'Info de l''escadron'!$A$1+1,0)","v":"Regarder la vidéo intitulée Einstein’s Big Idea"},5,{"$f":"COUNTIF(Horaire!W:X,$C172)+COUNTIF(POC!W:Y,$C172)+COUNTIF(Horaire!W:X,SUBSTITUTE($C172,\".\",\",\"))+COUNTIF(POC!W:Y,SUBSTITUTE($C172,\".\",\",\"))","v":0},{"$f":"COUNTIF(Horaire!X:Y,$C172)+COUNTIF(POC!X:Z,$C172)+COUNTIF(Horaire!X:Y,SUBSTITUTE($C172,\".\",\",\"))+COUNTIF(POC!X:Z,SUBSTITUTE($C172,\".\",\",\"))","v":0},null,null,null,null,0,0]
[null,null,{"$f":"CONCATENATE($A$2,\" \",A160,\" - \",VLOOKUP(160,Traduction!$B$6:$E$250,'Info de l''escadron'!$A$1+1,0))","v":"OREN 440 - Total des périodes d'instruction Obligatoires  "},null,2,{"$f":"SUM(F160:F161)","v":2},{"$f":"SUM(G160:G161)","v":0}]
[null,null,{"$f":"CONCATENATE($A$2,\" \",A160,\" - \",VLOOKUP(161,Traduction!$B$6:$E$250,'Info de l''escadron'!$A$1+1,0))","v":"OREN 440 - Total des périodes d'instruction Complémentaires  "},null,26,{"$f":"SUM(F162:F172)","v":0},{"$f":"SUM(G162:G172)","v":0}]
[460,{"$f":"VLOOKUP(A175,Traduction!$B$300:$E$388,'Info de l''escadron'!$A$1+1,0)","v":"Décrire les possibilités de carrière liées aux opérations d'aérodrome"},"C460.01",{"$f":"VLOOKUP(C175,Traduction!$B$426:$E$926,'Info de l''escadron'!$A$1+1,0)","v":"Décrire les occasions de carrière en opération d’aérodrome"},1,{"$f":"COUNTIF(Horaire!W:X,$C175)+COUNTIF(POC!W:Y,$C175)+COUNTIF(Horaire!W:X,SUBSTITUTE($C175,\".\",\",\"))+COUNTIF(POC!W:Y,SUBSTITUTE($C175,\".\",\",\"))","v":0},{"$f":"COUNTIF(Horaire!X:Y,$C175)+COUNTIF(POC!X:Z,$C175)+COUNTIF(Horaire!X:Y,SUBSTITUTE($C175,\".\",\",\"))+COUNTIF(POC!X:Z,SUBSTITUTE($C175,\".\",\",\"))","v":0},null,null,null,null,{"$f":"MIN($E175,F175)","v":0},0]
[null,null,"C460.02",{"$f":"VLOOKUP(C176,Traduction!$B$426:$E$926,'Info de l''escadron'!$A$1+1,0)","v":"Décrire les occasions de carrière en contrôle de la circulation aérienne (ATC)"},1,{"$f":"COUNTIF(Horaire!W:X,$C176)+COUNTIF(POC!W:Y,$C176)+COUNTIF(Horaire!W:X,SUBSTITUTE($C176,\".\",\",\"))+COUNTIF(POC!W:Y,SUBSTITUTE($C176,\".\",\",\"))","v":0},{"$f":"COUNTIF(Horaire!X:Y,$C176)+COUNTIF(POC!X:Z,$C176)+COUNTIF(Horaire!X:Y,SUBSTITUTE($C176,\".\",\",\"))+COUNTIF(POC!X:Z,SUBSTITUTE($C176,\".\",\",\"))","v":0},null,null,null,null,0,0]
[null,null,"C460.03",{"$f":"VLOOKUP(C177,Traduction!$B$426:$E$926,'Info de l''escadron'!$A$1+1,0)","v":"Décrire les occasions de carrière en sécurité des aéroports"},1,{"$f":"COUNTIF(Horaire!W:X,$C177)+COUNTIF(POC!W:Y,$C177)+COUNTIF(Horaire!W:X,SUBSTITUTE($C177,\".\",\",\"))+COUNTIF(POC!W:Y,SUBSTITUTE($C177,\".\",\",\"))","v":0},{"$f":"COUNTIF(Horaire!X:Y,$C177)+COUNTIF(POC!X:Z,$C177)+COUNTIF(Horaire!X:Y,SUBSTITUTE($C177,\".\",\",\"))+COUNTIF(POC!X:Z,SUBSTITUTE($C177,\".\",\",\"))","v":0},null,null,null,null,0,0]
[null,null,{"$f":"CONCATENATE($A$2,\" \",A175,\" - \",VLOOKUP(160,Traduction!$B$6:$E$250,'Info de l''escadron'!$A$1+1,0))","v":"OREN 460 - Total des périodes d'instruction Obligatoires  "},null,0,0,0]
[null,null,{"$f":"CONCATENATE($A$2,\" \",A175,\" - \",VLOOKUP(161,Traduction!$B$6:$E$250,'Info de l''escadron'!$A$1+1,0))","v":"OREN 460 - Total des périodes d'instruction Complémentaires  "},null,3,{"$f":"SUM(F175:F177)","v":0},{"$f":"SUM(G175:G177)","v":0}]
[470,{"$f":"VLOOKUP(A180,Traduction!$B$300:$E$388,'Info de l''escadron'!$A$1+1,0)","v":"Discuter des aspects de la construction et de la maintenance des aéronefs"},"C470.01",{"$f":"VLOOKUP(C180,Traduction!$B$426:$E$926,'Info de l''escadron'!$A$1+1,0)","v":"Discuter des avionneurs"},1,{"$f":"COUNTIF(Horaire!W:X,$C180)+COUNTIF(POC!W:Y,$C180)+COUNTIF(Horaire!W:X,SUBSTITUTE($C180,\".\",\",\"))+COUNTIF(POC!W:Y,SUBSTITUTE($C180,\".\",\",\"))","v":0},{"$f":"COUNTIF(Horaire!X:Y,$C180)+COUNTIF(POC!X:Z,$C180)+COUNTIF(Horaire!X:Y,SUBSTITUTE($C180,\".\",\",\"))+COUNTIF(POC!X:Z,SUBSTITUTE($C180,\".\",\",\"))","v":0},null,null,null,null,{"$f":"MIN($E180,F180)","v":0},0]
[null,null,"C470.02",{"$f":"VLOOKUP(C181,Traduction!$B$426:$E$926,'Info de l''escadron'!$A$1+1,0)","v":"Discuter de l'assemblage d'un aéronef"},1,{"$f":"COUNTIF(Horaire!W:X,$C181)+COUNTIF(POC!W:Y,$C181)+COUNTIF(Horaire!W:X,SUBSTITUTE($C181,\".\",\",\"))+COUNTIF(POC!W:Y,SUBSTITUTE($C181,\".\",\",\"))","v":0},{"$f":"COUNTIF(Horaire!X:Y,$C181)+COUNTIF(POC!X:Z,$C181)+COUNTIF(Horaire!X:Y,SUBSTITUTE($C181,\".\",\",\"))+COUNTIF(POC!X:Z,SUBSTITUTE($C181,\".\",\",\"))","v":0},null,null,null,null,0,0]
[null,null,"C470.03",{"$f":"VLOOKUP(C182,Traduction!$B$426:$E$926,'Info de l''escadron'!$A$1+1,0)","v":"Identifier la quincaillerie aéronautique"},1,{"$f":"COUNTIF(Horaire!W:X,$C182)+COUNTIF(POC!W:Y,$C182)+COUNTIF(Horaire!W:X,SUBSTITUTE($C182,\".\",\",\"))+COUNTIF(POC!W:Y,SUBSTITUTE($C182,\".\",\",\"))","v":0},{"$f":"COUNTIF(Horaire!X:Y,$C182)+COUNTIF(POC!X:Z,$C182)+COUNTIF(Horaire!X:Y,SUBSTITUTE($C182,\".\",\",\"))+COUNTIF(POC!X:Z,SUBSTITUTE($C182,\".\",\",\"))","v":0},null,null,null,null,0,0]
[null,null,"C470.04",{"$f":"VLOOKUP(C183,Traduction!$B$426:$E$926,'Info de l''escadron'!$A$1+1,0)","v":"Démonter et remonter un petit moteur"},3,{"$f":"COUNTIF(Horaire!W:X,$C183)+COUNTIF(POC!W:Y,$C183)+COUNTIF(Horaire!W:X,SUBSTITUTE($C183,\".\",\",\"))+COUNTIF(POC!W:Y,SUBSTITUTE($C183,\".\",\",\"))","v":0},{"$f":"COUNTIF(Horaire!X:Y,$C183)+COUNTIF(POC!X:Z,$C183)+COUNTIF(Horaire!X:Y,SUBSTITUTE($C183,\".\",\",\"))+COUNTIF(POC!X:Z,SUBSTITUTE($C183,\".\",\",\"))","v":0},null,null,null,null,0,0]
[null,null,{"$f":"CONCATENATE($A$2,\" \",A180,\" - \",VLOOKUP(160,Traduction!$B$6:$E$250,'Info de l''escadron'!$A$1+1,0))","v":"OREN 470 - Total des périodes d'instruction Obligatoires  "},null,0,0,0]
[null,null,{"$f":"CONCATENATE($A$2,\" \",A180,\" - \",VLOOKUP(161,Traduction!$B$6:$E$250,'Info de l''escadron'!$A$1+1,0))","v":"OREN 470 - Total des périodes d'instruction Complémentaires  "},null,6,{"$f":"SUM(F180:F183)","v":0},{"$f":"SUM(G180:G183)","v":0}]
[490,{"$f":"VLOOKUP(A186,Traduction!$B$300:$E$388,'Info de l''escadron'!$A$1+1,0)","v":"Participer à un exercice de survie pour équipage de vol"},"M490.01",{"$f":"VLOOKUP(C186,Traduction!$B$426:$E$926,'Info de l''escadron'!$A$1+1,0)","v":"Assembler une trousse de survie d'urgence"},1,{"$f":"COUNTIF(Horaire!W:X,$C186)+COUNTIF(POC!W:Y,$C186)+COUNTIF(Horaire!W:X,SUBSTITUTE($C186,\".\",\",\"))+COUNTIF(POC!W:Y,SUBSTITUTE($C186,\".\",\",\"))","v":1},{"$f":"COUNTIF(Horaire!X:Y,$C186)+COUNTIF(POC!X:Z,$C186)+COUNTIF(Horaire!X:Y,SUBSTITUTE($C186,\".\",\",\"))+COUNTIF(POC!X:Z,SUBSTITUTE($C186,\".\",\",\"))","v":0},null,{"$f":"MIN($E186,F186)","v":1},0]
[null,null,"M490.02",{"$f":"VLOOKUP(C187,Traduction!$B$426:$E$926,'Info de l''escadron'!$A$1+1,0)","v":"Faire fonctionner un réchaud et un fanal"},3,{"$f":"COUNTIF(Horaire!W:X,$C187)+COUNTIF(POC!W:Y,$C187)+COUNTIF(Horaire!W:X,SUBSTITUTE($C187,\".\",\",\"))+COUNTIF(POC!W:Y,SUBSTITUTE($C187,\".\",\",\"))","v":3},{"$f":"COUNTIF(Horaire!X:Y,$C187)+COUNTIF(POC!X:Z,$C187)+COUNTIF(Horaire!X:Y,SUBSTITUTE($C187,\".\",\",\"))+COUNTIF(POC!X:Z,SUBSTITUTE($C187,\".\",\",\"))","v":0},null,3,0]
[null,null,"M490.03",{"$f":"VLOOKUP(C188,Traduction!$B$426:$E$926,'Info de l''escadron'!$A$1+1,0)","v":"Faire des noeuds et des brêlages"},2,{"$f":"COUNTIF(Horaire!W:X,$C188)+COUNTIF(POC!W:Y,$C188)+COUNTIF(Horaire!W:X,SUBSTITUTE($C188,\".\",\",\"))+COUNTIF(POC!W:Y,SUBSTITUTE($C188,\".\",\",\"))","v":2},{"$f":"COUNTIF(Horaire!X:Y,$C188)+COUNTIF(POC!X:Z,$C188)+COUNTIF(Horaire!X:Y,SUBSTITUTE($C188,\".\",\",\"))+COUNTIF(POC!X:Z,SUBSTITUTE($C188,\".\",\",\"))","v":0},null,2,0]
[null,null,"M490.04",{"$f":"VLOOKUP(C189,Traduction!$B$426:$E$926,'Info de l''escadron'!$A$1+1,0)","v":"Naviguer vers un point de cheminement à l’aide d’un récepteur du système mondial de positionnement (GPS)"},4,{"$f":"COUNTIF(Horaire!W:X,$C189)+COUNTIF(POC!W:Y,$C189)+COUNTIF(Horaire!W:X,SUBSTITUTE($C189,\".\",\",\"))+COUNTIF(POC!W:Y,SUBSTITUTE($C189,\".\",\",\"))","v":4},{"$f":"COUNTIF(Horaire!X:Y,$C189)+COUNTIF(POC!X:Z,$C189)+COUNTIF(Horaire!X:Y,SUBSTITUTE($C189,\".\",\",\"))+COUNTIF(POC!X:Z,SUBSTITUTE($C189,\".\",\",\"))","v":1},null,4,1]
[null,null,"M490.05",{"$f":"VLOOKUP(C190,Traduction!$B$426:$E$926,'Info de l''escadron'!$A$1+1,0)","v":"Allumer des feux grâce à un allumage improvisé"},4,{"$f":"COUNTIF(Horaire!W:X,$C190)+COUNTIF(POC!W:Y,$C190)+COUNTIF(Horaire!W:X,SUBSTITUTE($C190,\".\",\",\"))+COUNTIF(POC!W:Y,SUBSTITUTE($C190,\".\",\",\"))","v":4},{"$f":"COUNTIF(Horaire!X:Y,$C190)+COUNTIF(POC!X:Z,$C190)+COUNTIF(Horaire!X:Y,SUBSTITUTE($C190,\".\",\",\"))+COUNTIF(POC!X:Z,SUBSTITUTE($C190,\".\",\",\"))","v":3},null,4,3]
[null,null,{"$f":"VLOOKUP(200,Traduction!$B$6:$E$250,'Info de l''escadron'!$A$1+1,0)","v":"COREN 490"},{"$f":"VLOOKUP(C191,Traduction!$B$426:$E$926,'Info de l''escadron'!$A$1+1,0)","v":"Participer à un exercice de survie pour équipage de vol"},0,{"$f":"COUNTIF(Horaire!W:X,$C191)+COUNTIF(POC!W:Y,$C191)","v":0},{"$f":"COUNTIF(Horaire!X:Y,$C191)+COUNTIF(POC!X:Z,$C191)","v":0},null,null,null,null,{"$f":"MIN($E191,F191)","v":0},{"$f":"MIN($E191,G191)","v":0}]
[null,null,"C490.01",{"$f":"VLOOKUP(C192,Traduction!$B$426:$E$926,'Info de l''escadron'!$A$1+1,0)","v":"Décrire les préoccupations climatiques et saisonnières"},1,{"$f":"COUNTIF(Horaire!W:X,$C192)+COUNTIF(POC!W:Y,$C192)+COUNTIF(Horaire!W:X,SUBSTITUTE($C192,\".\",\",\"))+COUNTIF(POC!W:Y,SUBSTITUTE($C192,\".\",\",\"))","v":0},{"$f":"COUNTIF(Horaire!X:Y,$C192)+COUNTIF(POC!X:Z,$C192)+COUNTIF(Horaire!X:Y,SUBSTITUTE($C192,\".\",\",\"))+COUNTIF(POC!X:Z,SUBSTITUTE($C192,\".\",\",\"))","v":0},null,null,null,null,0,0]
[null,null,"C490.02",{"$f":"VLOOKUP(C193,Traduction!$B$426:$E$926,'Info de l''escadron'!$A$1+1,0)","v":"Improviser des outils à utiliser dans une situation de survie"},2,{"$f":"COUNTIF(Horaire!W:X,$C193)+COUNTIF(POC!W:Y,$C193)+COUNTIF(Horaire!W:X,SUBSTITUTE($C193,\".\",\",\"))+COUNTIF(POC!W:Y,SUBSTITUTE($C193,\".\",\",\"))","v":0},{"$f":"COUNTIF(Horaire!X:Y,$C193)+COUNTIF(POC!X:Z,$C193)+COUNTIF(Horaire!X:Y,SUBSTITUTE($C193,\".\",\",\"))+COUNTIF(POC!X:Z,SUBSTITUTE($C193,\".\",\",\"))","v":0},null,null,null,null,0,0]
[null,null,"C490.03",{"$f":"VLOOKUP(C194,Traduction!$B$426:$E$926,'Info de l''escadron'!$A$1+1,0)","v":"Déplacer un blessé vers un abri"},3,{"$f":"COUNTIF(Horaire!W:X,$C194)+COUNTIF(POC!W:Y,$C194)+COUNTIF(Horaire!W:X,SUBSTITUTE($C194,\".\",\",\"))+COUNTIF(POC!W:Y,SUBSTITUTE($C194,\".\",\",\"))","v":0},{"$f":"COUNTIF(Horaire!X:Y,$C194)+COUNTIF(POC!X:Z,$C194)+COUNTIF(Horaire!X:Y,SUBSTITUTE($C194,\".\",\",\"))+COUNTIF(POC!X:Z,SUBSTITUTE($C194,\".\",\",\"))","v":0},null,null,null,null,0,0]
[null,null,"C490.04",{"$f":"VLOOKUP(C195,Traduction!$B$426:$E$926,'Info de l''escadron'!$A$1+1,0)","v":"Utiliser les outils de façon sécuritaire"},3,{"$f":"COUNTIF(Horaire!W:X,$C195)+COUNTIF(POC!W:Y,$C195)+COUNTIF(Horaire!W:X,SUBSTITUTE($C195,\".\",\",\"))+COUNTIF(POC!W:Y,SUBSTITUTE($C195,\".\",\",\"))","v":0},{"$f":"COUNTIF(Horaire!X:Y,$C195)+COUNTIF(POC!X:Z,$C195)+COUNTIF(Horaire!X:Y,SUBSTITUTE($C195,\".\",\",\"))+COUNTIF(POC!X:Z,SUBSTITUTE($C195,\".\",\",\"))","v":0},null,null,null,null,0,0]
[null,null,"C490.05",{"$f":"VLOOKUP(C196,Traduction!$B$426:$E$926,'Info de l''escadron'!$A$1+1,0)","v":"Naviguer sur un itinéraire à l'aide d'une carte et d'une boussole"},4,{"$f":"COUNTIF(Horaire!W:X,$C196)+COUNTIF(POC!W:Y,$C196)+COUNTIF(Horaire!W:X,SUBSTITUTE($C196,\".\",\",\"))+COUNTIF(POC!W:Y,SUBSTITUTE($C196,\".\",\",\"))","v":0},{"$f":"COUNTIF(Horaire!X:Y,$C196)+COUNTIF(POC!X:Z,$C196)+COUNTIF(Horaire!X:Y,SUBSTITUTE($C196,\".\",\",\"))+COUNTIF(POC!X:Z,SUBSTITUTE($C196,\".\",\",\"))","v":0},null,null,null,null,0,0]
[null,null,"C490.06",{"$f":"VLOOKUP(C197,Traduction!$B$426:$E$926,'Info de l''escadron'!$A$1+1,0)","v":"Monter, démonter et emballer des tentes"},4,{"$f":"COUNTIF(Horaire!W:X,$C197)+COUNTIF(POC!W:Y,$C197)+COUNTIF(Horaire!W:X,SUBSTITUTE($C197,\".\",\",\"))+COUNTIF(POC!W:Y,SUBSTITUTE($C197,\".\",\",\"))","v":0},{"$f":"COUNTIF(Horaire!X:Y,$C197)+COUNTIF(POC!X:Z,$C197)+COUNTIF(Horaire!X:Y,SUBSTITUTE($C197,\".\",\",\"))+COUNTIF(POC!X:Z,SUBSTITUTE($C197,\".\",\",\"))","v":0},null,null,null,null,0,0]
[null,null,"C490.07",{"$f":"VLOOKUP(C198,Traduction!$B$426:$E$926,'Info de l''escadron'!$A$1+1,0)","v":"Construire un houchie ou un abri de style appentis"},3,{"$f":"COUNTIF(Horaire!W:X,$C198)+COUNTIF(POC!W:Y,$C198)+COUNTIF(Horaire!W:X,SUBSTITUTE($C198,\".\",\",\"))+COUNTIF(POC!W:Y,SUBSTITUTE($C198,\".\",\",\"))","v":0},{"$f":"COUNTIF(Horaire!X:Y,$C198)+COUNTIF(POC!X:Z,$C198)+COUNTIF(Horaire!X:Y,SUBSTITUTE($C198,\".\",\",\"))+COUNTIF(POC!X:Z,SUBSTITUTE($C198,\".\",\",\"))","v":0},null,null,null,null,0,0]
[null,null,{"$f":"CONCATENATE($A$2,\" \",A196,\" - \",VLOOKUP(160,Traduction!$B$6:$E$250,'Info de l''escadron'!$A$1+1,0))","v":"OREN  - Total des périodes d'instruction Obligatoires  "},null,14,{"$f":"SUM(F186:F191)","v":14},{"$f":"SUM(G186:G190)","v":4}]
[null,null,{"$f":"CONCATENATE($A$2,\" \",A196,\" - \",VLOOKUP(161,Traduction!$B$6:$E$250,'Info de l''escadron'!$A$1+1,0))","v":"OREN  - Total des périodes d'instruction Complémentaires  "},null,20,{"$f":"SUM(F192:F198)","v":0},{"$f":"SUM(G191:G198)","v":0}]
[null,null,{"$f":"VLOOKUP(183,Traduction!$B$6:$E$250,'Info de l''escadron'!$A$1+1,0)","v":"Revue"},{"$f":"VLOOKUP(C201,Traduction!$B$426:$E$926,'Info de l''escadron'!$A$1+1,0)","v":"Cérémonie de la revue annuelle"},3,3,{"$f":"COUNTIF(Horaire!X:Y,D201)+COUNTIF(POC!X:Z,D201)","v":0},null,{"$f":"MIN($E201,F201)","v":3},{"$f":"MIN($E201,G201)","v":0}]
[]
[null,null,null,{"$f":"VLOOKUP(172,Traduction!$B$6:$E$250,'Info de l''escadron'!$A$1+1,0)","v":"Total des périodes d'instruction Obligatoires"},{"$f":"SUM(E17,E21,E33,E44,E49,E58,E69,E82,E99,E111,E122,E129,E136,E144,E151,E158,E173,E178,E184,E201,E199,E6)","v":95},{"$f":"SUM(I8:I201)-F204","v":57},{"$f":"SUM(J8:J201)-G204","v":9}]
[null,null,null,{"$f":"VLOOKUP(201,Traduction!$B$6:$E$250,'Info de l''escadron'!$A$1+1,0)","v":"Grand total des périodes d'instruction Obligatoires en campagne"},{"$f":"SUM(E199)","v":14},{"$f":"SUM(I186:I190)","v":14},{"$f":"SUM(J186:J190)","v":4}]
[null,null,null,{"$f":"VLOOKUP(173,Traduction!$B$6:$E$250,'Info de l''escadron'!$A$1+1,0)","v":"Total des périodes d'instruction Complémentaires"},{"$f":"SUM(E18,E22,E34,E45,E50,E59,E70,E83,E100,E112,E123,E130,E137,E145,E152,E159,E174,E179,E185,E200)","v":283},{"$f":"SUM(L8:L201)","v":9},{"$f":"SUM(M8:M201)","v":0}]

{"sheet":"Niv 5","index":7,"n_rows":56,"n_cols":13,"rows_kept":56,"cut":false,"hidden":false,"merged":[[44,0,46,0],[44,1,46,1],[45,2,45,3],[46,2,46,3],[47,0,49,0],[47,1,49,1],[48,2,48,3],[49,2,49,3],[37,0,39,0],[37,1,39,1],[38,2,38,3],[39,2,39,3],[40,0,43,0],[40,1,43,1],[42,2,42,3],[43,2,43,3],[34,0,36,0],[34,1,36,1],[35,2,35,3],[36,2,36,3],[30,0,33,0],[30,1,33,1],[32,2,32,3],[33,2,33,3],[7,0,10,0],[7,1,10,1],[11,0,18,0],[11,1,18,1],[18,2,18,3],[9,2,9,3],[10,2,10,3],[17,2,17,3],[5,2,5,3],[0,0,0,5],[0,8,0,9],[0,11,0,12],[2,0,6,0],[2,1,6,1],[6,2,6,3],[19,0,23,0],[19,1,23,1],[23,2,23,3],[22,2,22,3],[24,0,29,0],[24,1,29,1],[28,2,28,3],[29,2,29,3]]}
["827 Longueuil",null,null,null,null,null,null,null,"M",null,null,"C"]
[{"$f":"VLOOKUP(26,Traduction!$B$6:$E$250,'Info de l''escadron'!$A$1+1,0)","v":"OREN"},{"$f":"VLOOKUP(156,Traduction!$B$6:$E$250,'Info de l''escadron'!$A$1+1,0)","v":"Sujet"},{"$f":"VLOOKUP(65,Traduction!$B$6:$E$250,'Info de l''escadron'!$A$1+1,0)","v":"OCOM"},{"$f":"VLOOKUP(157,Traduction!$B$6:$E$250,'Info de l''escadron'!$A$1+1,0)","v":"Énoncé de performance"},{"$f":"VLOOKUP(158,Traduction!$B$6:$E$250,'Info de l''escadron'!$A$1+1,0)","v":"Prog."},{"$f":"Horaire!#REF!","v":{"$error":"#REF!"}},{"$f":"Horaire!Z3","v":"Niveau 4B"},null,"4","4B",null,"4","4B"]
[501,"Réfléchir sur le concept de bon citoyen","C501.01","Réfléchir sur le concpet de bon citoyen canadien",3,{"$f":"COUNTIF(Horaire!W:X,$C3)+COUNTIF(POC!W:Y,$C3)+COUNTIF(Horaire!W:X,SUBSTITUTE($C3,\".\",\",\"))+COUNTIF(POC!W:Y,SUBSTITUTE($C3,\".\",\",\"))","v":0},{"$f":"COUNTIF(Horaire!X:Y,$C3)+COUNTIF(POC!X:Z,$C3)+COUNTIF(Horaire!X:Y,SUBSTITUTE($C3,\".\",\",\"))+COUNTIF(POC!X:Z,SUBSTITUTE($C3,\".\",\",\"))","v":0},null,null,null,null,{"$f":"MIN($E3,F3)","v":0},0]
[null,null,"C501.02","Réfléchir sur le concept de citoyenneté mondiale et ses effets sur chacun",3,{"$f":"COUNTIF(Horaire!W:X,$C4)+COUNTIF(POC!W:Y,$C4)+COUNTIF(Horaire!W:X,SUBSTITUTE($C4,\".\",\",\"))+COUNTIF(POC!W:Y,SUBSTITUTE($C4,\".\",\",\"))","v":0}]
[null,null,"C501.03","Analyser un problème mondial",3,{"$f":"COUNTIF(Horaire!W:X,$C5)+COUNTIF(POC!W:Y,$C5)+COUNTIF(Horaire!W:X,SUBSTITUTE($C5,\".\",\",\"))+COUNTIF(POC!W:Y,SUBSTITUTE($C5,\".\",\",\"))","v":0}]
[null,null,{"$f":"CONCATENATE($A$2,\" \",A3,\" - \",VLOOKUP(160,Traduction!$B$6:$E$250,'Info de l''escadron'!$A$1+1,0))","v":"OREN 501 - Total des périodes d'instruction Obligatoires  "},null,0,0,0]
[null,null,{"$f":"CONCATENATE($A$2,\" \",A3,\" - \",VLOOKUP(161,Traduction!$B$6:$E$250,'Info de l''escadron'!$A$1+1,0))","v":"OREN 501 - Total des périodes d'instruction Complémentaires  "},null,9,{"$f":"SUM(F3:F5)","v":0},{"$f":"SUM(G3:G5)","v":0}]
[502,{"$f":"VLOOKUP(A8,Traduction!$B$300:$E$388,'Info de l''escadron'!$A$1+1,0)","v":"Effectuer un service communautaire"},"M502.01","Effectuer 45 heures de service communautaire individuel",3,{"$f":"COUNTIF(Horaire!W:X,$C8)+COUNTIF(POC!W:Y,$C8)+COUNTIF(Horaire!W:X,SUBSTITUTE($C8,\".\",\",\"))+COUNTIF(POC!W:Y,SUBSTITUTE($C8,\".\",\",\"))","v":0},{"$f":"COUNTIF(Horaire!X:Y,$C8)+COUNTIF(POC!X:Z,$C8)+COUNTIF(Horaire!X:Y,SUBSTITUTE($C8,\".\",\",\"))+COUNTIF(POC!X:Z,SUBSTITUTE($C8,\".\",\",\"))","v":0},null,{"$f":"MIN($E8,F8)","v":0},{"$f":"MIN($E8,G8)","v":0}]
[null,null,"COREN 502",null,0,{"$f":"COUNTIF(Horaire!W:X,$C9)+COUNTIF(POC!W:Y,$C9)+COUNTIF(Horaire!W:X,SUBSTITUTE($C9,\".\",\",\"))+COUNTIF(POC!W:Y,SUBSTITUTE($C9,\".\",\",\"))","v":0},{"$f":"COUNTIF(Horaire!X:Y,$C9)+COUNTIF(POC!X:Z,$C9)+COUNTIF(Horaire!X:Y,SUBSTITUTE($C9,\".\",\",\"))+COUNTIF(POC!X:Z,SUBSTITUTE($C9,\".\",\",\"))","v":0},null,null,null,null,{"$f":"MIN($E9,F9)","v":0},{"$f":"MIN($E9,G9)","v":0}]
[null,null,{"$f":"CONCATENATE($A$2,\" \",A8,\" - \",VLOOKUP(160,Traduction!$B$6:$E$250,'Info de l''escadron'!$A$1+1,0))","v":"OREN 502 - Total des périodes d'instruction Obligatoires  "},null,3,{"$f":"F8","v":0},{"$f":"G8","v":0}]
[null,null,{"$f":"CONCATENATE($A$2,\" \",A8,\" - \",VLOOKUP(161,Traduction!$B$6:$E$250,'Info de l''escadron'!$A$1+1,0))","v":"OREN 502 - Total des périodes d'instruction Complémentaires  "},null,0,0,{"$f":"SUM(G9:G9)","v":0}]
[503,{"$f":"VLOOKUP(A12,Traduction!$B$300:$E$388,'Info de l''escadron'!$A$1+1,0)","v":"Diriger des activités de cadets"},"M503.01",{"$f":"VLOOKUP(C12,Traduction!$B$426:$E$926,'Info de l''escadron'!$A$1+1,0)","v":"Formuler une proposition"},1,{"$f":"COUNTIF(Horaire!W:X,$C12)+COUNTIF(POC!W:Y,$C12)+COUNTIF(Horaire!W:X,SUBSTITUTE($C12,\".\",\",\"))+COUNTIF(POC!W:Y,SUBSTITUTE($C12,\".\",\",\"))","v":0},{"$f":"COUNTIF(Horaire!X:Y,$C12)+COUNTIF(POC!X:Z,$C12)+COUNTIF(Horaire!X:Y,SUBSTITUTE($C12,\".\",\",\"))+COUNTIF(POC!X:Z,SUBSTITUTE($C12,\".\",\",\"))","v":0},null,{"$f":"MIN($E12,F12)","v":0},0]
[null,null,"M503.02",{"$f":"VLOOKUP(C13,Traduction!$B$426:$E$926,'Info de l''escadron'!$A$1+1,0)","v":"Préparer un exercice"},3,{"$f":"COUNTIF(Horaire!W:X,$C13)+COUNTIF(POC!W:Y,$C13)+COUNTIF(Horaire!W:X,SUBSTITUTE($C13,\".\",\",\"))+COUNTIF(POC!W:Y,SUBSTITUTE($C13,\".\",\",\"))","v":0},{"$f":"COUNTIF(Horaire!X:Y,$C13)+COUNTIF(POC!X:Z,$C13)+COUNTIF(Horaire!X:Y,SUBSTITUTE($C13,\".\",\",\"))+COUNTIF(POC!X:Z,SUBSTITUTE($C13,\".\",\",\"))","v":0},null,0,0]
[null,null,"M503.03",{"$f":"VLOOKUP(C14,Traduction!$B$426:$E$926,'Info de l''escadron'!$A$1+1,0)","v":"Diriger un exercice"},1,{"$f":"COUNTIF(Horaire!W:X,$C14)+COUNTIF(POC!W:Y,$C14)+COUNTIF(Horaire!W:X,SUBSTITUTE($C14,\".\",\",\"))+COUNTIF(POC!W:Y,SUBSTITUTE($C14,\".\",\",\"))","v":0},{"$f":"COUNTIF(Horaire!X:Y,$C14)+COUNTIF(POC!X:Z,$C14)+COUNTIF(Horaire!X:Y,SUBSTITUTE($C14,\".\",\",\"))+COUNTIF(POC!X:Z,SUBSTITUTE($C14,\".\",\",\"))","v":0},null,0,0]
[null,null,"M503.04",{"$f":"VLOOKUP(C15,Traduction!$B$426:$E$926,'Info de l''escadron'!$A$1+1,0)","v":"Conclure un exercice"},1,{"$f":"COUNTIF(Horaire!W:X,$C15)+COUNTIF(POC!W:Y,$C15)+COUNTIF(Horaire!W:X,SUBSTITUTE($C15,\".\",\",\"))+COUNTIF(POC!W:Y,SUBSTITUTE($C15,\".\",\",\"))","v":0},{"$f":"COUNTIF(Horaire!X:Y,$C15)+COUNTIF(POC!X:Z,$C15)+COUNTIF(Horaire!X:Y,SUBSTITUTE($C15,\".\",\",\"))+COUNTIF(POC!X:Z,SUBSTITUTE($C15,\".\",\",\"))","v":0},null,0,0]
[null,null,"COREN 503",{"$f":"VLOOKUP(C16,Traduction!$B$426:$E$926,'Info de l''escadron'!$A$1+1,0)","v":"Diriger des activités de cadets"},0,{"$f":"COUNTIF(Horaire!W:X,$C16)+COUNTIF(POC!W:Y,$C16)","v":0},{"$f":"COUNTIF(Horaire!X:Y,$C16)+COUNTIF(POC!X:Z,$C16)","v":0},null,null,null,null,{"$f":"MIN($E16,F16)","v":0},0]
[null,null,"C503.01",{"$f":"VLOOKUP(C17,Traduction!$B$426:$E$926,'Info de l''escadron'!$A$1+1,0)","v":"Examiner les procédures de réunion"},3,{"$f":"COUNTIF(Horaire!W:X,$C17)+COUNTIF(POC!W:Y,$C17)+COUNTIF(Horaire!W:X,SUBSTITUTE($C17,\".\",\",\"))+COUNTIF(POC!W:Y,SUBSTITUTE($C17,\".\",\",\"))","v":0},{"$f":"COUNTIF(Horaire!X:Y,$C17)+COUNTIF(POC!X:Z,$C17)+COUNTIF(Horaire!X:Y,SUBSTITUTE($C17,\".\",\",\"))+COUNTIF(POC!X:Z,SUBSTITUTE($C17,\".\",\",\"))","v":0},null,null,null,null,0,0]
[null,null,{"$f":"CONCATENATE($A$2,\" \",A12,\" - \",VLOOKUP(160,Traduction!$B$6:$E$250,'Info de l''escadron'!$A$1+1,0))","v":"OREN 503 - Total des périodes d'instruction Obligatoires  "},null,6,{"$f":"SUM(F12:F15)","v":0},{"$f":"SUM(G12:G15)","v":0}]
[null,null,{"$f":"CONCATENATE($A$2,\" \",A12,\" - \",VLOOKUP(161,Traduction!$B$6:$E$250,'Info de l''escadron'!$A$1+1,0))","v":"OREN 503 - Total des périodes d'instruction Complémentaires  "},null,3,{"$f":"SUM(F17)","v":0},{"$f":"SUM(G16:G17)","v":0}]
[504,"Suivre la participation à des activités physiques","M504.01",{"$f":"VLOOKUP(C20,Traduction!$B$426:$E$926,'Info de l''escadron'!$A$1+1,0)","v":"Participer à l'évaluation de la condition physique des cadets et définir des stratégies pour améliorer la condition physique personnelle"},6,{"$f":"COUNTIF(Horaire!W:X,$C20)+COUNTIF(POC!W:Y,$C20)+COUNTIF(Horaire!W:X,SUBSTITUTE($C20,\".\",\",\"))+COUNTIF(POC!W:Y,SUBSTITUTE($C20,\".\",\",\"))","v":0},{"$f":"COUNTIF(Horaire!H:J,$C20)+COUNTIF(POC!H:J,$C20)+COUNTIF(Horaire!H:J,SUBSTITUTE($C20,\".\",\",\"))+COUNTIF(POC!H:J,SUBSTITUTE($C20,\".\",\",\"))","v":0},null,{"$f":"MIN($E20,F20)","v":0},0]
[null,null,"COREN 504",{"$f":"VLOOKUP(C21,Traduction!$B$426:$E$926,'Info de l''escadron'!$A$1+1,0)","v":"Condition physique et mode de vie sain"},0,{"$f":"COUNTIF(Horaire!W:X,$C21)+COUNTIF(POC!W:Y,$C21)+COUNTIF(Horaire!W:X,SUBSTITUTE($C21,\".\",\",\"))+COUNTIF(POC!W:Y,SUBSTITUTE($C21,\".\",\",\"))","v":0},{"$f":"COUNTIF(Horaire!X:Y,$C21)+COUNTIF(POC!X:Z,$C21)+COUNTIF(Horaire!X:Y,SUBSTITUTE($C21,\".\",\",\"))+COUNTIF(POC!X:Z,SUBSTITUTE($C21,\".\",\",\"))","v":0},null,null,null,null,{"$f":"MIN($E21,F21)","v":0},0]
[null,null,"C504.01",{"$f":"VLOOKUP(C22,Traduction!$B$426:$E$926,'Info de l''escadron'!$A$1+1,0)","v":"Réfléchir à sa condition physique et à un mode de vie sain"},3,{"$f":"COUNTIF(Horaire!W:X,$C22)+COUNTIF(POC!W:Y,$C22)+COUNTIF(Horaire!W:X,SUBSTITUTE($C22,\".\",\",\"))+COUNTIF(POC!W:Y,SUBSTITUTE($C22,\".\",\",\"))","v":0},{"$f":"COUNTIF(Horaire!H:J,$C22)+COUNTIF(POC!H:J,$C22)+COUNTIF(Horaire!H:J,SUBSTITUTE($C22,\".\",\",\"))+COUNTIF(POC!H:J,SUBSTITUTE($C22,\".\",\",\"))","v":0},null,null,null,null,0,0]
[null,null,{"$f":"CONCATENATE($A$2,\" \",A20,\" - \",VLOOKUP(160,Traduction!$B$6:$E$250,'Info de l''escadron'!$A$1+1,0))","v":"OREN 504 - Total des périodes d'instruction Obligatoires  "},null,6,{"$f":"SUM(F20)","v":0},{"$f":"SUM(G20:G20)","v":0}]
[null,null,{"$f":"CONCATENATE($A$2,\" \",A20,\" - \",VLOOKUP(161,Traduction!$B$6:$E$250,'Info de l''escadron'!$A$1+1,0))","v":"OREN 504 - Total des périodes d'instruction Complémentaires  "},null,3,{"$f":"SUM(F22)","v":0},{"$f":"SUM(G22:G22)","v":0}]
[507,{"$f":"VLOOKUP(A25,Traduction!$B$300:$E$388,'Info de l''escadron'!$A$1+1,0)","v":"Servir dans un escadron de cadets de l'Air"},"M507.01",{"$f":"VLOOKUP(C25,Traduction!$B$426:$E$926,'Info de l''escadron'!$A$1+1,0)","v":"Élaborer un calendrier personnalisé"},3,{"$f":"COUNTIF(Horaire!W:X,$C25)+COUNTIF(POC!W:Y,$C25)+COUNTIF(Horaire!W:X,SUBSTITUTE($C25,\".\",\",\"))+COUNTIF(POC!W:Y,SUBSTITUTE($C25,\".\",\",\"))","v":0},{"$f":"COUNTIF(Horaire!X:Y,$C25)+COUNTIF(POC!X:Z,$C25)+COUNTIF(Horaire!X:Y,SUBSTITUTE($C25,\".\",\",\"))+COUNTIF(POC!X:Z,SUBSTITUTE($C25,\".\",\",\"))","v":0},null,{"$f":"MIN($E25,F25)","v":0},{"$f":"MIN($E25,G25)","v":0}]
[null,null,"C507.01",{"$f":"VLOOKUP(C26,Traduction!$B$426:$E$926,'Info de l''escadron'!$A$1+1,0)","v":"Identifier les occasions de service pour un officier du Cadre des instructeurs de cadets (CIC)"},3,{"$f":"COUNTIF(Horaire!W:X,$C26)+COUNTIF(POC!W:Y,$C26)+COUNTIF(Horaire!W:X,SUBSTITUTE($C26,\".\",\",\"))+COUNTIF(POC!W:Y,SUBSTITUTE($C26,\".\",\",\"))","v":0},{"$f":"COUNTIF(Horaire!X:Y,$C26)+COUNTIF(POC!X:Z,$C26)+COUNTIF(Horaire!X:Y,SUBSTITUTE($C26,\".\",\",\"))+COUNTIF(POC!X:Z,SUBSTITUTE($C26,\".\",\",\"))","v":0},null,null,null,null,{"$f":"MIN($E26,F26)","v":0},0]
[null,null,"C507.02","Identitifer les occasions de bénévolat avec la Ligue des cadets de l'Air du Canada (LCAC)",3,{"$f":"COUNTIF(Horaire!W:X,$C27)+COUNTIF(POC!W:Y,$C27)+COUNTIF(Horaire!W:X,SUBSTITUTE($C27,\".\",\",\"))+COUNTIF(POC!W:Y,SUBSTITUTE($C27,\".\",\",\"))","v":0}]
[null,null,"C507.03",{"$f":"VLOOKUP(C28,Traduction!$B$426:$E$926,'Info de l''escadron'!$A$1+1,0)","v":"Réfléchir sur son expérience de cadet"},3,{"$f":"COUNTIF(Horaire!W:X,$C28)+COUNTIF(POC!W:Y,$C28)+COUNTIF(Horaire!W:X,SUBSTITUTE($C28,\".\",\",\"))+COUNTIF(POC!W:Y,SUBSTITUTE($C28,\".\",\",\"))","v":0},{"$f":"COUNTIF(Horaire!X:Y,$C28)+COUNTIF(POC!X:Z,$C28)+COUNTIF(Horaire!X:Y,SUBSTITUTE($C28,\".\",\",\"))+COUNTIF(POC!X:Z,SUBSTITUTE($C28,\".\",\",\"))","v":0},null,null,null,null,0,0]
[null,null,{"$f":"CONCATENATE($A$2,\" \",A25,\" - \",VLOOKUP(160,Traduction!$B$6:$E$250,'Info de l''escadron'!$A$1+1,0))","v":"OREN 507 - Total des périodes d'instruction Obligatoires  "},null,3,{"$f":"SUM(F25)","v":0},{"$f":"SUM(G25:G25)","v":0}]
[null,null,{"$f":"CONCATENATE($A$2,\" \",A25,\" - \",VLOOKUP(161,Traduction!$B$6:$E$250,'Info de l''escadron'!$A$1+1,0))","v":"OREN 507 - Total des périodes d'instruction Complémentaires  "},null,9,{"$f":"SUM(F26:F28)","v":0},{"$f":"SUM(G26:G28)","v":0}]
[509,{"$f":"VLOOKUP(A31,Traduction!$B$300:$E$388,'Info de l''escadron'!$A$1+1,0)","v":"Enseigner aux cadets"},"COREN 509",{"$f":"VLOOKUP(C31,Traduction!$B$426:$E$926,'Info de l''escadron'!$A$1+1,0)","v":"Enseigner aux cadets"},0,{"$f":"COUNTIF(Horaire!W:X,$C31)+COUNTIF(POC!W:Y,$C31)","v":0},{"$f":"COUNTIF(Horaire!X:Y,$C31)+COUNTIF(POC!X:Z,$C31)+COUNTIF(Horaire!X:Y,SUBSTITUTE($C31,\".\",\",\"))+COUNTIF(POC!X:Z,SUBSTITUTE($C31,\".\",\",\"))","v":0},null,{"$f":"MIN($E31,F31)","v":0},0]
[null,null,"C509.01",{"$f":"VLOOKUP(C32,Traduction!$B$426:$E$926,'Info de l''escadron'!$A$1+1,0)","v":"Surveiller une période d'instruction"},3,{"$f":"COUNTIF(Horaire!W:X,$C32)+COUNTIF(POC!W:Y,$C32)+COUNTIF(Horaire!W:X,SUBSTITUTE($C32,\".\",\",\"))+COUNTIF(POC!W:Y,SUBSTITUTE($C32,\".\",\",\"))","v":0},{"$f":"COUNTIF(Horaire!X:Y,$C32)+COUNTIF(POC!X:Z,$C32)+COUNTIF(Horaire!X:Y,SUBSTITUTE($C32,\".\",\",\"))+COUNTIF(POC!X:Z,SUBSTITUTE($C32,\".\",\",\"))","v":0},null,0,0]
[null,null,{"$f":"CONCATENATE($A$2,\" \",A31,\" - \",VLOOKUP(160,Traduction!$B$6:$E$250,'Info de l''escadron'!$A$1+1,0))","v":"OREN 509 - Total des périodes d'instruction Obligatoires  "},null,0,{"$f":"SUM(F31:F32)","v":0},{"$f":"SUM(G31:G32)","v":0}]
[null,null,{"$f":"CONCATENATE($A$2,\" \",A31,\" - \",VLOOKUP(161,Traduction!$B$6:$E$250,'Info de l''escadron'!$A$1+1,0))","v":"OREN 509 - Total des périodes d'instruction Complémentaires  "},null,3,0,{"$f":"SUM(#REF!)","v":{"$error":"#REF!"}}]
[530,{"$f":"VLOOKUP(A35,Traduction!$B$300:$E$388,'Info de l''escadron'!$A$1+1,0)","v":"Effectuer un vol-voyage à l'aide d'un simulateur de vol"},"C530.01","Effectuer un vol-voyage à l'aide d'un simulateur de vol",3,{"$f":"COUNTIF(Horaire!W:X,$C35)+COUNTIF(POC!W:Y,$C35)+COUNTIF(Horaire!W:X,SUBSTITUTE($C35,\".\",\",\"))+COUNTIF(POC!W:Y,SUBSTITUTE($C35,\".\",\",\"))","v":0},{"$f":"COUNTIF(Horaire!X:Y,$C35)+COUNTIF(POC!X:Z,$C35)+COUNTIF(Horaire!X:Y,SUBSTITUTE($C35,\".\",\",\"))+COUNTIF(POC!X:Z,SUBSTITUTE($C35,\".\",\",\"))","v":0},null,{"$f":"MIN($E35,F35)","v":0},{"$f":"MIN($E35,G35)","v":0}]
[null,null,{"$f":"CONCATENATE($A$2,\" \",A35,\" - \",VLOOKUP(160,Traduction!$B$6:$E$250,'Info de l''escadron'!$A$1+1,0))","v":"OREN 530 - Total des périodes d'instruction Obligatoires  "},null,0,0,{"$f":"SUM(G35:G35)","v":0}]
[null,null,{"$f":"CONCATENATE($A$2,\" \",A35,\" - \",VLOOKUP(161,Traduction!$B$6:$E$250,'Info de l''escadron'!$A$1+1,0))","v":"OREN 530 - Total des périodes d'instruction Complémentaires  "},null,3,{"$f":"SUM(F35)","v":0},{"$f":"SUM(#REF!)","v":{"$error":"#REF!"}}]
[540,{"$f":"VLOOKUP(A38,Traduction!$B$300:$E$388,'Info de l''escadron'!$A$1+1,0)","v":"Réfléchir à la contribution du Canada aux technologies aérospatiales"},"C540.01",{"$f":"VLOOKUP(C38,Traduction!$B$426:$E$926,'Info de l''escadron'!$A$1+1,0)","v":"Réfléchir à la contribution du Canada aux technologies aérospatiales"},3,{"$f":"COUNTIF(Horaire!W:X,$C38)+COUNTIF(POC!W:Y,$C38)+COUNTIF(Horaire!W:X,SUBSTITUTE($C38,\".\",\",\"))+COUNTIF(POC!W:Y,SUBSTITUTE($C38,\".\",\",\"))","v":0},{"$f":"COUNTIF(Horaire!X:Y,$C38)+COUNTIF(POC!X:Z,$C38)+COUNTIF(Horaire!X:Y,SUBSTITUTE($C38,\".\",\",\"))+COUNTIF(POC!X:Z,SUBSTITUTE($C38,\".\",\",\"))","v":0},null,null,null,null,{"$f":"MIN($E38,F38)","v":0},0]
[null,null,{"$f":"CONCATENATE($A$2,\" \",A38,\" - \",VLOOKUP(160,Traduction!$B$6:$E$250,'Info de l''escadron'!$A$1+1,0))","v":"OREN 540 - Total des périodes d'instruction Obligatoires  "},null,0,0,0]
[null,null,{"$f":"CONCATENATE($A$2,\" \",A38,\" - \",VLOOKUP(161,Traduction!$B$6:$E$250,'Info de l''escadron'!$A$1+1,0))","v":"OREN 540 - Total des périodes d'instruction Complémentaires  "},null,3,{"$f":"SUM(F38)","v":0},{"$f":"SUM(G38:G38)","v":0}]
[560,{"$f":"VLOOKUP(A41,Traduction!$B$300:$E$388,'Info de l''escadron'!$A$1+1,0)","v":"Participer à une activité d'opérations d'aérodrome"},"C560.01",{"$f":"VLOOKUP(C41,Traduction!$B$426:$E$926,'Info de l''escadron'!$A$1+1,0)","v":"Examiner les aspects de la sécurité des vols (SV)"},3,{"$f":"COUNTIF(Horaire!W:X,$C41)+COUNTIF(POC!W:Y,$C41)+COUNTIF(Horaire!W:X,SUBSTITUTE($C41,\".\",\",\"))+COUNTIF(POC!W:Y,SUBSTITUTE($C41,\".\",\",\"))","v":0},{"$f":"COUNTIF(Horaire!X:Y,$C41)+COUNTIF(POC!X:Z,$C41)+COUNTIF(Horaire!X:Y,SUBSTITUTE($C41,\".\",\",\"))+COUNTIF(POC!X:Z,SUBSTITUTE($C41,\".\",\",\"))","v":0},null,{"$f":"MIN($E41,F41)","v":0},{"$f":"MIN($E41,G41)","v":0}]
[null,null,"C560.02",{"$f":"VLOOKUP(C42,Traduction!$B$426:$E$926,'Info de l''escadron'!$A$1+1,0)","v":"Examiner l'industrie de pilote de brousse canadienne"},3,{"$f":"COUNTIF(Horaire!W:X,$C42)+COUNTIF(POC!W:Y,$C42)+COUNTIF(Horaire!W:X,SUBSTITUTE($C42,\".\",\",\"))+COUNTIF(POC!W:Y,SUBSTITUTE($C42,\".\",\",\"))","v":0},{"$f":"COUNTIF(Horaire!X:Y,$C42)+COUNTIF(POC!X:Z,$C42)+COUNTIF(Horaire!X:Y,SUBSTITUTE($C42,\".\",\",\"))+COUNTIF(POC!X:Z,SUBSTITUTE($C42,\".\",\",\"))","v":0},null,{"$f":"MIN($E42,F42)","v":0},{"$f":"MIN($E42,G42)","v":0}]
[null,null,{"$f":"CONCATENATE($A$2,\" \",A41,\" - \",VLOOKUP(160,Traduction!$B$6:$E$250,'Info de l''escadron'!$A$1+1,0))","v":"OREN 560 - Total des périodes d'instruction Obligatoires  "},null,0,0,{"$f":"SUM(G41:G42)","v":0}]
[null,null,{"$f":"CONCATENATE($A$2,\" \",A41,\" - \",VLOOKUP(161,Traduction!$B$6:$E$250,'Info de l''escadron'!$A$1+1,0))","v":"OREN 560 - Total des périodes d'instruction Complémentaires  "},null,6,{"$f":"SUM(F41:F42)","v":0},{"$f":"SUM(#REF!)","v":{"$error":"#REF!"}}]
[570,{"$f":"VLOOKUP(A45,Traduction!$B$300:$E$388,'Info de l''escadron'!$A$1+1,0)","v":"Examiner les aspects de la construction et de la maintenance des aéronefs par le développement d'aéronefs de voltige"},"C570,01","Examiner les aspects de la construction et de la maintenance des aéronefs par le développement d'aéronefs de voltige",3,{"$f":"COUNTIF(Horaire!W:X,$C45)+COUNTIF(POC!W:Y,$C45)+COUNTIF(Horaire!W:X,SUBSTITUTE($C45,\".\",\",\"))+COUNTIF(POC!W:Y,SUBSTITUTE($C45,\".\",\",\"))","v":0},{"$f":"COUNTIF(Horaire!X:Y,$C45)+COUNTIF(POC!X:Z,$C45)+COUNTIF(Horaire!X:Y,SUBSTITUTE($C45,\".\",\",\"))+COUNTIF(POC!X:Z,SUBSTITUTE($C45,\".\",\",\"))","v":0},null,{"$f":"MIN($E45,F45)","v":0},0]
[null,null,{"$f":"CONCATENATE($A$2,\" \",A45,\" - \",VLOOKUP(160,Traduction!$B$6:$E$250,'Info de l''escadron'!$A$1+1,0))","v":"OREN 570 - Total des périodes d'instruction Obligatoires  "},null,0,0,{"$f":"SUM(G45:G45)","v":0}]
[null,null,{"$f":"CONCATENATE($A$2,\" \",A45,\" - \",VLOOKUP(161,Traduction!$B$6:$E$250,'Info de l''escadron'!$A$1+1,0))","v":"OREN 570 - Total des périodes d'instruction Complémentaires  "},null,3,{"$f":"SUM(F45)","v":0},{"$f":"SUM(#REF!)","v":{"$error":"#REF!"}}]
[590,{"$f":"VLOOKUP(A48,Traduction!$B$300:$E$388,'Info de l''escadron'!$A$1+1,0)","v":"Analyser une étude de cas d'un exercice de survie pour équipage de vol"},"C590.01",{"$f":"VLOOKUP(C48,Traduction!$B$426:$E$926,'Info de l''escadron'!$A$1+1,0)","v":"Analyser une étude de cas d'un exercice de survie pour équipage de vol"},3,{"$f":"COUNTIF(Horaire!W:X,$C48)+COUNTIF(POC!W:Y,$C48)+COUNTIF(Horaire!W:X,SUBSTITUTE($C48,\".\",\",\"))+COUNTIF(POC!W:Y,SUBSTITUTE($C48,\".\",\",\"))","v":0},{"$f":"COUNTIF(Horaire!X:Y,$C48)+COUNTIF(POC!X:Z,$C48)+COUNTIF(Horaire!X:Y,SUBSTITUTE($C48,\".\",\",\"))+COUNTIF(POC!X:Z,SUBSTITUTE($C48,\".\",\",\"))","v":0},null,{"$f":"MIN($E48,F48)","v":0},{"$f":"MIN($E48,G48)","v":0}]
[null,null,{"$f":"CONCATENATE($A$2,\" \",A48,\" - \",VLOOKUP(160,Traduction!$B$6:$E$250,'Info de l''escadron'!$A$1+1,0))","v":"OREN 590 - Total des périodes d'instruction Obligatoires  "},null,0,0,{"$f":"SUM(G48:G48)","v":0}]
[null,null,{"$f":"CONCATENATE($A$2,\" \",A48,\" - \",VLOOKUP(161,Traduction!$B$6:$E$250,'Info de l''escadron'!$A$1+1,0))","v":"OREN 590 - Total des périodes d'instruction Complémentaires  "},null,3,{"$f":"SUM(F48)","v":0},{"$f":"SUM(#REF!)","v":{"$error":"#REF!"}}]
[null,null,{"$f":"VLOOKUP(183,Traduction!$B$6:$E$250,'Info de l''escadron'!$A$1+1,0)","v":"Revue"},{"$f":"VLOOKUP(C51,Traduction!$B$426:$E$926,'Info de l''escadron'!$A$1+1,0)","v":"Cérémonie de la revue annuelle"},3,{"$f":"COUNTIF(Horaire!W:X,C51)+COUNTIF(POC!W:Y,C51)","v":0}]
[null,null,"FCE","Journées d'instructions obligatoires",0,{"$f":"COUNTIF(Horaire!W:X,C52)+COUNTIF(POC!W:Y,C52)","v":0}]
[null,null,"FCE","Journées d'instructions complémentaires",0,{"$f":"COUNTIF(Horaire!W:X,C53)+COUNTIF(POC!W:Y,C53)","v":0},{"$f":"COUNTIF(Horaire!X:Y,D53)+COUNTIF(POC!X:Z,D53)","v":0},null,{"$f":"MIN($E53,F53)","v":0},{"$f":"MIN($E53,G53)","v":0}]
[]
[null,null,null,{"$f":"VLOOKUP(172,Traduction!$B$6:$E$250,'Info de l''escadron'!$A$1+1,0)","v":"Total des périodes d'instruction Obligatoires"},{"$f":"SUM(E6,E10,E18,E23,E29,E33,E36,E39,E43,E46,E49,E51,E52)","v":21},{"$f":"SUM(I3:I53)","v":0},{"$f":"SUM(J3:J53)-#REF!","v":{"$error":"#REF!"}}]
[null,null,null,{"$f":"VLOOKUP(173,Traduction!$B$6:$E$250,'Info de l''escadron'!$A$1+1,0)","v":"Total des périodes d'instruction Complémentaires"},{"$f":"SUM(E7,E11,E19,E24,E30,E34,E37,E40,E44,E47,E50,E52,E53)","v":45},{"$f":"SUM(L3:L53)","v":0},{"$f":"SUM(M3:M53)","v":0}]

{"sheet":"POC","index":8,"n_rows":71,"n_cols":53,"rows_kept":71,"cut":false,"hidden":false,"merged":[[25,3,27,3],[10,3,12,3],[13,3,15,3],[16,3,18,3],[19,3,21,3],[22,3,24,3],[1,13,1,15],[4,3,6,3],[1,2,1,3],[3,2,3,3],[1,4,1,6],[39,13,39,15],[39,2,39,3],[39,4,39,6],[39,7,39,9],[39,10,39,12],[68,3,70,3],[1,7,1,9],[7,3,9,3],[1,10,1,12],[50,3,52,3],[65,3,67,3],[53,3,55,3],[56,3,58,3],[62,3,64,3],[59,3,61,3],[34,3,36,3],[41,3,43,3],[44,3,46,3],[47,3,49,3],[28,3,30,3],[31,3,33,3],[39,25,39,27],[1,50,1,52],[39,16,39,18],[39,19,39,21],[39,22,39,24],[1,35,1,37],[1,19,1,21],[1,44,1,46],[1,38,1,40],[1,41,1,43],[1,16,1,18],[1,29,1,31],[1,47,1,49],[1,32,1,34],[1,22,1,24],[1,25,1,27]]}
[null,null,null,null,null,null,null,null,null,null,null,null,"827 Longueuil"]
[null,null,null,null,{"$f":"VLOOKUP(27,Traduction!$B$6:$E$250,'Info de l''escadron'!$A$1+1,0)","v":"Niveau 1"},null,null,{"$f":"VLOOKUP(153,Traduction!$B$6:$E$250,'Info de l''escadron'!$A$1+1,0)","v":"Niveau 1B"},null,null,{"$f":"VLOOKUP(28,Traduction!$B$6:$E$250,'Info de l''escadron'!$A$1+1,0)","v":"Niveau 2"},null,null,{"$f":"VLOOKUP(155,Traduction!$B$6:$E$250,'Info de l''escadron'!$A$1+1,0)","v":"Niveau 2B"},null,null,{"$f":"VLOOKUP(29,Traduction!$B$6:$E$250,'Info de l''escadron'!$A$1+1,0)","v":"Niveau 3"},null,null,{"$f":"VLOOKUP(188,Traduction!$B$6:$E$250,'Info de l''escadron'!$A$1+1,0)","v":"Niveau 3B"},null,null,{"$f":"VLOOKUP(30,Traduction!$B$6:$E$250,'Info de l''escadron'!$A$1+1,0)","v":"Niveau 4"},null,null,{"$f":"VLOOKUP(228,Traduction!$B$6:$E$250,'Info de l''escadron'!$A$1+1,0)","v":"Niveau 4B"},null,null,null,{"$f":"VLOOKUP(27,Traduction!$B$6:$E$250,'Info de l''escadron'!$A$1+1,0)","v":"Niveau 1"},null,null,{"$f":"VLOOKUP(153,Traduction!$B$6:$E$250,'Info de l''escadron'!$A$1+1,0)","v":"Niveau 1B"},null,null,{"$f":"VLOOKUP(28,Traduction!$B$6:$E$250,'Info de l''escadron'!$A$1+1,0)","v":"Niveau 2"},null,null,{"$f":"VLOOKUP(155,Traduction!$B$6:$E$250,'Info de l''escadron'!$A$1+1,0)","v":"Niveau 2B"},null,null,{"$f":"VLOOKUP(29,Traduction!$B$6:$E$250,'Info de l''escadron'!$A$1+1,0)","v":"Niveau 3"},null,null,{"$f":"VLOOKUP(188,Traduction!$B$6:$E$250,'Info de l''escadron'!$A$1+1,0)","v":"Niveau 3B"},null,null,{"$f":"VLOOKUP(30,Traduction!$B$6:$E$250,'Info de l''escadron'!$A$1+1,0)","v":"Niveau 4"},null,null,{"$f":"VLOOKUP(228,Traduction!$B$6:$E$250,'Info de l''escadron'!$A$1+1,0)","v":"Niveau 4B"}]
[null,null,{"$f":"VLOOKUP(40,Traduction!$B$6:$E$250,'Info de l''escadron'!$A$1+1,0)","v":"Date"},{"$f":"VLOOKUP(138,Traduction!$B$6:$E$250,'Info de l''escadron'!$A$1+1,0)","v":"Période"},{"$f":"VLOOKUP(65,Traduction!$B$6:$E$250,'Info de l''escadron'!$A$1+1,0)","v":"OCOM"},{"$f":"VLOOKUP(65,Traduction!$B$6:$E$250,'Info de l''escadron'!$A$1+1,0)","v":"OCOM"},{"$f":"VLOOKUP(65,Traduction!$B$6:$E$250,'Info de l''escadron'!$A$1+1,0)","v":"OCOM"},{"$f":"E3","v":"OCOM"},{"$f":"F3","v":"OCOM"},{"$f":"G3","v":"OCOM"},"OCOM","OCOM","OCOM","OCOM","OCOM","OCOM","OCOM","OCOM","OCOM","OCOM","OCOM","OCOM","OCOM","OCOM","OCOM",{"$f":"W3","v":"OCOM"},{"$f":"X3","v":"OCOM"},{"$f":"Y3","v":"OCOM"}]
[null,null,"POC - MCP",null,{"$f":"VLOOKUP(171,Traduction!$B$6:$E$250,'Info de l''escadron'!$A$1+1,0)","v":"Insérer les dates et les OCOMs couverts lors de vos 10 jours du POC et votre revue annuelle.  "}]
[null,null,{"$f":"VLOOKUP(142,Traduction!$B$6:$E$250,'Info de l''escadron'!$A$1+1,0)","v":"M Jour 1"},{"$f":"VLOOKUP(52,Traduction!$B$6:$E$250,'Info de l''escadron'!$A$1+1,0)","v":"POC"},null,null,null,null,null,null,null,null,null,null,null,null,null,null,null,null,null,null,null,null,null,null,null,null,null,{"$f":"LEFT(E5,1)","v":""},{"$f":"LEFT(F5,1)","v":""},"","","","","","","","","","","","","","","","","","","",{"$f":"LEFT(Z5,1)","v":""},{"$f":"LEFT(AA5,1)","v":""},{"$f":"LEFT(AB5,1)","v":""}]
[null,null,"PLANÉTARIUM",null,null,null,null,null,null,null,null,null,null,null,null,null,null,null,null,null,null,null,null,null,null,null,"OCOMs / EOs (9 per.)",null,null,{"$f":"LEFT(E6,1)","v":""},{"$f":"LEFT(F6,1)","v":""},{"$f":"LEFT(G6,1)","v":""},{"$f":"LEFT(H6,1)","v":""},{"$f":"LEFT(I6,1)","v":""},{"$f":"LEFT(J6,1)","v":""},{"$f":"LEFT(K6,1)","v":""},{"$f":"LEFT(L6,1)","v":""},{"$f":"LEFT(M6,1)","v":""},{"$f":"LEFT(N6,1)","v":""},{"$f":"LEFT(O6,1)","v":""},{"$f":"LEFT(P6,1)","v":""},{"$f":"LEFT(Q6,1)","v":""},{"$f":"LEFT(R6,1)","v":""},{"$f":"LEFT(S6,1)","v":""},{"$f":"LEFT(T6,1)","v":""},{"$f":"LEFT(U6,1)","v":""},{"$f":"LEFT(V6,1)","v":""},{"$f":"LEFT(W6,1)","v":""},{"$f":"LEFT(X6,1)","v":""},{"$f":"LEFT(Y6,1)","v":""},"","O",""]
[null,null,{"$f":"IF(ISERR(VLOOKUP(WEEKDAY(C6,1),Traduction!$B$6:$E$250,'Info de l''escadron'!$A$1+1,0)),\"\",VLOOKUP(WEEKDAY(C6,1),Traduction!$B$6:$E$250,'Info de l''escadron'!$A$1+1,0))","v":""},null,null,null,null,null,null,null,null,null,null,null,null,null,null,null,null,null,null,null,null,null,null,null,null,null,null,"","","","","","","","","","","","","","","","","","","","","","","",""]
[null,null,{"$f":"VLOOKUP(143,Traduction!$B$6:$E$250,'Info de l''escadron'!$A$1+1,0)","v":"M Jour 2"},{"$f":"VLOOKUP(52,Traduction!$B$6:$E$250,'Info de l''escadron'!$A$1+1,0)","v":"POC"},null,null,null,null,null,null,null,null,null,null,null,null,null,null,null,null,null,null,null,null,null,null,null,null,null,"","","","","","","","","","","","","","","","","","","","","","","",""]
[null,null,"OTTAWA",null,null,null,null,null,null,null,null,null,null,null,null,null,null,null,null,null,null,null,null,null,null,null,"OCOMs / EOs (9 per.)",null,null,"","","","","","","","","","","","","","","","","","","","","","","O",""]
[null,null,{"$f":"IF(ISERR(VLOOKUP(WEEKDAY(C9,1),Traduction!$B$6:$E$250,'Info de l''escadron'!$A$1+1,0)),\"\",VLOOKUP(WEEKDAY(C9,1),Traduction!$B$6:$E$250,'Info de l''escadron'!$A$1+1,0))","v":""},null,null,null,null,null,null,null,null,null,null,null,null,null,null,null,null,null,null,null,null,null,null,null,null,null,null,"","","","","","","","","","","","","","","","","","","","","","","",""]
[null,null,{"$f":"VLOOKUP(144,Traduction!$B$6:$E$250,'Info de l''escadron'!$A$1+1,0)","v":"C Jour 1"},{"$f":"VLOOKUP(52,Traduction!$B$6:$E$250,'Info de l''escadron'!$A$1+1,0)","v":"POC"},"M101.01C","M120.01D",null,null,null,null,"M201.01C","M220.01D",null,null,null,null,"M301.01C","M320.01D",null,null,null,null,"M401.01C","M420.01D",null,null,null,null,null,"M","M","","","","","M","M","","","","","M","M","","","","","M","M","","","",""]
[null,null,"10 FEVRIER 2018",null,"M101.01C","M120.01D",null,null,null,null,"M201.01C","M220.01D",null,null,null,null,"M301.01C","M320.01D",null,null,null,null,"M401.01C","M420.01D",null,null,"OCOMs / EOs (9 per.)",null,null,"M","M","","","","","M","M","","","","","M","M","","","","","M","M","","","O",""]
[null,null,{"$f":"IF(ISERR(VLOOKUP(WEEKDAY(C12,1),Traduction!$B$6:$E$250,'Info de l''escadron'!$A$1+1,0)),\"\",VLOOKUP(WEEKDAY(C12,1),Traduction!$B$6:$E$250,'Info de l''escadron'!$A$1+1,0))","v":""},null,"M101.01C","M120.01D",null,null,null,null,"M201.01C","M220.01D",null,null,null,null,"M301.01C","M320.01D",null,null,null,null,"M401.01C","M420.01D",null,null,null,null,null,"M","M","","","","","M","M","","","","","M","M","","","","","M","M","","","",""]
[null,null,{"$f":"VLOOKUP(145,Traduction!$B$6:$E$250,'Info de l''escadron'!$A$1+1,0)","v":"C Jour 2"},{"$f":"VLOOKUP(52,Traduction!$B$6:$E$250,'Info de l''escadron'!$A$1+1,0)","v":"POC"},null,null,null,null,null,null,null,null,null,null,null,null,"M390.01","M390.03","M390.04",null,null,null,"M490.04","M490.04",null,null,null,null,null,"","","","","","","","","","","","","M","M","M","","","","M","M","","","",""]
[null,null,"ORIENTERING",null,null,null,null,null,null,null,null,null,null,null,null,null,"M390.02","M390.03","M390.04",null,null,null,"M490.04",null,null,null,"OCOMs / EOs (9 per.)",null,null,"","","","","","","","","","","","","M","M","M","","","","M","","","","O",""]
[null,null,{"$f":"IF(ISERR(VLOOKUP(WEEKDAY(C15,1),Traduction!$B$6:$E$250,'Info de l''escadron'!$A$1+1,0)),\"\",VLOOKUP(WEEKDAY(C15,1),Traduction!$B$6:$E$250,'Info de l''escadron'!$A$1+1,0))","v":""},null,null,null,null,null,null,null,null,null,null,null,null,null,"M390.02","M390.04","M390.05",null,null,null,"M490.04",null,null,null,null,null,null,"","","","","","","","","","","","","M","M","M","","","","M","","","","",""]
[null,null,{"$f":"VLOOKUP(146,Traduction!$B$6:$E$250,'Info de l''escadron'!$A$1+1,0)","v":"EEC 1 (M) Jr 1"},{"$f":"VLOOKUP(52,Traduction!$B$6:$E$250,'Info de l''escadron'!$A$1+1,0)","v":"POC"},"M106.01","M106.03","M106.05",null,null,null,"M206.01","M290.02","M290.05",null,null,null,"M306.01",null,null,null,null,null,"M490.02","M490.05",null,null,null,null,null,"M","M","M","","","","M","M","M","","","","M","","","","","","M","M","","","",""]
[null,null,"2017-10-20",null,"M106.02","M106.04","M106.05",null,null,null,"M206.01","M290.02","M290.05",null,null,null,"M306.01",null,null,null,null,null,"M490.02","M490.05",null,null,"OCOMs / E0s (7 per.)",null,null,"M","M","M","","","","M","M","M","","","","M","","","","","","M","M","","","O",""]
[null,null,{"$f":"IF(ISERR(VLOOKUP(WEEKDAY(C18,1),Traduction!$B$6:$E$250,'Info de l''escadron'!$A$1+1,0)),\"\",VLOOKUP(WEEKDAY(C18,1),Traduction!$B$6:$E$250,'Info de l''escadron'!$A$1+1,0))","v":"Vendredi"},null,"M106.03","M106.05","M190.02",null,null,null,"M206.01","M290.03","M290.06",null,null,null,"M306.01",null,null,null,null,null,"M490.02","M490.05",null,null,null,null,null,"M","M","M","","","","M","M","M","","","","M","","","","","","M","M","","","",""]
[null,null,{"$f":"VLOOKUP(147,Traduction!$B$6:$E$250,'Info de l''escadron'!$A$1+1,0)","v":"EEC 1 (M) Jr 2"},{"$f":"VLOOKUP(52,Traduction!$B$6:$E$250,'Info de l''escadron'!$A$1+1,0)","v":"POC"},"M190.03","M190.04","M190.06",null,null,null,"M290.01","M290.03",null,null,null,null,null,null,null,null,null,null,"M490.03","M406.01",null,null,null,null,null,"M","M","M","","","","M","M","","","","","","","","","","","M","M","","","",""]
[null,null,"2017-10-21",null,"M190.03","M190.05","M190.06",null,null,null,"M290.01","M290.04",null,null,null,null,null,null,null,null,null,null,"M490.03","M406.01",null,null,"OCOMs / E0s (7 per.)",null,null,"M","M","M","","","","M","M","","","","","","","","","","","M","M","","","O",""]
[null,null,{"$f":"IF(ISERR(VLOOKUP(WEEKDAY(C21,1),Traduction!$B$6:$E$250,'Info de l''escadron'!$A$1+1,0)),\"\",VLOOKUP(WEEKDAY(C21,1),Traduction!$B$6:$E$250,'Info de l''escadron'!$A$1+1,0))","v":"Samedi"},null,"M190.04","M190.06","M190.07",null,null,null,"M290.02","M290.04",null,null,null,null,null,null,null,null,null,null,"M490.05","M406.01",null,null,null,null,null,"M","M","M","","","","M","M","","","","","","","","","","","M","M","","","",""]
[null,null,{"$f":"VLOOKUP(AC23,Traduction!A1153:B1155,2,0)","v":"EEC 2 (C) Jr 1"},{"$f":"VLOOKUP(52,Traduction!$B$6:$E$250,'Info de l''escadron'!$A$1+1,0)","v":"POC"},"M190.07","C190.03","C190.02",null,null,null,null,null,null,null,null,null,"M390.05",null,null,null,null,null,null,null,null,null,null,null,1,"M","C","C","","","","","","","","","","M","","","","","","","","","","",""]
[null,null,"2018-04-28",null,"M190.07","C190.03","C190.02",null,null,null,null,null,null,null,null,null,null,null,null,null,null,null,null,null,null,null,"OCOMs / E0s (7-9)",null,null,"M","C","C","","","","","","","","","","","","","","","","","","","","O",""]
[null,null,{"$f":"IF(ISERR(VLOOKUP(WEEKDAY(C24,1),Traduction!$B$6:$E$250,'Info de l''escadron'!$A$1+1,0)),\"\",VLOOKUP(WEEKDAY(C24,1),Traduction!$B$6:$E$250,'Info de l''escadron'!$A$1+1,0))","v":"Samedi"},null,"C190.06","C190.03",null,null,null,null,null,null,null,null,null,null,null,null,null,null,null,null,null,null,null,null,null,null,null,"C","C","","","","","","","","","","","","","","","","","","","","","",""]
[null,null,{"$f":"VLOOKUP(AC26,Traduction!A1163:B1165,2,0)","v":"EEC 2 (C) Jr 2"},{"$f":"VLOOKUP(52,Traduction!$B$6:$E$250,'Info de l''escadron'!$A$1+1,0)","v":"POC"},null,null,null,null,null,null,null,null,null,null,null,null,null,null,null,null,null,null,null,null,null,null,null,null,1,"","","","","","","","","","","","","","","","","","","","","","","",""]
[null,null,"2018-04-29",null,null,null,null,null,null,null,null,null,null,null,null,null,null,null,null,null,null,null,null,null,null,null,"OCOMs / E0s (7-9)",null,null,"","","","","","","","","","","","","","","","","","","","","","","O",""]
[null,null,{"$f":"IF(ISERR(VLOOKUP(WEEKDAY(C27,1),Traduction!$B$6:$E$250,'Info de l''escadron'!$A$1+1,0)),\"\",VLOOKUP(WEEKDAY(C27,1),Traduction!$B$6:$E$250,'Info de l''escadron'!$A$1+1,0))","v":"Dimanche"},null,null,null,null,null,null,null,null,null,null,null,null,null,null,null,null,null,null,null,null,null,null,null,null,null,null,"","","","","","","","","","","","","","","","","","","","","","","",""]
[null,null,{"$f":"VLOOKUP(150,Traduction!$B$6:$E$250,'Info de l''escadron'!$A$1+1,0)","v":"Vol"},{"$f":"VLOOKUP(52,Traduction!$B$6:$E$250,'Info de l''escadron'!$A$1+1,0)","v":"POC"},null,null,null,null,null,null,null,null,null,null,null,null,null,null,null,null,null,null,null,null,null,null,null,null,null,"","","","","","","","","","","","","","","","","","","","","","","",""]
[null,null,"2017-09-10",null,null,null,null,null,null,null,null,null,null,null,null,null,null,null,null,null,null,null,null,null,null,null,"Option",null,null,"","","","","","","","","","","","","","","","","","","","","","","O",""]
[null,null,{"$f":"IF(ISERR(VLOOKUP(WEEKDAY(C30,1),Traduction!$B$6:$E$250,'Info de l''escadron'!$A$1+1,0)),\"\",VLOOKUP(WEEKDAY(C30,1),Traduction!$B$6:$E$250,'Info de l''escadron'!$A$1+1,0))","v":"Dimanche"},null,null,null,null,null,null,null,null,null,null,null,null,null,null,null,null,null,null,null,null,null,null,null,null,null,null,"","","","","","","","","","","","","","","","","","","","","","","",""]
[null,null,{"$f":"VLOOKUP(AC32,Traduction!A1173:B1181,2,0)","v":"Inter-Esc"},{"$f":"VLOOKUP(52,Traduction!$B$6:$E$250,'Info de l''escadron'!$A$1+1,0)","v":"POC"},"C105.01","C105.01","C105.02",null,null,null,null,null,null,null,null,null,null,null,null,null,null,null,null,null,null,null,null,null,1,"C","C","C","","","","","","","","","","","","","","","","","","","","",""]
[null,null,"2017-01-20 jeux cdts",null,"C105.01","C105.01","C105.02",null,null,null,null,null,null,null,null,null,null,null,null,null,null,null,null,null,null,null,"Option",null,null,"C","C","C","","","","","","","","","","","","","","","","","","","","O",""]
[null,null,"Samedi",null,"C105.01","C105.02","C105.02",null,null,null,null,null,null,null,null,null,null,null,null,null,null,null,null,null,null,null,null,null,null,"C","C","C","","","","","","","","","","","","","","","","","","","","",""]
[null,null,{"$f":"VLOOKUP(183,Traduction!$B$6:$E$250,'Info de l''escadron'!$A$1+1,0)","v":"Revue"},{"$f":"VLOOKUP(52,Traduction!$B$6:$E$250,'Info de l''escadron'!$A$1+1,0)","v":"POC"},null,null,null,null,null,null,null,null,null,null,null,null,null,null,null,null,null,null,null,null,null,null,null,null,null,"","","","","","","","","","","","","","","","","","","","","","","",""]
[null,null,"2018-05-20",null,null,null,null,null,null,null,null,null,null,null,null,null,null,null,null,null,null,null,null,null,null,null,null,null,null,"","","","","","","","","","","","","","","","","","","","","","","",""]
[null,null,{"$f":"IF(ISERR(VLOOKUP(WEEKDAY(C36,1),Traduction!$B$6:$E$250,'Info de l''escadron'!$A$1+1,0)),\"\",VLOOKUP(WEEKDAY(C36,1),Traduction!$B$6:$E$250,'Info de l''escadron'!$A$1+1,0))","v":"Dimanche"},null,null,null,null,null,null,null,null,null,null,null,null,null,null,null,null,null,null,null,null,null,null,null,null,null,null,"","","","","","","","","","","","","","","","","","","","","","","",""]
[]
[null,null,null,null,null,null,null,null,null,null,{"$f":"VLOOKUP(202,Traduction!$B$6:$E$250,'Info de l''escadron'!$A$1+1,0)","v":"Journées supplémentaires pour le POC"}]
[null,null,null,null,{"$f":"VLOOKUP(27,Traduction!$B$6:$E$250,'Info de l''escadron'!$A$1+1,0)","v":"Niveau 1"},null,null,{"$f":"VLOOKUP(153,Traduction!$B$6:$E$250,'Info de l''escadron'!$A$1+1,0)","v":"Niveau 1B"},null,null,{"$f":"VLOOKUP(28,Traduction!$B$6:$E$250,'Info de l''escadron'!$A$1+1,0)","v":"Niveau 2"},null,null,{"$f":"VLOOKUP(155,Traduction!$B$6:$E$250,'Info de l''escadron'!$A$1+1,0)","v":"Niveau 2B"},null,null,{"$f":"VLOOKUP(29,Traduction!$B$6:$E$250,'Info de l''escadron'!$A$1+1,0)","v":"Niveau 3"},null,null,{"$f":"VLOOKUP(188,Traduction!$B$6:$E$250,'Info de l''escadron'!$A$1+1,0)","v":"Niveau 3B"},null,null,{"$f":"VLOOKUP(30,Traduction!$B$6:$E$250,'Info de l''escadron'!$A$1+1,0)","v":"Niveau 4"},null,null,{"$f":"VLOOKUP(30,Traduction!$B$6:$E$250,'Info de l''escadron'!$A$1+1,0)","v":"Niveau 4"}]
[null,null,{"$f":"VLOOKUP(40,Traduction!$B$6:$E$250,'Info de l''escadron'!$A$1+1,0)","v":"Date"},{"$f":"VLOOKUP(138,Traduction!$B$6:$E$250,'Info de l''escadron'!$A$1+1,0)","v":"Période"},{"$f":"VLOOKUP(65,Traduction!$B$6:$E$250,'Info de l''escadron'!$A$1+1,0)","v":"OCOM"},{"$f":"VLOOKUP(65,Traduction!$B$6:$E$250,'Info de l''escadron'!$A$1+1,0)","v":"OCOM"},{"$f":"VLOOKUP(65,Traduction!$B$6:$E$250,'Info de l''escadron'!$A$1+1,0)","v":"OCOM"},{"$f":"E41","v":"OCOM"},"OCOM","OCOM","OCOM","OCOM","OCOM","OCOM","OCOM","OCOM","OCOM","OCOM","OCOM","OCOM","OCOM","OCOM","OCOM","OCOM","OCOM",{"$f":"W41","v":"OCOM"},{"$f":"X41","v":"OCOM"},{"$f":"Y41","v":"OCOM"}]
[null,null,"POC/MCP 11",{"$f":"VLOOKUP(52,Traduction!$B$6:$E$250,'Info de l''escadron'!$A$1+1,0)","v":"POC"},"M102.01","M102.01","M102.01",null,null,null,"M202.01","M202.01","M202.01",null,null,null,"M302.01","M302.01","M302.01",null,null,null,"M402.01","M402.01","M402.01",null,null,null,null,"M","M","M","","","","M","M","M","","","","M","M","M","","","","M","M","M",{"$f":"LEFT(Z42,1)","v":""},"",""]
[null,null,"fete quartier",null,"M102.01","M102.01","M102.01",null,null,null,"M202.01","M202.01","M202.01",null,null,null,"M302.01","M302.01","M302.01",null,null,null,"M402.01","M402.01","M402.01",null,null,null,null,"M","M","M","","","","M","M","M","","","","M","M","M","","","","M","M","M","","",""]
[null,null,{"$f":"IF(ISERR(VLOOKUP(WEEKDAY(C43,1),Traduction!$B$6:$E$250,'Info de l''escadron'!$A$1+1,0)),\"\",VLOOKUP(WEEKDAY(C43,1),Traduction!$B$6:$E$250,'Info de l''escadron'!$A$1+1,0))","v":""},null,"M102.01","M102.01","M102.01",null,null,null,"M202.01","M202.01","M202.01",null,null,null,"M302.01","M302.01","M302.01",null,null,null,"M402.01","M402.01","M402.01",null,null,null,null,"M","M","M","","","","M","M","M","","","","M","M","M","","","","M","M","M","","",""]
[null,null,"POC/MCP 12",{"$f":"VLOOKUP(52,Traduction!$B$6:$E$250,'Info de l''escadron'!$A$1+1,0)","v":"POC"},"MX04.03","CX04.01",null,null,null,null,"MX04.03",null,null,null,null,null,"MX04.03",null,null,null,null,null,"MX04.03"]
[null,null,"2017-10-28",null,"MX04.03","CX04.01",null,null,null,null,"MX04.03",null,null,null,null,null,"MX04.03",null,null,null,null,null,"MX04.03"]
[null,null,"PEPCA",null,"MX04.03","CX04.01",null,null,null,null,"MX04.03",null,null,null,null,null,"MX04.03",null,null,null,null,null,"MX04.03"]
[null,null,"POC/MCP 13",{"$f":"VLOOKUP(52,Traduction!$B$6:$E$250,'Info de l''escadron'!$A$1+1,0)","v":"POC"},null,null,null,null,null,null,null,null,null,null,null,null,null,null,null,null,null,null,null,null,null,null,null,null,null,"","","","","","","","","","","","","","","","","","","","","",{"$f":"LEFT(Z48,1)","v":""},{"$f":"LEFT(AA48,1)","v":""},{"$f":"LEFT(AB48,1)","v":""}]
[null,null,null,null,null,null,null,null,null,null,null,null,null,null,null,null,null,null,null,null,null,null,null,null,null,null,null,null,null,"","","","","","","","","","","","","","","","","","","","","","","",""]
[null,null,{"$f":"IF(ISERR(VLOOKUP(WEEKDAY(C49,1),Traduction!$B$6:$E$250,'Info de l''escadron'!$A$1+1,0)),\"\",VLOOKUP(WEEKDAY(C49,1),Traduction!$B$6:$E$250,'Info de l''escadron'!$A$1+1,0))","v":"Samedi"},null,null,null,null,null,null,null,null,null,null,null,null,null,null,null,null,null,null,null,null,null,null,null,null,null,null,"","","","","","","","","","","","","","","","","","","","","","","",""]
[null,null,"POC/MCP 14",{"$f":"VLOOKUP(52,Traduction!$B$6:$E$250,'Info de l''escadron'!$A$1+1,0)","v":"POC"},null,null,null,null,null,null,null,null,null,null,null,null,null,null,null,null,null,null,null,null,null,null,null,null,null,"","","","","","","","","","","","","","","","","","","","","","","",""]
[null,null,null,null,null,null,null,null,null,null,null,null,null,null,null,null,null,null,null,null,null,null,null,null,null,null,null,null,null,"","","","","","","","","","","","","","","","","","","","","","","",""]
[null,null,{"$f":"IF(ISERR(VLOOKUP(WEEKDAY(C52,1),Traduction!$B$6:$E$250,'Info de l''escadron'!$A$1+1,0)),\"\",VLOOKUP(WEEKDAY(C52,1),Traduction!$B$6:$E$250,'Info de l''escadron'!$A$1+1,0))","v":"Samedi"},null,null,null,null,null,null,null,null,null,null,null,null,null,null,null,null,null,null,null,null,null,null,null,null,null,null,"","","","","","","","","","","","","","","","","","","","","","","",""]
[null,null,"POC/MCP 15",{"$f":"VLOOKUP(52,Traduction!$B$6:$E$250,'Info de l''escadron'!$A$1+1,0)","v":"POC"},null,null,null,null,null,null,null,null,null,null,null,null,null,null,null,null,null,null,null,null,null,null,null,null,null,"","","","","","","","","","","","","","","","","","","","","","","",""]
[null,null,null,null,null,null,null,null,null,null,null,null,null,null,null,null,null,null,null,null,null,null,null,null,null,null,null,null,null,"","","","","","","","","","","","","","","","","","","","","","","",""]
[null,null,{"$f":"IF(ISERR(VLOOKUP(WEEKDAY(C55,1),Traduction!$B$6:$E$250,'Info de l''escadron'!$A$1+1,0)),\"\",VLOOKUP(WEEKDAY(C55,1),Traduction!$B$6:$E$250,'Info de l''escadron'!$A$1+1,0))","v":"Samedi"},null,null,null,null,null,null,null,null,null,null,null,null,null,null,null,null,null,null,null,null,null,null,null,null,null,null,"","","","","","","","","","","","","","","","","","","","","","","",""]
[null,null,"POC/MCP 16",{"$f":"VLOOKUP(52,Traduction!$B$6:$E$250,'Info de l''escadron'!$A$1+1,0)","v":"POC"},null,null,null,null,null,null,null,null,null,null,null,null,null,null,null,null,null,null,null,null,null,null,null,null,null,"","","","","","","","","","","","","","","","","","","","","","","",""]
[null,null,null,null,null,null,null,null,null,null,null,null,null,null,null,null,null,null,null,null,null,null,null,null,null,null,null,null,null,"","","","","","","","","","","","","","","","","","","","","","","",""]
[null,null,{"$f":"IF(ISERR(VLOOKUP(WEEKDAY(C58,1),Traduction!$B$6:$E$250,'Info de l''escadron'!$A$1+1,0)),\"\",VLOOKUP(WEEKDAY(C58,1),Traduction!$B$6:$E$250,'Info de l''escadron'!$A$1+1,0))","v":"Samedi"},null,null,null,null,null,null,null,null,null,null,null,null,null,null,null,null,null,null,null,null,null,null,null,null,null,null,"","","","","","","","","","","","","","","","","","","","","","","",""]
[null,null,"POC/MCP 17",{"$f":"VLOOKUP(52,Traduction!$B$6:$E$250,'Info de l''escadron'!$A$1+1,0)","v":"POC"},null,null,null,null,null,null,null,null,null,null,null,null,null,null,null,null,null,null,null,null,null,null,null,null,null,"","","","","","","","","","","","","","","","","","","","","","","",""]
[null,null,"2016-02-06",null,null,null,null,null,null,null,null,null,null,null,null,null,null,null,null,null,null,null,null,null,null,null,null,null,null,"","","","","","","","","","","","","","","","","","","","","","","",""]
[null,null,{"$f":"IF(ISERR(VLOOKUP(WEEKDAY(C61,1),Traduction!$B$6:$E$250,'Info de l''escadron'!$A$1+1,0)),\"\",VLOOKUP(WEEKDAY(C61,1),Traduction!$B$6:$E$250,'Info de l''escadron'!$A$1+1,0))","v":"Samedi"},null,null,null,null,null,null,null,null,null,null,null,null,null,null,null,null,null,null,null,null,null,null,null,null,null,null,"","","","","","","","","","","","","","","","","","","","","","","",""]
[null,null,"POC/MCP 18",{"$f":"VLOOKUP(52,Traduction!$B$6:$E$250,'Info de l''escadron'!$A$1+1,0)","v":"POC"},null,null,null,null,null,null,null,null,null,null,null,null,null,null,null,null,null,null,null,null,null,null,null,null,null,"","","","","","","","","","","","","","","","","","","","","","","",""]
[null,null,null,null,null,null,null,null,null,null,null,null,null,null,null,null,null,null,null,null,null,null,null,null,null,null,null,null,null,"","","","","","","","","","","","","","","","","","","","","","","",""]
[null,null,{"$f":"IF(ISERR(VLOOKUP(WEEKDAY(C64,1),Traduction!$B$6:$E$250,'Info de l''escadron'!$A$1+1,0)),\"\",VLOOKUP(WEEKDAY(C64,1),Traduction!$B$6:$E$250,'Info de l''escadron'!$A$1+1,0))","v":"Samedi"},null,null,null,null,null,null,null,null,null,null,null,null,null,null,null,null,null,null,null,null,null,null,null,null,null,null,"","","","","","","","","","","","","","","","","","","","","","","",""]
[null,null,"POC/MCP 19",{"$f":"VLOOKUP(52,Traduction!$B$6:$E$250,'Info de l''escadron'!$A$1+1,0)","v":"POC"},null,null,null,null,null,null,null,null,null,null,null,null,null,null,null,null,null,null,null,null,null,null,null,null,null,"","","","","","","","","","","","","","","","","","","","","","","",""]
[null,null,null,null,null,null,null,null,null,null,null,null,null,null,null,null,null,null,null,null,null,null,null,null,null,null,null,null,null,"","","","","","","","","","","","","","","","","","","","","","","",""]
[null,null,{"$f":"IF(ISERR(VLOOKUP(WEEKDAY(C67,1),Traduction!$B$6:$E$250,'Info de l''escadron'!$A$1+1,0)),\"\",VLOOKUP(WEEKDAY(C67,1),Traduction!$B$6:$E$250,'Info de l''escadron'!$A$1+1,0))","v":"Samedi"},null,null,null,null,null,null,null,null,null,null,null,null,null,null,null,null,null,null,null,null,null,null,null,null,null,null,"","","","","","","","","","","","","","","","","","","","","","","",""]
[null,null,"POC/MCP 20",{"$f":"VLOOKUP(52,Traduction!$B$6:$E$250,'Info de l''escadron'!$A$1+1,0)","v":"POC"},null,null,null,null,null,null,null,null,null,null,null,null,null,null,null,null,null,null,null,null,null,null,null,null,null,"","","","","","","","","","","","","","","","","","","","","","","",""]
[null,null,"xx sept 15",null,null,null,null,null,null,null,null,null,null,null,null,null,null,null,null,null,null,null,null,null,null,null,null,null,null,"","","","","","","","","","","","","","","","","","","","","","","",""]
[null,null,{"$f":"IF(ISERR(VLOOKUP(WEEKDAY(C70,1),Traduction!$B$6:$E$250,'Info de l''escadron'!$A$1+1,0)),\"\",VLOOKUP(WEEKDAY(C70,1),Traduction!$B$6:$E$250,'Info de l''escadron'!$A$1+1,0))","v":""},null,null,null,null,null,null,null,null,null,null,null,null,null,null,null,null,null,null,null,null,null,null,null,null,null,null,"","","","","","","","","","","","","","","","","","","","","","","",""]

{"sheet":"Horaire","index":9,"n_rows":203,"n_cols":33,"rows_kept":203,"cut":false,"hidden":false,"merged":[[2,25,2,27],[2,22,2,24],[124,4,124,23],[125,4,126,23],[2,19,2,21],[2,13,2,15],[2,16,2,18],[2,4,2,6],[2,7,2,9],[2,10,2,12],[74,4,74,23],[75,4,76,23],[119,4,119,23],[120,4,121,23],[0,2,0,23],[1,2,1,23],[187,4,189,23],[167,4,169,23],[129,4,131,23],[182,4,184,23],[2,1,2,3],[3,1,3,2],[4,4,6,23],[162,4,162,23],[163,4,164,23],[134,4,136,23],[29,4,29,23],[30,4,31,23],[9,4,11,23],[199,4,199,23],[200,4,200,23],[201,4,201,23],[54,4,54,23],[55,4,56,23],[59,4,59,23],[60,4,61,23],[79,4,91,23],[94,4,96,23],[196,4,198,23]]}
[null,null,"Escadron 827 Longueuil"]
[null,null,"Séances d'instruction hebdomadaires"]
[null,null,null,null,{"$f":"VLOOKUP(27,Traduction!$B$6:$E$250,'Info de l''escadron'!$A$1+1,0)","v":"Niveau 1"},null,null,{"$f":"VLOOKUP(153,Traduction!$B$6:$E$250,'Info de l''escadron'!$A$1+1,0)","v":"Niveau 1B"},null,null,{"$f":"VLOOKUP(28,Traduction!$B$6:$E$250,'Info de l''escadron'!$A$1+1,0)","v":"Niveau 2"},null,null,{"$f":"VLOOKUP(155,Traduction!$B$6:$E$250,'Info de l''escadron'!$A$1+1,0)","v":"Niveau 2B"},null,null,{"$f":"VLOOKUP(29,Traduction!$B$6:$E$250,'Info de l''escadron'!$A$1+1,0)","v":"Niveau 3"},null,null,{"$f":"VLOOKUP(188,Traduction!$B$6:$E$250,'Info de l''escadron'!$A$1+1,0)","v":"Niveau 3B"},null,null,{"$f":"VLOOKUP(30,Traduction!$B$6:$E$250,'Info de l''escadron'!$A$1+1,0)","v":"Niveau 4"},null,null,{"$f":"VLOOKUP(228,Traduction!$B$6:$E$250,'Info de l''escadron'!$A$1+1,0)","v":"Niveau 4B"}]
[null,{"$f":"VLOOKUP(40,Traduction!$B$6:$E$250,'Info de l''escadron'!$A$1+1,0)","v":"Date"},null,{"$f":"VLOOKUP(138,Traduction!$B$6:$E$250,'Info de l''escadron'!$A$1+1,0)","v":"Période"},{"$f":"VLOOKUP(65,Traduction!$B$6:$E$250,'Info de l''escadron'!$A$1+1,0)","v":"OCOM"},{"$f":"VLOOKUP(42,Traduction!$B$6:$E$250,'Info de l''escadron'!$A$1+1,0)","v":"Instructeur"},{"$f":"VLOOKUP(140,Traduction!$B$6:$E$250,'Info de l''escadron'!$A$1+1,0)","v":"Local"},{"$f":"E4","v":"OCOM"},"Instructeur","Local","OCOM","Instructeur","Local","OCOM","Instructeur","Local","OCOM","Instructeur","Local",{"$f":"Q4","v":"OCOM"},{"$f":"R4","v":"Instructeur"},{"$f":"S4","v":"Local"},{"$f":"Q4","v":"OCOM"},"Instructeur","Local","OCOM","Instructeur","Local"]
[1,1,"2019-09-05",1,"Formation staff TI et Leadership 29 aout et 5-7 sept"]
[1.2,null,{"$f":"VLOOKUP(WEEKDAY(C5,1),Traduction!$B$6:$E$250,'Info de l''escadron'!$A$1+1,0)","v":"Jeudi"},2]
[1.4,null,null,3]
[1.6,null,{"$f":"WEEKNUM(C5)","v":36},4]
[1.8,null,null,5]
[2,{"$f":"IF(WEEKNUM(C10)<35,53,0)+WEEKNUM(C10)-$C$8+1","v":2},{"$f":"C5+7","v":"2019-09-12"},1,"RETOUR, INSCRIPTIONS ET MISE  À JOUR DES DOSSIERS "]
[2.2000000000000002,null,{"$f":"VLOOKUP(WEEKDAY(C10,1),[1]Traduction!$B$6:$E$250,'[1]Info de l''escadron'!$A$1+1,0)","v":"Jeudi"},2]
[2.4,null,null,3]
[2.6,null,null,4]
[2.8,null,null,5]
[3,{"$f":"IF(WEEKNUM(C15)<35,53,0)+WEEKNUM(C15)-$C$8+1","v":3},{"$f":"C10+7","v":"2019-09-19"},1,"M107.01","Adj2 Emond",null,null,null,null,"M240.01","Adj Mannorind",null,null,null,null,"M331.01","IC Hammami",null,null,null,null,"M403.01","Ltv Henrichon",null,null,null,null,"Capt Viau","O",null,"Adj Emond",6]
[3.2,null,{"$f":"VLOOKUP(WEEKDAY(C15,1),[1]Traduction!$B$6:$E$250,'[1]Info de l''escadron'!$A$1+1,0)","v":"Jeudi"},2,"C107.03","Staff/off niv1 AC",null,null,null,null,"M207.01","Adj2 Emond",null,null,null,null,"M303.01","IC Léandre",null,null,null,null,"M431.01","IC Hammami",null,null,null,null,"Ltv Henrichon",1,null,"Sgt Archambault",1]
[3.4,null,null,3,"M108.01","Sgts Lemay E",null,null,null,null,"M260.01","IC Hammami",null,null,null,null,"M307.01","Adj2 Emond",null,null,null,null,"M408.04","Sgt Archambault",null,null,null,null,"Capt Sandaev",2,null,"Sgt Bamba","O"]
[3.6,null,null,4]
[3.8,null,null,5]
[4,{"$f":"IF(WEEKNUM(C20)<35,53,0)+WEEKNUM(C20)-$C$8+1","v":4},{"$f":"C15+7","v":"2019-09-26"},1,"M107.05","Adj2 Emond",null,null,null,null,"C203.04","IC Ton",null,null,null,null,"M303.01","IC Léandre",null,null,null,null,"C303.01","Elof Vandal",null,null,null,null,"IC Hammami",3,null,"Sgt Franco","O"]
[4.2,null,{"$f":"VLOOKUP(WEEKDAY(C20,1),Traduction!$B$6:$E$250,'Info de l''escadron'!$A$1+1,0)","v":"Jeudi"},2,"M107.05","Adj2 Emond",null,null,null,null,"C108.01","Sgts Lemay A",null,null,null,null,"M331.01","Capt Sandaev",null,null,null,null,"M403.02","Ltv Henrichon",null,null,null,null,"IC Léandre ",4,null,"Sgt Lemay A",2]
[4.4000000000000004,null,null,3,"C107.01","Adj2 Emond",null,null,null,null,"M208.02","Sgts Lemay A",null,null,null,null,"C203.02","IC Léandre",null,null,null,null,"M431.02","Capt Sandaev",null,null,null,null,"IC Ton",1,null,"Sgt Lemay E",1]
[4.5999999999999996,null,null,4,null,null,null,null,null,null,null,"Sgts Hesse",null,null,null,null,null,null,null,null,null,null,null,"Capt LeVasseur"]
[4.8,null,null,5,null,null,null,null,null,null,null,"Sgts Hesse",null,null,null,null,null,null,null,null,null,null,null,"Capt LeVasseur"]
[5,{"$f":"IF(WEEKNUM(C25)<35,53,0)+WEEKNUM(C25)-$C$8+1","v":5},{"$f":"C20+7","v":"2019-10-03"},1,"M100.03","Capt Germain",null,null,null,null,"M203.01","Adj2 Emond",null,null,null,null,"M303.02","IC Léandre",null,null,null,null,"M431.02","Capt Sandaev",null,null,null,null,"Elof Vandal",1,null,"??? Staff niv1",1]
[5.2,null,{"$f":"VLOOKUP(WEEKDAY(C25,1),Traduction!$B$6:$E$250,'Info de l''escadron'!$A$1+1,0)","v":"Jeudi"},2,"M100.04","Capt Germain",null,null,null,null,"M207.02","Sgt Bamba",null,null,null,null,"C203.02","IC Léandre",null,null,null,null,"M407.01","Capt Viau",null,null,null,null,null,{"$f":"SUM(AD16:AD25)","v":12},null,null,{"$f":"SUM(AG15:AG25)","v":11}]
[5.4,null,null,3,"M100.04","Capt Germain",null,null,null,null,"M231.01","Sgts Franco",null,null,null,null,"C308.01","Sgt Archambault",null,null,null,null,"M403.02","Ltv Henrichon",null,null,null,null,"Total: 24 périodes septembre"]
[5.6,null,null,4]
[5.8,null,null,5]
[6,{"$f":"IF(WEEKNUM(C30)<35,53,0)+WEEKNUM(C30)-$C$8+1","v":6},{"$f":"C25+7","v":"2019-10-10"},1,"RÉGIE DE NIVEAU"]
[6.2,null,{"$f":"VLOOKUP(WEEKDAY(C30,1),Traduction!$B$6:$E$250,'Info de l''escadron'!$A$1+1,0)","v":"Jeudi"},2,"PARADE DU COMMANDANT"]
[6.4,null,null,3]
[6.6,null,null,4]
[6.8,null,null,5]
[7,{"$f":"IF(WEEKNUM(C35)<35,53,0)+WEEKNUM(C35)-$C$8+1","v":7},{"$f":"C30+7","v":"2019-10-17"},1,"M100.01","Capt Germain",null,null,null,null,"MX20.01E","Capt Duarte",null,null,null,null,"M340.01","Elof Vandal",null,null,null,null,"M403.03","Ltv Henrichon",null,null,null,null,"Capt Viau",2,null,"Adj Emond",1]
[7.2,null,{"$f":"VLOOKUP(WEEKDAY(C35,1),Traduction!$B$6:$E$250,'Info de l''escadron'!$A$1+1,0)","v":"Jeudi"},2,"M100.01","Capt Germain",null,null,null,null,"M203.02","IC Léandre",null,null,null,null,"M340.02","Elof Vandal",null,null,null,null,"M432.01","Capt Sandaev",null,null,null,null,"Capt Duarte",3,null,"Sgt Archambault",1]
[7.4,null,null,3,"M100.02","Capt Germain"," ",null,null,null,"M270.01","IC Hammami",null,null,null,null,"M307.03","Mme Hammond",null,null,null,null,"M490.01","Sgts Lemay A",null,null,null,null,"Capt Germain",2,null,"Sgt Bamba",2]
[7.6,null,null,4,null,null,null,null,null,null,null,"Slt Galic",null,null,null,null,null,null,null,null,null,null,null,null,null,null,null,null,"Capt Sandaev"]
[7.8,null,null,5,null,null,null,null,null,null,null,"Slt Galic"]
[8,{"$f":"IF(WEEKNUM(C40)<35,53,0)+WEEKNUM(C40)-$C$8+1","v":8},{"$f":"C35+7","v":"2019-10-24"},1,"M190.01","Sgts Lemay A",null,null,null,null,"M270.01","IC Hammami",null,null,null,null,"C309.04","Capt Germain",null,null,null,null,"M403.03","Ltv Henrichon",null,null,null,null,"Ltv Henrichon",7,null,"Sgt Franco",3]
[8.1999999999999993,null,{"$f":"VLOOKUP(WEEKDAY(C40,1),Traduction!$B$6:$E$250,'Info de l''escadron'!$A$1+1,0)","v":"Jeudi"},2," M190.02","Sgts Lemay A",null,null,null,null,"C203.03","IC Léandre",null,null,null,null,"C309.05","Capt Germain",null,null,null,null,"M440.02","IC Ton",null,null,null,null,"Capt Sandaev",3,null,"Sgt Lemay A",3]
[8.4,null,null,3,"M108.02","Sgts Lemay E"," ",null,null,null,"M231.01","Sgts Franco",null,null,null,null,"M303.03","IC Léandre",null,null,null,null,"M440.02","IC Ton",null,null,null,null,"Lt Galic",1,null,"Sgt Lemay E",2]
[8.6,null,null,4,null,null,null,null,null,null,null,null,null,null,null,null,null,null,null,null,null,null,null,null,null,null,null,null,"IC Léandre "]
[8.8000000000000007,null,null,5,null,null,null,null,null,null,null,null,null,null,null,null,null,null,null,null,null,null,null,null,null,null,null,null,"IC Ton"]
[9,{"$f":"IF(WEEKNUM(C45)<35,53,0)+WEEKNUM(C45)-$C$8+1","v":9},{"$f":"C40+7","v":"2019-10-31"},1,"M103.01","Capt Viau",null,null,null,null,"M270.02","IC Hammami",null,null,null,null,"M307.02","Elof Vandal",null,null,null,null,"C409.06","Capt Duarte",null,null,null,null,"Slt Chevrier","O",null,"??? Staff niv1","O"]
[9.1999999999999993,null,{"$f":"VLOOKUP(WEEKDAY(C45,1),Traduction!$B$6:$E$250,'Info de l''escadron'!$A$1+1,0)","v":"Jeudi"},2,"M107.02","Sgt Bamba",null,null,null,null,"M231.03","Sgts Franco",null,null,null,null,"M303.04","IC Léandre",null,null,null,null,"tampon","Capt Duarte",null,null,null,null,"IC Hammami",3,null,"période tampon",1]
[9.4,null,null,3,"M108.03","Sgts Lemay E",null,null,null,null,"M232.01","Lt Galic",null,null,null,null,"C340.01","IC Ton",null,null,null,null,"M407.02","Elof Vandal",null,null,null,null,"IC Léandre ",8,null,null,{"$f":"SUM(AG35:AG46)","v":13}]
[9.6,null,null,4,null,null,null,null,null,null,null,null,null,null,null,null,null,null,null,null,null,null,null,"Capt LeVasseur",null,null,null,null,"IC Ton"]
[9.8000000000000007,null,null,5,null,null,null,null,null,null,null,null,null,null,null,null,null,null,null,null,null,null,null,"Capt LeVasseur"]
[10,{"$f":"IF(WEEKNUM(C50)<35,53,0)+WEEKNUM(C50)-$C$8+1","v":10},{"$f":"C45+7","v":"2019-11-07"},1,"C107.02","Elof Vandal",null,null,null,null,"M207.03","Mme Hammond",null,null,null,null,"M303.04","IC Léandre",null,null,null,null,"M432.02","Capt Sandaev",null,null,null,null,"IC Ton",3]
[10.199999999999999,null,{"$f":"VLOOKUP(WEEKDAY(C50,1),Traduction!$B$6:$E$250,'Info de l''escadron'!$A$1+1,0)","v":"Jeudi"},2,"M103.02","Capt Viau",null,null,null,null,"M203.03","IC Léandre",null,null,null,null,"C360.01","Sgts Franco",null,null,null,null,"C429.01","Capt Germain",null,null,null,null,"Elof Vandal",3]
[10.4,null,null,3,"M108.04","Sgts Lemay E",null,null,null,null,"M240.03","Elof Vandal",null,null,null,null,"C309.05","Slt Chevrier",null,null,null,null,"C429.02","Capt Germain",null,null,null,null,"Mme Hammond",1,null,"Total 48 périodes octobre"]
[10.6,null,null,4,null,null,null,null,null,null,null,null,null,null,null,null,null,null,null,null,null,null,null,null,null,null,null,null,null,{"$f":"SUM(AD35:AD52)","v":36}]
[10.8,null,null,5]
[11,{"$f":"IF(WEEKNUM(C55)<35,53,0)+WEEKNUM(C55)-$C$8+1","v":11},{"$f":"C50+7","v":"2019-11-14"},1,"Quiz théoriques des Oniv",null,null,null,null,null,null,null,null,null,null,null,null,null,null,null,null,null,null,null,null,null,null,null,null,{"$f":"SUM(AD53)","v":36}]
[11.2,null,{"$f":"VLOOKUP(WEEKDAY(C55,1),Traduction!$B$6:$E$250,'Info de l''escadron'!$A$1+1,0)","v":"Jeudi"},2,"Photo"]
[11.4,null,null,3]
[11.6,null,null,4]
[11.8,null,null,5]
[12,{"$f":"IF(WEEKNUM(C60)<35,53,0)+WEEKNUM(C60)-$C$8+1","v":12},{"$f":"C55+7","v":"2019-11-21"},1,null,null,null,null,null,null,null,null,null,null,null,null,null,null,null,null,null,null,null,null,null,null,null,null,"Capt Viau",4,null,"Adj ???0","O"]
[12.2,null,{"$f":"VLOOKUP(WEEKDAY(C60,1),Traduction!$B$6:$E$250,'Info de l''escadron'!$A$1+1,0)","v":"Jeudi"},2,"  SOIRÉE SPORT NECPC( Lt Galic)",null,null,null,null,null,null,null,null,null,null,null,null,null,null,null,null,null,null,null,null,null,null,null,"Capt Duarte","O",null,"Sgt Archambault",2]
[12.4,null,null,3,null,null,null,null,null,null,null,null,null,null,null,null,null,null,null,null,null,null,null,null,null,null,null,null,"Capt Germain",6,null,"Sgt Bamba",1]
[12.6,null,null,4,null,null,null,null,null,null,null,null,null,null,null,null,null,null,null,null,null,null,null,null,null,null,null,null,"Capt Sandaev"]
[12.8,null,null,5]
[13,{"$f":"IF(WEEKNUM(C65)<35,53,0)+WEEKNUM(C65)-$C$8+1","v":13},{"$f":"C60+7","v":"2019-11-28"},1,"M103.03","Capt Viau",null,null,null,null,"M231.02","Lt Galic",null,null,null,null,"M336.01","Capt Sandaev",null,null,null,null,"M403.04","Ltv Henrichon",null,null,null,null,"Ltv Henrichon",2,null,"Sgt Franco",2]
[13.2,null,{"$f":"VLOOKUP(WEEKDAY(C65,1),Traduction!$B$6:$E$250,'Info de l''escadron'!$A$1+1,0)","v":"Jeudi"},2,"M130.01","Sgts Franco",null,null,null,null,"M203.04","Capt Viau",null,null,null,null,"M309.01","Capt Germain",null,null,null,null,"M403.04","Ltv Henrichon",null,null,null,null,"Capt Sandaev",4,null,"Sgt Lemay A",1]
[13.4,null,null,3,"M108.05","Sgts Lemay E",null,null,null,null,"C203.05","Elof Vandal",null,null,null,null,"M309.01","Capt Germain",null,null,null,null,"M408.01","Sgt Archambault",null,null,null,null,"Lt Galic",2,null,"Sgt Lemay E",2]
[13.6,null,null,4,null,null,null,null,null,null,null,null,null,null,null,null,null,null,null,null,null,null,null,null,null,null,null,null,"IC Léandre "]
[13.8,null,null,5,null,null,null,null,null,null,null,null,null,null,null,null,null,null,null,null,null,null,null,null,null,null,null,null,"IC Ton"]
[14,{"$f":"IF(WEEKNUM(C70)<35,53,0)+WEEKNUM(C70)-$C$8+1","v":14},{"$f":"C65+7","v":"2019-12-05"},1,"M107.04","Sgt Bamba",null,null,null,null,"M231.02","Capt Sandaev",null,null,null,null,"M309.02","Capt Germain",null,null,null,null,"M409.01","Slt Chevrier",null,null,null,null,"Slt Chevrier",2,null,"??? Staff niv1","O"]
[14.2,null,{"$f":"VLOOKUP(WEEKDAY(C70,1),Traduction!$B$6:$E$250,'Info de l''escadron'!$A$1+1,0)","v":"Jeudi"},2,"MX01.01H","Capt. Duarte",null,null,null,null,"M232.02","Lt Galic",null,null,null,null,"M303.05","IC Léandre",null,null,null,null,"C429.04"," Capt Germain",null,null,null,null,"IC Hammami","O",null,"période tampon","O"]
[14.4,null,null,3,"M103.03","Capt Viau",null,null,null,null,"M208.01","Sgts Lemay A",null,null,null,null,"M336.02","Capt Sandaev",null,null,null,null,"M408.02","Sgt Archambault",null,null,null,null,"IC Léandre ",3,null,null,{"$f":"SUM(AG61:AG71)","v":8}]
[14.6,null,null,4,null,null,null,null,null,null,null,null,null,null,null,null,null,null,null,null,null,null,null,null,null,null,null,null,"IC Ton"]
[14.8,null,null,5]
[15,{"$f":"IF(WEEKNUM(C75)<35,53,0)+WEEKNUM(C75)-$C$8+1","v":15},{"$f":"C70+7","v":"2019-12-12"},1,"RÉGIE DE SECTION/NIVEAU( photo)",null,null,null,null,null,null,null,null,null,null,null,null,null,null,null,null,null,null,null,null,null,null,null,"IC Ton","O"]
[15.2,null,{"$f":"VLOOKUP(WEEKDAY(C75,1),Traduction!$B$6:$E$250,'Info de l''escadron'!$A$1+1,0)","v":"Jeudi"},2,"PARADE DU COMMANDANT Semie annuelle 12 ou 19?",null,null,null,null,null,null,null,null,null,null,null,null,null,null,null,null,null,null,null,null,null,null,null,"Elof Vandal",3]
[15.4,null,null,3,null,null,null,null,null,null,null,null,null,null,null,null,null,null,null,null,null,null,null,null,null,null,null,null,"Mme Hammond",2,null,"Total 36 périodes novembre/décembre"]
[15.6,null,null,4,null,null,null,null,null,null,null,null,null,null,null,null,null,null,null,null,null,null,null,null,null,null,null,null,null,{"$f":"SUM(AD60:AD77)","v":28}]
[15.8,null,null,5]
[16,{"$f":"IF(WEEKNUM(C80)<35,53,0)+WEEKNUM(C80)-$C$8+1","v":16},{"$f":"C75+7","v":"2019-12-19"},1,"RELÂCHE JOYEUSES FÊTES ET BONNE ANNÉE!!",null,null,null,null,null,null,null,null,null,null,null,null,null,null,null,null,null,null,null,null,null,null,null,null,{"$f":"SUM(AD78)","v":28}]
[16.2,null,{"$f":"VLOOKUP(WEEKDAY(C80,1),Traduction!$B$6:$E$250,'Info de l''escadron'!$A$1+1,0)","v":"Jeudi"},2]
[16.399999999999999,null,null,3]
[16.600000000000001,null,null,4]
[16.8,null,null,5]
[17,{"$f":"IF(WEEKNUM(C85)<35,53,0)+WEEKNUM(C85)-$C$8+1","v":17},{"$f":"C80+7","v":"2019-12-26"},1]
[17.2,null,{"$f":"VLOOKUP(WEEKDAY(C85,1),Traduction!$B$6:$E$250,'Info de l''escadron'!$A$1+1,0)","v":"Jeudi"},2]
[17.399999999999999,null,null,3]
[17.600000000000001,null,null,4]
[17.8,null,null,5]
[18,{"$f":"IF(WEEKNUM(C90)<35,53,0)+WEEKNUM(C90)-$C$8+1","v":19},{"$f":"C85+7","v":"2020-01-02"},1]
[18.2,null,{"$f":"VLOOKUP(WEEKDAY(C90,1),Traduction!$B$6:$E$250,'Info de l''escadron'!$A$1+1,0)","v":"Jeudi"},2]
[18.399999999999999,null,null,3]
[18.600000000000001,null,null,4]
[18.8,null,null,5]
[19,{"$f":"IF(WEEKNUM(C95)<35,53,0)+WEEKNUM(C95)-$C$8+1","v":20},{"$f":"C90+7","v":"2020-01-09"},1,"  SOIRÉE SPORT MX04.01 (Sgt Gandji /Sgt Archambault)",null,null,null,null,null,null,null,null,null,null,null,null,null,null,null,null,null,null,null,null,null,null,null,"Capt Viau",2,null,"Adj ???0","O"]
[19.2,null,{"$f":"VLOOKUP(WEEKDAY(C95,1),Traduction!$B$6:$E$250,'Info de l''escadron'!$A$1+1,0)","v":"Jeudi"},2,null,null,null,null,null,null,null,null,null,null,null,null,null,null,null,null,null,null,null,null,null,null,null,null,"Capt Duarte","O",null,"Sgt Archambault",3]
[19.399999999999999,null,null,3,null,null,null,null,null,null,null,null,null,null,null,null,null,null,null,null,null,null,null,null,null,null,null,null,"Capt Germain",8,null,"Sgt Bamba",3]
[19.600000000000001,null,null,4,null,null,null,null,null,null,null,null,null,null,null,null,null,null,null,null,null,null,null,null,null,null,null,null,"Capt Sandaev"]
[19.8,null,null,5]
[20,{"$f":"IF(WEEKNUM(C100)<35,53,0)+WEEKNUM(C100)-$C$8+1","v":21},{"$f":"C95+7","v":"2020-01-16"},1,"M107.03","Sgt Lemay E",null,null,null,null,"M232.02","Lt Galic",null,null,null,null,"M309.02","Capt Germain",null,null,null,null,"Tampon","Capt Viau (pep talk)",null,null,null,null,"Ltv Henrichon",3,null,"Sgt Franco",2]
[20.2,null,{"$f":"VLOOKUP(WEEKDAY(C100,1),Traduction!$B$6:$E$250,'Info de l''escadron'!$A$1+1,0)","v":"Jeudi"},2,"M130.01","Sgts Franco",null,null,null,null,"M231.03","IC Hammami",null,null,null,null,"M303.07","IC Léandre",null,null,null,null,"M409.01","Capt Germain",null,null,null,null,"Capt Sandaev",5,null,"Sgt Lemay A","O"]
[20.399999999999999,null,null,3,"M108.06","Sgt Lemay E",null,null,null,null,"M203.04","IC Léandre",null,null,null,null,"M336.03","IC Hammami",null,null,null,null,"M408.03","Sgt Archambault",null,null,null,null,"Lt Galic",4,null,"Sgt Lemay E",5]
[20.6,null,null,4,null,null,null,null,null,null,null,null,null,null,null,null,null,"Capt LeVasseur",null,null,null,null,null,null,null,null,null,null,"IC Léandre "]
[20.8,null,null,5,null,null,null,null,null,null,null,null,null,null,null,null,null,"Capt LeVasseur",null,null,null,null,null,null,null,null,null,null,"IC Ton"]
[21,{"$f":"IF(WEEKNUM(C105)<35,53,0)+WEEKNUM(C105)-$C$8+1","v":22},{"$f":"C100+7","v":"2020-01-23"},1,"M108.07","Sgt Lemay E",null,null,null,null,"M203.05","Capt Viau",null,null,null,null,"M337.01","IC Hammami\\franco",null,null,null,null,"M403.05","Capt Germain",null,null,null,null,"Slt Chevrier","O",null,"??? Staff niv1","O"]
[21.2,null,{"$f":"VLOOKUP(WEEKDAY(C105,1),Traduction!$B$6:$E$250,'Info de l''escadron'!$A$1+1,0)","v":"Jeudi"},2,"M130.02","Lt Galic",null,null,null,null,"M231.04","Adj 2 Franco",null,null,null,null,"M303.07","IC Léandre",null,null,null,null,"M409.02","Capt Germain",null,null,null,null,"IC Hammami",1,null,"période tampon","O"]
[21.4,null,null,3,"C107.04","IC Léandre",null,null,null,null,"C232.02","Lt Galic",null,null,null,null,"M309.03","Capt Germain",null,null,null,null,"M432.03","IC Hammami/franco",null,null,null,null,"IC Léandre ",8,null,null,{"$f":"SUM(AG96:AG106)","v":13}]
[21.6,null,null,4,null,null,null,null,null,null,null,null,null,null,null,null,null,null,null,null,null,null,null,null,null,null,null,null,"IC Ton"]
[21.8,null,null,5]
[22,{"$f":"IF(WEEKNUM(C110)<35,53,0)+WEEKNUM(C110)-$C$8+1","v":23},{"$f":"C105+7","v":"2020-01-30"},1,"M130.03","Sgts Bamba",null,null,null,null,"M232.03","Lt Galic",null,null,null,null,"M303.05","Elof Vandal",null,null,null,null,"M409.02","Capt Germain",null,null,null,null,"IC Ton",2]
[22.2,null,{"$f":"VLOOKUP(WEEKDAY(C110,1),Traduction!$B$6:$E$250,'Info de l''escadron'!$A$1+1,0)","v":"Jeudi"},2,"M130.03","Sgts Bamba",null,null,null,null,"M203.06","Elof Vandal",null,null,null,null,"M309.04","Capt Germain",null,null,null,null,"M436.02","IC Hammami/franco",null,null,null,null,"Elof Vandal",2]
[22.4,null,null,3,"M108.08","Sgt Lemay E",null,null,null,null,"M203.06","Elof Vandal",null,null,null,null,"M308.01","Sgt Archambault",null,null,null,null,"M403.05","Capt Germain",null,null,null,null,"Mme Hammond","O",null,"Total 48 périodes janvier/février"]
[22.6,null,null,4,null,null,null,null,null,null,null,null,null,null,null,null,null,null,null,null,null,null,null,null,null,null,null,null,null,{"$f":"SUM(AD95:AD112)","v":35}]
[22.8,null,null,5]
[23,{"$f":"IF(WEEKNUM(C115)<35,53,0)+WEEKNUM(C115)-$C$8+1","v":24},{"$f":"C110+7","v":"2020-02-06"},1,"M130.04","Sgts Bamba",null,null,null,null,"M207.04","Elof Vandal",null,null,null,null,"M336.04","Capt Sandaev",null,null,null,null,"M403.06","Ltv Henrichon\\capt Germain",null,null,null,null,null,{"$f":"SUM(AD113)","v":35}]
[23.2,null,{"$f":"VLOOKUP(WEEKDAY(C115,1),Traduction!$B$6:$E$250,'Info de l''escadron'!$A$1+1,0)","v":"Jeudi"},2,"M107.06","Elof Vandal",null,null,null,null,"M232.03","Lt Galic",null,null,null,null,"M303.06","IC Léandre",null,null,null,null,"M409.03","Capt Germain"]
[23.4,null,null,3,"M108.09","Sgt Lemay E",null,null,null,null,"M260.02","Adj 2 Franco",null,null,null,null,"M309.05","Capt Germain",null,null,null,null,"C308.01","Sgt Archambault"]
[23.6,null,null,4]
[23.8,null,null,5]
[24,{"$f":"IF(WEEKNUM(C120)<35,53,0)+WEEKNUM(C120)-$C$8+1","v":25},{"$f":"C115+7","v":"2020-02-13"},1," Quizz ( O. Niveau) et"]
[24.2,null,{"$f":"VLOOKUP(WEEKDAY(C120,1),Traduction!$B$6:$E$250,'Info de l''escadron'!$A$1+1,0)","v":"Jeudi"},2,"Soirée Saint-Valentin\\ soirée culturelle ( IC LÉANDRE)"]
[24.4,null,null,3]
[24.6,null,null,4]
[24.8,null,null,5]
[25,{"$f":"IF(WEEKNUM(C125)<35,53,0)+WEEKNUM(C125)-$C$8+1","v":26},{"$f":"C120+7","v":"2020-02-20"},1,"RÉGIE DE SECTION/NIVEAU"]
[25.2,null,{"$f":"VLOOKUP(WEEKDAY(C125,1),Traduction!$B$6:$E$250,'Info de l''escadron'!$A$1+1,0)","v":"Jeudi"},2,"PARADE DU COMMANDANT"]
[25.4,null,null,3]
[25.6,null,null,4]
[25.8,null,null,5]
[26,{"$f":"IF(WEEKNUM(C130)<35,53,0)+WEEKNUM(C130)-$C$8+1","v":27},{"$f":"C125+7","v":"2020-02-27"},1,"   NECPC ( Elof Vandal+ staff)"]
[26.2,null,{"$f":"VLOOKUP(WEEKDAY(C130,1),Traduction!$B$6:$E$250,'Info de l''escadron'!$A$1+1,0)","v":"Jeudi"},2]
[26.4,null,null,3]
[26.6,null,null,4]
[26.8,null,null,5]
[27,{"$f":"IF(WEEKNUM(C135)<35,53,0)+WEEKNUM(C135)-$C$8+1","v":28},{"$f":"C130+7","v":"2020-03-05"},1,"CONGÉ (semaine de relâche)",null,null,null,null,null,null,null,null,null,null,null,null,null,null,null,null,null,null,null,null,null,null,null,"Capt Viau","O",null,"Adj ???",1]
[27.2,null,{"$f":"VLOOKUP(WEEKDAY(C135,1),Traduction!$B$6:$E$250,'Info de l''escadron'!$A$1+1,0)","v":"Jeudi"},2,null,null,null,null,null,null,null,null,null,null,null,null,null,null,null,null,null,null,null,null,null,null,null,null,"Capt Duarte","O",null,"Sgt Archambault",2]
[27.4,null,null,3,null,null,null,null,null,null,null,null,null,null,null,null,null,null,null,null,null,null,null,null,null,null,null,null,"Capt Germain",5,null,"Sgt Bamba",2]
[27.6,null,null,4,null,null,null,null,null,null,null,null,null,null,null,null,null,null,null,null,null,null,null,null,null,null,null,null,"Capt Sandaev"]
[27.8,null,null,5]
[28,{"$f":"IF(WEEKNUM(C140)<35,53,0)+WEEKNUM(C140)-$C$8+1","v":29},{"$f":"C135+7","v":"2020-03-12"},1,"M160.01","IC Hammami",null,null,null,null,"M230.01","Adj 2 Franco",null,null,null,null,"M309.05","Capt Germain",null,null,null,null,"Tampon","Slt Chevrier",null,null,null,null,"Ltv Henrichon","O",null,"Sgt Franco",2]
[28.2,null,{"$f":"VLOOKUP(WEEKDAY(C140,1),Traduction!$B$6:$E$250,'Info de l''escadron'!$A$1+1,0)","v":"Jeudi"},2,"M160.02","IC Hammami",null,null,null,null,"M203.07","Sgt Bamba",null,null,null,null,"M303.06","IC Léandre",null,null,null,null,"M409.03","Capt Germain",null,null,null,null,"Capt Sandaev",5,null,"Sgt Lemay A",2]
[28.4,null,null,3,"M108.10","Sgt Lemay E",null,null,null,null,"M232.04","Lt Galic",null,null,null,null,"M308.01","Sgt Archambault",null,null,null,null,"M436.01","Adj 2 Franco",null,null,null,null,"Lt Galic",2,null,"Sgt Lemay E",2]
[28.6,null,null,4,null,null,null,null,null,null,null,null,null,null,null,null,null,null,null,null,null,null,null,null,null,null,null,null,"IC Léandre "]
[28.8,null,null,5,null,null,null,null,null,null,null,null,null,null,null,null,null,null,null,null,null,null,null,null,null,null,null,null,"IC Ton"]
[29,{"$f":"IF(WEEKNUM(C145)<35,53,0)+WEEKNUM(C145)-$C$8+1","v":30},{"$f":"C140+7","v":"2020-03-19"},1,"M129.01","Sgt Gandji",null,null,null,null,"M270.02","IC Hammami",null,null,null,null,"M309.06","Slt Chevrier",null,null,null,null,"M409.05","Capt Germain",null,null,null,null,"Slt Chevrier",2,null,"Sgt Gandji",1]
[29.2,null,{"$f":"VLOOKUP(WEEKDAY(C145,1),Traduction!$B$6:$E$250,'Info de l''escadron'!$A$1+1,0)","v":"Jeudi"},2,"C.140.02","IC Léandre",null,null,null,null,"M230.02","Adj 2 Franco",null,null,null,null,"M309.06","Slt Chevrier",null,null,null,null,"M437.01","Capt Sandaev",null,null,null,null,"IC Hammami",2,null,"période tampon",2]
[29.4,null,null,3,"M121.01","IC Hammami",null,null,null,null,"C232.01","Lt Galic",null,null,null,null,"M370.01","Capt Sandaev",null,null,null,null,"M409.05","Capt Germain",null,null,null,null,"IC Léandre ",2,null,null,{"$f":"SUM(AG135:AG146)","v":14}]
[29.6,null,null,4,null,null,null,null,null,null,null,null,null,null,null,null,null,"Capt LeVasseur",null,null,null,null,null,null,null,null,null,null,"IC Ton",null,null,null,{"$f":"SUM(AG135:AG147)","v":28}]
[29.8,null,null,5,null,null,null,null,null,null,null,null,null,null,null,null,null,"Capt LeVasseur"]
[null,{"$f":"IF(WEEKNUM(C150)<35,53,0)+WEEKNUM(C150)-$C$8+1","v":31},{"$f":"C145+7","v":"2020-03-26"},1,"C190.02","Ltv Henrichon",null,null,null,null,"M231.05","Adj 2 Franco",null,null,null,null,"M336.04","Capt Sandaev",null,null,null,null,"Tampon","Capt Germain",null,null,null,null,"IC Ton",4]
[null,null,{"$f":"VLOOKUP(WEEKDAY(C150,1),Traduction!$B$6:$E$250,'Info de l''escadron'!$A$1+1,0)","v":"Jeudi"},2,"C103.03","IC Léandre",null,null,null,null,"C207.01","Sgt Bamba",null,null,null,null,"M337.02","Capt Sandaev",null,null,null,null,"C309.05","Capt Duarte",null,null,null,null,"Elof Vandal",1]
[null,null,null,3,"C108.01","Sgt Lemay E",null,null,null,null,"M208.01","Adj 2 Franco",null,null,null,null,"M308.01","Sgt Archambault",null,null,null,null,"M436.02","Capt Sandaev",null,null,null,null,"Mme Hammond","O",null,"Total 36 périodes mars"]
[30,{"$f":"IF(WEEKNUM(C153)<35,53,0)+WEEKNUM(C153)-$C$8+1","v":32},{"$f":"C150+7","v":"2020-04-02"},1,"M160.03","Lt Galic",null,null,null,null,"M231.05","Adj 2 Franco",null,null,null,null,"M309.07","Capt Germain",null,null,null,null,"M437.01","Capt Sandaev",null,null,null,null,null,{"$f":"SUM(AD137:AD152)","v":23}]
[null,null,{"$f":"VLOOKUP(WEEKDAY(C153,1),Traduction!$B$6:$E$250,'Info de l''escadron'!$A$1+1,0)","v":"Jeudi"},2,"M160.03","Lt Galic",null,null,null,null,"M270.03","IC Hammami",null,null,null,null,"M309.07","Capt Germain",null,null,null,null,"M436.02","Capt Sandaev"]
[null,null,null,3,"C108.01","Sgt Lemay E",null,null,null,null,"M203.08","IC Léandre",null,null,null,null,"M309.07","Capt Germain",null,null,null,null,"M437.02","Capt Sandaev"]
[30.6,null,null,4,null,null,null,null,null,null,null,null,null,null,null,null,null,"IC Goyette"]
[30.8,null,null,5,null,null,null,null,null,null,null,null,null,null,null,null,null,"IC Goyette"]
[31,{"$f":"IF(WEEKNUM(C158)<35,53,0)+WEEKNUM(C158)-$C$8+1","v":33},{"$f":"C153+7","v":"2020-04-09"},1,"C108.01","Sgt Lemay E",null,null,null,null,"M240.02","Adj 2 Franco",null,null,null,null,"M309.07","Capt Germain",null,null,null,null,"M409.05","Slt Chevrier",null,null,null,null,"Capt Viau","O",null,"Adj ???","O"]
[31.2,null,{"$f":"VLOOKUP(WEEKDAY(C158,1),Traduction!$B$6:$E$250,'Info de l''escadron'!$A$1+1,0)","v":"Jeudi"},2,"C130.03","( ou tampon)IC Léandre",null,null,null,null,"M240.02","Adj 2 Franco",null,null,null,null,"M309.07","Capt Germain",null,null,null,null,"M409.05","Slt Chevrier",null,null,null,null,"Capt Duarte","O",null,"Sgt Archambault",1]
[31.4,null,null,3,"C130.03","( ou tampon)IC Léandre",null,null,null,null,"M270.03","IC Hammami",null,null,null,null,"M309.07","Capt Germain",null,null,null,null,"M409.05","Slt Chevrier",null,null,null,null,"Capt Germain",6,null,"Sgt Bamba",1]
[31.6,null,null,4,null,null,null,null,null,null,null,null,null,null,null,null,null,null,null,null,null,null,null,null,null,null,null,null,"Capt Sandaev"]
[31.8,null,null,5]
[32,{"$f":"IF(WEEKNUM(C163)<35,53,0)+WEEKNUM(C163)-$C$8+1","v":34},{"$f":"C158+7","v":"2020-04-16"},1,"RÉGIE DE SECTION/NIVEAU",null,null,null,null,null,null,null,null,null,null,null,null,null,null,null,null,null,null,null,null,null,null,null,"Ltv Henrichon","O",null,"Sgt Franco",3]
[32.200000000000003,null,{"$f":"VLOOKUP(WEEKDAY(C163,1),Traduction!$B$6:$E$250,'Info de l''escadron'!$A$1+1,0)","v":"Jeudi"},2,"PARADE DU COMMANDANT",null,null,null,null,null,null,null,null,null,null,null,null,null,null,null,null,null,null,null,null,null,null,null,"Capt Sandaev",5,null,"Sgt Lemay A","O"]
[32.4,null,null,3,null,null,null,null,null,null,null,null,null,null,null,null,null,null,null,null,null,null,null,null,null,null,null,null,"Lt Galic",1,null,"Sgt Lemay E",3]
[32.6,null,null,4,null,null,null,null,null,null,null,null,null,null,null,null,null,null,null,null,null,null,null,null,null,null,null,null,"IC Léandre "]
[32.799999999999997,null,null,5,null,null,null,null,null,null,null,null,null,null,null,null,null,null,null,null,null,null,null,null,null,null,null,null,"IC Ton"]
[33,{"$f":"IF(WEEKNUM(C168)<35,53,0)+WEEKNUM(C168)-$C$8+1","v":35},{"$f":"C163+7","v":"2020-04-23"},1,"  SOIRÉE SPORT MX04.01 (Sgt Gandji /Sgt Archambault)",null,null,null,null,null,null,null,null,null,null,null,null,null,null,null,null,null,null,null,null,null,null,null,"Slt Chevrier",6,null,"Sgts Fofana",2]
[33.200000000000003,null,{"$f":"VLOOKUP(WEEKDAY(C168,1),Traduction!$B$6:$E$250,'Info de l''escadron'!$A$1+1,0)","v":"Jeudi"},2,null,null,null,null,null,null,null,null,null,null,null,null,null,null,null,null,null,null,null,null,null,null,null,null,"IC Hammami",2,null,"période tampon",2]
[33.4,null,null,3,null,null,null,null,null,null,null,null,null,null,null,null,null,null,null,null,null,null,null,null,null,null,null,null,"IC Léandre ",1,null,null,{"$f":"SUM(AG159:AG169)","v":12}]
[33.6,null,null,4,null,null,null,null,null,null,null,null,null,null,null,null,null,null,null,null,null,null,null,null,null,null,null,null,"IC Ton",null,null,null,{"$f":"SUM(AG159:AG170)","v":24}]
[33.799999999999997,null,null,5]
[34,{"$f":"IF(WEEKNUM(C173)<35,53,0)+WEEKNUM(C173)-$C$8+1","v":36},{"$f":"C168+7","v":"2020-04-30"},1,"C108.01","Sgt Lemay E",null,null,null,null,"C240.03","Adj 2 Franco",null,null,null,null,"M370.02","Capt Sandaev",null,null,null,null,"M409.05","Slt Chevrier",null,null,null,null,"IC Ton",3]
[34.200000000000003,null,{"$f":"VLOOKUP(WEEKDAY(C173,1),Traduction!$B$6:$E$250,'Info de l''escadron'!$A$1+1,0)","v":"Jeudi"},2,"C130.03","( ou tampon)IC Léandre",null,null,null,null,"C240.01","Capt Germain",null,null,null,null,"M370.03","Capt Sandaev",null,null,null,null,"M409.05","Slt Chevrier",null,null,null,null,"Elof Vandal","O"]
[34.4,null,null,3,"C130.03","( ou tampon)IC Léandre",null,null,null,null,"C232.03","Lt Galic",null,null,null,null,"M308.02","Sgt Archambault",null,null,null,null,"M409.05","Slt Chevrier",null,null,null,null,"Mme Hammond","O",null,"Total 36 périodes avril/mai"]
[34.6,null,null,4,null,null,null,null,null,null,null,null,null,null,null,null,null,null,null,null,null,null,null,null,null,null,null,null,null,{"$f":"SUM(AD160:AD175)","v":24}]
[34.799999999999997,null,null,5]
[35,{"$f":"IF(WEEKNUM(C178)<35,53,0)+WEEKNUM(C178)-$C$8+1","v":37},{"$f":"C173+7","v":"2020-05-07"},1,null,null,null,null,null,null,null,null,null,null,null,null,null,null,null,null,null,null,null,null,null,null,null,null,null,{"$f":"SUM(AD176)","v":24}]
[35.200000000000003,null,{"$f":"VLOOKUP(WEEKDAY(C178,1),Traduction!$B$6:$E$250,'Info de l''escadron'!$A$1+1,0)","v":"Jeudi"},2,null,null,null,null,null,null,null,"Pratique de revue annuelle ou quiz?"]
[35.4,null,null,3,null,null,null,null,null,null,null,null,null,null,null,null,null,null,null,null,null,null,null,null,null,null,null,null,"Sommaire annuel"]
[35.6]
[35.799999999999997]
[36,{"$f":"IF(WEEKNUM(C183)<35,53,0)+WEEKNUM(C183)-$C$8+1","v":38},{"$f":"C178+7","v":"2020-05-14"},1,"Pratique de revue annuelle",null,null,null,null,null,null,null,null,null,null,null,null,null,null,null,null,null,null,null,null,null,null,null,"Capt Viau",8,null,"Adj Emond",7]
[36.200000000000003,null,{"$f":"VLOOKUP(WEEKDAY(C183,1),Traduction!$B$6:$E$250,'Info de l''escadron'!$A$1+1,0)","v":"Jeudi"},2,null,null,null,null,null,null,null,null,null,null,null,null,null,null,null,null,null,null,null,null,null,null,null,null,"Capt Duarte",2,null,"Adj ???","®"]
[36.4,null,null,3,null,null,null,null,null,null,null,null,null,null,null,null,null,null,null,null,null,null,null,null,null,null,null,null,"Capt Germain",26,null,"Sgts Fofana",1]
[36.6,null,null,4,null,null,null,null,null,null,null,null,null,null,null,null,null,null,null,null,null,null,null,null,null,null,null,null,"Capt Sandaev"]
[36.799999999999997,null,null,5]
[37,{"$f":"IF(WEEKNUM(C188)<35,53,0)+WEEKNUM(C188)-$C$8+1","v":39},{"$f":"C183+7","v":"2020-05-21"},1,"Pratique de revue annuelle / soirée uniforme",null,null,null,null,null,null,null,null,null,null,null,null,null,null,null,null,null,null,null,null,null,null,null,"Ltv Henrichon",13,null,"Sgt Archambault",10]
[37.200000000000003,null,{"$f":"VLOOKUP(WEEKDAY(C188,1),Traduction!$B$6:$E$250,'Info de l''escadron'!$A$1+1,0)","v":"Jeudi"},2,null,null,null,null,null,null,null,null,null,null,null,null,null,null,null,null,null,null,null,null,null,null,null,null,"Capt Sandaev",26,null,"Sgt Bamba",9]
[37.4,null,null,3,null,null,null,null,null,null,null,null,null,null,null,null,null,null,null,null,null,null,null,null,null,null,null,null,"Lt Galic",11,null,"Sgt Franco",12]
[37.6,null,null,4,null,null,null,null,null,null,null,null,null,null,null,null,null,null,null,null,null,null,null,null,null,null,null,null,"IC Léandre "]
[37.799999999999997,null,null,5,null,null,null,null,null,null,null,null,null,null,null,null,null,null,null,null,null,null,null,null,null,null,null,null,"IC Ton"]
[39.6,null,null,4,null,null,null,null,null,null,null,null,null,null,null,null,null,null,null,null,null,null,null,null,null,null,null,null,"Slt Chevrier",6,null,"Sgts Fofana",2]
[39.799999999999997,null,null,5,null,null,null,null,null,null,null,null,null,null,null,null,null,null,null,null,null,null,null,null,null,null,null,null,"IC Hammami",2,null,"période tampon",2]
[40.6,null,null,4,null,null,null,null,null,null,null,null,null,null,null,null,null,null,null,null,null,null,null,null,null,null,null,null,"IC Léandre ",1,null,null,{"$f":"SUM(AG184:AG194)","v":36}]
[40.799999999999997,null,null,5,null,null,null,null,null,null,null,null,null,null,null,null,null,null,null,null,null,null,null,null,null,null,null,null,"IC Ton",null,null,null,{"$f":"SUM(AG184:AG195)","v":72}]
[null,null,"2020-05-23",null,"M108.12 Revue",null,null,null,null,null,null,null,null,null,null,null,null,null,null,null,null,null,null,null,null,null,null,null,"Slt Chevrier",10,null,"Sgt Gandji",1]
[null,null,"Samedi",null,null,null,null,null,null,null,null,null,null,null,null,null,null,null,null,null,null,null,null,null,null,null,null,null,"IC Hammami",9,null,"Sgt Lemay A",7]
[null,null,null,null,null,null,null,null,null,null,null,null,null,null,null,null,null,null,null,null,null,null,null,null,null,null,null,null,"IC Léandre ",26,null,"Sgt Lemay E",15]
[null,null,"2020-05-28",1,"FERMETURE DE DOSSIER POUR LES CADETS QUI QUITTENT SEULEMENT",null,null,null,null,null,null,null,null,null,null,null,null,null,null,null,null,null,null,null,null,null,null,null,"IC Ton",13,null,null,{"$f":"SUM(AG197:AG199)","v":23}]
[null,null,"Jeudi",2,"ÉLECTION DU COMITÉ RÉPONDANT POUR L'AN PROCHAIN",null,null,null,null,null,null,null,null,null,null,null,null,null,null,null,null,null,null,null,null,null,null,null,"Elof Vandal",11]
[null,null,null,3,"RENCONTRE D'INFORMATION POUR LES CAMPS D'ÉTÉ",null,null,null,null,null,null,null,null,null,null,null,null,null,null,null,null,null,null,null,null,null,null,null,"Mme Hammond",3]
[null,null,null,null,null,null,null,null,null,null,null,null,null,null,null,null,null,null,null,null,null,null,null,null,null,null,null,null,null,{"$f":"SUM(AD185:AD202)","v":157},null,"Total 228 périodes "]

{"sheet":"Activités","index":10,"n_rows":568,"n_cols":9,"rows_kept":568,"cut":false,"hidden":true,"merged":[[542,3,542,8],[0,0,0,8],[539,3,539,8],[540,3,540,8],[109,0,109,8],[1,0,1,8],[538,1,538,8],[541,3,541,8],[543,3,543,8],[544,3,544,8],[551,3,551,8],[556,3,556,8],[547,3,547,8],[550,3,550,8],[545,3,545,8],[546,3,546,8],[548,3,548,8],[549,3,549,8],[567,3,567,8],[552,3,552,8],[553,3,553,8],[554,3,554,8],[555,3,555,8],[561,3,561,8],[565,3,565,8],[562,3,562,8],[560,3,560,8],[558,3,558,8],[563,3,563,8],[566,3,566,8],[564,3,564,8],[559,3,559,8],[557,3,557,8]]}
["827 Longueuil"]
[{"$f":"VLOOKUP(86,Traduction!$B$6:$D$250,'Info de l''escadron'!$A$1+1,0)","v":"Liste des activités"}]
[]
[{"$f":"VLOOKUP(40,Traduction!$B$6:$D$250,'Info de l''escadron'!$A$1+1,0)","v":"Date"},{"$f":"VLOOKUP(83,Traduction!$B$6:$D$250,'Info de l''escadron'!$A$1+1,0)","v":"Jour"},null,{"$f":"VLOOKUP(22,Traduction!$B$6:$D$250,'Info de l''escadron'!$A$1+1,0)","v":"Début"},{"$f":"VLOOKUP(23,Traduction!$B$6:$D$250,'Info de l''escadron'!$A$1+1,0)","v":"Fin"},{"$f":"VLOOKUP(84,Traduction!$B$6:$D$250,'Info de l''escadron'!$A$1+1,0)","v":"Activité"},null,{"$f":"VLOOKUP(43,Traduction!$B$6:$D$250,'Info de l''escadron'!$A$1+1,0)","v":"Emplacement"},{"$f":"VLOOKUP(85,Traduction!$B$6:$D$250,'Info de l''escadron'!$A$1+1,0)","v":"BPR"}]
[{"$f":"A7-30","v":{"$error":"#VALUE!"}},{"$f":"IF(A5=\"\",\"\",VLOOKUP(WEEKDAY(A5,1),Traduction!$B$6:$D$250,'Info de l''escadron'!$A$1+1,0))","v":{"$error":"#VALUE!"}},{"$f":"ROUND(A5+COUNTIF($A$4:A5,A5)/10,1)","v":{"$error":"#VALUE!"}},null,null,{"$f":"CONCATENATE(\"CDT-145 - \",F7)","v":"CDT-145 - "},{"$f":"IF(ISNA(VLOOKUP(F5,$B$540:$I$568,3,0)),F5,VLOOKUP(F5,$B$540:$I$568,3,0))","v":"CDT-145 - "}]
[{"$f":"A5","v":{"$error":"#VALUE!"}},{"$f":"IF(A6=\"\",\"\",VLOOKUP(WEEKDAY(A6,1),Traduction!$B$6:$D$250,'Info de l''escadron'!$A$1+1,0))","v":{"$error":"#VALUE!"}},{"$f":"ROUND(A6+COUNTIF($A$4:A6,A6)/10,1)","v":{"$error":"#VALUE!"}},null,null,{"$f":"VLOOKUP(203,Traduction!$B$6:$D$250,'Info de l''escadron'!$A$1+1,0)","v":"Créer activité Forteresse"},"Créer activité Forteresse"]
[{"$f":"POC!C6","v":"PLANÉTARIUM"},{"$f":"IF(A7=\"\",\"\",VLOOKUP(WEEKDAY(A7,1),Traduction!$B$6:$D$250,'Info de l''escadron'!$A$1+1,0))","v":{"$error":"#VALUE!"}},{"$f":"ROUND(A7+COUNTIF($A$4:A7,A7)/10,1)","v":{"$error":"#VALUE!"}},null,null,null,0]
[{"$f":"A7+1","v":{"$error":"#VALUE!"}},{"$f":"IF(A8=\"\",\"\",VLOOKUP(WEEKDAY(A8,1),Traduction!$B$6:$D$250,'Info de l''escadron'!$A$1+1,0))","v":{"$error":"#VALUE!"}},{"$f":"ROUND(A8+COUNTIF($A$4:A8,A8)/10,1)","v":{"$error":"#VALUE!"}},null,null,{"$f":"CONCATENATE(\"CDT-135 - \",F7)","v":"CDT-135 - "},"CDT-135 - ",null,"Capt Tremblay"]
[{"$f":"A8","v":{"$error":"#VALUE!"}},{"$f":"IF(A9=\"\",\"\",VLOOKUP(WEEKDAY(A9,1),Traduction!$B$6:$D$250,'Info de l''escadron'!$A$1+1,0))","v":{"$error":"#VALUE!"}},{"$f":"ROUND(A9+COUNTIF($A$4:A9,A9)/10,1)","v":{"$error":"#VALUE!"}},null,null,{"$f":"VLOOKUP(204,Traduction!$B$6:$D$250,'Info de l''escadron'!$A$1+1,0)","v":"Inscrire les présences"},"Inscrire les présences",null,"Capt Tremblay"]
[{"$f":"A12-30","v":{"$error":"#VALUE!"}},{"$f":"IF(A10=\"\",\"\",VLOOKUP(WEEKDAY(A10,1),Traduction!$B$6:$D$250,'Info de l''escadron'!$A$1+1,0))","v":{"$error":"#VALUE!"}},{"$f":"ROUND(A10+COUNTIF($A$4:A10,A10)/10,1)","v":{"$error":"#VALUE!"}},null,null,{"$f":"CONCATENATE(\"CDT-145 - \",F12)","v":"CDT-145 - "},"CDT-145 - ",null,"Capt Tremblay"]
[{"$f":"A10","v":{"$error":"#VALUE!"}},{"$f":"IF(A11=\"\",\"\",VLOOKUP(WEEKDAY(A11,1),Traduction!$B$6:$D$250,'Info de l''escadron'!$A$1+1,0))","v":{"$error":"#VALUE!"}},{"$f":"ROUND(A11+COUNTIF($A$4:A11,A11)/10,1)","v":{"$error":"#VALUE!"}},null,null,{"$f":"VLOOKUP(203,Traduction!$B$6:$D$250,'Info de l''escadron'!$A$1+1,0)","v":"Créer activité Forteresse"},"Créer activité Forteresse",null,"Capt Tremblay"]
[{"$f":"POC!C9","v":"OTTAWA"},{"$f":"IF(A12=\"\",\"\",VLOOKUP(WEEKDAY(A12,1),Traduction!$B$6:$D$250,'Info de l''escadron'!$A$1+1,0))","v":{"$error":"#VALUE!"}},{"$f":"ROUND(A12+COUNTIF($A$4:A12,A12)/10,1)","v":{"$error":"#VALUE!"}},null,null,null,0]
[{"$f":"A12+1","v":{"$error":"#VALUE!"}},{"$f":"IF(A13=\"\",\"\",VLOOKUP(WEEKDAY(A13,1),Traduction!$B$6:$D$250,'Info de l''escadron'!$A$1+1,0))","v":{"$error":"#VALUE!"}},{"$f":"ROUND(A13+COUNTIF($A$4:A13,A13)/10,1)","v":{"$error":"#VALUE!"}},null,null,{"$f":"CONCATENATE(\"CDT-135 - \",F12)","v":"CDT-135 - "},"CDT-135 - ",null,"Capt Tremblay"]
[{"$f":"A13","v":{"$error":"#VALUE!"}},{"$f":"IF(A14=\"\",\"\",VLOOKUP(WEEKDAY(A14,1),Traduction!$B$6:$D$250,'Info de l''escadron'!$A$1+1,0))","v":{"$error":"#VALUE!"}},{"$f":"ROUND(A14+COUNTIF($A$4:A14,A14)/10,1)","v":{"$error":"#VALUE!"}},null,null,{"$f":"VLOOKUP(204,Traduction!$B$6:$D$250,'Info de l''escadron'!$A$1+1,0)","v":"Inscrire les présences"},"Inscrire les présences",null,"Capt Tremblay"]
[{"$f":"A17-30","v":{"$error":"#VALUE!"}},{"$f":"IF(A15=\"\",\"\",VLOOKUP(WEEKDAY(A15,1),Traduction!$B$6:$D$250,'Info de l''escadron'!$A$1+1,0))","v":{"$error":"#VALUE!"}},{"$f":"ROUND(A15+COUNTIF($A$4:A15,A15)/10,1)","v":{"$error":"#VALUE!"}},null,null,{"$f":"CONCATENATE(\"CDT-145 - \",F17)","v":"CDT-145 - "},"CDT-145 - ",null,"Capt Tremblay"]
[{"$f":"A15","v":{"$error":"#VALUE!"}},{"$f":"IF(A16=\"\",\"\",VLOOKUP(WEEKDAY(A16,1),Traduction!$B$6:$D$250,'Info de l''escadron'!$A$1+1,0))","v":{"$error":"#VALUE!"}},{"$f":"ROUND(A16+COUNTIF($A$4:A16,A16)/10,1)","v":{"$error":"#VALUE!"}},null,null,{"$f":"VLOOKUP(203,Traduction!$B$6:$D$250,'Info de l''escadron'!$A$1+1,0)","v":"Créer activité Forteresse"},"Créer activité Forteresse",null,"Capt Tremblay"]
[{"$f":"POC!C12","v":"10 FEVRIER 2018"},{"$f":"IF(A17=\"\",\"\",VLOOKUP(WEEKDAY(A17,1),Traduction!$B$6:$D$250,'Info de l''escadron'!$A$1+1,0))","v":{"$error":"#VALUE!"}},{"$f":"ROUND(A17+COUNTIF($A$4:A17,A17)/10,1)","v":{"$error":"#VALUE!"}},null,null,null,0]
[{"$f":"A17+1","v":{"$error":"#VALUE!"}},{"$f":"IF(A18=\"\",\"\",VLOOKUP(WEEKDAY(A18,1),Traduction!$B$6:$D$250,'Info de l''escadron'!$A$1+1,0))","v":{"$error":"#VALUE!"}},{"$f":"ROUND(A18+COUNTIF($A$4:A18,A18)/10,1)","v":{"$error":"#VALUE!"}},null,null,{"$f":"CONCATENATE(\"CDT-135 - \",F17)","v":"CDT-135 - "},"CDT-135 - ",null,"Capt Tremblay"]
[{"$f":"A18","v":{"$error":"#VALUE!"}},{"$f":"IF(A19=\"\",\"\",VLOOKUP(WEEKDAY(A19,1),Traduction!$B$6:$D$250,'Info de l''escadron'!$A$1+1,0))","v":{"$error":"#VALUE!"}},{"$f":"ROUND(A19+COUNTIF($A$4:A19,A19)/10,1)","v":{"$error":"#VALUE!"}},null,null,{"$f":"VLOOKUP(204,Traduction!$B$6:$D$250,'Info de l''escadron'!$A$1+1,0)","v":"Inscrire les présences"},"Inscrire les présences",null,"Capt Tremblay"]
[{"$f":"A22-30","v":{"$error":"#VALUE!"}},{"$f":"IF(A20=\"\",\"\",VLOOKUP(WEEKDAY(A20,1),Traduction!$B$6:$D$250,'Info de l''escadron'!$A$1+1,0))","v":{"$error":"#VALUE!"}},{"$f":"ROUND(A20+COUNTIF($A$4:A20,A20)/10,1)","v":{"$error":"#VALUE!"}},null,null,{"$f":"CONCATENATE(\"CDT-145 - \",F22)","v":"CDT-145 - "},"CDT-145 - ",null,"Capt Tremblay"]
[{"$f":"A20","v":{"$error":"#VALUE!"}},{"$f":"IF(A21=\"\",\"\",VLOOKUP(WEEKDAY(A21,1),Traduction!$B$6:$D$250,'Info de l''escadron'!$A$1+1,0))","v":{"$error":"#VALUE!"}},{"$f":"ROUND(A21+COUNTIF($A$4:A21,A21)/10,1)","v":{"$error":"#VALUE!"}},null,null,{"$f":"VLOOKUP(203,Traduction!$B$6:$D$250,'Info de l''escadron'!$A$1+1,0)","v":"Créer activité Forteresse"},"Créer activité Forteresse",null,"Capt Tremblay"]
[{"$f":"POC!C15","v":"ORIENTERING"},{"$f":"IF(A22=\"\",\"\",VLOOKUP(WEEKDAY(A22,1),Traduction!$B$6:$D$250,'Info de l''escadron'!$A$1+1,0))","v":{"$error":"#VALUE!"}},{"$f":"ROUND(A22+COUNTIF($A$4:A22,A22)/10,1)","v":{"$error":"#VALUE!"}},null,null,null,0]
[{"$f":"A22+1","v":{"$error":"#VALUE!"}},{"$f":"IF(A23=\"\",\"\",VLOOKUP(WEEKDAY(A23,1),Traduction!$B$6:$D$250,'Info de l''escadron'!$A$1+1,0))","v":{"$error":"#VALUE!"}},{"$f":"ROUND(A23+COUNTIF($A$4:A23,A23)/10,1)","v":{"$error":"#VALUE!"}},null,null,{"$f":"CONCATENATE(\"CDT-135 - \",F22)","v":"CDT-135 - "},"CDT-135 - ",null,"Capt Tremblay"]
[{"$f":"A23","v":{"$error":"#VALUE!"}},{"$f":"IF(A24=\"\",\"\",VLOOKUP(WEEKDAY(A24,1),Traduction!$B$6:$D$250,'Info de l''escadron'!$A$1+1,0))","v":{"$error":"#VALUE!"}},{"$f":"ROUND(A24+COUNTIF($A$4:A24,A24)/10,1)","v":{"$error":"#VALUE!"}},null,null,{"$f":"VLOOKUP(204,Traduction!$B$6:$D$250,'Info de l''escadron'!$A$1+1,0)","v":"Inscrire les présences"},"Inscrire les présences",null,"Capt Tremblay"]
[{"$f":"A27-30","v":"2017-09-20"},{"$f":"IF(A25=\"\",\"\",VLOOKUP(WEEKDAY(A25,1),Traduction!$B$6:$D$250,'Info de l''escadron'!$A$1+1,0))","v":"Mercredi"},{"$f":"ROUND(A25+COUNTIF($A$4:A25,A25)/10,1)","v":42998.1},null,null,{"$f":"CONCATENATE(\"CDT-145 - \",F27)","v":"CDT-145 - "},"CDT-145 - ",null,"Capt Tremblay"]
[{"$f":"A25","v":"2017-09-20"},{"$f":"IF(A26=\"\",\"\",VLOOKUP(WEEKDAY(A26,1),Traduction!$B$6:$D$250,'Info de l''escadron'!$A$1+1,0))","v":"Mercredi"},{"$f":"ROUND(A26+COUNTIF($A$4:A26,A26)/10,1)","v":42998.2},null,null,{"$f":"VLOOKUP(203,Traduction!$B$6:$D$250,'Info de l''escadron'!$A$1+1,0)","v":"Créer activité Forteresse"},"Créer activité Forteresse",null,"Capt Tremblay"]
[{"$f":"POC!C18","v":"2017-10-20"},{"$f":"IF(A27=\"\",\"\",VLOOKUP(WEEKDAY(A27,1),Traduction!$B$6:$D$250,'Info de l''escadron'!$A$1+1,0))","v":"Vendredi"},{"$f":"ROUND(A27+COUNTIF($A$4:A27,A27)/10,1)","v":43028.1},null,null,null,0]
[{"$f":"A27+1","v":"2017-10-21"},{"$f":"IF(A28=\"\",\"\",VLOOKUP(WEEKDAY(A28,1),Traduction!$B$6:$D$250,'Info de l''escadron'!$A$1+1,0))","v":"Samedi"},{"$f":"ROUND(A28+COUNTIF($A$4:A28,A28)/10,1)","v":43029.1},null,null,{"$f":"CONCATENATE(\"CDT-135 - \",F27)","v":"CDT-135 - "},"CDT-135 - ",null,"Capt Tremblay"]
[{"$f":"A28","v":"2017-10-21"},{"$f":"IF(A29=\"\",\"\",VLOOKUP(WEEKDAY(A29,1),Traduction!$B$6:$D$250,'Info de l''escadron'!$A$1+1,0))","v":"Samedi"},{"$f":"ROUND(A29+COUNTIF($A$4:A29,A29)/10,1)","v":43029.2},null,null,{"$f":"VLOOKUP(204,Traduction!$B$6:$D$250,'Info de l''escadron'!$A$1+1,0)","v":"Inscrire les présences"},"Inscrire les présences",null,"Capt Tremblay"]
[{"$f":"A32-30","v":"2017-09-21"},{"$f":"IF(A30=\"\",\"\",VLOOKUP(WEEKDAY(A30,1),Traduction!$B$6:$D$250,'Info de l''escadron'!$A$1+1,0))","v":"Jeudi"},{"$f":"ROUND(A30+COUNTIF($A$4:A30,A30)/10,1)","v":42999.1},null,null,{"$f":"CONCATENATE(\"CDT-145 - \",F32)","v":"CDT-145 - "},"CDT-145 - ",null,"Capt Tremblay"]
[{"$f":"A30","v":"2017-09-21"},{"$f":"IF(A31=\"\",\"\",VLOOKUP(WEEKDAY(A31,1),Traduction!$B$6:$D$250,'Info de l''escadron'!$A$1+1,0))","v":"Jeudi"},{"$f":"ROUND(A31+COUNTIF($A$4:A31,A31)/10,1)","v":42999.199999999997},null,null,{"$f":"VLOOKUP(203,Traduction!$B$6:$D$250,'Info de l''escadron'!$A$1+1,0)","v":"Créer activité Forteresse"},"Créer activité Forteresse",null,"Capt Tremblay"]
[{"$f":"POC!C21","v":"2017-10-21"},{"$f":"IF(A32=\"\",\"\",VLOOKUP(WEEKDAY(A32,1),Traduction!$B$6:$D$250,'Info de l''escadron'!$A$1+1,0))","v":"Samedi"},{"$f":"ROUND(A32+COUNTIF($A$4:A32,A32)/10,1)","v":43029.3},null,null,null,0]
[{"$f":"A32+1","v":"2017-10-22"},{"$f":"IF(A33=\"\",\"\",VLOOKUP(WEEKDAY(A33,1),Traduction!$B$6:$D$250,'Info de l''escadron'!$A$1+1,0))","v":"Dimanche"},{"$f":"ROUND(A33+COUNTIF($A$4:A33,A33)/10,1)","v":43030.1},null,null,{"$f":"CONCATENATE(\"CDT-135 - \",F32)","v":"CDT-135 - "},"CDT-135 - ",null,"Capt Tremblay"]
[{"$f":"A33","v":"2017-10-22"},{"$f":"IF(A34=\"\",\"\",VLOOKUP(WEEKDAY(A34,1),Traduction!$B$6:$D$250,'Info de l''escadron'!$A$1+1,0))","v":"Dimanche"},{"$f":"ROUND(A34+COUNTIF($A$4:A34,A34)/10,1)","v":43030.2},null,null,{"$f":"VLOOKUP(204,Traduction!$B$6:$D$250,'Info de l''escadron'!$A$1+1,0)","v":"Inscrire les présences"},"Inscrire les présences",null,"Capt Tremblay"]
[{"$f":"A37-30","v":"2018-03-29"},{"$f":"IF(A35=\"\",\"\",VLOOKUP(WEEKDAY(A35,1),Traduction!$B$6:$D$250,'Info de l''escadron'!$A$1+1,0))","v":"Jeudi"},{"$f":"ROUND(A35+COUNTIF($A$4:A35,A35)/10,1)","v":43188.1},null,null,{"$f":"CONCATENATE(\"CDT-145 - \",F37)","v":"CDT-145 - "},"CDT-145 - ",null,"Capt Tremblay"]
[{"$f":"A35","v":"2018-03-29"},{"$f":"IF(A36=\"\",\"\",VLOOKUP(WEEKDAY(A36,1),Traduction!$B$6:$D$250,'Info de l''escadron'!$A$1+1,0))","v":"Jeudi"},{"$f":"ROUND(A36+COUNTIF($A$4:A36,A36)/10,1)","v":43188.2},null,null,{"$f":"VLOOKUP(203,Traduction!$B$6:$D$250,'Info de l''escadron'!$A$1+1,0)","v":"Créer activité Forteresse"},"Créer activité Forteresse",null,"Capt Tremblay"]
[{"$f":"POC!C24","v":"2018-04-28"},{"$f":"IF(A37=\"\",\"\",VLOOKUP(WEEKDAY(A37,1),Traduction!$B$6:$D$250,'Info de l''escadron'!$A$1+1,0))","v":"Samedi"},{"$f":"ROUND(A37+COUNTIF($A$4:A37,A37)/10,1)","v":43218.1},null,null,null,{"$f":"IF(ISNA(VLOOKUP(F37,$B$540:$I$568,3,0)),F37,VLOOKUP(F37,$B$540:$I$568,3,0))","v":0}]
[{"$f":"A37+1","v":"2018-04-29"},{"$f":"IF(A38=\"\",\"\",VLOOKUP(WEEKDAY(A38,1),Traduction!$B$6:$D$250,'Info de l''escadron'!$A$1+1,0))","v":"Dimanche"},{"$f":"ROUND(A38+COUNTIF($A$4:A38,A38)/10,1)","v":43219.1},null,null,{"$f":"CONCATENATE(\"CDT-135 - \",F37)","v":"CDT-135 - "},"CDT-135 - ",null,"Capt Tremblay"]
[{"$f":"A38","v":"2018-04-29"},{"$f":"IF(A39=\"\",\"\",VLOOKUP(WEEKDAY(A39,1),Traduction!$B$6:$D$250,'Info de l''escadron'!$A$1+1,0))","v":"Dimanche"},{"$f":"ROUND(A39+COUNTIF($A$4:A39,A39)/10,1)","v":43219.199999999997},null,null,{"$f":"VLOOKUP(204,Traduction!$B$6:$D$250,'Info de l''escadron'!$A$1+1,0)","v":"Inscrire les présences"},"Inscrire les présences",null,"Capt Tremblay"]
[{"$f":"A42-30","v":"2018-03-30"},{"$f":"IF(A40=\"\",\"\",VLOOKUP(WEEKDAY(A40,1),Traduction!$B$6:$D$250,'Info de l''escadron'!$A$1+1,0))","v":"Vendredi"},{"$f":"ROUND(A40+COUNTIF($A$4:A40,A40)/10,1)","v":43189.1},null,null,{"$f":"CONCATENATE(\"CDT-145 - \",F42)","v":"CDT-145 - "},"CDT-145 - ",null,"Capt Tremblay"]
[{"$f":"A40","v":"2018-03-30"},{"$f":"IF(A41=\"\",\"\",VLOOKUP(WEEKDAY(A41,1),Traduction!$B$6:$D$250,'Info de l''escadron'!$A$1+1,0))","v":"Vendredi"},{"$f":"ROUND(A41+COUNTIF($A$4:A41,A41)/10,1)","v":43189.2},null,null,{"$f":"VLOOKUP(203,Traduction!$B$6:$D$250,'Info de l''escadron'!$A$1+1,0)","v":"Créer activité Forteresse"},"Créer activité Forteresse",null,"Capt Tremblay"]
[{"$f":"POC!C27","v":"2018-04-29"},{"$f":"IF(A42=\"\",\"\",VLOOKUP(WEEKDAY(A42,1),Traduction!$B$6:$D$250,'Info de l''escadron'!$A$1+1,0))","v":"Dimanche"},{"$f":"ROUND(A42+COUNTIF($A$4:A42,A42)/10,1)","v":43219.3},null,null,null,0]
[{"$f":"A42+1","v":"2018-04-30"},{"$f":"IF(A43=\"\",\"\",VLOOKUP(WEEKDAY(A43,1),Traduction!$B$6:$D$250,'Info de l''escadron'!$A$1+1,0))","v":"Lundi"},{"$f":"ROUND(A43+COUNTIF($A$4:A43,A43)/10,1)","v":43220.1},null,null,{"$f":"CONCATENATE(\"CDT-135 - \",F42)","v":"CDT-135 - "},"CDT-135 - ",null,"Capt Tremblay"]
[{"$f":"A43","v":"2018-04-30"},{"$f":"IF(A44=\"\",\"\",VLOOKUP(WEEKDAY(A44,1),Traduction!$B$6:$D$250,'Info de l''escadron'!$A$1+1,0))","v":"Lundi"},{"$f":"ROUND(A44+COUNTIF($A$4:A44,A44)/10,1)","v":43220.2},null,null,{"$f":"VLOOKUP(204,Traduction!$B$6:$D$250,'Info de l''escadron'!$A$1+1,0)","v":"Inscrire les présences"},"Inscrire les présences",null,"Capt Tremblay"]
[{"$f":"A47-30","v":"2017-08-11"},{"$f":"IF(A45=\"\",\"\",VLOOKUP(WEEKDAY(A45,1),Traduction!$B$6:$D$250,'Info de l''escadron'!$A$1+1,0))","v":"Vendredi"},{"$f":"ROUND(A45+COUNTIF($A$4:A45,A45)/10,1)","v":42958.1},null,null,{"$f":"CONCATENATE(\"CDT-145 - \",F47)","v":"CDT-145 - "},"CDT-145 - ",null,"Capt Tremblay"]
[{"$f":"A45","v":"2017-08-11"},{"$f":"IF(A46=\"\",\"\",VLOOKUP(WEEKDAY(A46,1),Traduction!$B$6:$D$250,'Info de l''escadron'!$A$1+1,0))","v":"Vendredi"},{"$f":"ROUND(A46+COUNTIF($A$4:A46,A46)/10,1)","v":42958.2},null,null,{"$f":"VLOOKUP(203,Traduction!$B$6:$D$250,'Info de l''escadron'!$A$1+1,0)","v":"Créer activité Forteresse"},"Créer activité Forteresse",null,"Capt Tremblay"]
[{"$f":"POC!C30","v":"2017-09-10"},{"$f":"IF(A47=\"\",\"\",VLOOKUP(WEEKDAY(A47,1),Traduction!$B$6:$D$250,'Info de l''escadron'!$A$1+1,0))","v":"Dimanche"},{"$f":"ROUND(A47+COUNTIF($A$4:A47,A47)/10,1)","v":42988.1},null,null,null,0]
[{"$f":"A47+1","v":"2017-09-11"},{"$f":"IF(A48=\"\",\"\",VLOOKUP(WEEKDAY(A48,1),Traduction!$B$6:$D$250,'Info de l''escadron'!$A$1+1,0))","v":"Lundi"},{"$f":"ROUND(A48+COUNTIF($A$4:A48,A48)/10,1)","v":42989.1},null,null,{"$f":"CONCATENATE(\"CDT-135 - \",F47)","v":"CDT-135 - "},"CDT-135 - ",null,"Capt Tremblay"]
[{"$f":"A48","v":"2017-09-11"},{"$f":"IF(A49=\"\",\"\",VLOOKUP(WEEKDAY(A49,1),Traduction!$B$6:$D$250,'Info de l''escadron'!$A$1+1,0))","v":"Lundi"},{"$f":"ROUND(A49+COUNTIF($A$4:A49,A49)/10,1)","v":42989.2},null,null,{"$f":"VLOOKUP(204,Traduction!$B$6:$D$250,'Info de l''escadron'!$A$1+1,0)","v":"Inscrire les présences"},"Inscrire les présences",null,"Capt Tremblay"]
[{"$f":"A52-30","v":{"$error":"#VALUE!"}},{"$f":"IF(A50=\"\",\"\",VLOOKUP(WEEKDAY(A50,1),Traduction!$B$6:$D$250,'Info de l''escadron'!$A$1+1,0))","v":{"$error":"#VALUE!"}},{"$f":"ROUND(A50+COUNTIF($A$4:A50,A50)/10,1)","v":{"$error":"#VALUE!"}},null,null,{"$f":"CONCATENATE(\"CDT-145 - \",F52)","v":"CDT-145 - "},"CDT-145 - ",null,"Capt Tremblay"]
[{"$f":"A50","v":{"$error":"#VALUE!"}},{"$f":"IF(A51=\"\",\"\",VLOOKUP(WEEKDAY(A51,1),Traduction!$B$6:$D$250,'Info de l''escadron'!$A$1+1,0))","v":{"$error":"#VALUE!"}},{"$f":"ROUND(A51+COUNTIF($A$4:A51,A51)/10,1)","v":{"$error":"#VALUE!"}},null,null,{"$f":"VLOOKUP(203,Traduction!$B$6:$D$250,'Info de l''escadron'!$A$1+1,0)","v":"Créer activité Forteresse"},"Créer activité Forteresse",null,"Capt Tremblay"]
[{"$f":"POC!C33","v":"2017-01-20 jeux cdts"},{"$f":"IF(A52=\"\",\"\",VLOOKUP(WEEKDAY(A52,1),Traduction!$B$6:$D$250,'Info de l''escadron'!$A$1+1,0))","v":{"$error":"#VALUE!"}},{"$f":"ROUND(A52+COUNTIF($A$4:A52,A52)/10,1)","v":{"$error":"#VALUE!"}},null,null,null,0]
[{"$f":"A52+1","v":{"$error":"#VALUE!"}},{"$f":"IF(A53=\"\",\"\",VLOOKUP(WEEKDAY(A53,1),Traduction!$B$6:$D$250,'Info de l''escadron'!$A$1+1,0))","v":{"$error":"#VALUE!"}},{"$f":"ROUND(A53+COUNTIF($A$4:A53,A53)/10,1)","v":{"$error":"#VALUE!"}},null,null,{"$f":"CONCATENATE(\"CDT-135 - \",F52)","v":"CDT-135 - "},"CDT-135 - ",null,"Capt Tremblay"]
[{"$f":"A53","v":{"$error":"#VALUE!"}},{"$f":"IF(A54=\"\",\"\",VLOOKUP(WEEKDAY(A54,1),Traduction!$B$6:$D$250,'Info de l''escadron'!$A$1+1,0))","v":{"$error":"#VALUE!"}},{"$f":"ROUND(A54+COUNTIF($A$4:A54,A54)/10,1)","v":{"$error":"#VALUE!"}},null,null,{"$f":"VLOOKUP(204,Traduction!$B$6:$D$250,'Info de l''escadron'!$A$1+1,0)","v":"Inscrire les présences"},"Inscrire les présences",null,"Capt Tremblay"]
[{"$f":"A57-30","v":"2018-04-20"},{"$f":"IF(A55=\"\",\"\",VLOOKUP(WEEKDAY(A55,1),Traduction!$B$6:$D$250,'Info de l''escadron'!$A$1+1,0))","v":"Vendredi"},{"$f":"ROUND(A55+COUNTIF($A$4:A55,A55)/10,1)","v":43210.1},null,null,{"$f":"CONCATENATE(\"CDT-145 - \",F57)","v":"CDT-145 - "},"CDT-145 - ",null,"Capt Tremblay"]
[{"$f":"A55","v":"2018-04-20"},{"$f":"IF(A56=\"\",\"\",VLOOKUP(WEEKDAY(A56,1),Traduction!$B$6:$D$250,'Info de l''escadron'!$A$1+1,0))","v":"Vendredi"},{"$f":"ROUND(A56+COUNTIF($A$4:A56,A56)/10,1)","v":43210.2},null,null,{"$f":"VLOOKUP(203,Traduction!$B$6:$D$250,'Info de l''escadron'!$A$1+1,0)","v":"Créer activité Forteresse"},"Créer activité Forteresse",null,"Capt Tremblay"]
[{"$f":"POC!C36","v":"2018-05-20"},{"$f":"IF(A57=\"\",\"\",VLOOKUP(WEEKDAY(A57,1),Traduction!$B$6:$D$250,'Info de l''escadron'!$A$1+1,0))","v":"Dimanche"},{"$f":"ROUND(A57+COUNTIF($A$4:A57,A57)/10,1)","v":43240.1},null,null,null,0]
[{"$f":"A57+1","v":"2018-05-21"},{"$f":"IF(A58=\"\",\"\",VLOOKUP(WEEKDAY(A58,1),Traduction!$B$6:$D$250,'Info de l''escadron'!$A$1+1,0))","v":"Lundi"},{"$f":"ROUND(A58+COUNTIF($A$4:A58,A58)/10,1)","v":43241.1},null,null,{"$f":"CONCATENATE(\"CDT-135 - \",F57)","v":"CDT-135 - "},"CDT-135 - ",null,"Capt Tremblay"]
[{"$f":"A58","v":"2018-05-21"},{"$f":"IF(A59=\"\",\"\",VLOOKUP(WEEKDAY(A59,1),Traduction!$B$6:$D$250,'Info de l''escadron'!$A$1+1,0))","v":"Lundi"},{"$f":"ROUND(A59+COUNTIF($A$4:A59,A59)/10,1)","v":43241.2},null,null,{"$f":"VLOOKUP(204,Traduction!$B$6:$D$250,'Info de l''escadron'!$A$1+1,0)","v":"Inscrire les présences"},"Inscrire les présences",null,"Capt Tremblay"]
[{"$f":"A62-30","v":{"$error":"#VALUE!"}},{"$f":"IF(A60=\"\",\"\",VLOOKUP(WEEKDAY(A60,1),Traduction!$B$6:$D$250,'Info de l''escadron'!$A$1+1,0))","v":{"$error":"#VALUE!"}},{"$f":"ROUND(A60+COUNTIF($A$4:A60,A60)/10,1)","v":{"$error":"#VALUE!"}},null,null,{"$f":"CONCATENATE(\"CDT-145 - \",F62)","v":"CDT-145 - "},"CDT-145 - ",null,"Capt Tremblay"]
[{"$f":"A60","v":{"$error":"#VALUE!"}},{"$f":"IF(A61=\"\",\"\",VLOOKUP(WEEKDAY(A61,1),Traduction!$B$6:$D$250,'Info de l''escadron'!$A$1+1,0))","v":{"$error":"#VALUE!"}},{"$f":"ROUND(A61+COUNTIF($A$4:A61,A61)/10,1)","v":{"$error":"#VALUE!"}},null,null,{"$f":"VLOOKUP(203,Traduction!$B$6:$D$250,'Info de l''escadron'!$A$1+1,0)","v":"Créer activité Forteresse"},"Créer activité Forteresse",null,"Capt Tremblay"]
[{"$f":"POC!C43","v":"fete quartier"},{"$f":"IF(A62=\"\",\"\",VLOOKUP(WEEKDAY(A62,1),Traduction!$B$6:$D$250,'Info de l''escadron'!$A$1+1,0))","v":{"$error":"#VALUE!"}},{"$f":"ROUND(A62+COUNTIF($A$4:A62,A62)/10,1)","v":{"$error":"#VALUE!"}},null,null,null,0]
[{"$f":"A62+1","v":{"$error":"#VALUE!"}},{"$f":"IF(A63=\"\",\"\",VLOOKUP(WEEKDAY(A63,1),Traduction!$B$6:$D$250,'Info de l''escadron'!$A$1+1,0))","v":{"$error":"#VALUE!"}},{"$f":"ROUND(A63+COUNTIF($A$4:A63,A63)/10,1)","v":{"$error":"#VALUE!"}},null,null,{"$f":"CONCATENATE(\"CDT-135 - \",F62)","v":"CDT-135 - "},"CDT-135 - ",null,"Capt Tremblay"]
[{"$f":"A63","v":{"$error":"#VALUE!"}},{"$f":"IF(A64=\"\",\"\",VLOOKUP(WEEKDAY(A64,1),Traduction!$B$6:$D$250,'Info de l''escadron'!$A$1+1,0))","v":{"$error":"#VALUE!"}},{"$f":"ROUND(A64+COUNTIF($A$4:A64,A64)/10,1)","v":{"$error":"#VALUE!"}},null,null,{"$f":"VLOOKUP(204,Traduction!$B$6:$D$250,'Info de l''escadron'!$A$1+1,0)","v":"Inscrire les présences"},"Inscrire les présences",null,"Capt Tremblay"]
[{"$f":"A67-30","v":"2017-09-28"},{"$f":"IF(A65=\"\",\"\",VLOOKUP(WEEKDAY(A65,1),Traduction!$B$6:$D$250,'Info de l''escadron'!$A$1+1,0))","v":"Jeudi"},{"$f":"ROUND(A65+COUNTIF($A$4:A65,A65)/10,1)","v":43006.1},null,null,{"$f":"CONCATENATE(\"CDT-145 - \",F67)","v":"CDT-145 - "},"CDT-145 - ",null,"Capt Tremblay"]
[{"$f":"A65","v":"2017-09-28"},{"$f":"IF(A66=\"\",\"\",VLOOKUP(WEEKDAY(A66,1),Traduction!$B$6:$D$250,'Info de l''escadron'!$A$1+1,0))","v":"Jeudi"},{"$f":"ROUND(A66+COUNTIF($A$4:A66,A66)/10,1)","v":43006.2},null,null,{"$f":"VLOOKUP(203,Traduction!$B$6:$D$250,'Info de l''escadron'!$A$1+1,0)","v":"Créer activité Forteresse"},"Créer activité Forteresse",null,"Capt Tremblay"]
[{"$f":"POC!C46","v":"2017-10-28"},{"$f":"IF(A67=\"\",\"\",VLOOKUP(WEEKDAY(A67,1),Traduction!$B$6:$D$250,'Info de l''escadron'!$A$1+1,0))","v":"Samedi"},{"$f":"ROUND(A67+COUNTIF($A$4:A67,A67)/10,1)","v":43036.1},null,null,null,0]
[{"$f":"A67+1","v":"2017-10-29"},{"$f":"IF(A68=\"\",\"\",VLOOKUP(WEEKDAY(A68,1),Traduction!$B$6:$D$250,'Info de l''escadron'!$A$1+1,0))","v":"Dimanche"},{"$f":"ROUND(A68+COUNTIF($A$4:A68,A68)/10,1)","v":43037.1},null,null,{"$f":"CONCATENATE(\"CDT-135 - \",F67)","v":"CDT-135 - "},"CDT-135 - ",null,"Capt Tremblay"]
[{"$f":"A68","v":"2017-10-29"},{"$f":"IF(A69=\"\",\"\",VLOOKUP(WEEKDAY(A69,1),Traduction!$B$6:$D$250,'Info de l''escadron'!$A$1+1,0))","v":"Dimanche"},{"$f":"ROUND(A69+COUNTIF($A$4:A69,A69)/10,1)","v":43037.2},null,null,{"$f":"VLOOKUP(204,Traduction!$B$6:$D$250,'Info de l''escadron'!$A$1+1,0)","v":"Inscrire les présences"},{"$f":"IF(ISNA(VLOOKUP(F69,$B$540:$I$568,3,0)),F69,VLOOKUP(F69,$B$540:$I$568,3,0))","v":"Inscrire les présences"},null,"Capt Tremblay"]
[{"$f":"A72-30","v":-30},{"$f":"IF(A70=\"\",\"\",VLOOKUP(WEEKDAY(A70,1),Traduction!$B$6:$D$250,'Info de l''escadron'!$A$1+1,0))","v":{"$error":"#NUM!"}},{"$f":"ROUND(A70+COUNTIF($A$4:A70,A70)/10,1)","v":-29.9},null,null,{"$f":"CONCATENATE(\"CDT-145 - \",F72)","v":"CDT-145 - "},"CDT-145 - ",null,"Capt Tremblay"]
[{"$f":"A70","v":-30},{"$f":"IF(A71=\"\",\"\",VLOOKUP(WEEKDAY(A71,1),Traduction!$B$6:$D$250,'Info de l''escadron'!$A$1+1,0))","v":{"$error":"#NUM!"}},{"$f":"ROUND(A71+COUNTIF($A$4:A71,A71)/10,1)","v":-29.8},null,null,{"$f":"VLOOKUP(203,Traduction!$B$6:$D$250,'Info de l''escadron'!$A$1+1,0)","v":"Créer activité Forteresse"},"Créer activité Forteresse",null,"Capt Tremblay"]
[{"$f":"POC!C49","v":"00:00:00"},{"$f":"IF(A72=\"\",\"\",VLOOKUP(WEEKDAY(A72,1),Traduction!$B$6:$D$250,'Info de l''escadron'!$A$1+1,0))","v":"Samedi"},{"$f":"ROUND(A72+COUNTIF($A$4:A72,A72)/10,1)","v":0.1},null,null,null,0]
[{"$f":"A72+1","v":"1900-01-01"},{"$f":"IF(A73=\"\",\"\",VLOOKUP(WEEKDAY(A73,1),Traduction!$B$6:$D$250,'Info de l''escadron'!$A$1+1,0))","v":"Dimanche"},{"$f":"ROUND(A73+COUNTIF($A$4:A73,A73)/10,1)","v":1.1000000000000001},null,null,{"$f":"CONCATENATE(\"CDT-135 - \",F72)","v":"CDT-135 - "},"CDT-135 - ",null,"Capt Tremblay"]
[{"$f":"A73","v":"1900-01-01"},{"$f":"IF(A74=\"\",\"\",VLOOKUP(WEEKDAY(A74,1),Traduction!$B$6:$D$250,'Info de l''escadron'!$A$1+1,0))","v":"Dimanche"},{"$f":"ROUND(A74+COUNTIF($A$4:A74,A74)/10,1)","v":1.2},null,null,{"$f":"VLOOKUP(204,Traduction!$B$6:$D$250,'Info de l''escadron'!$A$1+1,0)","v":"Inscrire les présences"},"Inscrire les présences",null,"Capt Tremblay"]
[{"$f":"A77-30","v":-30},{"$f":"IF(A75=\"\",\"\",VLOOKUP(WEEKDAY(A75,1),Traduction!$B$6:$D$250,'Info de l''escadron'!$A$1+1,0))","v":{"$error":"#NUM!"}},{"$f":"ROUND(A75+COUNTIF($A$4:A75,A75)/10,1)","v":-29.7},null,null,{"$f":"CONCATENATE(\"CDT-145 - \",F77)","v":"CDT-145 - "},"CDT-145 - ",null,"Capt Tremblay"]
[{"$f":"A75","v":-30},{"$f":"IF(A76=\"\",\"\",VLOOKUP(WEEKDAY(A76,1),Traduction!$B$6:$D$250,'Info de l''escadron'!$A$1+1,0))","v":{"$error":"#NUM!"}},{"$f":"ROUND(A76+COUNTIF($A$4:A76,A76)/10,1)","v":-29.6},null,null,{"$f":"VLOOKUP(203,Traduction!$B$6:$D$250,'Info de l''escadron'!$A$1+1,0)","v":"Créer activité Forteresse"},"Créer activité Forteresse",null,"Capt Tremblay"]
[{"$f":"POC!C52","v":"00:00:00"},{"$f":"IF(A77=\"\",\"\",VLOOKUP(WEEKDAY(A77,1),Traduction!$B$6:$D$250,'Info de l''escadron'!$A$1+1,0))","v":"Samedi"},{"$f":"ROUND(A77+COUNTIF($A$4:A77,A77)/10,1)","v":0.2},null,null,null,0]
[{"$f":"A77+1","v":"1900-01-01"},{"$f":"IF(A78=\"\",\"\",VLOOKUP(WEEKDAY(A78,1),Traduction!$B$6:$D$250,'Info de l''escadron'!$A$1+1,0))","v":"Dimanche"},{"$f":"ROUND(A78+COUNTIF($A$4:A78,A78)/10,1)","v":1.3},null,null,{"$f":"CONCATENATE(\"CDT-135 - \",F77)","v":"CDT-135 - "},"CDT-135 - ",null,"Capt Tremblay"]
[{"$f":"A78","v":"1900-01-01"},{"$f":"IF(A79=\"\",\"\",VLOOKUP(WEEKDAY(A79,1),Traduction!$B$6:$D$250,'Info de l''escadron'!$A$1+1,0))","v":"Dimanche"},{"$f":"ROUND(A79+COUNTIF($A$4:A79,A79)/10,1)","v":1.4},null,null,{"$f":"VLOOKUP(204,Traduction!$B$6:$D$250,'Info de l''escadron'!$A$1+1,0)","v":"Inscrire les présences"},"Inscrire les présences",null,"Capt Tremblay"]
[{"$f":"A82-30","v":-30},{"$f":"IF(A80=\"\",\"\",VLOOKUP(WEEKDAY(A80,1),Traduction!$B$6:$D$250,'Info de l''escadron'!$A$1+1,0))","v":{"$error":"#NUM!"}},{"$f":"ROUND(A80+COUNTIF($A$4:A80,A80)/10,1)","v":-29.5},null,null,{"$f":"CONCATENATE(\"CDT-145 - \",F82)","v":"CDT-145 - "},"CDT-145 - ",null,"Capt Tremblay"]
[{"$f":"A80","v":-30},{"$f":"IF(A81=\"\",\"\",VLOOKUP(WEEKDAY(A81,1),Traduction!$B$6:$D$250,'Info de l''escadron'!$A$1+1,0))","v":{"$error":"#NUM!"}},{"$f":"ROUND(A81+COUNTIF($A$4:A81,A81)/10,1)","v":-29.4},null,null,{"$f":"VLOOKUP(203,Traduction!$B$6:$D$250,'Info de l''escadron'!$A$1+1,0)","v":"Créer activité Forteresse"},"Créer activité Forteresse",null,"Capt Tremblay"]
[{"$f":"POC!C55","v":"00:00:00"},{"$f":"IF(A82=\"\",\"\",VLOOKUP(WEEKDAY(A82,1),Traduction!$B$6:$D$250,'Info de l''escadron'!$A$1+1,0))","v":"Samedi"},{"$f":"ROUND(A82+COUNTIF($A$4:A82,A82)/10,1)","v":0.3},null,null,null,0]
[{"$f":"A82+1","v":"1900-01-01"},{"$f":"IF(A83=\"\",\"\",VLOOKUP(WEEKDAY(A83,1),Traduction!$B$6:$D$250,'Info de l''escadron'!$A$1+1,0))","v":"Dimanche"},{"$f":"ROUND(A83+COUNTIF($A$4:A83,A83)/10,1)","v":1.5},null,null,{"$f":"CONCATENATE(\"CDT-135 - \",F82)","v":"CDT-135 - "},"CDT-135 - ",null,"Capt Tremblay"]
[{"$f":"A83","v":"1900-01-01"},{"$f":"IF(A84=\"\",\"\",VLOOKUP(WEEKDAY(A84,1),Traduction!$B$6:$D$250,'Info de l''escadron'!$A$1+1,0))","v":"Dimanche"},{"$f":"ROUND(A84+COUNTIF($A$4:A84,A84)/10,1)","v":1.6},null,null,{"$f":"VLOOKUP(204,Traduction!$B$6:$D$250,'Info de l''escadron'!$A$1+1,0)","v":"Inscrire les présences"},"Inscrire les présences",null,"Capt Tremblay"]
[{"$f":"A87-30","v":-30},{"$f":"IF(A85=\"\",\"\",VLOOKUP(WEEKDAY(A85,1),Traduction!$B$6:$D$250,'Info de l''escadron'!$A$1+1,0))","v":{"$error":"#NUM!"}},{"$f":"ROUND(A85+COUNTIF($A$4:A85,A85)/10,1)","v":-29.3},null,null,{"$f":"CONCATENATE(\"CDT-145 - \",F87)","v":"CDT-145 - "},"CDT-145 - ",null,"Capt Tremblay"]
[{"$f":"A85","v":-30},{"$f":"IF(A86=\"\",\"\",VLOOKUP(WEEKDAY(A86,1),Traduction!$B$6:$D$250,'Info de l''escadron'!$A$1+1,0))","v":{"$error":"#NUM!"}},{"$f":"ROUND(A86+COUNTIF($A$4:A86,A86)/10,1)","v":-29.2},null,null,{"$f":"VLOOKUP(203,Traduction!$B$6:$D$250,'Info de l''escadron'!$A$1+1,0)","v":"Créer activité Forteresse"},"Créer activité Forteresse",null,"Capt Tremblay"]
[{"$f":"POC!C58","v":"00:00:00"},{"$f":"IF(A87=\"\",\"\",VLOOKUP(WEEKDAY(A87,1),Traduction!$B$6:$D$250,'Info de l''escadron'!$A$1+1,0))","v":"Samedi"},{"$f":"ROUND(A87+COUNTIF($A$4:A87,A87)/10,1)","v":0.4},null,null,null,0]
[{"$f":"A87+1","v":"1900-01-01"},{"$f":"IF(A88=\"\",\"\",VLOOKUP(WEEKDAY(A88,1),Traduction!$B$6:$D$250,'Info de l''escadron'!$A$1+1,0))","v":"Dimanche"},{"$f":"ROUND(A88+COUNTIF($A$4:A88,A88)/10,1)","v":1.7},null,null,{"$f":"CONCATENATE(\"CDT-135 - \",F87)","v":"CDT-135 - "},"CDT-135 - ","Fête des neige Magog","Capt Tremblay"]
[{"$f":"A88","v":"1900-01-01"},{"$f":"IF(A89=\"\",\"\",VLOOKUP(WEEKDAY(A89,1),Traduction!$B$6:$D$250,'Info de l''escadron'!$A$1+1,0))","v":"Dimanche"},{"$f":"ROUND(A89+COUNTIF($A$4:A89,A89)/10,1)","v":1.8},null,null,{"$f":"VLOOKUP(204,Traduction!$B$6:$D$250,'Info de l''escadron'!$A$1+1,0)","v":"Inscrire les présences"},"Inscrire les présences",null,"Capt Tremblay"]
[{"$f":"A92-30","v":"2016-01-07"},{"$f":"IF(A90=\"\",\"\",VLOOKUP(WEEKDAY(A90,1),Traduction!$B$6:$D$250,'Info de l''escadron'!$A$1+1,0))","v":"Jeudi"},{"$f":"ROUND(A90+COUNTIF($A$4:A90,A90)/10,1)","v":42376.1},null,null,{"$f":"CONCATENATE(\"CDT-145 - \",F92)","v":"CDT-145 - "},"CDT-145 - ",null,"Capt Tremblay"]
[{"$f":"A90","v":"2016-01-07"},{"$f":"IF(A91=\"\",\"\",VLOOKUP(WEEKDAY(A91,1),Traduction!$B$6:$D$250,'Info de l''escadron'!$A$1+1,0))","v":"Jeudi"},{"$f":"ROUND(A91+COUNTIF($A$4:A91,A91)/10,1)","v":42376.2},null,null,{"$f":"VLOOKUP(203,Traduction!$B$6:$D$250,'Info de l''escadron'!$A$1+1,0)","v":"Créer activité Forteresse"},"Créer activité Forteresse",null,"Capt Tremblay"]
[{"$f":"POC!C61","v":"2016-02-06"},{"$f":"IF(A92=\"\",\"\",VLOOKUP(WEEKDAY(A92,1),Traduction!$B$6:$D$250,'Info de l''escadron'!$A$1+1,0))","v":"Samedi"},{"$f":"ROUND(A92+COUNTIF($A$4:A92,A92)/10,1)","v":42406.1},null,null,null,0]
[{"$f":"A92+1","v":"2016-02-07"},{"$f":"IF(A93=\"\",\"\",VLOOKUP(WEEKDAY(A93,1),Traduction!$B$6:$D$250,'Info de l''escadron'!$A$1+1,0))","v":"Dimanche"},{"$f":"ROUND(A93+COUNTIF($A$4:A93,A93)/10,1)","v":42407.1},null,null,{"$f":"CONCATENATE(\"CDT-135 - \",F92)","v":"CDT-135 - "},"CDT-135 - ",null,"Capt Tremblay"]
[{"$f":"A93","v":"2016-02-07"},{"$f":"IF(A94=\"\",\"\",VLOOKUP(WEEKDAY(A94,1),Traduction!$B$6:$D$250,'Info de l''escadron'!$A$1+1,0))","v":"Dimanche"},{"$f":"ROUND(A94+COUNTIF($A$4:A94,A94)/10,1)","v":42407.199999999997},null,null,{"$f":"VLOOKUP(204,Traduction!$B$6:$D$250,'Info de l''escadron'!$A$1+1,0)","v":"Inscrire les présences"},"Inscrire les présences",null,"Capt Tremblay"]
[{"$f":"A97-30","v":-30},{"$f":"IF(A95=\"\",\"\",VLOOKUP(WEEKDAY(A95,1),Traduction!$B$6:$D$250,'Info de l''escadron'!$A$1+1,0))","v":{"$error":"#NUM!"}},{"$f":"ROUND(A95+COUNTIF($A$4:A95,A95)/10,1)","v":-29.1},null,null,{"$f":"CONCATENATE(\"CDT-145 - \",F97)","v":"CDT-145 - "},"CDT-145 - ",null,"Capt Tremblay"]
[{"$f":"A95","v":-30},{"$f":"IF(A96=\"\",\"\",VLOOKUP(WEEKDAY(A96,1),Traduction!$B$6:$D$250,'Info de l''escadron'!$A$1+1,0))","v":{"$error":"#NUM!"}},{"$f":"ROUND(A96+COUNTIF($A$4:A96,A96)/10,1)","v":-29},null,null,{"$f":"VLOOKUP(203,Traduction!$B$6:$D$250,'Info de l''escadron'!$A$1+1,0)","v":"Créer activité Forteresse"},"Créer activité Forteresse",null,"Capt Tremblay"]
[{"$f":"POC!C64","v":"00:00:00"},{"$f":"IF(A97=\"\",\"\",VLOOKUP(WEEKDAY(A97,1),Traduction!$B$6:$D$250,'Info de l''escadron'!$A$1+1,0))","v":"Samedi"},{"$f":"ROUND(A97+COUNTIF($A$4:A97,A97)/10,1)","v":0.5},null,null,null,0]
[{"$f":"A97+1","v":"1900-01-01"},{"$f":"IF(A98=\"\",\"\",VLOOKUP(WEEKDAY(A98,1),Traduction!$B$6:$D$250,'Info de l''escadron'!$A$1+1,0))","v":"Dimanche"},{"$f":"ROUND(A98+COUNTIF($A$4:A98,A98)/10,1)","v":1.9},null,null,{"$f":"CONCATENATE(\"CDT-135 - \",F97)","v":"CDT-135 - "},"CDT-135 - "]
[{"$f":"A98","v":"1900-01-01"},{"$f":"IF(A99=\"\",\"\",VLOOKUP(WEEKDAY(A99,1),Traduction!$B$6:$D$250,'Info de l''escadron'!$A$1+1,0))","v":"Dimanche"},{"$f":"ROUND(A99+COUNTIF($A$4:A99,A99)/10,1)","v":2},null,null,{"$f":"VLOOKUP(204,Traduction!$B$6:$D$250,'Info de l''escadron'!$A$1+1,0)","v":"Inscrire les présences"},"Inscrire les présences"]
[{"$f":"A102-30","v":-30},{"$f":"IF(A100=\"\",\"\",VLOOKUP(WEEKDAY(A100,1),Traduction!$B$6:$D$250,'Info de l''escadron'!$A$1+1,0))","v":{"$error":"#NUM!"}},{"$f":"ROUND(A100+COUNTIF($A$4:A100,A100)/10,1)","v":-28.9},null,null,{"$f":"CONCATENATE(\"CDT-145 - \",F102)","v":"CDT-145 - "},"CDT-145 - "]
[{"$f":"A100","v":-30},{"$f":"IF(A101=\"\",\"\",VLOOKUP(WEEKDAY(A101,1),Traduction!$B$6:$D$250,'Info de l''escadron'!$A$1+1,0))","v":{"$error":"#NUM!"}},{"$f":"ROUND(A101+COUNTIF($A$4:A101,A101)/10,1)","v":-28.8},null,null,{"$f":"VLOOKUP(203,Traduction!$B$6:$D$250,'Info de l''escadron'!$A$1+1,0)","v":"Créer activité Forteresse"},{"$f":"IF(ISNA(VLOOKUP(F101,$B$540:$I$568,3,0)),F101,VLOOKUP(F101,$B$540:$I$568,3,0))","v":"Créer activité Forteresse"}]
[{"$f":"POC!C67","v":"00:00:00"},{"$f":"IF(A102=\"\",\"\",VLOOKUP(WEEKDAY(A102,1),Traduction!$B$6:$D$250,'Info de l''escadron'!$A$1+1,0))","v":"Samedi"},{"$f":"ROUND(A102+COUNTIF($A$4:A102,A102)/10,1)","v":0.6},null,null,null,0]
[{"$f":"A102+1","v":"1900-01-01"},{"$f":"IF(A103=\"\",\"\",VLOOKUP(WEEKDAY(A103,1),Traduction!$B$6:$D$250,'Info de l''escadron'!$A$1+1,0))","v":"Dimanche"},{"$f":"ROUND(A103+COUNTIF($A$4:A103,A103)/10,1)","v":2.1},null,null,{"$f":"CONCATENATE(\"CDT-135 - \",F102)","v":"CDT-135 - "},"CDT-135 - "]
[{"$f":"A103","v":"1900-01-01"},{"$f":"IF(A104=\"\",\"\",VLOOKUP(WEEKDAY(A104,1),Traduction!$B$6:$D$250,'Info de l''escadron'!$A$1+1,0))","v":"Dimanche"},{"$f":"ROUND(A104+COUNTIF($A$4:A104,A104)/10,1)","v":2.2000000000000002},null,null,{"$f":"VLOOKUP(204,Traduction!$B$6:$D$250,'Info de l''escadron'!$A$1+1,0)","v":"Inscrire les présences"},"Inscrire les présences"]
[{"$f":"A107-30","v":{"$error":"#VALUE!"}},{"$f":"IF(A105=\"\",\"\",VLOOKUP(WEEKDAY(A105,1),Traduction!$B$6:$D$250,'Info de l''escadron'!$A$1+1,0))","v":{"$error":"#VALUE!"}},{"$f":"ROUND(A105+COUNTIF($A$4:A105,A105)/10,1)","v":{"$error":"#VALUE!"}},null,null,{"$f":"CONCATENATE(\"CDT-145 - \",F107)","v":"CDT-145 - POC/MCP 20"},"CDT-145 - POC/MCP 20"]
[{"$f":"A105","v":{"$error":"#VALUE!"}},{"$f":"IF(A106=\"\",\"\",VLOOKUP(WEEKDAY(A106,1),Traduction!$B$6:$D$250,'Info de l''escadron'!$A$1+1,0))","v":{"$error":"#VALUE!"}},{"$f":"ROUND(A106+COUNTIF($A$4:A106,A106)/10,1)","v":{"$error":"#VALUE!"}},null,null,{"$f":"VLOOKUP(203,Traduction!$B$6:$D$250,'Info de l''escadron'!$A$1+1,0)","v":"Créer activité Forteresse"},"Créer activité Forteresse"]
[{"$f":"POC!C70","v":"xx sept 15"},{"$f":"IF(A107=\"\",\"\",VLOOKUP(WEEKDAY(A107,1),Traduction!$B$6:$D$250,'Info de l''escadron'!$A$1+1,0))","v":{"$error":"#VALUE!"}},{"$f":"ROUND(A107+COUNTIF($A$4:A107,A107)/10,1)","v":{"$error":"#VALUE!"}},null,null,{"$f":"POC!C69","v":"POC/MCP 20"},"POC/MCP 20"]
[{"$f":"A107+1","v":{"$error":"#VALUE!"}},{"$f":"IF(A108=\"\",\"\",VLOOKUP(WEEKDAY(A108,1),Traduction!$B$6:$D$250,'Info de l''escadron'!$A$1+1,0))","v":{"$error":"#VALUE!"}},{"$f":"ROUND(A108+COUNTIF($A$4:A108,A108)/10,1)","v":{"$error":"#VALUE!"}},null,null,{"$f":"CONCATENATE(\"CDT-135 - \",F107)","v":"CDT-135 - POC/MCP 20"},"CDT-135 - POC/MCP 20"]
[{"$f":"A108","v":{"$error":"#VALUE!"}},{"$f":"IF(A109=\"\",\"\",VLOOKUP(WEEKDAY(A109,1),Traduction!$B$6:$D$250,'Info de l''escadron'!$A$1+1,0))","v":{"$error":"#VALUE!"}},{"$f":"ROUND(A109+COUNTIF($A$4:A109,A109)/10,1)","v":{"$error":"#VALUE!"}},null,null,{"$f":"VLOOKUP(204,Traduction!$B$6:$D$250,'Info de l''escadron'!$A$1+1,0)","v":"Inscrire les présences"},"Inscrire les présences"]
[{"$f":"VLOOKUP(216,Traduction!$B$6:$E$250,'Info de l''escadron'!$A$1+1,0)","v":"La légendes des codes d'abréviation est dans le bas de cette page, soit à la page #15."}]
[{"$f":"VLOOKUP(40,Traduction!$B$6:$D$250,'Info de l''escadron'!$A$1+1,0)","v":"Date"},{"$f":"VLOOKUP(83,Traduction!$B$6:$D$250,'Info de l''escadron'!$A$1+1,0)","v":"Jour"},null,{"$f":"VLOOKUP(22,Traduction!$B$6:$D$250,'Info de l''escadron'!$A$1+1,0)","v":"Début"},{"$f":"VLOOKUP(23,Traduction!$B$6:$D$250,'Info de l''escadron'!$A$1+1,0)","v":"Fin"},{"$f":"VLOOKUP(84,Traduction!$B$6:$D$250,'Info de l''escadron'!$A$1+1,0)","v":"Activité"},null,{"$f":"VLOOKUP(43,Traduction!$B$6:$D$250,'Info de l''escadron'!$A$1+1,0)","v":"Emplacement"},{"$f":"VLOOKUP(85,Traduction!$B$6:$D$250,'Info de l''escadron'!$A$1+1,0)","v":"BPR"}]
[null,{"$f":"IF(A112=\"\",\"\",VLOOKUP(WEEKDAY(A112,1),Traduction!$B$6:$D$250,'Info de l''escadron'!$A$1+1,0))","v":""},{"$f":"A112+COUNTIF($A$4:A112,A112)/10","v":0.6},null,null,null,{"$f":"IF(ISNA(VLOOKUP(F112,$B$540:$I$568,3,0)),F112,VLOOKUP(F112,$B$540:$I$568,3,0))","v":0}]
[null,{"$f":"IF(A113=\"\",\"\",VLOOKUP(WEEKDAY(A113,1),Traduction!$B$6:$D$250,'Info de l''escadron'!$A$1+1,0))","v":""},{"$f":"A113+COUNTIF($A$4:A113,A113)/10","v":0.6},null,null,null,"École des servittes"]
[null,{"$f":"IF(A114=\"\",\"\",VLOOKUP(WEEKDAY(A114,1),Traduction!$B$6:$D$250,'Info de l''escadron'!$A$1+1,0))","v":""},{"$f":"A114+COUNTIF($A$4:A114,A114)/10","v":0.6},null,null,null,0]
[null,{"$f":"IF(A115=\"\",\"\",VLOOKUP(WEEKDAY(A115,1),Traduction!$B$6:$D$250,'Info de l''escadron'!$A$1+1,0))","v":""},{"$f":"A115+COUNTIF($A$4:A115,A115)/10","v":0.6},null,null,null,0]
[null,{"$f":"IF(A116=\"\",\"\",VLOOKUP(WEEKDAY(A116,1),Traduction!$B$6:$D$250,'Info de l''escadron'!$A$1+1,0))","v":""},{"$f":"A116+COUNTIF($A$4:A116,A116)/10","v":0.6},null,null,null,0]
[null,{"$f":"IF(A117=\"\",\"\",VLOOKUP(WEEKDAY(A117,1),Traduction!$B$6:$D$250,'Info de l''escadron'!$A$1+1,0))","v":""},{"$f":"A117+COUNTIF($A$4:A117,A117)/10","v":0.6},null,null,null,0]
[null,{"$f":"IF(A118=\"\",\"\",VLOOKUP(WEEKDAY(A118,1),Traduction!$B$6:$D$250,'Info de l''escadron'!$A$1+1,0))","v":""},{"$f":"A118+COUNTIF($A$4:A118,A118)/10","v":0.6},null,null,null,0]
[null,{"$f":"IF(A119=\"\",\"\",VLOOKUP(WEEKDAY(A119,1),Traduction!$B$6:$D$250,'Info de l''escadron'!$A$1+1,0))","v":""},{"$f":"A119+COUNTIF($A$4:A119,A119)/10","v":0.6},null,null,null,0]
[null,{"$f":"IF(A120=\"\",\"\",VLOOKUP(WEEKDAY(A120,1),Traduction!$B$6:$D$250,'Info de l''escadron'!$A$1+1,0))","v":""},{"$f":"A120+COUNTIF($A$4:A120,A120)/10","v":0.6},null,null,null,0]
[null,{"$f":"IF(A121=\"\",\"\",VLOOKUP(WEEKDAY(A121,1),Traduction!$B$6:$D$250,'Info de l''escadron'!$A$1+1,0))","v":""},{"$f":"A121+COUNTIF($A$4:A121,A121)/10","v":0.6},null,null,null,"AEC"]
[null,{"$f":"IF(A122=\"\",\"\",VLOOKUP(WEEKDAY(A122,1),Traduction!$B$6:$D$250,'Info de l''escadron'!$A$1+1,0))","v":""},{"$f":"A122+COUNTIF($A$4:A122,A122)/10","v":0.6},null,null,null,0]
[null,{"$f":"IF(A123=\"\",\"\",VLOOKUP(WEEKDAY(A123,1),Traduction!$B$6:$D$250,'Info de l''escadron'!$A$1+1,0))","v":""},{"$f":"A123+COUNTIF($A$4:A123,A123)/10","v":0.6},null,null,null,0]
[null,{"$f":"IF(A124=\"\",\"\",VLOOKUP(WEEKDAY(A124,1),Traduction!$B$6:$D$250,'Info de l''escadron'!$A$1+1,0))","v":""},{"$f":"A124+COUNTIF($A$4:A124,A124)/10","v":0.6},null,null,null,0]
[null,{"$f":"IF(A125=\"\",\"\",VLOOKUP(WEEKDAY(A125,1),Traduction!$B$6:$D$250,'Info de l''escadron'!$A$1+1,0))","v":""},{"$f":"A125+COUNTIF($A$4:A125,A125)/10","v":0.6},null,null,null,0]
[null,{"$f":"IF(A126=\"\",\"\",VLOOKUP(WEEKDAY(A126,1),Traduction!$B$6:$D$250,'Info de l''escadron'!$A$1+1,0))","v":""},{"$f":"A126+COUNTIF($A$4:A126,A126)/10","v":0.6},null,null,null,0]
[null,{"$f":"IF(A127=\"\",\"\",VLOOKUP(WEEKDAY(A127,1),Traduction!$B$6:$D$250,'Info de l''escadron'!$A$1+1,0))","v":""},{"$f":"A127+COUNTIF($A$4:A127,A127)/10","v":0.6},null,null,null,0]
[null,{"$f":"IF(A128=\"\",\"\",VLOOKUP(WEEKDAY(A128,1),Traduction!$B$6:$D$250,'Info de l''escadron'!$A$1+1,0))","v":""},{"$f":"A128+COUNTIF($A$4:A128,A128)/10","v":0.6},null,null,null,0]
[null,{"$f":"IF(A129=\"\",\"\",VLOOKUP(WEEKDAY(A129,1),Traduction!$B$6:$D$250,'Info de l''escadron'!$A$1+1,0))","v":""},{"$f":"A129+COUNTIF($A$4:A129,A129)/10","v":0.6},null,null,null,"AEC"]
[null,{"$f":"IF(A130=\"\",\"\",VLOOKUP(WEEKDAY(A130,1),Traduction!$B$6:$D$250,'Info de l''escadron'!$A$1+1,0))","v":""},{"$f":"A130+COUNTIF($A$4:A130,A130)/10","v":0.6},null,null,null,"AEC"]
[null,{"$f":"IF(A131=\"\",\"\",VLOOKUP(WEEKDAY(A131,1),Traduction!$B$6:$D$250,'Info de l''escadron'!$A$1+1,0))","v":""},{"$f":"A131+COUNTIF($A$4:A131,A131)/10","v":0.6},null,null,null,0]
[null,{"$f":"IF(A132=\"\",\"\",VLOOKUP(WEEKDAY(A132,1),Traduction!$B$6:$D$250,'Info de l''escadron'!$A$1+1,0))","v":""},{"$f":"A132+COUNTIF($A$4:A132,A132)/10","v":0.6},null,null,null,0]
[null,{"$f":"IF(A133=\"\",\"\",VLOOKUP(WEEKDAY(A133,1),Traduction!$B$6:$D$250,'Info de l''escadron'!$A$1+1,0))","v":""},{"$f":"A133+COUNTIF($A$4:A133,A133)/10","v":0.6},null,null,null,0]
[null,{"$f":"IF(A134=\"\",\"\",VLOOKUP(WEEKDAY(A134,1),Traduction!$B$6:$D$250,'Info de l''escadron'!$A$1+1,0))","v":""},{"$f":"A134+COUNTIF($A$4:A134,A134)/10","v":0.6},null,null,null,0]
[null,{"$f":"IF(A135=\"\",\"\",VLOOKUP(WEEKDAY(A135,1),Traduction!$B$6:$D$250,'Info de l''escadron'!$A$1+1,0))","v":""},{"$f":"A135+COUNTIF($A$4:A135,A135)/10","v":0.6},null,null,null,0]
[null,{"$f":"IF(A136=\"\",\"\",VLOOKUP(WEEKDAY(A136,1),Traduction!$B$6:$D$250,'Info de l''escadron'!$A$1+1,0))","v":""},{"$f":"A136+COUNTIF($A$4:A136,A136)/10","v":0.6},null,null,null,0]
[null,{"$f":"IF(A137=\"\",\"\",VLOOKUP(WEEKDAY(A137,1),Traduction!$B$6:$D$250,'Info de l''escadron'!$A$1+1,0))","v":""},{"$f":"A137+COUNTIF($A$4:A137,A137)/10","v":0.6},null,null,null,0]
[null,{"$f":"IF(A138=\"\",\"\",VLOOKUP(WEEKDAY(A138,1),Traduction!$B$6:$D$250,'Info de l''escadron'!$A$1+1,0))","v":""},{"$f":"A138+COUNTIF($A$4:A138,A138)/10","v":0.6},null,null,null,0]
[null,{"$f":"IF(A139=\"\",\"\",VLOOKUP(WEEKDAY(A139,1),Traduction!$B$6:$D$250,'Info de l''escadron'!$A$1+1,0))","v":""},{"$f":"A139+COUNTIF($A$4:A139,A139)/10","v":0.6},null,null,null,0]
[null,{"$f":"IF(A140=\"\",\"\",VLOOKUP(WEEKDAY(A140,1),Traduction!$B$6:$D$250,'Info de l''escadron'!$A$1+1,0))","v":""},{"$f":"A140+COUNTIF($A$4:A140,A140)/10","v":0.6},null,null,null,0]
[null,{"$f":"IF(A141=\"\",\"\",VLOOKUP(WEEKDAY(A141,1),Traduction!$B$6:$D$250,'Info de l''escadron'!$A$1+1,0))","v":""},{"$f":"A141+COUNTIF($A$4:A141,A141)/10","v":0.6},null,null,null,0]
[null,{"$f":"IF(A142=\"\",\"\",VLOOKUP(WEEKDAY(A142,1),Traduction!$B$6:$D$250,'Info de l''escadron'!$A$1+1,0))","v":""},{"$f":"A142+COUNTIF($A$4:A142,A142)/10","v":0.6},null,null,null,0]
[null,{"$f":"IF(A143=\"\",\"\",VLOOKUP(WEEKDAY(A143,1),Traduction!$B$6:$D$250,'Info de l''escadron'!$A$1+1,0))","v":""},{"$f":"A143+COUNTIF($A$4:A143,A143)/10","v":0.6},null,null,null,0]
[null,{"$f":"IF(A144=\"\",\"\",VLOOKUP(WEEKDAY(A144,1),Traduction!$B$6:$D$250,'Info de l''escadron'!$A$1+1,0))","v":""},{"$f":"A144+COUNTIF($A$4:A144,A144)/10","v":0.6},null,null,null,0]
[null,{"$f":"IF(A145=\"\",\"\",VLOOKUP(WEEKDAY(A145,1),Traduction!$B$6:$D$250,'Info de l''escadron'!$A$1+1,0))","v":""},{"$f":"A145+COUNTIF($A$4:A145,A145)/10","v":0.6},null,null,null,0]
[null,{"$f":"IF(A146=\"\",\"\",VLOOKUP(WEEKDAY(A146,1),Traduction!$B$6:$D$250,'Info de l''escadron'!$A$1+1,0))","v":""},{"$f":"A146+COUNTIF($A$4:A146,A146)/10","v":0.6},null,null,null,0]
[null,{"$f":"IF(A147=\"\",\"\",VLOOKUP(WEEKDAY(A147,1),Traduction!$B$6:$D$250,'Info de l''escadron'!$A$1+1,0))","v":""},{"$f":"A147+COUNTIF($A$4:A147,A147)/10","v":0.6},null,null,null,0]
[null,{"$f":"IF(A148=\"\",\"\",VLOOKUP(WEEKDAY(A148,1),Traduction!$B$6:$D$250,'Info de l''escadron'!$A$1+1,0))","v":""},{"$f":"A148+COUNTIF($A$4:A148,A148)/10","v":0.6},null,null,null,0]
[null,{"$f":"IF(A149=\"\",\"\",VLOOKUP(WEEKDAY(A149,1),Traduction!$B$6:$D$250,'Info de l''escadron'!$A$1+1,0))","v":""},{"$f":"A149+COUNTIF($A$4:A149,A149)/10","v":0.6},null,null,null,0]
[null,{"$f":"IF(A150=\"\",\"\",VLOOKUP(WEEKDAY(A150,1),Traduction!$B$6:$D$250,'Info de l''escadron'!$A$1+1,0))","v":""},{"$f":"A150+COUNTIF($A$4:A150,A150)/10","v":0.6},null,null,null,0]
[null,{"$f":"IF(A151=\"\",\"\",VLOOKUP(WEEKDAY(A151,1),Traduction!$B$6:$D$250,'Info de l''escadron'!$A$1+1,0))","v":""},{"$f":"A151+COUNTIF($A$4:A151,A151)/10","v":0.6},null,null,null,0]
[null,{"$f":"IF(A152=\"\",\"\",VLOOKUP(WEEKDAY(A152,1),Traduction!$B$6:$D$250,'Info de l''escadron'!$A$1+1,0))","v":""},{"$f":"A152+COUNTIF($A$4:A152,A152)/10","v":0.6},null,null,null,0]
[null,{"$f":"IF(A153=\"\",\"\",VLOOKUP(WEEKDAY(A153,1),Traduction!$B$6:$D$250,'Info de l''escadron'!$A$1+1,0))","v":""},{"$f":"A153+COUNTIF($A$4:A153,A153)/10","v":0.6},null,null,null,0]
[null,{"$f":"IF(A154=\"\",\"\",VLOOKUP(WEEKDAY(A154,1),Traduction!$B$6:$D$250,'Info de l''escadron'!$A$1+1,0))","v":""},{"$f":"A154+COUNTIF($A$4:A154,A154)/10","v":0.6},null,null,null,0]
[null,{"$f":"IF(A155=\"\",\"\",VLOOKUP(WEEKDAY(A155,1),Traduction!$B$6:$D$250,'Info de l''escadron'!$A$1+1,0))","v":""},{"$f":"A155+COUNTIF($A$4:A155,A155)/10","v":0.6},null,null,null,0]
[null,{"$f":"IF(A156=\"\",\"\",VLOOKUP(WEEKDAY(A156,1),Traduction!$B$6:$D$250,'Info de l''escadron'!$A$1+1,0))","v":""},{"$f":"A156+COUNTIF($A$4:A156,A156)/10","v":0.6},null,null,null,0]
[null,{"$f":"IF(A157=\"\",\"\",VLOOKUP(WEEKDAY(A157,1),Traduction!$B$6:$D$250,'Info de l''escadron'!$A$1+1,0))","v":""},{"$f":"A157+COUNTIF($A$4:A157,A157)/10","v":0.6},null,null,null,0]
[null,{"$f":"IF(A158=\"\",\"\",VLOOKUP(WEEKDAY(A158,1),Traduction!$B$6:$D$250,'Info de l''escadron'!$A$1+1,0))","v":""},{"$f":"A158+COUNTIF($A$4:A158,A158)/10","v":0.6},null,null,null,0]
[null,{"$f":"IF(A159=\"\",\"\",VLOOKUP(WEEKDAY(A159,1),Traduction!$B$6:$D$250,'Info de l''escadron'!$A$1+1,0))","v":""},{"$f":"A159+COUNTIF($A$4:A159,A159)/10","v":0.6},null,null,null,0]
[null,{"$f":"IF(A160=\"\",\"\",VLOOKUP(WEEKDAY(A160,1),Traduction!$B$6:$D$250,'Info de l''escadron'!$A$1+1,0))","v":""},{"$f":"A160+COUNTIF($A$4:A160,A160)/10","v":0.6},null,null,null,0]
[null,{"$f":"IF(A161=\"\",\"\",VLOOKUP(WEEKDAY(A161,1),Traduction!$B$6:$D$250,'Info de l''escadron'!$A$1+1,0))","v":""},{"$f":"A161+COUNTIF($A$4:A161,A161)/10","v":0.6},null,null,null,0]
[null,{"$f":"IF(A162=\"\",\"\",VLOOKUP(WEEKDAY(A162,1),Traduction!$B$6:$D$250,'Info de l''escadron'!$A$1+1,0))","v":""},{"$f":"A162+COUNTIF($A$4:A162,A162)/10","v":0.6},null,null,null,0]
[null,{"$f":"IF(A163=\"\",\"\",VLOOKUP(WEEKDAY(A163,1),Traduction!$B$6:$D$250,'Info de l''escadron'!$A$1+1,0))","v":""},{"$f":"A163+COUNTIF($A$4:A163,A163)/10","v":0.6},null,null,null,0]
[null,{"$f":"IF(A164=\"\",\"\",VLOOKUP(WEEKDAY(A164,1),Traduction!$B$6:$D$250,'Info de l''escadron'!$A$1+1,0))","v":""},{"$f":"A164+COUNTIF($A$4:A164,A164)/10","v":0.6},null,null,null,0]
[null,{"$f":"IF(A165=\"\",\"\",VLOOKUP(WEEKDAY(A165,1),Traduction!$B$6:$D$250,'Info de l''escadron'!$A$1+1,0))","v":""},{"$f":"A165+COUNTIF($A$4:A165,A165)/10","v":0.6},null,null,null,0]
[null,{"$f":"IF(A166=\"\",\"\",VLOOKUP(WEEKDAY(A166,1),Traduction!$B$6:$D$250,'Info de l''escadron'!$A$1+1,0))","v":""},{"$f":"A166+COUNTIF($A$4:A166,A166)/10","v":0.6},null,null,null,0]
[null,{"$f":"IF(A167=\"\",\"\",VLOOKUP(WEEKDAY(A167,1),Traduction!$B$6:$D$250,'Info de l''escadron'!$A$1+1,0))","v":""},{"$f":"A167+COUNTIF($A$4:A167,A167)/10","v":0.6},null,null,null,0]
[null,{"$f":"IF(A168=\"\",\"\",VLOOKUP(WEEKDAY(A168,1),Traduction!$B$6:$D$250,'Info de l''escadron'!$A$1+1,0))","v":""},{"$f":"A168+COUNTIF($A$4:A168,A168)/10","v":0.6},null,null,null,0]
[null,{"$f":"IF(A169=\"\",\"\",VLOOKUP(WEEKDAY(A169,1),Traduction!$B$6:$D$250,'Info de l''escadron'!$A$1+1,0))","v":""},{"$f":"A169+COUNTIF($A$4:A169,A169)/10","v":0.6},null,null,null,0]
[null,{"$f":"IF(A170=\"\",\"\",VLOOKUP(WEEKDAY(A170,1),Traduction!$B$6:$D$250,'Info de l''escadron'!$A$1+1,0))","v":""},{"$f":"A170+COUNTIF($A$4:A170,A170)/10","v":0.6},null,null,null,0]
[null,{"$f":"IF(A171=\"\",\"\",VLOOKUP(WEEKDAY(A171,1),Traduction!$B$6:$D$250,'Info de l''escadron'!$A$1+1,0))","v":""},{"$f":"A171+COUNTIF($A$4:A171,A171)/10","v":0.6},null,null,null,0]
[null,{"$f":"IF(A172=\"\",\"\",VLOOKUP(WEEKDAY(A172,1),Traduction!$B$6:$D$250,'Info de l''escadron'!$A$1+1,0))","v":""},{"$f":"A172+COUNTIF($A$4:A172,A172)/10","v":0.6},null,null,null,0]
[null,{"$f":"IF(A173=\"\",\"\",VLOOKUP(WEEKDAY(A173,1),Traduction!$B$6:$D$250,'Info de l''escadron'!$A$1+1,0))","v":""},{"$f":"A173+COUNTIF($A$4:A173,A173)/10","v":0.6},null,null,null,0]
[null,{"$f":"IF(A174=\"\",\"\",VLOOKUP(WEEKDAY(A174,1),Traduction!$B$6:$D$250,'Info de l''escadron'!$A$1+1,0))","v":""},{"$f":"A174+COUNTIF($A$4:A174,A174)/10","v":0.6},null,null,null,0]
[null,{"$f":"IF(A175=\"\",\"\",VLOOKUP(WEEKDAY(A175,1),Traduction!$B$6:$D$250,'Info de l''escadron'!$A$1+1,0))","v":""},{"$f":"A175+COUNTIF($A$4:A175,A175)/10","v":0.6},null,null,null,0]
[null,{"$f":"IF(A176=\"\",\"\",VLOOKUP(WEEKDAY(A176,1),Traduction!$B$6:$D$250,'Info de l''escadron'!$A$1+1,0))","v":""},{"$f":"A176+COUNTIF($A$4:A176,A176)/10","v":0.6},null,null,null,{"$f":"IF(ISNA(VLOOKUP(F176,$B$540:$I$568,3,0)),F176,VLOOKUP(F176,$B$540:$I$568,3,0))","v":0}]
[null,{"$f":"IF(A177=\"\",\"\",VLOOKUP(WEEKDAY(A177,1),Traduction!$B$6:$D$250,'Info de l''escadron'!$A$1+1,0))","v":""},{"$f":"A177+COUNTIF($A$4:A177,A177)/10","v":0.6},null,null,null,0]
[null,{"$f":"IF(A178=\"\",\"\",VLOOKUP(WEEKDAY(A178,1),Traduction!$B$6:$D$250,'Info de l''escadron'!$A$1+1,0))","v":""},{"$f":"A178+COUNTIF($A$4:A178,A178)/10","v":0.6},null,null,null,0]
[null,{"$f":"IF(A179=\"\",\"\",VLOOKUP(WEEKDAY(A179,1),Traduction!$B$6:$D$250,'Info de l''escadron'!$A$1+1,0))","v":""},{"$f":"A179+COUNTIF($A$4:A179,A179)/10","v":0.6},null,null,null,0]
[null,{"$f":"IF(A180=\"\",\"\",VLOOKUP(WEEKDAY(A180,1),Traduction!$B$6:$D$250,'Info de l''escadron'!$A$1+1,0))","v":""},{"$f":"A180+COUNTIF($A$4:A180,A180)/10","v":0.6},null,null,null,0]
[null,{"$f":"IF(A181=\"\",\"\",VLOOKUP(WEEKDAY(A181,1),Traduction!$B$6:$D$250,'Info de l''escadron'!$A$1+1,0))","v":""},{"$f":"A181+COUNTIF($A$4:A181,A181)/10","v":0.6},null,null,null,0]
[null,{"$f":"IF(A182=\"\",\"\",VLOOKUP(WEEKDAY(A182,1),Traduction!$B$6:$D$250,'Info de l''escadron'!$A$1+1,0))","v":""},{"$f":"A182+COUNTIF($A$4:A182,A182)/10","v":0.6},null,null,null,0]
[null,{"$f":"IF(A183=\"\",\"\",VLOOKUP(WEEKDAY(A183,1),Traduction!$B$6:$D$250,'Info de l''escadron'!$A$1+1,0))","v":""},{"$f":"A183+COUNTIF($A$4:A183,A183)/10","v":0.6},null,null,null,0]
[null,{"$f":"IF(A184=\"\",\"\",VLOOKUP(WEEKDAY(A184,1),Traduction!$B$6:$D$250,'Info de l''escadron'!$A$1+1,0))","v":""},{"$f":"A184+COUNTIF($A$4:A184,A184)/10","v":0.6},null,null,null,0]
[null,{"$f":"IF(A185=\"\",\"\",VLOOKUP(WEEKDAY(A185,1),Traduction!$B$6:$D$250,'Info de l''escadron'!$A$1+1,0))","v":""},{"$f":"A185+COUNTIF($A$4:A185,A185)/10","v":0.6},null,null,null,0]
[null,{"$f":"IF(A186=\"\",\"\",VLOOKUP(WEEKDAY(A186,1),Traduction!$B$6:$D$250,'Info de l''escadron'!$A$1+1,0))","v":""},{"$f":"A186+COUNTIF($A$4:A186,A186)/10","v":0.6},null,null,null,0]
[null,{"$f":"IF(A187=\"\",\"\",VLOOKUP(WEEKDAY(A187,1),Traduction!$B$6:$D$250,'Info de l''escadron'!$A$1+1,0))","v":""},{"$f":"A187+COUNTIF($A$4:A187,A187)/10","v":0.6},null,null,null,0]
[null,{"$f":"IF(A188=\"\",\"\",VLOOKUP(WEEKDAY(A188,1),Traduction!$B$6:$D$250,'Info de l''escadron'!$A$1+1,0))","v":""},{"$f":"A188+COUNTIF($A$4:A188,A188)/10","v":0.6},null,null,null,0]
[null,{"$f":"IF(A189=\"\",\"\",VLOOKUP(WEEKDAY(A189,1),Traduction!$B$6:$D$250,'Info de l''escadron'!$A$1+1,0))","v":""},{"$f":"A189+COUNTIF($A$4:A189,A189)/10","v":0.6},null,null,null,0]
[null,{"$f":"IF(A190=\"\",\"\",VLOOKUP(WEEKDAY(A190,1),Traduction!$B$6:$D$250,'Info de l''escadron'!$A$1+1,0))","v":""},{"$f":"A190+COUNTIF($A$4:A190,A190)/10","v":0.6},null,null,null,0]
[null,{"$f":"IF(A191=\"\",\"\",VLOOKUP(WEEKDAY(A191,1),Traduction!$B$6:$D$250,'Info de l''escadron'!$A$1+1,0))","v":""},{"$f":"A191+COUNTIF($A$4:A191,A191)/10","v":0.6},null,null,null,0]
[null,{"$f":"IF(A192=\"\",\"\",VLOOKUP(WEEKDAY(A192,1),Traduction!$B$6:$D$250,'Info de l''escadron'!$A$1+1,0))","v":""},{"$f":"A192+COUNTIF($A$4:A192,A192)/10","v":0.6},null,null,null,0]
[null,{"$f":"IF(A193=\"\",\"\",VLOOKUP(WEEKDAY(A193,1),Traduction!$B$6:$D$250,'Info de l''escadron'!$A$1+1,0))","v":""},{"$f":"A193+COUNTIF($A$4:A193,A193)/10","v":0.6},null,null,null,0]
[null,{"$f":"IF(A194=\"\",\"\",VLOOKUP(WEEKDAY(A194,1),Traduction!$B$6:$D$250,'Info de l''escadron'!$A$1+1,0))","v":""},{"$f":"A194+COUNTIF($A$4:A194,A194)/10","v":0.6},null,null,null,0]
[null,{"$f":"IF(A195=\"\",\"\",VLOOKUP(WEEKDAY(A195,1),Traduction!$B$6:$D$250,'Info de l''escadron'!$A$1+1,0))","v":""},{"$f":"A195+COUNTIF($A$4:A195,A195)/10","v":0.6},null,null,null,0]
[null,{"$f":"IF(A196=\"\",\"\",VLOOKUP(WEEKDAY(A196,1),Traduction!$B$6:$D$250,'Info de l''escadron'!$A$1+1,0))","v":""},{"$f":"A196+COUNTIF($A$4:A196,A196)/10","v":0.6},null,null,null,0]
[null,{"$f":"IF(A197=\"\",\"\",VLOOKUP(WEEKDAY(A197,1),Traduction!$B$6:$D$250,'Info de l''escadron'!$A$1+1,0))","v":""},{"$f":"A197+COUNTIF($A$4:A197,A197)/10","v":0.6},null,null,null,0]
[null,{"$f":"IF(A198=\"\",\"\",VLOOKUP(WEEKDAY(A198,1),Traduction!$B$6:$D$250,'Info de l''escadron'!$A$1+1,0))","v":""},{"$f":"A198+COUNTIF($A$4:A198,A198)/10","v":0.6},null,null,null,0]
[null,{"$f":"IF(A199=\"\",\"\",VLOOKUP(WEEKDAY(A199,1),Traduction!$B$6:$D$250,'Info de l''escadron'!$A$1+1,0))","v":""},{"$f":"A199+COUNTIF($A$4:A199,A199)/10","v":0.6},null,null,null,0]
[null,{"$f":"IF(A200=\"\",\"\",VLOOKUP(WEEKDAY(A200,1),Traduction!$B$6:$D$250,'Info de l''escadron'!$A$1+1,0))","v":""},{"$f":"A200+COUNTIF($A$4:A200,A200)/10","v":0.6},null,null,null,0]
[null,{"$f":"IF(A201=\"\",\"\",VLOOKUP(WEEKDAY(A201,1),Traduction!$B$6:$D$250,'Info de l''escadron'!$A$1+1,0))","v":""},{"$f":"A201+COUNTIF($A$4:A201,A201)/10","v":0.6},null,null,null,0]
[null,{"$f":"IF(A202=\"\",\"\",VLOOKUP(WEEKDAY(A202,1),Traduction!$B$6:$D$250,'Info de l''escadron'!$A$1+1,0))","v":""},{"$f":"A202+COUNTIF($A$4:A202,A202)/10","v":0.6},null,null,null,0]
[null,{"$f":"IF(A203=\"\",\"\",VLOOKUP(WEEKDAY(A203,1),Traduction!$B$6:$D$250,'Info de l''escadron'!$A$1+1,0))","v":""},{"$f":"A203+COUNTIF($A$4:A203,A203)/10","v":0.6},null,null,null,0]
[null,{"$f":"IF(A204=\"\",\"\",VLOOKUP(WEEKDAY(A204,1),Traduction!$B$6:$D$250,'Info de l''escadron'!$A$1+1,0))","v":""},{"$f":"A204+COUNTIF($A$4:A204,A204)/10","v":0.6},null,null,null,0]
[null,{"$f":"IF(A205=\"\",\"\",VLOOKUP(WEEKDAY(A205,1),Traduction!$B$6:$D$250,'Info de l''escadron'!$A$1+1,0))","v":""},{"$f":"A205+COUNTIF($A$4:A205,A205)/10","v":0.6},null,null,null,0]
[null,{"$f":"IF(A206=\"\",\"\",VLOOKUP(WEEKDAY(A206,1),Traduction!$B$6:$D$250,'Info de l''escadron'!$A$1+1,0))","v":""},{"$f":"A206+COUNTIF($A$4:A206,A206)/10","v":0.6},null,null,null,0]
[null,{"$f":"IF(A207=\"\",\"\",VLOOKUP(WEEKDAY(A207,1),Traduction!$B$6:$D$250,'Info de l''escadron'!$A$1+1,0))","v":""},{"$f":"A207+COUNTIF($A$4:A207,A207)/10","v":0.6},null,null,null,0]
[null,{"$f":"IF(A208=\"\",\"\",VLOOKUP(WEEKDAY(A208,1),Traduction!$B$6:$D$250,'Info de l''escadron'!$A$1+1,0))","v":""},{"$f":"A208+COUNTIF($A$4:A208,A208)/10","v":0.6},null,null,null,0]
[null,{"$f":"IF(A209=\"\",\"\",VLOOKUP(WEEKDAY(A209,1),Traduction!$B$6:$D$250,'Info de l''escadron'!$A$1+1,0))","v":""},{"$f":"A209+COUNTIF($A$4:A209,A209)/10","v":0.6},null,null,null,0]
[null,{"$f":"IF(A210=\"\",\"\",VLOOKUP(WEEKDAY(A210,1),Traduction!$B$6:$D$250,'Info de l''escadron'!$A$1+1,0))","v":""},{"$f":"A210+COUNTIF($A$4:A210,A210)/10","v":0.6},null,null,null,0]
[null,{"$f":"IF(A211=\"\",\"\",VLOOKUP(WEEKDAY(A211,1),Traduction!$B$6:$D$250,'Info de l''escadron'!$A$1+1,0))","v":""},{"$f":"A211+COUNTIF($A$4:A211,A211)/10","v":0.6},null,null,null,0]
[null,{"$f":"IF(A212=\"\",\"\",VLOOKUP(WEEKDAY(A212,1),Traduction!$B$6:$D$250,'Info de l''escadron'!$A$1+1,0))","v":""},{"$f":"A212+COUNTIF($A$4:A212,A212)/10","v":0.6},null,null,null,0]
[null,{"$f":"IF(A213=\"\",\"\",VLOOKUP(WEEKDAY(A213,1),Traduction!$B$6:$D$250,'Info de l''escadron'!$A$1+1,0))","v":""},{"$f":"A213+COUNTIF($A$4:A213,A213)/10","v":0.6},null,null,null,0]
[null,{"$f":"IF(A214=\"\",\"\",VLOOKUP(WEEKDAY(A214,1),Traduction!$B$6:$D$250,'Info de l''escadron'!$A$1+1,0))","v":""},{"$f":"A214+COUNTIF($A$4:A214,A214)/10","v":0.6},null,null,null,0]
[null,{"$f":"IF(A215=\"\",\"\",VLOOKUP(WEEKDAY(A215,1),Traduction!$B$6:$D$250,'Info de l''escadron'!$A$1+1,0))","v":""},{"$f":"A215+COUNTIF($A$4:A215,A215)/10","v":0.6},null,null,null,0]
[null,{"$f":"IF(A216=\"\",\"\",VLOOKUP(WEEKDAY(A216,1),Traduction!$B$6:$D$250,'Info de l''escadron'!$A$1+1,0))","v":""},{"$f":"A216+COUNTIF($A$4:A216,A216)/10","v":0.6},null,null,null,0]
[null,{"$f":"IF(A217=\"\",\"\",VLOOKUP(WEEKDAY(A217,1),Traduction!$B$6:$D$250,'Info de l''escadron'!$A$1+1,0))","v":""},{"$f":"A217+COUNTIF($A$4:A217,A217)/10","v":0.6},null,null,null,0]
[null,{"$f":"IF(A218=\"\",\"\",VLOOKUP(WEEKDAY(A218,1),Traduction!$B$6:$D$250,'Info de l''escadron'!$A$1+1,0))","v":""},{"$f":"A218+COUNTIF($A$4:A218,A218)/10","v":0.6},null,null,null,0]
[null,{"$f":"IF(A219=\"\",\"\",VLOOKUP(WEEKDAY(A219,1),Traduction!$B$6:$D$250,'Info de l''escadron'!$A$1+1,0))","v":""},{"$f":"A219+COUNTIF($A$4:A219,A219)/10","v":0.6},null,null,null,0]
[null,{"$f":"IF(A220=\"\",\"\",VLOOKUP(WEEKDAY(A220,1),Traduction!$B$6:$D$250,'Info de l''escadron'!$A$1+1,0))","v":""},{"$f":"A220+COUNTIF($A$4:A220,A220)/10","v":0.6},null,null,null,0]
[null,{"$f":"IF(A221=\"\",\"\",VLOOKUP(WEEKDAY(A221,1),Traduction!$B$6:$D$250,'Info de l''escadron'!$A$1+1,0))","v":""},{"$f":"A221+COUNTIF($A$4:A221,A221)/10","v":0.6},null,null,null,0]
[null,{"$f":"IF(A222=\"\",\"\",VLOOKUP(WEEKDAY(A222,1),Traduction!$B$6:$D$250,'Info de l''escadron'!$A$1+1,0))","v":""},{"$f":"A222+COUNTIF($A$4:A222,A222)/10","v":0.6},null,null,null,0]
[null,{"$f":"IF(A223=\"\",\"\",VLOOKUP(WEEKDAY(A223,1),Traduction!$B$6:$D$250,'Info de l''escadron'!$A$1+1,0))","v":""},{"$f":"A223+COUNTIF($A$4:A223,A223)/10","v":0.6},null,null,null,0]
[null,{"$f":"IF(A224=\"\",\"\",VLOOKUP(WEEKDAY(A224,1),Traduction!$B$6:$D$250,'Info de l''escadron'!$A$1+1,0))","v":""},{"$f":"A224+COUNTIF($A$4:A224,A224)/10","v":0.6},null,null,null,0]
[null,{"$f":"IF(A225=\"\",\"\",VLOOKUP(WEEKDAY(A225,1),Traduction!$B$6:$D$250,'Info de l''escadron'!$A$1+1,0))","v":""},{"$f":"A225+COUNTIF($A$4:A225,A225)/10","v":0.6},null,null,null,0]
[null,{"$f":"IF(A226=\"\",\"\",VLOOKUP(WEEKDAY(A226,1),Traduction!$B$6:$D$250,'Info de l''escadron'!$A$1+1,0))","v":""},{"$f":"A226+COUNTIF($A$4:A226,A226)/10","v":0.6},null,null,null,0]
[null,{"$f":"IF(A227=\"\",\"\",VLOOKUP(WEEKDAY(A227,1),Traduction!$B$6:$D$250,'Info de l''escadron'!$A$1+1,0))","v":""},{"$f":"A227+COUNTIF($A$4:A227,A227)/10","v":0.6},null,null,null,0]
[null,{"$f":"IF(A228=\"\",\"\",VLOOKUP(WEEKDAY(A228,1),Traduction!$B$6:$D$250,'Info de l''escadron'!$A$1+1,0))","v":""},{"$f":"A228+COUNTIF($A$4:A228,A228)/10","v":0.6},null,null,null,0]
[null,{"$f":"IF(A229=\"\",\"\",VLOOKUP(WEEKDAY(A229,1),Traduction!$B$6:$D$250,'Info de l''escadron'!$A$1+1,0))","v":""},{"$f":"A229+COUNTIF($A$4:A229,A229)/10","v":0.6},null,null,null,0]
[null,{"$f":"IF(A230=\"\",\"\",VLOOKUP(WEEKDAY(A230,1),Traduction!$B$6:$D$250,'Info de l''escadron'!$A$1+1,0))","v":""},{"$f":"A230+COUNTIF($A$4:A230,A230)/10","v":0.6},null,null,null,0]
[null,{"$f":"IF(A231=\"\",\"\",VLOOKUP(WEEKDAY(A231,1),Traduction!$B$6:$D$250,'Info de l''escadron'!$A$1+1,0))","v":""},{"$f":"A231+COUNTIF($A$4:A231,A231)/10","v":0.6},null,null,null,0]
[null,{"$f":"IF(A232=\"\",\"\",VLOOKUP(WEEKDAY(A232,1),Traduction!$B$6:$D$250,'Info de l''escadron'!$A$1+1,0))","v":""},{"$f":"A232+COUNTIF($A$4:A232,A232)/10","v":0.6},null,null,null,0]
[null,{"$f":"IF(A233=\"\",\"\",VLOOKUP(WEEKDAY(A233,1),Traduction!$B$6:$D$250,'Info de l''escadron'!$A$1+1,0))","v":""},{"$f":"A233+COUNTIF($A$4:A233,A233)/10","v":0.6},null,null,null,0]
[null,{"$f":"IF(A234=\"\",\"\",VLOOKUP(WEEKDAY(A234,1),Traduction!$B$6:$D$250,'Info de l''escadron'!$A$1+1,0))","v":""},{"$f":"A234+COUNTIF($A$4:A234,A234)/10","v":0.6},null,null,null,0]
[null,{"$f":"IF(A235=\"\",\"\",VLOOKUP(WEEKDAY(A235,1),Traduction!$B$6:$D$250,'Info de l''escadron'!$A$1+1,0))","v":""},{"$f":"A235+COUNTIF($A$4:A235,A235)/10","v":0.6},null,null,null,0]
[null,{"$f":"IF(A236=\"\",\"\",VLOOKUP(WEEKDAY(A236,1),Traduction!$B$6:$D$250,'Info de l''escadron'!$A$1+1,0))","v":""},{"$f":"A236+COUNTIF($A$4:A236,A236)/10","v":0.6},null,null,null,0]
[null,{"$f":"IF(A237=\"\",\"\",VLOOKUP(WEEKDAY(A237,1),Traduction!$B$6:$D$250,'Info de l''escadron'!$A$1+1,0))","v":""},{"$f":"A237+COUNTIF($A$4:A237,A237)/10","v":0.6},null,null,null,0]
[null,{"$f":"IF(A238=\"\",\"\",VLOOKUP(WEEKDAY(A238,1),Traduction!$B$6:$D$250,'Info de l''escadron'!$A$1+1,0))","v":""},{"$f":"A238+COUNTIF($A$4:A238,A238)/10","v":0.6},null,null,null,0]
[null,{"$f":"IF(A239=\"\",\"\",VLOOKUP(WEEKDAY(A239,1),Traduction!$B$6:$D$250,'Info de l''escadron'!$A$1+1,0))","v":""},{"$f":"A239+COUNTIF($A$4:A239,A239)/10","v":0.6},null,null,null,0]
[null,{"$f":"IF(A240=\"\",\"\",VLOOKUP(WEEKDAY(A240,1),Traduction!$B$6:$D$250,'Info de l''escadron'!$A$1+1,0))","v":""},{"$f":"A240+COUNTIF($A$4:A240,A240)/10","v":0.6},null,null,null,{"$f":"IF(ISNA(VLOOKUP(F240,$B$540:$I$568,3,0)),F240,VLOOKUP(F240,$B$540:$I$568,3,0))","v":0}]
[null,{"$f":"IF(A241=\"\",\"\",VLOOKUP(WEEKDAY(A241,1),Traduction!$B$6:$D$250,'Info de l''escadron'!$A$1+1,0))","v":""},{"$f":"A241+COUNTIF($A$4:A241,A241)/10","v":0.6},null,null,null,0]
[null,{"$f":"IF(A242=\"\",\"\",VLOOKUP(WEEKDAY(A242,1),Traduction!$B$6:$D$250,'Info de l''escadron'!$A$1+1,0))","v":""},{"$f":"A242+COUNTIF($A$4:A242,A242)/10","v":0.6},null,null,null,0]
[null,{"$f":"IF(A243=\"\",\"\",VLOOKUP(WEEKDAY(A243,1),Traduction!$B$6:$D$250,'Info de l''escadron'!$A$1+1,0))","v":""},{"$f":"A243+COUNTIF($A$4:A243,A243)/10","v":0.6},null,null,null,0]
[null,{"$f":"IF(A244=\"\",\"\",VLOOKUP(WEEKDAY(A244,1),Traduction!$B$6:$D$250,'Info de l''escadron'!$A$1+1,0))","v":""},{"$f":"A244+COUNTIF($A$4:A244,A244)/10","v":0.6},null,null,null,0]
[null,{"$f":"IF(A245=\"\",\"\",VLOOKUP(WEEKDAY(A245,1),Traduction!$B$6:$D$250,'Info de l''escadron'!$A$1+1,0))","v":""},{"$f":"A245+COUNTIF($A$4:A245,A245)/10","v":0.6},null,null,null,0]
[null,{"$f":"IF(A246=\"\",\"\",VLOOKUP(WEEKDAY(A246,1),Traduction!$B$6:$D$250,'Info de l''escadron'!$A$1+1,0))","v":""},{"$f":"A246+COUNTIF($A$4:A246,A246)/10","v":0.6},null,null,null,0]
[null,{"$f":"IF(A247=\"\",\"\",VLOOKUP(WEEKDAY(A247,1),Traduction!$B$6:$D$250,'Info de l''escadron'!$A$1+1,0))","v":""},{"$f":"A247+COUNTIF($A$4:A247,A247)/10","v":0.6},null,null,null,0]
[null,{"$f":"IF(A248=\"\",\"\",VLOOKUP(WEEKDAY(A248,1),Traduction!$B$6:$D$250,'Info de l''escadron'!$A$1+1,0))","v":""},{"$f":"A248+COUNTIF($A$4:A248,A248)/10","v":0.6},null,null,null,0]
[null,{"$f":"IF(A249=\"\",\"\",VLOOKUP(WEEKDAY(A249,1),Traduction!$B$6:$D$250,'Info de l''escadron'!$A$1+1,0))","v":""},{"$f":"A249+COUNTIF($A$4:A249,A249)/10","v":0.6},null,null,null,0]
[null,{"$f":"IF(A250=\"\",\"\",VLOOKUP(WEEKDAY(A250,1),Traduction!$B$6:$D$250,'Info de l''escadron'!$A$1+1,0))","v":""},{"$f":"A250+COUNTIF($A$4:A250,A250)/10","v":0.6},null,null,null,0]
[null,{"$f":"IF(A251=\"\",\"\",VLOOKUP(WEEKDAY(A251,1),Traduction!$B$6:$D$250,'Info de l''escadron'!$A$1+1,0))","v":""},{"$f":"A251+COUNTIF($A$4:A251,A251)/10","v":0.6},null,null,null,0]
[null,{"$f":"IF(A252=\"\",\"\",VLOOKUP(WEEKDAY(A252,1),Traduction!$B$6:$D$250,'Info de l''escadron'!$A$1+1,0))","v":""},{"$f":"A252+COUNTIF($A$4:A252,A252)/10","v":0.6},null,null,null,0]
[null,{"$f":"IF(A253=\"\",\"\",VLOOKUP(WEEKDAY(A253,1),Traduction!$B$6:$D$250,'Info de l''escadron'!$A$1+1,0))","v":""},{"$f":"A253+COUNTIF($A$4:A253,A253)/10","v":0.6},null,null,null,0]
[null,{"$f":"IF(A254=\"\",\"\",VLOOKUP(WEEKDAY(A254,1),Traduction!$B$6:$D$250,'Info de l''escadron'!$A$1+1,0))","v":""},{"$f":"A254+COUNTIF($A$4:A254,A254)/10","v":0.6},null,null,null,0]
[null,{"$f":"IF(A255=\"\",\"\",VLOOKUP(WEEKDAY(A255,1),Traduction!$B$6:$D$250,'Info de l''escadron'!$A$1+1,0))","v":""},{"$f":"A255+COUNTIF($A$4:A255,A255)/10","v":0.6},null,null,null,0]
[null,{"$f":"IF(A256=\"\",\"\",VLOOKUP(WEEKDAY(A256,1),Traduction!$B$6:$D$250,'Info de l''escadron'!$A$1+1,0))","v":""},{"$f":"A256+COUNTIF($A$4:A256,A256)/10","v":0.6},null,null,null,0]
[null,{"$f":"IF(A257=\"\",\"\",VLOOKUP(WEEKDAY(A257,1),Traduction!$B$6:$D$250,'Info de l''escadron'!$A$1+1,0))","v":""},{"$f":"A257+COUNTIF($A$4:A257,A257)/10","v":0.6},null,null,null,0]
[null,{"$f":"IF(A258=\"\",\"\",VLOOKUP(WEEKDAY(A258,1),Traduction!$B$6:$D$250,'Info de l''escadron'!$A$1+1,0))","v":""},{"$f":"A258+COUNTIF($A$4:A258,A258)/10","v":0.6},null,null,null,0]
[null,{"$f":"IF(A259=\"\",\"\",VLOOKUP(WEEKDAY(A259,1),Traduction!$B$6:$D$250,'Info de l''escadron'!$A$1+1,0))","v":""},{"$f":"A259+COUNTIF($A$4:A259,A259)/10","v":0.6},null,null,null,0]
[null,{"$f":"IF(A260=\"\",\"\",VLOOKUP(WEEKDAY(A260,1),Traduction!$B$6:$D$250,'Info de l''escadron'!$A$1+1,0))","v":""},{"$f":"A260+COUNTIF($A$4:A260,A260)/10","v":0.6},null,null,null,0]
[null,{"$f":"IF(A261=\"\",\"\",VLOOKUP(WEEKDAY(A261,1),Traduction!$B$6:$D$250,'Info de l''escadron'!$A$1+1,0))","v":""},{"$f":"A261+COUNTIF($A$4:A261,A261)/10","v":0.6},null,null,null,0]
[null,{"$f":"IF(A262=\"\",\"\",VLOOKUP(WEEKDAY(A262,1),Traduction!$B$6:$D$250,'Info de l''escadron'!$A$1+1,0))","v":""},{"$f":"A262+COUNTIF($A$4:A262,A262)/10","v":0.6},null,null,null,0]
[null,{"$f":"IF(A263=\"\",\"\",VLOOKUP(WEEKDAY(A263,1),Traduction!$B$6:$D$250,'Info de l''escadron'!$A$1+1,0))","v":""},{"$f":"A263+COUNTIF($A$4:A263,A263)/10","v":0.6},null,null,null,0]
[null,{"$f":"IF(A264=\"\",\"\",VLOOKUP(WEEKDAY(A264,1),Traduction!$B$6:$D$250,'Info de l''escadron'!$A$1+1,0))","v":""},{"$f":"A264+COUNTIF($A$4:A264,A264)/10","v":0.6},null,null,null,0]
[null,{"$f":"IF(A265=\"\",\"\",VLOOKUP(WEEKDAY(A265,1),Traduction!$B$6:$D$250,'Info de l''escadron'!$A$1+1,0))","v":""},{"$f":"A265+COUNTIF($A$4:A265,A265)/10","v":0.6},null,null,null,0]
[null,{"$f":"IF(A266=\"\",\"\",VLOOKUP(WEEKDAY(A266,1),Traduction!$B$6:$D$250,'Info de l''escadron'!$A$1+1,0))","v":""},{"$f":"A266+COUNTIF($A$4:A266,A266)/10","v":0.6},null,null,null,0]
[null,{"$f":"IF(A267=\"\",\"\",VLOOKUP(WEEKDAY(A267,1),Traduction!$B$6:$D$250,'Info de l''escadron'!$A$1+1,0))","v":""},{"$f":"A267+COUNTIF($A$4:A267,A267)/10","v":0.6},null,null,null,0]
[null,{"$f":"IF(A268=\"\",\"\",VLOOKUP(WEEKDAY(A268,1),Traduction!$B$6:$D$250,'Info de l''escadron'!$A$1+1,0))","v":""},{"$f":"A268+COUNTIF($A$4:A268,A268)/10","v":0.6},null,null,null,0]
[null,{"$f":"IF(A269=\"\",\"\",VLOOKUP(WEEKDAY(A269,1),Traduction!$B$6:$D$250,'Info de l''escadron'!$A$1+1,0))","v":""},{"$f":"A269+COUNTIF($A$4:A269,A269)/10","v":0.6},null,null,null,0]
[null,{"$f":"IF(A270=\"\",\"\",VLOOKUP(WEEKDAY(A270,1),Traduction!$B$6:$D$250,'Info de l''escadron'!$A$1+1,0))","v":""},{"$f":"A270+COUNTIF($A$4:A270,A270)/10","v":0.6},null,null,null,0]
[null,{"$f":"IF(A271=\"\",\"\",VLOOKUP(WEEKDAY(A271,1),Traduction!$B$6:$D$250,'Info de l''escadron'!$A$1+1,0))","v":""},{"$f":"A271+COUNTIF($A$4:A271,A271)/10","v":0.6},null,null,null,0]
[null,{"$f":"IF(A272=\"\",\"\",VLOOKUP(WEEKDAY(A272,1),Traduction!$B$6:$D$250,'Info de l''escadron'!$A$1+1,0))","v":""},{"$f":"A272+COUNTIF($A$4:A272,A272)/10","v":0.6},null,null,null,0]
[null,{"$f":"IF(A273=\"\",\"\",VLOOKUP(WEEKDAY(A273,1),Traduction!$B$6:$D$250,'Info de l''escadron'!$A$1+1,0))","v":""},{"$f":"A273+COUNTIF($A$4:A273,A273)/10","v":0.6},null,null,null,0]
[null,{"$f":"IF(A274=\"\",\"\",VLOOKUP(WEEKDAY(A274,1),Traduction!$B$6:$D$250,'Info de l''escadron'!$A$1+1,0))","v":""},{"$f":"A274+COUNTIF($A$4:A274,A274)/10","v":0.6},null,null,null,0]
[null,{"$f":"IF(A275=\"\",\"\",VLOOKUP(WEEKDAY(A275,1),Traduction!$B$6:$D$250,'Info de l''escadron'!$A$1+1,0))","v":""},{"$f":"A275+COUNTIF($A$4:A275,A275)/10","v":0.6},null,null,null,0]
[null,{"$f":"IF(A276=\"\",\"\",VLOOKUP(WEEKDAY(A276,1),Traduction!$B$6:$D$250,'Info de l''escadron'!$A$1+1,0))","v":""},{"$f":"A276+COUNTIF($A$4:A276,A276)/10","v":0.6},null,null,null,0]
[null,{"$f":"IF(A277=\"\",\"\",VLOOKUP(WEEKDAY(A277,1),Traduction!$B$6:$D$250,'Info de l''escadron'!$A$1+1,0))","v":""},{"$f":"A277+COUNTIF($A$4:A277,A277)/10","v":0.6},null,null,null,0]
[null,{"$f":"IF(A278=\"\",\"\",VLOOKUP(WEEKDAY(A278,1),Traduction!$B$6:$D$250,'Info de l''escadron'!$A$1+1,0))","v":""},{"$f":"A278+COUNTIF($A$4:A278,A278)/10","v":0.6},null,null,null,0]
[null,{"$f":"IF(A279=\"\",\"\",VLOOKUP(WEEKDAY(A279,1),Traduction!$B$6:$D$250,'Info de l''escadron'!$A$1+1,0))","v":""},{"$f":"A279+COUNTIF($A$4:A279,A279)/10","v":0.6},null,null,null,0]
[null,{"$f":"IF(A280=\"\",\"\",VLOOKUP(WEEKDAY(A280,1),Traduction!$B$6:$D$250,'Info de l''escadron'!$A$1+1,0))","v":""},{"$f":"A280+COUNTIF($A$4:A280,A280)/10","v":0.6},null,null,null,0]
[null,{"$f":"IF(A281=\"\",\"\",VLOOKUP(WEEKDAY(A281,1),Traduction!$B$6:$D$250,'Info de l''escadron'!$A$1+1,0))","v":""},{"$f":"A281+COUNTIF($A$4:A281,A281)/10","v":0.6},null,null,null,0]
[null,{"$f":"IF(A282=\"\",\"\",VLOOKUP(WEEKDAY(A282,1),Traduction!$B$6:$D$250,'Info de l''escadron'!$A$1+1,0))","v":""},{"$f":"A282+COUNTIF($A$4:A282,A282)/10","v":0.6},null,null,null,0]
[null,{"$f":"IF(A283=\"\",\"\",VLOOKUP(WEEKDAY(A283,1),Traduction!$B$6:$D$250,'Info de l''escadron'!$A$1+1,0))","v":""},{"$f":"A283+COUNTIF($A$4:A283,A283)/10","v":0.6},null,null,null,0]
[null,{"$f":"IF(A284=\"\",\"\",VLOOKUP(WEEKDAY(A284,1),Traduction!$B$6:$D$250,'Info de l''escadron'!$A$1+1,0))","v":""},{"$f":"A284+COUNTIF($A$4:A284,A284)/10","v":0.6},null,null,null,0]
[null,{"$f":"IF(A285=\"\",\"\",VLOOKUP(WEEKDAY(A285,1),Traduction!$B$6:$D$250,'Info de l''escadron'!$A$1+1,0))","v":""},{"$f":"A285+COUNTIF($A$4:A285,A285)/10","v":0.6},null,null,null,0]
[null,{"$f":"IF(A286=\"\",\"\",VLOOKUP(WEEKDAY(A286,1),Traduction!$B$6:$D$250,'Info de l''escadron'!$A$1+1,0))","v":""},{"$f":"A286+COUNTIF($A$4:A286,A286)/10","v":0.6},null,null,null,0]
[null,{"$f":"IF(A287=\"\",\"\",VLOOKUP(WEEKDAY(A287,1),Traduction!$B$6:$D$250,'Info de l''escadron'!$A$1+1,0))","v":""},{"$f":"A287+COUNTIF($A$4:A287,A287)/10","v":0.6},null,null,null,0]
[null,{"$f":"IF(A288=\"\",\"\",VLOOKUP(WEEKDAY(A288,1),Traduction!$B$6:$D$250,'Info de l''escadron'!$A$1+1,0))","v":""},{"$f":"A288+COUNTIF($A$4:A288,A288)/10","v":0.6},null,null,null,0]
[null,{"$f":"IF(A289=\"\",\"\",VLOOKUP(WEEKDAY(A289,1),Traduction!$B$6:$D$250,'Info de l''escadron'!$A$1+1,0))","v":""},{"$f":"A289+COUNTIF($A$4:A289,A289)/10","v":0.6},null,null,null,0]
[null,{"$f":"IF(A290=\"\",\"\",VLOOKUP(WEEKDAY(A290,1),Traduction!$B$6:$D$250,'Info de l''escadron'!$A$1+1,0))","v":""},{"$f":"A290+COUNTIF($A$4:A290,A290)/10","v":0.6},null,null,null,0]
[null,{"$f":"IF(A291=\"\",\"\",VLOOKUP(WEEKDAY(A291,1),Traduction!$B$6:$D$250,'Info de l''escadron'!$A$1+1,0))","v":""},{"$f":"A291+COUNTIF($A$4:A291,A291)/10","v":0.6},null,null,null,0]
[null,{"$f":"IF(A292=\"\",\"\",VLOOKUP(WEEKDAY(A292,1),Traduction!$B$6:$D$250,'Info de l''escadron'!$A$1+1,0))","v":""},{"$f":"A292+COUNTIF($A$4:A292,A292)/10","v":0.6},null,null,null,0]
[null,{"$f":"IF(A293=\"\",\"\",VLOOKUP(WEEKDAY(A293,1),Traduction!$B$6:$D$250,'Info de l''escadron'!$A$1+1,0))","v":""},{"$f":"A293+COUNTIF($A$4:A293,A293)/10","v":0.6},null,null,null,0]
[null,{"$f":"IF(A294=\"\",\"\",VLOOKUP(WEEKDAY(A294,1),Traduction!$B$6:$D$250,'Info de l''escadron'!$A$1+1,0))","v":""},{"$f":"A294+COUNTIF($A$4:A294,A294)/10","v":0.6},null,null,null,0]
[null,{"$f":"IF(A295=\"\",\"\",VLOOKUP(WEEKDAY(A295,1),Traduction!$B$6:$D$250,'Info de l''escadron'!$A$1+1,0))","v":""},{"$f":"A295+COUNTIF($A$4:A295,A295)/10","v":0.6},null,null,null,0]
[null,{"$f":"IF(A296=\"\",\"\",VLOOKUP(WEEKDAY(A296,1),Traduction!$B$6:$D$250,'Info de l''escadron'!$A$1+1,0))","v":""},{"$f":"A296+COUNTIF($A$4:A296,A296)/10","v":0.6},null,null,null,0]
[null,{"$f":"IF(A297=\"\",\"\",VLOOKUP(WEEKDAY(A297,1),Traduction!$B$6:$D$250,'Info de l''escadron'!$A$1+1,0))","v":""},{"$f":"A297+COUNTIF($A$4:A297,A297)/10","v":0.6},null,null,null,0]
[null,{"$f":"IF(A298=\"\",\"\",VLOOKUP(WEEKDAY(A298,1),Traduction!$B$6:$D$250,'Info de l''escadron'!$A$1+1,0))","v":""},{"$f":"A298+COUNTIF($A$4:A298,A298)/10","v":0.6},null,null,null,0]
[null,{"$f":"IF(A299=\"\",\"\",VLOOKUP(WEEKDAY(A299,1),Traduction!$B$6:$D$250,'Info de l''escadron'!$A$1+1,0))","v":""},{"$f":"A299+COUNTIF($A$4:A299,A299)/10","v":0.6},null,null,null,0]
[null,{"$f":"IF(A300=\"\",\"\",VLOOKUP(WEEKDAY(A300,1),Traduction!$B$6:$D$250,'Info de l''escadron'!$A$1+1,0))","v":""},{"$f":"A300+COUNTIF($A$4:A300,A300)/10","v":0.6},null,null,null,0]
[null,{"$f":"IF(A301=\"\",\"\",VLOOKUP(WEEKDAY(A301,1),Traduction!$B$6:$D$250,'Info de l''escadron'!$A$1+1,0))","v":""},{"$f":"A301+COUNTIF($A$4:A301,A301)/10","v":0.6},null,null,null,0]
[null,{"$f":"IF(A302=\"\",\"\",VLOOKUP(WEEKDAY(A302,1),Traduction!$B$6:$D$250,'Info de l''escadron'!$A$1+1,0))","v":""},{"$f":"A302+COUNTIF($A$4:A302,A302)/10","v":0.6},null,null,null,0]
[null,{"$f":"IF(A303=\"\",\"\",VLOOKUP(WEEKDAY(A303,1),Traduction!$B$6:$D$250,'Info de l''escadron'!$A$1+1,0))","v":""},{"$f":"A303+COUNTIF($A$4:A303,A303)/10","v":0.6},null,null,null,0]
[null,{"$f":"IF(A304=\"\",\"\",VLOOKUP(WEEKDAY(A304,1),Traduction!$B$6:$D$250,'Info de l''escadron'!$A$1+1,0))","v":""},{"$f":"A304+COUNTIF($A$4:A304,A304)/10","v":0.6},null,null,null,{"$f":"IF(ISNA(VLOOKUP(F304,$B$540:$I$568,3,0)),F304,VLOOKUP(F304,$B$540:$I$568,3,0))","v":0}]
[null,{"$f":"IF(A305=\"\",\"\",VLOOKUP(WEEKDAY(A305,1),Traduction!$B$6:$D$250,'Info de l''escadron'!$A$1+1,0))","v":""},{"$f":"A305+COUNTIF($A$4:A305,A305)/10","v":0.6},null,null,null,0]
[null,{"$f":"IF(A306=\"\",\"\",VLOOKUP(WEEKDAY(A306,1),Traduction!$B$6:$D$250,'Info de l''escadron'!$A$1+1,0))","v":""},{"$f":"A306+COUNTIF($A$4:A306,A306)/10","v":0.6},null,null,null,0]
[null,{"$f":"IF(A307=\"\",\"\",VLOOKUP(WEEKDAY(A307,1),Traduction!$B$6:$D$250,'Info de l''escadron'!$A$1+1,0))","v":""},{"$f":"A307+COUNTIF($A$4:A307,A307)/10","v":0.6},null,null,null,0]
[null,{"$f":"IF(A308=\"\",\"\",VLOOKUP(WEEKDAY(A308,1),Traduction!$B$6:$D$250,'Info de l''escadron'!$A$1+1,0))","v":""},{"$f":"A308+COUNTIF($A$4:A308,A308)/10","v":0.6},null,null,null,0]
[null,{"$f":"IF(A309=\"\",\"\",VLOOKUP(WEEKDAY(A309,1),Traduction!$B$6:$D$250,'Info de l''escadron'!$A$1+1,0))","v":""},{"$f":"A309+COUNTIF($A$4:A309,A309)/10","v":0.6},null,null,null,0]
[null,{"$f":"IF(A310=\"\",\"\",VLOOKUP(WEEKDAY(A310,1),Traduction!$B$6:$D$250,'Info de l''escadron'!$A$1+1,0))","v":""},{"$f":"A310+COUNTIF($A$4:A310,A310)/10","v":0.6},null,null,null,0]
[null,{"$f":"IF(A311=\"\",\"\",VLOOKUP(WEEKDAY(A311,1),Traduction!$B$6:$D$250,'Info de l''escadron'!$A$1+1,0))","v":""},{"$f":"A311+COUNTIF($A$4:A311,A311)/10","v":0.6},null,null,null,0]
[null,{"$f":"IF(A312=\"\",\"\",VLOOKUP(WEEKDAY(A312,1),Traduction!$B$6:$D$250,'Info de l''escadron'!$A$1+1,0))","v":""},{"$f":"A312+COUNTIF($A$4:A312,A312)/10","v":0.6},null,null,null,0]
[null,{"$f":"IF(A313=\"\",\"\",VLOOKUP(WEEKDAY(A313,1),Traduction!$B$6:$D$250,'Info de l''escadron'!$A$1+1,0))","v":""},{"$f":"A313+COUNTIF($A$4:A313,A313)/10","v":0.6},null,null,null,0]
[null,{"$f":"IF(A314=\"\",\"\",VLOOKUP(WEEKDAY(A314,1),Traduction!$B$6:$D$250,'Info de l''escadron'!$A$1+1,0))","v":""},{"$f":"A314+COUNTIF($A$4:A314,A314)/10","v":0.6},null,null,null,0]
[null,{"$f":"IF(A315=\"\",\"\",VLOOKUP(WEEKDAY(A315,1),Traduction!$B$6:$D$250,'Info de l''escadron'!$A$1+1,0))","v":""},{"$f":"A315+COUNTIF($A$4:A315,A315)/10","v":0.6},null,null,null,0]
[null,{"$f":"IF(A316=\"\",\"\",VLOOKUP(WEEKDAY(A316,1),Traduction!$B$6:$D$250,'Info de l''escadron'!$A$1+1,0))","v":""},{"$f":"A316+COUNTIF($A$4:A316,A316)/10","v":0.6},null,null,null,0]
[null,{"$f":"IF(A317=\"\",\"\",VLOOKUP(WEEKDAY(A317,1),Traduction!$B$6:$D$250,'Info de l''escadron'!$A$1+1,0))","v":""},{"$f":"A317+COUNTIF($A$4:A317,A317)/10","v":0.6},null,null,null,0]
[null,{"$f":"IF(A318=\"\",\"\",VLOOKUP(WEEKDAY(A318,1),Traduction!$B$6:$D$250,'Info de l''escadron'!$A$1+1,0))","v":""},{"$f":"A318+COUNTIF($A$4:A318,A318)/10","v":0.6},null,null,null,0]
[null,{"$f":"IF(A319=\"\",\"\",VLOOKUP(WEEKDAY(A319,1),Traduction!$B$6:$D$250,'Info de l''escadron'!$A$1+1,0))","v":""},{"$f":"A319+COUNTIF($A$4:A319,A319)/10","v":0.6},null,null,null,0]
[null,{"$f":"IF(A320=\"\",\"\",VLOOKUP(WEEKDAY(A320,1),Traduction!$B$6:$D$250,'Info de l''escadron'!$A$1+1,0))","v":""},{"$f":"A320+COUNTIF($A$4:A320,A320)/10","v":0.6},null,null,null,0]
[null,{"$f":"IF(A321=\"\",\"\",VLOOKUP(WEEKDAY(A321,1),Traduction!$B$6:$D$250,'Info de l''escadron'!$A$1+1,0))","v":""},{"$f":"A321+COUNTIF($A$4:A321,A321)/10","v":0.6},null,null,null,0]
[null,{"$f":"IF(A322=\"\",\"\",VLOOKUP(WEEKDAY(A322,1),Traduction!$B$6:$D$250,'Info de l''escadron'!$A$1+1,0))","v":""},{"$f":"A322+COUNTIF($A$4:A322,A322)/10","v":0.6},null,null,null,0]
[null,{"$f":"IF(A323=\"\",\"\",VLOOKUP(WEEKDAY(A323,1),Traduction!$B$6:$D$250,'Info de l''escadron'!$A$1+1,0))","v":""},{"$f":"A323+COUNTIF($A$4:A323,A323)/10","v":0.6},null,null,null,0]
[null,{"$f":"IF(A324=\"\",\"\",VLOOKUP(WEEKDAY(A324,1),Traduction!$B$6:$D$250,'Info de l''escadron'!$A$1+1,0))","v":""},{"$f":"A324+COUNTIF($A$4:A324,A324)/10","v":0.6},null,null,null,0]
[null,{"$f":"IF(A325=\"\",\"\",VLOOKUP(WEEKDAY(A325,1),Traduction!$B$6:$D$250,'Info de l''escadron'!$A$1+1,0))","v":""},{"$f":"A325+COUNTIF($A$4:A325,A325)/10","v":0.6},null,null,null,0]
[null,{"$f":"IF(A326=\"\",\"\",VLOOKUP(WEEKDAY(A326,1),Traduction!$B$6:$D$250,'Info de l''escadron'!$A$1+1,0))","v":""},{"$f":"A326+COUNTIF($A$4:A326,A326)/10","v":0.6},null,null,null,0]
[null,{"$f":"IF(A327=\"\",\"\",VLOOKUP(WEEKDAY(A327,1),Traduction!$B$6:$D$250,'Info de l''escadron'!$A$1+1,0))","v":""},{"$f":"A327+COUNTIF($A$4:A327,A327)/10","v":0.6},null,null,null,0]
[null,{"$f":"IF(A328=\"\",\"\",VLOOKUP(WEEKDAY(A328,1),Traduction!$B$6:$D$250,'Info de l''escadron'!$A$1+1,0))","v":""},{"$f":"A328+COUNTIF($A$4:A328,A328)/10","v":0.6},null,null,null,0]
[null,{"$f":"IF(A329=\"\",\"\",VLOOKUP(WEEKDAY(A329,1),Traduction!$B$6:$D$250,'Info de l''escadron'!$A$1+1,0))","v":""},{"$f":"A329+COUNTIF($A$4:A329,A329)/10","v":0.6},null,null,null,0]
[null,{"$f":"IF(A330=\"\",\"\",VLOOKUP(WEEKDAY(A330,1),Traduction!$B$6:$D$250,'Info de l''escadron'!$A$1+1,0))","v":""},{"$f":"A330+COUNTIF($A$4:A330,A330)/10","v":0.6},null,null,null,0]
[null,{"$f":"IF(A331=\"\",\"\",VLOOKUP(WEEKDAY(A331,1),Traduction!$B$6:$D$250,'Info de l''escadron'!$A$1+1,0))","v":""},{"$f":"A331+COUNTIF($A$4:A331,A331)/10","v":0.6},null,null,null,0]
[null,{"$f":"IF(A332=\"\",\"\",VLOOKUP(WEEKDAY(A332,1),Traduction!$B$6:$D$250,'Info de l''escadron'!$A$1+1,0))","v":""},{"$f":"A332+COUNTIF($A$4:A332,A332)/10","v":0.6},null,null,null,0]
[null,{"$f":"IF(A333=\"\",\"\",VLOOKUP(WEEKDAY(A333,1),Traduction!$B$6:$D$250,'Info de l''escadron'!$A$1+1,0))","v":""},{"$f":"A333+COUNTIF($A$4:A333,A333)/10","v":0.6},null,null,null,0]
[null,{"$f":"IF(A334=\"\",\"\",VLOOKUP(WEEKDAY(A334,1),Traduction!$B$6:$D$250,'Info de l''escadron'!$A$1+1,0))","v":""},{"$f":"A334+COUNTIF($A$4:A334,A334)/10","v":0.6},null,null,null,0]
[null,{"$f":"IF(A335=\"\",\"\",VLOOKUP(WEEKDAY(A335,1),Traduction!$B$6:$D$250,'Info de l''escadron'!$A$1+1,0))","v":""},{"$f":"A335+COUNTIF($A$4:A335,A335)/10","v":0.6},null,null,null,0]
[null,{"$f":"IF(A336=\"\",\"\",VLOOKUP(WEEKDAY(A336,1),Traduction!$B$6:$D$250,'Info de l''escadron'!$A$1+1,0))","v":""},{"$f":"A336+COUNTIF($A$4:A336,A336)/10","v":0.6},null,null,null,0]
[null,{"$f":"IF(A337=\"\",\"\",VLOOKUP(WEEKDAY(A337,1),Traduction!$B$6:$D$250,'Info de l''escadron'!$A$1+1,0))","v":""},{"$f":"A337+COUNTIF($A$4:A337,A337)/10","v":0.6},null,null,null,0]
[null,{"$f":"IF(A338=\"\",\"\",VLOOKUP(WEEKDAY(A338,1),Traduction!$B$6:$D$250,'Info de l''escadron'!$A$1+1,0))","v":""},{"$f":"A338+COUNTIF($A$4:A338,A338)/10","v":0.6},null,null,null,0]
[null,{"$f":"IF(A339=\"\",\"\",VLOOKUP(WEEKDAY(A339,1),Traduction!$B$6:$D$250,'Info de l''escadron'!$A$1+1,0))","v":""},{"$f":"A339+COUNTIF($A$4:A339,A339)/10","v":0.6},null,null,null,0]
[null,{"$f":"IF(A340=\"\",\"\",VLOOKUP(WEEKDAY(A340,1),Traduction!$B$6:$D$250,'Info de l''escadron'!$A$1+1,0))","v":""},{"$f":"A340+COUNTIF($A$4:A340,A340)/10","v":0.6},null,null,null,0]
[null,{"$f":"IF(A341=\"\",\"\",VLOOKUP(WEEKDAY(A341,1),Traduction!$B$6:$D$250,'Info de l''escadron'!$A$1+1,0))","v":""},{"$f":"A341+COUNTIF($A$4:A341,A341)/10","v":0.6},null,null,null,0]
[null,{"$f":"IF(A342=\"\",\"\",VLOOKUP(WEEKDAY(A342,1),Traduction!$B$6:$D$250,'Info de l''escadron'!$A$1+1,0))","v":""},{"$f":"A342+COUNTIF($A$4:A342,A342)/10","v":0.6},null,null,null,0]
[null,{"$f":"IF(A343=\"\",\"\",VLOOKUP(WEEKDAY(A343,1),Traduction!$B$6:$D$250,'Info de l''escadron'!$A$1+1,0))","v":""},{"$f":"A343+COUNTIF($A$4:A343,A343)/10","v":0.6},null,null,null,0]
[null,{"$f":"IF(A344=\"\",\"\",VLOOKUP(WEEKDAY(A344,1),Traduction!$B$6:$D$250,'Info de l''escadron'!$A$1+1,0))","v":""},{"$f":"A344+COUNTIF($A$4:A344,A344)/10","v":0.6},null,null,null,0]
[null,{"$f":"IF(A345=\"\",\"\",VLOOKUP(WEEKDAY(A345,1),Traduction!$B$6:$D$250,'Info de l''escadron'!$A$1+1,0))","v":""},{"$f":"A345+COUNTIF($A$4:A345,A345)/10","v":0.6},null,null,null,0]
[null,{"$f":"IF(A346=\"\",\"\",VLOOKUP(WEEKDAY(A346,1),Traduction!$B$6:$D$250,'Info de l''escadron'!$A$1+1,0))","v":""},{"$f":"A346+COUNTIF($A$4:A346,A346)/10","v":0.6},null,null,null,0]
[null,{"$f":"IF(A347=\"\",\"\",VLOOKUP(WEEKDAY(A347,1),Traduction!$B$6:$D$250,'Info de l''escadron'!$A$1+1,0))","v":""},{"$f":"A347+COUNTIF($A$4:A347,A347)/10","v":0.6},null,null,null,0]
[null,{"$f":"IF(A348=\"\",\"\",VLOOKUP(WEEKDAY(A348,1),Traduction!$B$6:$D$250,'Info de l''escadron'!$A$1+1,0))","v":""},{"$f":"A348+COUNTIF($A$4:A348,A348)/10","v":0.6},null,null,null,0]
[null,{"$f":"IF(A349=\"\",\"\",VLOOKUP(WEEKDAY(A349,1),Traduction!$B$6:$D$250,'Info de l''escadron'!$A$1+1,0))","v":""},{"$f":"A349+COUNTIF($A$4:A349,A349)/10","v":0.6},null,null,null,0]
[null,{"$f":"IF(A350=\"\",\"\",VLOOKUP(WEEKDAY(A350,1),Traduction!$B$6:$D$250,'Info de l''escadron'!$A$1+1,0))","v":""},{"$f":"A350+COUNTIF($A$4:A350,A350)/10","v":0.6},null,null,null,0]
[null,{"$f":"IF(A351=\"\",\"\",VLOOKUP(WEEKDAY(A351,1),Traduction!$B$6:$D$250,'Info de l''escadron'!$A$1+1,0))","v":""},{"$f":"A351+COUNTIF($A$4:A351,A351)/10","v":0.6},null,null,null,0]
[null,{"$f":"IF(A352=\"\",\"\",VLOOKUP(WEEKDAY(A352,1),Traduction!$B$6:$D$250,'Info de l''escadron'!$A$1+1,0))","v":""},{"$f":"A352+COUNTIF($A$4:A352,A352)/10","v":0.6},null,null,null,0]
[null,{"$f":"IF(A353=\"\",\"\",VLOOKUP(WEEKDAY(A353,1),Traduction!$B$6:$D$250,'Info de l''escadron'!$A$1+1,0))","v":""},{"$f":"A353+COUNTIF($A$4:A353,A353)/10","v":0.6},null,null,null,0]
[null,{"$f":"IF(A354=\"\",\"\",VLOOKUP(WEEKDAY(A354,1),Traduction!$B$6:$D$250,'Info de l''escadron'!$A$1+1,0))","v":""},{"$f":"A354+COUNTIF($A$4:A354,A354)/10","v":0.6},null,null,null,0]
[null,{"$f":"IF(A355=\"\",\"\",VLOOKUP(WEEKDAY(A355,1),Traduction!$B$6:$D$250,'Info de l''escadron'!$A$1+1,0))","v":""},{"$f":"A355+COUNTIF($A$4:A355,A355)/10","v":0.6},null,null,null,0]
[null,{"$f":"IF(A356=\"\",\"\",VLOOKUP(WEEKDAY(A356,1),Traduction!$B$6:$D$250,'Info de l''escadron'!$A$1+1,0))","v":""},{"$f":"A356+COUNTIF($A$4:A356,A356)/10","v":0.6},null,null,null,0]
[null,{"$f":"IF(A357=\"\",\"\",VLOOKUP(WEEKDAY(A357,1),Traduction!$B$6:$D$250,'Info de l''escadron'!$A$1+1,0))","v":""},{"$f":"A357+COUNTIF($A$4:A357,A357)/10","v":0.6},null,null,null,0]
[null,{"$f":"IF(A358=\"\",\"\",VLOOKUP(WEEKDAY(A358,1),Traduction!$B$6:$D$250,'Info de l''escadron'!$A$1+1,0))","v":""},{"$f":"A358+COUNTIF($A$4:A358,A358)/10","v":0.6},null,null,null,0]
[null,{"$f":"IF(A359=\"\",\"\",VLOOKUP(WEEKDAY(A359,1),Traduction!$B$6:$D$250,'Info de l''escadron'!$A$1+1,0))","v":""},{"$f":"A359+COUNTIF($A$4:A359,A359)/10","v":0.6},null,null,null,0]
[null,{"$f":"IF(A360=\"\",\"\",VLOOKUP(WEEKDAY(A360,1),Traduction!$B$6:$D$250,'Info de l''escadron'!$A$1+1,0))","v":""},{"$f":"A360+COUNTIF($A$4:A360,A360)/10","v":0.6},null,null,null,0]
[null,{"$f":"IF(A361=\"\",\"\",VLOOKUP(WEEKDAY(A361,1),Traduction!$B$6:$D$250,'Info de l''escadron'!$A$1+1,0))","v":""},{"$f":"A361+COUNTIF($A$4:A361,A361)/10","v":0.6},null,null,null,0]
[null,{"$f":"IF(A362=\"\",\"\",VLOOKUP(WEEKDAY(A362,1),Traduction!$B$6:$D$250,'Info de l''escadron'!$A$1+1,0))","v":""},{"$f":"A362+COUNTIF($A$4:A362,A362)/10","v":0.6},null,null,null,0]
[null,{"$f":"IF(A363=\"\",\"\",VLOOKUP(WEEKDAY(A363,1),Traduction!$B$6:$D$250,'Info de l''escadron'!$A$1+1,0))","v":""},{"$f":"A363+COUNTIF($A$4:A363,A363)/10","v":0.6},null,null,null,0]
[null,{"$f":"IF(A364=\"\",\"\",VLOOKUP(WEEKDAY(A364,1),Traduction!$B$6:$D$250,'Info de l''escadron'!$A$1+1,0))","v":""},{"$f":"A364+COUNTIF($A$4:A364,A364)/10","v":0.6},null,null,null,0]
[null,{"$f":"IF(A365=\"\",\"\",VLOOKUP(WEEKDAY(A365,1),Traduction!$B$6:$D$250,'Info de l''escadron'!$A$1+1,0))","v":""},{"$f":"A365+COUNTIF($A$4:A365,A365)/10","v":0.6},null,null,null,0]
[null,{"$f":"IF(A366=\"\",\"\",VLOOKUP(WEEKDAY(A366,1),Traduction!$B$6:$D$250,'Info de l''escadron'!$A$1+1,0))","v":""},{"$f":"A366+COUNTIF($A$4:A366,A366)/10","v":0.6},null,null,null,0]
[null,{"$f":"IF(A367=\"\",\"\",VLOOKUP(WEEKDAY(A367,1),Traduction!$B$6:$D$250,'Info de l''escadron'!$A$1+1,0))","v":""},{"$f":"A367+COUNTIF($A$4:A367,A367)/10","v":0.6},null,null,null,0]
[null,{"$f":"IF(A368=\"\",\"\",VLOOKUP(WEEKDAY(A368,1),Traduction!$B$6:$D$250,'Info de l''escadron'!$A$1+1,0))","v":""},{"$f":"A368+COUNTIF($A$4:A368,A368)/10","v":0.6},null,null,null,{"$f":"IF(ISNA(VLOOKUP(F368,$B$540:$I$568,3,0)),F368,VLOOKUP(F368,$B$540:$I$568,3,0))","v":0}]
[null,{"$f":"IF(A369=\"\",\"\",VLOOKUP(WEEKDAY(A369,1),Traduction!$B$6:$D$250,'Info de l''escadron'!$A$1+1,0))","v":""},{"$f":"A369+COUNTIF($A$4:A369,A369)/10","v":0.6},null,null,null,0]
[null,{"$f":"IF(A370=\"\",\"\",VLOOKUP(WEEKDAY(A370,1),Traduction!$B$6:$D$250,'Info de l''escadron'!$A$1+1,0))","v":""},{"$f":"A370+COUNTIF($A$4:A370,A370)/10","v":0.6},null,null,null,0]
[null,{"$f":"IF(A371=\"\",\"\",VLOOKUP(WEEKDAY(A371,1),Traduction!$B$6:$D$250,'Info de l''escadron'!$A$1+1,0))","v":""},{"$f":"A371+COUNTIF($A$4:A371,A371)/10","v":0.6},null,null,null,0]
[null,{"$f":"IF(A372=\"\",\"\",VLOOKUP(WEEKDAY(A372,1),Traduction!$B$6:$D$250,'Info de l''escadron'!$A$1+1,0))","v":""},{"$f":"A372+COUNTIF($A$4:A372,A372)/10","v":0.6},null,null,null,0]
[null,{"$f":"IF(A373=\"\",\"\",VLOOKUP(WEEKDAY(A373,1),Traduction!$B$6:$D$250,'Info de l''escadron'!$A$1+1,0))","v":""},{"$f":"A373+COUNTIF($A$4:A373,A373)/10","v":0.6},null,null,null,0]
[null,{"$f":"IF(A374=\"\",\"\",VLOOKUP(WEEKDAY(A374,1),Traduction!$B$6:$D$250,'Info de l''escadron'!$A$1+1,0))","v":""},{"$f":"A374+COUNTIF($A$4:A374,A374)/10","v":0.6},null,null,null,0]
[null,{"$f":"IF(A375=\"\",\"\",VLOOKUP(WEEKDAY(A375,1),Traduction!$B$6:$D$250,'Info de l''escadron'!$A$1+1,0))","v":""},{"$f":"A375+COUNTIF($A$4:A375,A375)/10","v":0.6},null,null,null,0]
[null,{"$f":"IF(A376=\"\",\"\",VLOOKUP(WEEKDAY(A376,1),Traduction!$B$6:$D$250,'Info de l''escadron'!$A$1+1,0))","v":""},{"$f":"A376+COUNTIF($A$4:A376,A376)/10","v":0.6},null,null,null,0]
[null,{"$f":"IF(A377=\"\",\"\",VLOOKUP(WEEKDAY(A377,1),Traduction!$B$6:$D$250,'Info de l''escadron'!$A$1+1,0))","v":""},{"$f":"A377+COUNTIF($A$4:A377,A377)/10","v":0.6},null,null,null,0]
[null,{"$f":"IF(A378=\"\",\"\",VLOOKUP(WEEKDAY(A378,1),Traduction!$B$6:$D$250,'Info de l''escadron'!$A$1+1,0))","v":""},{"$f":"A378+COUNTIF($A$4:A378,A378)/10","v":0.6},null,null,null,0]
[null,{"$f":"IF(A379=\"\",\"\",VLOOKUP(WEEKDAY(A379,1),Traduction!$B$6:$D$250,'Info de l''escadron'!$A$1+1,0))","v":""},{"$f":"A379+COUNTIF($A$4:A379,A379)/10","v":0.6},null,null,null,0]
[null,{"$f":"IF(A380=\"\",\"\",VLOOKUP(WEEKDAY(A380,1),Traduction!$B$6:$D$250,'Info de l''escadron'!$A$1+1,0))","v":""},{"$f":"A380+COUNTIF($A$4:A380,A380)/10","v":0.6},null,null,null,0]
[null,{"$f":"IF(A381=\"\",\"\",VLOOKUP(WEEKDAY(A381,1),Traduction!$B$6:$D$250,'Info de l''escadron'!$A$1+1,0))","v":""},{"$f":"A381+COUNTIF($A$4:A381,A381)/10","v":0.6},null,null,null,0]
[null,{"$f":"IF(A382=\"\",\"\",VLOOKUP(WEEKDAY(A382,1),Traduction!$B$6:$D$250,'Info de l''escadron'!$A$1+1,0))","v":""},{"$f":"A382+COUNTIF($A$4:A382,A382)/10","v":0.6},null,null,null,0]
[null,{"$f":"IF(A383=\"\",\"\",VLOOKUP(WEEKDAY(A383,1),Traduction!$B$6:$D$250,'Info de l''escadron'!$A$1+1,0))","v":""},{"$f":"A383+COUNTIF($A$4:A383,A383)/10","v":0.6},null,null,null,0]
[null,{"$f":"IF(A384=\"\",\"\",VLOOKUP(WEEKDAY(A384,1),Traduction!$B$6:$D$250,'Info de l''escadron'!$A$1+1,0))","v":""},{"$f":"A384+COUNTIF($A$4:A384,A384)/10","v":0.6},null,null,null,0]
[null,{"$f":"IF(A385=\"\",\"\",VLOOKUP(WEEKDAY(A385,1),Traduction!$B$6:$D$250,'Info de l''escadron'!$A$1+1,0))","v":""},{"$f":"A385+COUNTIF($A$4:A385,A385)/10","v":0.6},null,null,null,0]
[null,{"$f":"IF(A386=\"\",\"\",VLOOKUP(WEEKDAY(A386,1),Traduction!$B$6:$D$250,'Info de l''escadron'!$A$1+1,0))","v":""},{"$f":"A386+COUNTIF($A$4:A386,A386)/10","v":0.6},null,null,null,0]
[null,{"$f":"IF(A387=\"\",\"\",VLOOKUP(WEEKDAY(A387,1),Traduction!$B$6:$D$250,'Info de l''escadron'!$A$1+1,0))","v":""},{"$f":"A387+COUNTIF($A$4:A387,A387)/10","v":0.6},null,null,null,0]
[null,{"$f":"IF(A388=\"\",\"\",VLOOKUP(WEEKDAY(A388,1),Traduction!$B$6:$D$250,'Info de l''escadron'!$A$1+1,0))","v":""},{"$f":"A388+COUNTIF($A$4:A388,A388)/10","v":0.6},null,null,null,0]
[null,{"$f":"IF(A389=\"\",\"\",VLOOKUP(WEEKDAY(A389,1),Traduction!$B$6:$D$250,'Info de l''escadron'!$A$1+1,0))","v":""},{"$f":"A389+COUNTIF($A$4:A389,A389)/10","v":0.6},null,null,null,0]
[null,{"$f":"IF(A390=\"\",\"\",VLOOKUP(WEEKDAY(A390,1),Traduction!$B$6:$D$250,'Info de l''escadron'!$A$1+1,0))","v":""},{"$f":"A390+COUNTIF($A$4:A390,A390)/10","v":0.6},null,null,null,0]
[null,{"$f":"IF(A391=\"\",\"\",VLOOKUP(WEEKDAY(A391,1),Traduction!$B$6:$D$250,'Info de l''escadron'!$A$1+1,0))","v":""},{"$f":"A391+COUNTIF($A$4:A391,A391)/10","v":0.6},null,null,null,0]
[null,{"$f":"IF(A392=\"\",\"\",VLOOKUP(WEEKDAY(A392,1),Traduction!$B$6:$D$250,'Info de l''escadron'!$A$1+1,0))","v":""},{"$f":"A392+COUNTIF($A$4:A392,A392)/10","v":0.6},null,null,null,0]
[null,{"$f":"IF(A393=\"\",\"\",VLOOKUP(WEEKDAY(A393,1),Traduction!$B$6:$D$250,'Info de l''escadron'!$A$1+1,0))","v":""},{"$f":"A393+COUNTIF($A$4:A393,A393)/10","v":0.6},null,null,null,0]
[null,{"$f":"IF(A394=\"\",\"\",VLOOKUP(WEEKDAY(A394,1),Traduction!$B$6:$D$250,'Info de l''escadron'!$A$1+1,0))","v":""},{"$f":"A394+COUNTIF($A$4:A394,A394)/10","v":0.6},null,null,null,0]
[null,{"$f":"IF(A395=\"\",\"\",VLOOKUP(WEEKDAY(A395,1),Traduction!$B$6:$D$250,'Info de l''escadron'!$A$1+1,0))","v":""},{"$f":"A395+COUNTIF($A$4:A395,A395)/10","v":0.6},null,null,null,0]
[null,{"$f":"IF(A396=\"\",\"\",VLOOKUP(WEEKDAY(A396,1),Traduction!$B$6:$D$250,'Info de l''escadron'!$A$1+1,0))","v":""},{"$f":"A396+COUNTIF($A$4:A396,A396)/10","v":0.6},null,null,null,0]
[null,{"$f":"IF(A397=\"\",\"\",VLOOKUP(WEEKDAY(A397,1),Traduction!$B$6:$D$250,'Info de l''escadron'!$A$1+1,0))","v":""},{"$f":"A397+COUNTIF($A$4:A397,A397)/10","v":0.6},null,null,null,0]
[null,{"$f":"IF(A398=\"\",\"\",VLOOKUP(WEEKDAY(A398,1),Traduction!$B$6:$D$250,'Info de l''escadron'!$A$1+1,0))","v":""},{"$f":"A398+COUNTIF($A$4:A398,A398)/10","v":0.6},null,null,null,0]
[null,{"$f":"IF(A399=\"\",\"\",VLOOKUP(WEEKDAY(A399,1),Traduction!$B$6:$D$250,'Info de l''escadron'!$A$1+1,0))","v":""},{"$f":"A399+COUNTIF($A$4:A399,A399)/10","v":0.6},null,null,null,0]
[null,{"$f":"IF(A400=\"\",\"\",VLOOKUP(WEEKDAY(A400,1),Traduction!$B$6:$D$250,'Info de l''escadron'!$A$1+1,0))","v":""},{"$f":"A400+COUNTIF($A$4:A400,A400)/10","v":0.6},null,null,null,0]
[null,{"$f":"IF(A401=\"\",\"\",VLOOKUP(WEEKDAY(A401,1),Traduction!$B$6:$D$250,'Info de l''escadron'!$A$1+1,0))","v":""},{"$f":"A401+COUNTIF($A$4:A401,A401)/10","v":0.6},null,null,null,0]
[null,{"$f":"IF(A402=\"\",\"\",VLOOKUP(WEEKDAY(A402,1),Traduction!$B$6:$D$250,'Info de l''escadron'!$A$1+1,0))","v":""},{"$f":"A402+COUNTIF($A$4:A402,A402)/10","v":0.6},null,null,null,0]
[null,{"$f":"IF(A403=\"\",\"\",VLOOKUP(WEEKDAY(A403,1),Traduction!$B$6:$D$250,'Info de l''escadron'!$A$1+1,0))","v":""},{"$f":"A403+COUNTIF($A$4:A403,A403)/10","v":0.6},null,null,null,0]
[null,{"$f":"IF(A404=\"\",\"\",VLOOKUP(WEEKDAY(A404,1),Traduction!$B$6:$D$250,'Info de l''escadron'!$A$1+1,0))","v":""},{"$f":"A404+COUNTIF($A$4:A404,A404)/10","v":0.6},null,null,null,0]
[null,{"$f":"IF(A405=\"\",\"\",VLOOKUP(WEEKDAY(A405,1),Traduction!$B$6:$D$250,'Info de l''escadron'!$A$1+1,0))","v":""},{"$f":"A405+COUNTIF($A$4:A405,A405)/10","v":0.6},null,null,null,0]
[null,{"$f":"IF(A406=\"\",\"\",VLOOKUP(WEEKDAY(A406,1),Traduction!$B$6:$D$250,'Info de l''escadron'!$A$1+1,0))","v":""},{"$f":"A406+COUNTIF($A$4:A406,A406)/10","v":0.6},null,null,null,0]
[null,{"$f":"IF(A407=\"\",\"\",VLOOKUP(WEEKDAY(A407,1),Traduction!$B$6:$D$250,'Info de l''escadron'!$A$1+1,0))","v":""},{"$f":"A407+COUNTIF($A$4:A407,A407)/10","v":0.6},null,null,null,0]
[null,{"$f":"IF(A408=\"\",\"\",VLOOKUP(WEEKDAY(A408,1),Traduction!$B$6:$D$250,'Info de l''escadron'!$A$1+1,0))","v":""},{"$f":"A408+COUNTIF($A$4:A408,A408)/10","v":0.6},null,null,null,0]
[null,{"$f":"IF(A409=\"\",\"\",VLOOKUP(WEEKDAY(A409,1),Traduction!$B$6:$D$250,'Info de l''escadron'!$A$1+1,0))","v":""},{"$f":"A409+COUNTIF($A$4:A409,A409)/10","v":0.6},null,null,null,0]
[null,{"$f":"IF(A410=\"\",\"\",VLOOKUP(WEEKDAY(A410,1),Traduction!$B$6:$D$250,'Info de l''escadron'!$A$1+1,0))","v":""},{"$f":"A410+COUNTIF($A$4:A410,A410)/10","v":0.6},null,null,null,0]
[null,{"$f":"IF(A411=\"\",\"\",VLOOKUP(WEEKDAY(A411,1),Traduction!$B$6:$D$250,'Info de l''escadron'!$A$1+1,0))","v":""},{"$f":"A411+COUNTIF($A$4:A411,A411)/10","v":0.6},null,null,null,0]
[null,{"$f":"IF(A412=\"\",\"\",VLOOKUP(WEEKDAY(A412,1),Traduction!$B$6:$D$250,'Info de l''escadron'!$A$1+1,0))","v":""},{"$f":"A412+COUNTIF($A$4:A412,A412)/10","v":0.6},null,null,null,0]
[null,{"$f":"IF(A413=\"\",\"\",VLOOKUP(WEEKDAY(A413,1),Traduction!$B$6:$D$250,'Info de l''escadron'!$A$1+1,0))","v":""},{"$f":"A413+COUNTIF($A$4:A413,A413)/10","v":0.6},null,null,null,0]
[null,{"$f":"IF(A414=\"\",\"\",VLOOKUP(WEEKDAY(A414,1),Traduction!$B$6:$D$250,'Info de l''escadron'!$A$1+1,0))","v":""},{"$f":"A414+COUNTIF($A$4:A414,A414)/10","v":0.6},null,null,null,0]
[null,{"$f":"IF(A415=\"\",\"\",VLOOKUP(WEEKDAY(A415,1),Traduction!$B$6:$D$250,'Info de l''escadron'!$A$1+1,0))","v":""},{"$f":"A415+COUNTIF($A$4:A415,A415)/10","v":0.6},null,null,null,0]
[null,{"$f":"IF(A416=\"\",\"\",VLOOKUP(WEEKDAY(A416,1),Traduction!$B$6:$D$250,'Info de l''escadron'!$A$1+1,0))","v":""},{"$f":"A416+COUNTIF($A$4:A416,A416)/10","v":0.6},null,null,null,0]
[null,{"$f":"IF(A417=\"\",\"\",VLOOKUP(WEEKDAY(A417,1),Traduction!$B$6:$D$250,'Info de l''escadron'!$A$1+1,0))","v":""},{"$f":"A417+COUNTIF($A$4:A417,A417)/10","v":0.6},null,null,null,0]
[null,{"$f":"IF(A418=\"\",\"\",VLOOKUP(WEEKDAY(A418,1),Traduction!$B$6:$D$250,'Info de l''escadron'!$A$1+1,0))","v":""},{"$f":"A418+COUNTIF($A$4:A418,A418)/10","v":0.6},null,null,null,0]
[null,{"$f":"IF(A419=\"\",\"\",VLOOKUP(WEEKDAY(A419,1),Traduction!$B$6:$D$250,'Info de l''escadron'!$A$1+1,0))","v":""},{"$f":"A419+COUNTIF($A$4:A419,A419)/10","v":0.6},null,null,null,0]
[null,{"$f":"IF(A420=\"\",\"\",VLOOKUP(WEEKDAY(A420,1),Traduction!$B$6:$D$250,'Info de l''escadron'!$A$1+1,0))","v":""},{"$f":"A420+COUNTIF($A$4:A420,A420)/10","v":0.6},null,null,null,0]
[null,{"$f":"IF(A421=\"\",\"\",VLOOKUP(WEEKDAY(A421,1),Traduction!$B$6:$D$250,'Info de l''escadron'!$A$1+1,0))","v":""},{"$f":"A421+COUNTIF($A$4:A421,A421)/10","v":0.6},null,null,null,0]
[null,{"$f":"IF(A422=\"\",\"\",VLOOKUP(WEEKDAY(A422,1),Traduction!$B$6:$D$250,'Info de l''escadron'!$A$1+1,0))","v":""},{"$f":"A422+COUNTIF($A$4:A422,A422)/10","v":0.6},null,null,null,0]
[null,{"$f":"IF(A423=\"\",\"\",VLOOKUP(WEEKDAY(A423,1),Traduction!$B$6:$D$250,'Info de l''escadron'!$A$1+1,0))","v":""},{"$f":"A423+COUNTIF($A$4:A423,A423)/10","v":0.6},null,null,null,0]
[null,{"$f":"IF(A424=\"\",\"\",VLOOKUP(WEEKDAY(A424,1),Traduction!$B$6:$D$250,'Info de l''escadron'!$A$1+1,0))","v":""},{"$f":"A424+COUNTIF($A$4:A424,A424)/10","v":0.6},null,null,null,0]
[null,{"$f":"IF(A425=\"\",\"\",VLOOKUP(WEEKDAY(A425,1),Traduction!$B$6:$D$250,'Info de l''escadron'!$A$1+1,0))","v":""},{"$f":"A425+COUNTIF($A$4:A425,A425)/10","v":0.6},null,null,null,0]
[null,{"$f":"IF(A426=\"\",\"\",VLOOKUP(WEEKDAY(A426,1),Traduction!$B$6:$D$250,'Info de l''escadron'!$A$1+1,0))","v":""},{"$f":"A426+COUNTIF($A$4:A426,A426)/10","v":0.6},null,null,null,0]
[null,{"$f":"IF(A427=\"\",\"\",VLOOKUP(WEEKDAY(A427,1),Traduction!$B$6:$D$250,'Info de l''escadron'!$A$1+1,0))","v":""},{"$f":"A427+COUNTIF($A$4:A427,A427)/10","v":0.6},null,null,null,0]
[null,{"$f":"IF(A428=\"\",\"\",VLOOKUP(WEEKDAY(A428,1),Traduction!$B$6:$D$250,'Info de l''escadron'!$A$1+1,0))","v":""},{"$f":"A428+COUNTIF($A$4:A428,A428)/10","v":0.6},null,null,null,0]
[null,{"$f":"IF(A429=\"\",\"\",VLOOKUP(WEEKDAY(A429,1),Traduction!$B$6:$D$250,'Info de l''escadron'!$A$1+1,0))","v":""},{"$f":"A429+COUNTIF($A$4:A429,A429)/10","v":0.6},null,null,null,0]
[null,{"$f":"IF(A430=\"\",\"\",VLOOKUP(WEEKDAY(A430,1),Traduction!$B$6:$D$250,'Info de l''escadron'!$A$1+1,0))","v":""},{"$f":"A430+COUNTIF($A$4:A430,A430)/10","v":0.6},null,null,null,0]
[null,{"$f":"IF(A431=\"\",\"\",VLOOKUP(WEEKDAY(A431,1),Traduction!$B$6:$D$250,'Info de l''escadron'!$A$1+1,0))","v":""},{"$f":"A431+COUNTIF($A$4:A431,A431)/10","v":0.6},null,null,null,0]
[null,{"$f":"IF(A432=\"\",\"\",VLOOKUP(WEEKDAY(A432,1),Traduction!$B$6:$D$250,'Info de l''escadron'!$A$1+1,0))","v":""},{"$f":"A432+COUNTIF($A$4:A432,A432)/10","v":0.6},null,null,null,{"$f":"IF(ISNA(VLOOKUP(F432,$B$540:$I$568,3,0)),F432,VLOOKUP(F432,$B$540:$I$568,3,0))","v":0}]
[null,{"$f":"IF(A433=\"\",\"\",VLOOKUP(WEEKDAY(A433,1),Traduction!$B$6:$D$250,'Info de l''escadron'!$A$1+1,0))","v":""},{"$f":"A433+COUNTIF($A$4:A433,A433)/10","v":0.6},null,null,null,0]
[null,{"$f":"IF(A434=\"\",\"\",VLOOKUP(WEEKDAY(A434,1),Traduction!$B$6:$D$250,'Info de l''escadron'!$A$1+1,0))","v":""},{"$f":"A434+COUNTIF($A$4:A434,A434)/10","v":0.6},null,null,null,0]
[null,{"$f":"IF(A435=\"\",\"\",VLOOKUP(WEEKDAY(A435,1),Traduction!$B$6:$D$250,'Info de l''escadron'!$A$1+1,0))","v":""},{"$f":"A435+COUNTIF($A$4:A435,A435)/10","v":0.6},null,null,null,0]
[null,{"$f":"IF(A436=\"\",\"\",VLOOKUP(WEEKDAY(A436,1),Traduction!$B$6:$D$250,'Info de l''escadron'!$A$1+1,0))","v":""},{"$f":"A436+COUNTIF($A$4:A436,A436)/10","v":0.6},null,null,null,0]
[null,{"$f":"IF(A437=\"\",\"\",VLOOKUP(WEEKDAY(A437,1),Traduction!$B$6:$D$250,'Info de l''escadron'!$A$1+1,0))","v":""},{"$f":"A437+COUNTIF($A$4:A437,A437)/10","v":0.6},null,null,null,0]
[null,{"$f":"IF(A438=\"\",\"\",VLOOKUP(WEEKDAY(A438,1),Traduction!$B$6:$D$250,'Info de l''escadron'!$A$1+1,0))","v":""},{"$f":"A438+COUNTIF($A$4:A438,A438)/10","v":0.6},null,null,null,0]
[null,{"$f":"IF(A439=\"\",\"\",VLOOKUP(WEEKDAY(A439,1),Traduction!$B$6:$D$250,'Info de l''escadron'!$A$1+1,0))","v":""},{"$f":"A439+COUNTIF($A$4:A439,A439)/10","v":0.6},null,null,null,0]
[null,{"$f":"IF(A440=\"\",\"\",VLOOKUP(WEEKDAY(A440,1),Traduction!$B$6:$D$250,'Info de l''escadron'!$A$1+1,0))","v":""},{"$f":"A440+COUNTIF($A$4:A440,A440)/10","v":0.6},null,null,null,0]
[null,{"$f":"IF(A441=\"\",\"\",VLOOKUP(WEEKDAY(A441,1),Traduction!$B$6:$D$250,'Info de l''escadron'!$A$1+1,0))","v":""},{"$f":"A441+COUNTIF($A$4:A441,A441)/10","v":0.6},null,null,null,0]
[null,{"$f":"IF(A442=\"\",\"\",VLOOKUP(WEEKDAY(A442,1),Traduction!$B$6:$D$250,'Info de l''escadron'!$A$1+1,0))","v":""},{"$f":"A442+COUNTIF($A$4:A442,A442)/10","v":0.6},null,null,null,0]
[null,{"$f":"IF(A443=\"\",\"\",VLOOKUP(WEEKDAY(A443,1),Traduction!$B$6:$D$250,'Info de l''escadron'!$A$1+1,0))","v":""},{"$f":"A443+COUNTIF($A$4:A443,A443)/10","v":0.6},null,null,null,0]
[null,{"$f":"IF(A444=\"\",\"\",VLOOKUP(WEEKDAY(A444,1),Traduction!$B$6:$D$250,'Info de l''escadron'!$A$1+1,0))","v":""},{"$f":"A444+COUNTIF($A$4:A444,A444)/10","v":0.6},null,null,null,0]
[null,{"$f":"IF(A445=\"\",\"\",VLOOKUP(WEEKDAY(A445,1),Traduction!$B$6:$D$250,'Info de l''escadron'!$A$1+1,0))","v":""},{"$f":"A445+COUNTIF($A$4:A445,A445)/10","v":0.6},null,null,null,0]
[null,{"$f":"IF(A446=\"\",\"\",VLOOKUP(WEEKDAY(A446,1),Traduction!$B$6:$D$250,'Info de l''escadron'!$A$1+1,0))","v":""},{"$f":"A446+COUNTIF($A$4:A446,A446)/10","v":0.6},null,null,null,0]
[null,{"$f":"IF(A447=\"\",\"\",VLOOKUP(WEEKDAY(A447,1),Traduction!$B$6:$D$250,'Info de l''escadron'!$A$1+1,0))","v":""},{"$f":"A447+COUNTIF($A$4:A447,A447)/10","v":0.6},null,null,null,0]
[null,{"$f":"IF(A448=\"\",\"\",VLOOKUP(WEEKDAY(A448,1),Traduction!$B$6:$D$250,'Info de l''escadron'!$A$1+1,0))","v":""},{"$f":"A448+COUNTIF($A$4:A448,A448)/10","v":0.6},null,null,null,0]
[null,{"$f":"IF(A449=\"\",\"\",VLOOKUP(WEEKDAY(A449,1),Traduction!$B$6:$D$250,'Info de l''escadron'!$A$1+1,0))","v":""},{"$f":"A449+COUNTIF($A$4:A449,A449)/10","v":0.6},null,null,null,0]
[null,{"$f":"IF(A450=\"\",\"\",VLOOKUP(WEEKDAY(A450,1),Traduction!$B$6:$D$250,'Info de l''escadron'!$A$1+1,0))","v":""},{"$f":"A450+COUNTIF($A$4:A450,A450)/10","v":0.6},null,null,null,0]
[null,{"$f":"IF(A451=\"\",\"\",VLOOKUP(WEEKDAY(A451,1),Traduction!$B$6:$D$250,'Info de l''escadron'!$A$1+1,0))","v":""},{"$f":"A451+COUNTIF($A$4:A451,A451)/10","v":0.6},null,null,null,0]
[null,{"$f":"IF(A452=\"\",\"\",VLOOKUP(WEEKDAY(A452,1),Traduction!$B$6:$D$250,'Info de l''escadron'!$A$1+1,0))","v":""},{"$f":"A452+COUNTIF($A$4:A452,A452)/10","v":0.6},null,null,null,0]
[null,{"$f":"IF(A453=\"\",\"\",VLOOKUP(WEEKDAY(A453,1),Traduction!$B$6:$D$250,'Info de l''escadron'!$A$1+1,0))","v":""},{"$f":"A453+COUNTIF($A$4:A453,A453)/10","v":0.6},null,null,null,0]
[null,{"$f":"IF(A454=\"\",\"\",VLOOKUP(WEEKDAY(A454,1),Traduction!$B$6:$D$250,'Info de l''escadron'!$A$1+1,0))","v":""},{"$f":"A454+COUNTIF($A$4:A454,A454)/10","v":0.6},null,null,null,0]
[null,{"$f":"IF(A455=\"\",\"\",VLOOKUP(WEEKDAY(A455,1),Traduction!$B$6:$D$250,'Info de l''escadron'!$A$1+1,0))","v":""},{"$f":"A455+COUNTIF($A$4:A455,A455)/10","v":0.6},null,null,null,0]
[null,{"$f":"IF(A456=\"\",\"\",VLOOKUP(WEEKDAY(A456,1),Traduction!$B$6:$D$250,'Info de l''escadron'!$A$1+1,0))","v":""},{"$f":"A456+COUNTIF($A$4:A456,A456)/10","v":0.6},null,null,null,0]
[null,{"$f":"IF(A457=\"\",\"\",VLOOKUP(WEEKDAY(A457,1),Traduction!$B$6:$D$250,'Info de l''escadron'!$A$1+1,0))","v":""},{"$f":"A457+COUNTIF($A$4:A457,A457)/10","v":0.6},null,null,null,0]
[null,{"$f":"IF(A458=\"\",\"\",VLOOKUP(WEEKDAY(A458,1),Traduction!$B$6:$D$250,'Info de l''escadron'!$A$1+1,0))","v":""},{"$f":"A458+COUNTIF($A$4:A458,A458)/10","v":0.6},null,null,null,0]
[null,{"$f":"IF(A459=\"\",\"\",VLOOKUP(WEEKDAY(A459,1),Traduction!$B$6:$D$250,'Info de l''escadron'!$A$1+1,0))","v":""},{"$f":"A459+COUNTIF($A$4:A459,A459)/10","v":0.6},null,null,null,0]
[null,{"$f":"IF(A460=\"\",\"\",VLOOKUP(WEEKDAY(A460,1),Traduction!$B$6:$D$250,'Info de l''escadron'!$A$1+1,0))","v":""},{"$f":"A460+COUNTIF($A$4:A460,A460)/10","v":0.6},null,null,null,0]
[null,{"$f":"IF(A461=\"\",\"\",VLOOKUP(WEEKDAY(A461,1),Traduction!$B$6:$D$250,'Info de l''escadron'!$A$1+1,0))","v":""},{"$f":"A461+COUNTIF($A$4:A461,A461)/10","v":0.6},null,null,null,0]
[null,{"$f":"IF(A462=\"\",\"\",VLOOKUP(WEEKDAY(A462,1),Traduction!$B$6:$D$250,'Info de l''escadron'!$A$1+1,0))","v":""},{"$f":"A462+COUNTIF($A$4:A462,A462)/10","v":0.6},null,null,null,0]
[null,{"$f":"IF(A463=\"\",\"\",VLOOKUP(WEEKDAY(A463,1),Traduction!$B$6:$D$250,'Info de l''escadron'!$A$1+1,0))","v":""},{"$f":"A463+COUNTIF($A$4:A463,A463)/10","v":0.6},null,null,null,0]
[null,{"$f":"IF(A464=\"\",\"\",VLOOKUP(WEEKDAY(A464,1),Traduction!$B$6:$D$250,'Info de l''escadron'!$A$1+1,0))","v":""},{"$f":"A464+COUNTIF($A$4:A464,A464)/10","v":0.6},null,null,null,0]
[null,{"$f":"IF(A465=\"\",\"\",VLOOKUP(WEEKDAY(A465,1),Traduction!$B$6:$D$250,'Info de l''escadron'!$A$1+1,0))","v":""},{"$f":"A465+COUNTIF($A$4:A465,A465)/10","v":0.6},null,null,null,0]
[null,{"$f":"IF(A466=\"\",\"\",VLOOKUP(WEEKDAY(A466,1),Traduction!$B$6:$D$250,'Info de l''escadron'!$A$1+1,0))","v":""},{"$f":"A466+COUNTIF($A$4:A466,A466)/10","v":0.6},null,null,null,0]
[null,{"$f":"IF(A467=\"\",\"\",VLOOKUP(WEEKDAY(A467,1),Traduction!$B$6:$D$250,'Info de l''escadron'!$A$1+1,0))","v":""},{"$f":"A467+COUNTIF($A$4:A467,A467)/10","v":0.6},null,null,null,0]
[null,{"$f":"IF(A468=\"\",\"\",VLOOKUP(WEEKDAY(A468,1),Traduction!$B$6:$D$250,'Info de l''escadron'!$A$1+1,0))","v":""},{"$f":"A468+COUNTIF($A$4:A468,A468)/10","v":0.6},null,null,null,0]
[null,{"$f":"IF(A469=\"\",\"\",VLOOKUP(WEEKDAY(A469,1),Traduction!$B$6:$D$250,'Info de l''escadron'!$A$1+1,0))","v":""},{"$f":"A469+COUNTIF($A$4:A469,A469)/10","v":0.6},null,null,null,0]
[null,{"$f":"IF(A470=\"\",\"\",VLOOKUP(WEEKDAY(A470,1),Traduction!$B$6:$D$250,'Info de l''escadron'!$A$1+1,0))","v":""},{"$f":"A470+COUNTIF($A$4:A470,A470)/10","v":0.6},null,null,null,0]
[null,{"$f":"IF(A471=\"\",\"\",VLOOKUP(WEEKDAY(A471,1),Traduction!$B$6:$D$250,'Info de l''escadron'!$A$1+1,0))","v":""},{"$f":"A471+COUNTIF($A$4:A471,A471)/10","v":0.6},null,null,null,0]
[null,{"$f":"IF(A472=\"\",\"\",VLOOKUP(WEEKDAY(A472,1),Traduction!$B$6:$D$250,'Info de l''escadron'!$A$1+1,0))","v":""},{"$f":"A472+COUNTIF($A$4:A472,A472)/10","v":0.6},null,null,null,0]
[null,{"$f":"IF(A473=\"\",\"\",VLOOKUP(WEEKDAY(A473,1),Traduction!$B$6:$D$250,'Info de l''escadron'!$A$1+1,0))","v":""},{"$f":"A473+COUNTIF($A$4:A473,A473)/10","v":0.6},null,null,null,0]
[null,{"$f":"IF(A474=\"\",\"\",VLOOKUP(WEEKDAY(A474,1),Traduction!$B$6:$D$250,'Info de l''escadron'!$A$1+1,0))","v":""},{"$f":"A474+COUNTIF($A$4:A474,A474)/10","v":0.6},null,null,null,0]
[null,{"$f":"IF(A475=\"\",\"\",VLOOKUP(WEEKDAY(A475,1),Traduction!$B$6:$D$250,'Info de l''escadron'!$A$1+1,0))","v":""},{"$f":"A475+COUNTIF($A$4:A475,A475)/10","v":0.6},null,null,null,0]
[null,{"$f":"IF(A476=\"\",\"\",VLOOKUP(WEEKDAY(A476,1),Traduction!$B$6:$D$250,'Info de l''escadron'!$A$1+1,0))","v":""},{"$f":"A476+COUNTIF($A$4:A476,A476)/10","v":0.6},null,null,null,0]
[null,{"$f":"IF(A477=\"\",\"\",VLOOKUP(WEEKDAY(A477,1),Traduction!$B$6:$D$250,'Info de l''escadron'!$A$1+1,0))","v":""},{"$f":"A477+COUNTIF($A$4:A477,A477)/10","v":0.6},null,null,null,0]
[null,{"$f":"IF(A478=\"\",\"\",VLOOKUP(WEEKDAY(A478,1),Traduction!$B$6:$D$250,'Info de l''escadron'!$A$1+1,0))","v":""},{"$f":"A478+COUNTIF($A$4:A478,A478)/10","v":0.6},null,null,null,0]
[null,{"$f":"IF(A479=\"\",\"\",VLOOKUP(WEEKDAY(A479,1),Traduction!$B$6:$D$250,'Info de l''escadron'!$A$1+1,0))","v":""},{"$f":"A479+COUNTIF($A$4:A479,A479)/10","v":0.6},null,null,null,0]
[null,{"$f":"IF(A480=\"\",\"\",VLOOKUP(WEEKDAY(A480,1),Traduction!$B$6:$D$250,'Info de l''escadron'!$A$1+1,0))","v":""},{"$f":"A480+COUNTIF($A$4:A480,A480)/10","v":0.6},null,null,null,0]
[null,{"$f":"IF(A481=\"\",\"\",VLOOKUP(WEEKDAY(A481,1),Traduction!$B$6:$D$250,'Info de l''escadron'!$A$1+1,0))","v":""},{"$f":"A481+COUNTIF($A$4:A481,A481)/10","v":0.6},null,null,null,0]
[null,{"$f":"IF(A482=\"\",\"\",VLOOKUP(WEEKDAY(A482,1),Traduction!$B$6:$D$250,'Info de l''escadron'!$A$1+1,0))","v":""},{"$f":"A482+COUNTIF($A$4:A482,A482)/10","v":0.6},null,null,null,0]
[null,{"$f":"IF(A483=\"\",\"\",VLOOKUP(WEEKDAY(A483,1),Traduction!$B$6:$D$250,'Info de l''escadron'!$A$1+1,0))","v":""},{"$f":"A483+COUNTIF($A$4:A483,A483)/10","v":0.6},null,null,null,0]
[null,{"$f":"IF(A484=\"\",\"\",VLOOKUP(WEEKDAY(A484,1),Traduction!$B$6:$D$250,'Info de l''escadron'!$A$1+1,0))","v":""},{"$f":"A484+COUNTIF($A$4:A484,A484)/10","v":0.6},null,null,null,0]
[null,{"$f":"IF(A485=\"\",\"\",VLOOKUP(WEEKDAY(A485,1),Traduction!$B$6:$D$250,'Info de l''escadron'!$A$1+1,0))","v":""},{"$f":"A485+COUNTIF($A$4:A485,A485)/10","v":0.6},null,null,null,0]
[null,{"$f":"IF(A486=\"\",\"\",VLOOKUP(WEEKDAY(A486,1),Traduction!$B$6:$D$250,'Info de l''escadron'!$A$1+1,0))","v":""},{"$f":"A486+COUNTIF($A$4:A486,A486)/10","v":0.6},null,null,null,0]
[null,{"$f":"IF(A487=\"\",\"\",VLOOKUP(WEEKDAY(A487,1),Traduction!$B$6:$D$250,'Info de l''escadron'!$A$1+1,0))","v":""},{"$f":"A487+COUNTIF($A$4:A487,A487)/10","v":0.6},null,null,null,0]
[null,{"$f":"IF(A488=\"\",\"\",VLOOKUP(WEEKDAY(A488,1),Traduction!$B$6:$D$250,'Info de l''escadron'!$A$1+1,0))","v":""},{"$f":"A488+COUNTIF($A$4:A488,A488)/10","v":0.6},null,null,null,0]
[null,{"$f":"IF(A489=\"\",\"\",VLOOKUP(WEEKDAY(A489,1),Traduction!$B$6:$D$250,'Info de l''escadron'!$A$1+1,0))","v":""},{"$f":"A489+COUNTIF($A$4:A489,A489)/10","v":0.6},null,null,null,0]
[null,{"$f":"IF(A490=\"\",\"\",VLOOKUP(WEEKDAY(A490,1),Traduction!$B$6:$D$250,'Info de l''escadron'!$A$1+1,0))","v":""},{"$f":"A490+COUNTIF($A$4:A490,A490)/10","v":0.6},null,null,null,0]
[null,{"$f":"IF(A491=\"\",\"\",VLOOKUP(WEEKDAY(A491,1),Traduction!$B$6:$D$250,'Info de l''escadron'!$A$1+1,0))","v":""},{"$f":"A491+COUNTIF($A$4:A491,A491)/10","v":0.6},null,null,null,0]
[null,{"$f":"IF(A492=\"\",\"\",VLOOKUP(WEEKDAY(A492,1),Traduction!$B$6:$D$250,'Info de l''escadron'!$A$1+1,0))","v":""},{"$f":"A492+COUNTIF($A$4:A492,A492)/10","v":0.6},null,null,null,0]
[null,{"$f":"IF(A493=\"\",\"\",VLOOKUP(WEEKDAY(A493,1),Traduction!$B$6:$D$250,'Info de l''escadron'!$A$1+1,0))","v":""},{"$f":"A493+COUNTIF($A$4:A493,A493)/10","v":0.6},null,null,null,0]
[null,{"$f":"IF(A494=\"\",\"\",VLOOKUP(WEEKDAY(A494,1),Traduction!$B$6:$D$250,'Info de l''escadron'!$A$1+1,0))","v":""},{"$f":"A494+COUNTIF($A$4:A494,A494)/10","v":0.6},null,null,null,0]
[null,{"$f":"IF(A495=\"\",\"\",VLOOKUP(WEEKDAY(A495,1),Traduction!$B$6:$D$250,'Info de l''escadron'!$A$1+1,0))","v":""},{"$f":"A495+COUNTIF($A$4:A495,A495)/10","v":0.6},null,null,null,0]
[null,{"$f":"IF(A496=\"\",\"\",VLOOKUP(WEEKDAY(A496,1),Traduction!$B$6:$D$250,'Info de l''escadron'!$A$1+1,0))","v":""},{"$f":"A496+COUNTIF($A$4:A496,A496)/10","v":0.6},null,null,null,{"$f":"IF(ISNA(VLOOKUP(F496,$B$540:$I$568,3,0)),F496,VLOOKUP(F496,$B$540:$I$568,3,0))","v":0}]
[null,{"$f":"IF(A497=\"\",\"\",VLOOKUP(WEEKDAY(A497,1),Traduction!$B$6:$D$250,'Info de l''escadron'!$A$1+1,0))","v":""},{"$f":"A497+COUNTIF($A$4:A497,A497)/10","v":0.6},null,null,null,0]
[null,{"$f":"IF(A498=\"\",\"\",VLOOKUP(WEEKDAY(A498,1),Traduction!$B$6:$D$250,'Info de l''escadron'!$A$1+1,0))","v":""},{"$f":"A498+COUNTIF($A$4:A498,A498)/10","v":0.6},null,null,null,0]
[null,{"$f":"IF(A499=\"\",\"\",VLOOKUP(WEEKDAY(A499,1),Traduction!$B$6:$D$250,'Info de l''escadron'!$A$1+1,0))","v":""},{"$f":"A499+COUNTIF($A$4:A499,A499)/10","v":0.6},null,null,null,0]
[null,{"$f":"IF(A500=\"\",\"\",VLOOKUP(WEEKDAY(A500,1),Traduction!$B$6:$D$250,'Info de l''escadron'!$A$1+1,0))","v":""},{"$f":"A500+COUNTIF($A$4:A500,A500)/10","v":0.6},null,null,null,0]
[null,{"$f":"IF(A501=\"\",\"\",VLOOKUP(WEEKDAY(A501,1),Traduction!$B$6:$D$250,'Info de l''escadron'!$A$1+1,0))","v":""},{"$f":"A501+COUNTIF($A$4:A501,A501)/10","v":0.6},null,null,null,0]
[null,{"$f":"IF(A502=\"\",\"\",VLOOKUP(WEEKDAY(A502,1),Traduction!$B$6:$D$250,'Info de l''escadron'!$A$1+1,0))","v":""},{"$f":"A502+COUNTIF($A$4:A502,A502)/10","v":0.6},null,null,null,0]
[null,{"$f":"IF(A503=\"\",\"\",VLOOKUP(WEEKDAY(A503,1),Traduction!$B$6:$D$250,'Info de l''escadron'!$A$1+1,0))","v":""},{"$f":"A503+COUNTIF($A$4:A503,A503)/10","v":0.6},null,null,null,0]
[null,{"$f":"IF(A504=\"\",\"\",VLOOKUP(WEEKDAY(A504,1),Traduction!$B$6:$D$250,'Info de l''escadron'!$A$1+1,0))","v":""},{"$f":"A504+COUNTIF($A$4:A504,A504)/10","v":0.6},null,null,null,0]
[null,{"$f":"IF(A505=\"\",\"\",VLOOKUP(WEEKDAY(A505,1),Traduction!$B$6:$D$250,'Info de l''escadron'!$A$1+1,0))","v":""},{"$f":"A505+COUNTIF($A$4:A505,A505)/10","v":0.6},null,null,null,0]
[null,{"$f":"IF(A506=\"\",\"\",VLOOKUP(WEEKDAY(A506,1),Traduction!$B$6:$D$250,'Info de l''escadron'!$A$1+1,0))","v":""},{"$f":"A506+COUNTIF($A$4:A506,A506)/10","v":0.6},null,null,null,0]
[null,{"$f":"IF(A507=\"\",\"\",VLOOKUP(WEEKDAY(A507,1),Traduction!$B$6:$D$250,'Info de l''escadron'!$A$1+1,0))","v":""},{"$f":"A507+COUNTIF($A$4:A507,A507)/10","v":0.6},null,null,null,0]
[null,{"$f":"IF(A508=\"\",\"\",VLOOKUP(WEEKDAY(A508,1),Traduction!$B$6:$D$250,'Info de l''escadron'!$A$1+1,0))","v":""},{"$f":"A508+COUNTIF($A$4:A508,A508)/10","v":0.6},null,null,null,0]
[null,{"$f":"IF(A509=\"\",\"\",VLOOKUP(WEEKDAY(A509,1),Traduction!$B$6:$D$250,'Info de l''escadron'!$A$1+1,0))","v":""},{"$f":"A509+COUNTIF($A$4:A509,A509)/10","v":0.6},null,null,null,0]
[null,{"$f":"IF(A510=\"\",\"\",VLOOKUP(WEEKDAY(A510,1),Traduction!$B$6:$D$250,'Info de l''escadron'!$A$1+1,0))","v":""},{"$f":"A510+COUNTIF($A$4:A510,A510)/10","v":0.6},null,null,null,0]
[null,{"$f":"IF(A511=\"\",\"\",VLOOKUP(WEEKDAY(A511,1),Traduction!$B$6:$D$250,'Info de l''escadron'!$A$1+1,0))","v":""},{"$f":"A511+COUNTIF($A$4:A511,A511)/10","v":0.6},null,null,null,0]
[null,{"$f":"IF(A512=\"\",\"\",VLOOKUP(WEEKDAY(A512,1),Traduction!$B$6:$D$250,'Info de l''escadron'!$A$1+1,0))","v":""},{"$f":"A512+COUNTIF($A$4:A512,A512)/10","v":0.6},null,null,null,0]
[null,{"$f":"IF(A513=\"\",\"\",VLOOKUP(WEEKDAY(A513,1),Traduction!$B$6:$D$250,'Info de l''escadron'!$A$1+1,0))","v":""},{"$f":"A513+COUNTIF($A$4:A513,A513)/10","v":0.6},null,null,null,0]
[null,{"$f":"IF(A514=\"\",\"\",VLOOKUP(WEEKDAY(A514,1),Traduction!$B$6:$D$250,'Info de l''escadron'!$A$1+1,0))","v":""},{"$f":"A514+COUNTIF($A$4:A514,A514)/10","v":0.6},null,null,null,0]
[null,{"$f":"IF(A515=\"\",\"\",VLOOKUP(WEEKDAY(A515,1),Traduction!$B$6:$D$250,'Info de l''escadron'!$A$1+1,0))","v":""},{"$f":"A515+COUNTIF($A$4:A515,A515)/10","v":0.6},null,null,null,0]
[null,{"$f":"IF(A516=\"\",\"\",VLOOKUP(WEEKDAY(A516,1),Traduction!$B$6:$D$250,'Info de l''escadron'!$A$1+1,0))","v":""},{"$f":"A516+COUNTIF($A$4:A516,A516)/10","v":0.6},null,null,null,0]
[null,{"$f":"IF(A517=\"\",\"\",VLOOKUP(WEEKDAY(A517,1),Traduction!$B$6:$D$250,'Info de l''escadron'!$A$1+1,0))","v":""},{"$f":"A517+COUNTIF($A$4:A517,A517)/10","v":0.6},null,null,null,0]
[null,{"$f":"IF(A518=\"\",\"\",VLOOKUP(WEEKDAY(A518,1),Traduction!$B$6:$D$250,'Info de l''escadron'!$A$1+1,0))","v":""},{"$f":"A518+COUNTIF($A$4:A518,A518)/10","v":0.6},null,null,null,0]
[null,{"$f":"IF(A519=\"\",\"\",VLOOKUP(WEEKDAY(A519,1),Traduction!$B$6:$D$250,'Info de l''escadron'!$A$1+1,0))","v":""},{"$f":"A519+COUNTIF($A$4:A519,A519)/10","v":0.6},null,null,null,0]
[null,{"$f":"IF(A520=\"\",\"\",VLOOKUP(WEEKDAY(A520,1),Traduction!$B$6:$D$250,'Info de l''escadron'!$A$1+1,0))","v":""},{"$f":"A520+COUNTIF($A$4:A520,A520)/10","v":0.6},null,null,null,0]
[null,{"$f":"IF(A521=\"\",\"\",VLOOKUP(WEEKDAY(A521,1),Traduction!$B$6:$D$250,'Info de l''escadron'!$A$1+1,0))","v":""},{"$f":"A521+COUNTIF($A$4:A521,A521)/10","v":0.6},null,null,null,0]
[null,{"$f":"IF(A522=\"\",\"\",VLOOKUP(WEEKDAY(A522,1),Traduction!$B$6:$D$250,'Info de l''escadron'!$A$1+1,0))","v":""},{"$f":"A522+COUNTIF($A$4:A522,A522)/10","v":0.6},null,null,null,0]
[null,{"$f":"IF(A523=\"\",\"\",VLOOKUP(WEEKDAY(A523,1),Traduction!$B$6:$D$250,'Info de l''escadron'!$A$1+1,0))","v":""},{"$f":"A523+COUNTIF($A$4:A523,A523)/10","v":0.6},null,null,null,0]
[null,{"$f":"IF(A524=\"\",\"\",VLOOKUP(WEEKDAY(A524,1),Traduction!$B$6:$D$250,'Info de l''escadron'!$A$1+1,0))","v":""},{"$f":"A524+COUNTIF($A$4:A524,A524)/10","v":0.6},null,null,null,0]
[null,{"$f":"IF(A525=\"\",\"\",VLOOKUP(WEEKDAY(A525,1),Traduction!$B$6:$D$250,'Info de l''escadron'!$A$1+1,0))","v":""},{"$f":"A525+COUNTIF($A$4:A525,A525)/10","v":0.6},null,null,null,0]
[null,{"$f":"IF(A526=\"\",\"\",VLOOKUP(WEEKDAY(A526,1),Traduction!$B$6:$D$250,'Info de l''escadron'!$A$1+1,0))","v":""},{"$f":"A526+COUNTIF($A$4:A526,A526)/10","v":0.6},null,null,null,0]
[null,{"$f":"IF(A527=\"\",\"\",VLOOKUP(WEEKDAY(A527,1),Traduction!$B$6:$D$250,'Info de l''escadron'!$A$1+1,0))","v":""},{"$f":"A527+COUNTIF($A$4:A527,A527)/10","v":0.6},null,null,null,0]
[null,{"$f":"IF(A528=\"\",\"\",VLOOKUP(WEEKDAY(A528,1),Traduction!$B$6:$D$250,'Info de l''escadron'!$A$1+1,0))","v":""},{"$f":"A528+COUNTIF($A$4:A528,A528)/10","v":0.6},null,null,null,0]
[null,{"$f":"IF(A529=\"\",\"\",VLOOKUP(WEEKDAY(A529,1),Traduction!$B$6:$D$250,'Info de l''escadron'!$A$1+1,0))","v":""},{"$f":"A529+COUNTIF($A$4:A529,A529)/10","v":0.6},null,null,null,0]
[null,{"$f":"IF(A530=\"\",\"\",VLOOKUP(WEEKDAY(A530,1),Traduction!$B$6:$D$250,'Info de l''escadron'!$A$1+1,0))","v":""},{"$f":"A530+COUNTIF($A$4:A530,A530)/10","v":0.6},null,null,null,0]
[null,{"$f":"IF(A531=\"\",\"\",VLOOKUP(WEEKDAY(A531,1),Traduction!$B$6:$D$250,'Info de l''escadron'!$A$1+1,0))","v":""},{"$f":"A531+COUNTIF($A$4:A531,A531)/10","v":0.6},null,null,null,0]
[null,{"$f":"IF(A532=\"\",\"\",VLOOKUP(WEEKDAY(A532,1),Traduction!$B$6:$D$250,'Info de l''escadron'!$A$1+1,0))","v":""},{"$f":"A532+COUNTIF($A$4:A532,A532)/10","v":0.6},null,null,null,0]
[null,{"$f":"IF(A533=\"\",\"\",VLOOKUP(WEEKDAY(A533,1),Traduction!$B$6:$D$250,'Info de l''escadron'!$A$1+1,0))","v":""},{"$f":"A533+COUNTIF($A$4:A533,A533)/10","v":0.6},null,null,null,{"$f":"IF(ISNA(VLOOKUP(F533,$B$540:$I$568,3,0)),F533,VLOOKUP(F533,$B$540:$I$568,3,0))","v":0}]
[null,{"$f":"IF(A534=\"\",\"\",VLOOKUP(WEEKDAY(A534,1),Traduction!$B$6:$D$250,'Info de l''escadron'!$A$1+1,0))","v":""},{"$f":"A534+COUNTIF($A$4:A534,A534)/10","v":0.6},null,null,null,{"$f":"IF(ISNA(VLOOKUP(F534,$B$540:$I$568,3,0)),F534,VLOOKUP(F534,$B$540:$I$568,3,0))","v":0}]
[]
[]
[]
[]
[null,{"$f":"VLOOKUP(176,Traduction!$B$1:$E$250,'Info de l''escadron'!$A$1+1,0)","v":"Légende pour autres activités durant la soirée d'instruction"}]
[null,{"$f":"VLOOKUP(177,Traduction!$B$1:$E$250,'Info de l''escadron'!$A$1+1,0)","v":"Code"},null,{"$f":"VLOOKUP(178,Traduction!$B$1:$E$250,'Info de l''escadron'!$A$1+1,0)","v":"Description"}]
[1,{"$f":"VLOOKUP(A541,Traduction!$A$953:$E$982,2+'Info de l''escadron'!$A$1,0)","v":"Congé"},null,{"$f":"VLOOKUP(A541,Traduction!$A$1053:$E$1082,'Info de l''escadron'!$A$1+2,0)","v":"Congé"}]
[{"$f":"A541+1","v":2},{"$f":"VLOOKUP(A542,Traduction!$A$953:$E$982,2+'Info de l''escadron'!$A$1,0)","v":"Noel"},null,{"$f":"VLOOKUP(A542,Traduction!$A$1053:$E$1082,'Info de l''escadron'!$A$1+2,0)","v":"Période des Fêtes"}]
[3,{"$f":"VLOOKUP(A543,Traduction!$A$953:$E$982,2+'Info de l''escadron'!$A$1,0)","v":"Relâche"},null,{"$f":"VLOOKUP(A543,Traduction!$A$1053:$E$1082,'Info de l''escadron'!$A$1+2,0)","v":"Relâche scolaire"}]
[4,{"$f":"VLOOKUP(A544,Traduction!$A$953:$E$982,2+'Info de l''escadron'!$A$1,0)","v":"Cmdt"},null,{"$f":"VLOOKUP(A544,Traduction!$A$1053:$E$1082,'Info de l''escadron'!$A$1+2,0)","v":"Parade du commandant"}]
[5,{"$f":"VLOOKUP(A545,Traduction!$A$953:$E$982,2+'Info de l''escadron'!$A$1,0)","v":"Sec"},null,{"$f":"VLOOKUP(A545,Traduction!$A$1053:$E$1082,'Info de l''escadron'!$A$1+2,0)","v":"Régie de section"}]
[6,{"$f":"VLOOKUP(A546,Traduction!$A$953:$E$982,2+'Info de l''escadron'!$A$1,0)","v":"Niv"},null,{"$f":"VLOOKUP(A546,Traduction!$A$1053:$E$1082,'Info de l''escadron'!$A$1+2,0)","v":"Régie de niveau"}]
[7,{"$f":"VLOOKUP(A547,Traduction!$A$953:$E$982,2+'Info de l''escadron'!$A$1,0)","v":"Fin"},null,{"$f":"VLOOKUP(A547,Traduction!$A$1053:$E$1082,'Info de l''escadron'!$A$1+2,0)","v":"Levée de fonds"}]
[8,{"$f":"VLOOKUP(A548,Traduction!$A$953:$E$982,2+'Info de l''escadron'!$A$1,0)","v":"PP"},null,{"$f":"VLOOKUP(A548,Traduction!$A$1053:$E$1082,'Info de l''escadron'!$A$1+2,0)","v":"Pratique de parade"}]
[9,{"$f":"VLOOKUP(A549,Traduction!$A$953:$E$982,2+'Info de l''escadron'!$A$1,0)","v":"Party"},null,{"$f":"VLOOKUP(A549,Traduction!$A$1053:$E$1082,'Info de l''escadron'!$A$1+2,0)","v":"Party"}]
[10,{"$f":"VLOOKUP(A550,Traduction!$A$953:$E$982,2+'Info de l''escadron'!$A$1,0)","v":"Mess"},null,{"$f":"VLOOKUP(A550,Traduction!$A$1053:$E$1082,'Info de l''escadron'!$A$1+2,0)","v":"Dîner régimentaire"}]
[11,{"$f":"VLOOKUP(A551,Traduction!$A$953:$E$982,2+'Info de l''escadron'!$A$1,0)","v":"RSPJ"},null,{"$f":"VLOOKUP(A551,Traduction!$A$1053:$E$1082,'Info de l''escadron'!$A$1+2,0)","v":"Rel Soc Pos Jeunes"}]
[12,{"$f":"VLOOKUP(A552,Traduction!$A$953:$E$982,2+'Info de l''escadron'!$A$1,0)","v":"Admin"},null,{"$f":"VLOOKUP(A552,Traduction!$A$1053:$E$1082,'Info de l''escadron'!$A$1+2,0)","v":"Administration"}]
[13,{"$f":"VLOOKUP(A553,Traduction!$A$953:$E$982,2+'Info de l''escadron'!$A$1,0)","v":"Prom"},null,{"$f":"VLOOKUP(A553,Traduction!$A$1053:$E$1082,'Info de l''escadron'!$A$1+2,0)","v":"Promesse"}]
[14,{"$f":"VLOOKUP(A554,Traduction!$A$953:$E$982,2+'Info de l''escadron'!$A$1,0)","v":"Jeux "},null,{"$f":"VLOOKUP(A554,Traduction!$A$1053:$E$1082,'Info de l''escadron'!$A$1+2,0)","v":"Jeux des cadets"}]
[15,{"$f":"VLOOKUP(A555,Traduction!$A$953:$E$982,2+'Info de l''escadron'!$A$1,0)","v":"Tampon"},null,{"$f":"VLOOKUP(A555,Traduction!$A$1053:$E$1082,'Info de l''escadron'!$A$1+2,0)","v":"Périodes Tampon"}]
[16,{"$f":"VLOOKUP(A556,Traduction!$A$953:$E$982,2+'Info de l''escadron'!$A$1,0)","v":"Conf"},null,{"$f":"VLOOKUP(A556,Traduction!$A$1053:$E$1082,'Info de l''escadron'!$A$1+2,0)","v":"Conférence"}]
[17,{"$f":"VLOOKUP(A557,Traduction!$A$953:$E$982,2+'Info de l''escadron'!$A$1,0)","v":"Réunion"},null,{"$f":"VLOOKUP(A557,Traduction!$A$1053:$E$1082,'Info de l''escadron'!$A$1+2,0)","v":"Réunion de cadets"}]
[18,{"$f":"VLOOKUP(A558,Traduction!$A$953:$E$982,2+'Info de l''escadron'!$A$1,0)","v":"Parent"},null,{"$f":"VLOOKUP(A558,Traduction!$A$1053:$E$1082,'Info de l''escadron'!$A$1+2,0)","v":"Rencontre de parents"}]
[19,{"$f":"VLOOKUP(A559,Traduction!$A$953:$E$982,2+'Info de l''escadron'!$A$1,0)","v":"Inscr"},null,{"$f":"VLOOKUP(A559,Traduction!$A$1053:$E$1082,'Info de l''escadron'!$A$1+2,0)","v":"Inscription"}]
[20,{"$f":"VLOOKUP(A560,Traduction!$A$953:$E$982,2+'Info de l''escadron'!$A$1,0)","v":"Stage"},null,{"$f":"VLOOKUP(A560,Traduction!$A$1053:$E$1082,'Info de l''escadron'!$A$1+2,0)","v":"Stage de formation"}]
[21,{"$f":"VLOOKUP(A561,Traduction!$A$953:$E$982,2+'Info de l''escadron'!$A$1,0)","v":"Opt"},null,{"$f":"VLOOKUP(A561,Traduction!$A$1053:$E$1082,'Info de l''escadron'!$A$1+2,0)","v":"Activités optionnelles"}]
[22,{"$f":"VLOOKUP(A562,Traduction!$A$953:$E$982,2+'Info de l''escadron'!$A$1,0)","v":"Act"},null,{"$f":"VLOOKUP(A562,Traduction!$A$1053:$E$1082,'Info de l''escadron'!$A$1+2,0)","v":"Activité spéciale"}]
[23,{"$f":"VLOOKUP(A563,Traduction!$A$953:$E$982,2+'Info de l''escadron'!$A$1,0)","v":"POC"},null,{"$f":"VLOOKUP(A563,Traduction!$A$1053:$E$1082,'Info de l''escadron'!$A$1+2,0)","v":"Jour de POC"}]
[24,{"$f":"VLOOKUP(A564,Traduction!$A$953:$E$982,2+'Info de l''escadron'!$A$1,0)","v":"Duc"},null,{"$f":"VLOOKUP(A564,Traduction!$A$1053:$E$1082,'Info de l''escadron'!$A$1+2,0)","v":"Duc d'Édimbourg"}]
[25,{"$f":"VLOOKUP(A565,Traduction!$A$953:$E$982,2+'Info de l''escadron'!$A$1,0)","v":"AO"},null,{"$f":"VLOOKUP(A565,Traduction!$A$1053:$E$1082,'Info de l''escadron'!$A$1+2,0)","v":"Art Oratoire"}]
[26,{"$f":"VLOOKUP(A566,Traduction!$A$953:$E$982,2+'Info de l''escadron'!$A$1,0)","v":"SS"},null,{"$f":"VLOOKUP(A566,Traduction!$A$1053:$E$1082,'Info de l''escadron'!$A$1+2,0)","v":"Sports supplémentaires"}]
[27,{"$f":"VLOOKUP(A567,Traduction!$A$953:$E$982,2+'Info de l''escadron'!$A$1,0)","v":"SC"},null,{"$f":"VLOOKUP(A567,Traduction!$A$1053:$E$1082,'Info de l''escadron'!$A$1+2,0)","v":"Svc communautaire sup."}]
[28,{"$f":"VLOOKUP(A568,Traduction!$A$953:$E$982,2+'Info de l''escadron'!$A$1,0)","v":"Autre"},null,{"$f":"VLOOKUP(A568,Traduction!$A$1053:$E$1082,'Info de l''escadron'!$A$1+2,0)","v":"Activité autre"}]

{"sheet":"Calendrier","index":11,"n_rows":761,"n_cols":33,"rows_kept":761,"cut":false,"hidden":true,"merged":[[0,1,0,7],[637,1,637,7]]}
[null,"827 Longueuil"]
[null,1,2,3,4,5,6,7]
[null,{"$f":"VLOOKUP(103,Traduction!$B$6:$D$250,'Info de l''escadron'!$A$1+1,0)","v":"AOÛT"},null,null,null,null,null,{"$f":"YEAR('Info de l''escadron'!C26)","v":2017}]
[null,{"$f":"VLOOKUP(1,Traduction!$B$6:$D$250,'Info de l''escadron'!$A$1+1,0)","v":"Dimanche"},{"$f":"VLOOKUP(2,Traduction!$B$6:$D$250,'Info de l''escadron'!$A$1+1,0)","v":"Lundi"},{"$f":"VLOOKUP(3,Traduction!$B$6:$D$250,'Info de l''escadron'!$A$1+1,0)","v":"Mardi"},{"$f":"VLOOKUP(4,Traduction!$B$6:$D$250,'Info de l''escadron'!$A$1+1,0)","v":"Mercredi"},{"$f":"VLOOKUP(5,Traduction!$B$6:$D$250,'Info de l''escadron'!$A$1+1,0)","v":"Jeudi"},{"$f":"VLOOKUP(6,Traduction!$B$6:$D$250,'Info de l''escadron'!$A$1+1,0)","v":"Vendredi"},{"$f":"VLOOKUP(7,Traduction!$B$6:$D$250,'Info de l''escadron'!$A$1+1,0)","v":"Samedi"}]
[null,{"$f":"IF(WEEKDAY(DATE($H3,$A13,1),1)=B$2,1,IF(A5=0,0,A5+1))","v":0},0,1,2,3,4,5,null,null,null,null,null,null,null,null,null,null,null,null,null,null,null,null,null,null,{"$f":"IF(AND($B5=0,$H5=0),\"Invisible\",\"\")","v":""},{"$f":"IF(AND($B5=0,$H5=0),\"Invisible\",\"\")","v":""},"","","","",""]
[null,{"$f":"IF(B5=0,\"\",VLOOKUP(DATE($A11,$A13,B5)+$I6,Activités!$C$4:$I$534,5,0))","v":""},{"$f":"IF(C5=0,\"\",VLOOKUP(DATE($A11,$A13,C5)+$I6,Activités!$C$4:$I$534,5,0))","v":""},{"$f":"IF(D5=0,\"\",VLOOKUP(DATE($A11,$A13,D5)+$I6,Activités!$C$4:$I$534,5,0))","v":{"$error":"#N/A"}},{"$f":"IF(E5=0,\"\",VLOOKUP(DATE($A11,$A13,E5)+$I6,Activités!$C$4:$I$534,5,0))","v":{"$error":"#N/A"}},{"$f":"IF(F5=0,\"\",VLOOKUP(DATE($A11,$A13,F5)+$I6,Activités!$C$4:$I$534,5,0))","v":{"$error":"#N/A"}},{"$f":"IF(G5=0,\"\",VLOOKUP(DATE($A11,$A13,G5)+$I6,Activités!$C$4:$I$534,5,0))","v":{"$error":"#N/A"}},{"$f":"IF(H5=0,\"\",VLOOKUP(DATE($A11,$A13,H5)+$I6,Activités!$C$4:$I$534,5,0))","v":{"$error":"#N/A"}},0.1,null,null,null,null,null,null,null,null,null,null,null,null,null,null,null,null,null,{"$f":"AA5","v":""},"","","","","",""]
[null,{"$f":"IF(ISNA(B6),\"\",B6)","v":""},{"$f":"IF(ISNA(C6),\"\",C6)","v":""},"","","","","",null,null,null,null,null,null,null,null,null,null,null,null,null,null,null,null,null,null,{"$f":"IF(LEFT(B7,7)=\"CDT-145\",\"CDT-145\",IF(LEFT(B7,7)=\"CDT-135\",\"CDT-135\",AA5))","v":""},{"$f":"IF(LEFT(C7,7)=\"CDT-145\",\"CDT-145\",IF(LEFT(C7,7)=\"CDT-135\",\"CDT-135\",AB5))","v":""},"","","","",""]
[null,{"$f":"IF(B5=0,\"\",VLOOKUP(DATE($A11,$A13,B5)+$I8,Activités!$C$4:$I$534,5,0))","v":""},{"$f":"IF(C5=0,\"\",VLOOKUP(DATE($A11,$A13,C5)+$I8,Activités!$C$4:$I$534,5,0))","v":""},{"$f":"IF(D5=0,\"\",VLOOKUP(DATE($A11,$A13,D5)+$I8,Activités!$C$4:$I$534,5,0))","v":{"$error":"#N/A"}},{"$f":"IF(E5=0,\"\",VLOOKUP(DATE($A11,$A13,E5)+$I8,Activités!$C$4:$I$534,5,0))","v":{"$error":"#N/A"}},{"$f":"IF(F5=0,\"\",VLOOKUP(DATE($A11,$A13,F5)+$I8,Activités!$C$4:$I$534,5,0))","v":{"$error":"#N/A"}},{"$f":"IF(G5=0,\"\",VLOOKUP(DATE($A11,$A13,G5)+$I8,Activités!$C$4:$I$534,5,0))","v":{"$error":"#N/A"}},{"$f":"IF(H5=0,\"\",VLOOKUP(DATE($A11,$A13,H5)+$I8,Activités!$C$4:$I$534,5,0))","v":{"$error":"#N/A"}},{"$f":"+I6+0.1","v":0.2},null,null,null,null,null,null,null,null,null,null,null,null,null,null,null,null,null,{"$f":"AA7","v":""},{"$f":"AB7","v":""},"","","","",""]
[null,{"$f":"IF(ISNA(B8),\"\",B8)","v":""},"","","","","","",null,null,null,null,null,null,null,null,null,null,null,null,null,null,null,null,null,null,{"$f":"IF(LEFT(B9,7)=\"CDT-145\",\"CDT-145\",IF(LEFT(B9,7)=\"CDT-135\",\"CDT-135\",AA5))","v":""},{"$f":"IF(LEFT(C9,7)=\"CDT-145\",\"CDT-145\",IF(LEFT(C9,7)=\"CDT-135\",\"CDT-135\",AB5))","v":""},"","","","",""]
[null,{"$f":"IF(B5=0,\"\",VLOOKUP(DATE($A11,$A13,B5)+$I10,Activités!$C$4:$I$534,5,0))","v":""},{"$f":"IF(C5=0,\"\",VLOOKUP(DATE($A11,$A13,C5)+$I10,Activités!$C$4:$I$534,5,0))","v":""},{"$f":"IF(D5=0,\"\",VLOOKUP(DATE($A11,$A13,D5)+$I10,Activités!$C$4:$I$534,5,0))","v":{"$error":"#N/A"}},{"$f":"IF(E5=0,\"\",VLOOKUP(DATE($A11,$A13,E5)+$I10,Activités!$C$4:$I$534,5,0))","v":{"$error":"#N/A"}},{"$f":"IF(F5=0,\"\",VLOOKUP(DATE($A11,$A13,F5)+$I10,Activités!$C$4:$I$534,5,0))","v":{"$error":"#N/A"}},{"$f":"IF(G5=0,\"\",VLOOKUP(DATE($A11,$A13,G5)+$I10,Activités!$C$4:$I$534,5,0))","v":{"$error":"#N/A"}},{"$f":"IF(H5=0,\"\",VLOOKUP(DATE($A11,$A13,H5)+$I10,Activités!$C$4:$I$534,5,0))","v":{"$error":"#N/A"}},{"$f":"+I8+0.1","v":0.30000000000000004},null,null,null,null,null,null,null,null,null,null,null,null,null,null,null,null,null,{"$f":"AA9","v":""},{"$f":"AB9","v":""},"","","","",""]
[{"$f":"H3","v":2017},{"$f":"IF(ISNA(B10),\"\",B10)","v":""},"","","","","","",null,null,null,null,null,null,null,null,null,null,null,null,null,null,null,null,null,null,{"$f":"IF(LEFT(B11,7)=\"CDT-145\",\"CDT-145\",IF(LEFT(B11,7)=\"CDT-135\",\"CDT-135\",AA5))","v":""},{"$f":"IF(LEFT(C11,7)=\"CDT-145\",\"CDT-145\",IF(LEFT(C11,7)=\"CDT-135\",\"CDT-135\",AB5))","v":""},"","","","",""]
[null,{"$f":"IF(B5=0,\"\",VLOOKUP(DATE($A11,$A13,B5)+$I12,Activités!$C$4:$I$534,5,0))","v":""},{"$f":"IF(C5=0,\"\",VLOOKUP(DATE($A11,$A13,C5)+$I12,Activités!$C$4:$I$534,5,0))","v":""},{"$f":"IF(D5=0,\"\",VLOOKUP(DATE($A11,$A13,D5)+$I12,Activités!$C$4:$I$534,5,0))","v":{"$error":"#N/A"}},{"$f":"IF(E5=0,\"\",VLOOKUP(DATE($A11,$A13,E5)+$I12,Activités!$C$4:$I$534,5,0))","v":{"$error":"#N/A"}},{"$f":"IF(F5=0,\"\",VLOOKUP(DATE($A11,$A13,F5)+$I12,Activités!$C$4:$I$534,5,0))","v":{"$error":"#N/A"}},{"$f":"IF(G5=0,\"\",VLOOKUP(DATE($A11,$A13,G5)+$I12,Activités!$C$4:$I$534,5,0))","v":{"$error":"#N/A"}},{"$f":"IF(H5=0,\"\",VLOOKUP(DATE($A11,$A13,H5)+$I12,Activités!$C$4:$I$534,5,0))","v":{"$error":"#N/A"}},{"$f":"+I10+0.1","v":0.4},null,null,null,null,null,null,null,null,null,null,null,null,null,null,null,null,null,{"$f":"AA11","v":""},{"$f":"AB11","v":""},"","","","",""]
[8,{"$f":"IF(ISNA(B12),\"\",B12)","v":""},"","","","","","",null,null,null,null,null,null,null,null,null,null,null,null,null,null,null,null,null,null,{"$f":"IF(LEFT(B13,7)=\"CDT-145\",\"CDT-145\",IF(LEFT(B13,7)=\"CDT-135\",\"CDT-135\",AA5))","v":""},{"$f":"IF(LEFT(C13,7)=\"CDT-145\",\"CDT-145\",IF(LEFT(C13,7)=\"CDT-135\",\"CDT-135\",AB5))","v":""},"","","","",""]
[null,{"$f":"IF(B5=0,\"\",VLOOKUP(DATE($A11,$A13,B5)+$I14,Activités!$C$4:$I$534,5,0))","v":""},{"$f":"IF(C5=0,\"\",VLOOKUP(DATE($A11,$A13,C5)+$I14,Activités!$C$4:$I$534,5,0))","v":""},{"$f":"IF(D5=0,\"\",VLOOKUP(DATE($A11,$A13,D5)+$I14,Activités!$C$4:$I$534,5,0))","v":{"$error":"#N/A"}},{"$f":"IF(E5=0,\"\",VLOOKUP(DATE($A11,$A13,E5)+$I14,Activités!$C$4:$I$534,5,0))","v":{"$error":"#N/A"}},{"$f":"IF(F5=0,\"\",VLOOKUP(DATE($A11,$A13,F5)+$I14,Activités!$C$4:$I$534,5,0))","v":{"$error":"#N/A"}},{"$f":"IF(G5=0,\"\",VLOOKUP(DATE($A11,$A13,G5)+$I14,Activités!$C$4:$I$534,5,0))","v":{"$error":"#N/A"}},{"$f":"IF(H5=0,\"\",VLOOKUP(DATE($A11,$A13,H5)+$I14,Activités!$C$4:$I$534,5,0))","v":{"$error":"#N/A"}},{"$f":"+I12+0.1","v":0.5},null,null,null,null,null,null,null,null,null,null,null,null,null,null,null,null,null,{"$f":"AA13","v":""},{"$f":"AB13","v":""},"","","","",""]
[31,{"$f":"IF(ISNA(B14),\"\",B14)","v":""},{"$f":"IF(ISNA(C14),\"\",C14)","v":""},"","","","","",null,null,null,null,null,null,null,null,null,null,null,null,null,null,null,null,null,null,{"$f":"IF(LEFT(B15,7)=\"CDT-145\",\"CDT-145\",IF(LEFT(B15,7)=\"CDT-135\",\"CDT-135\",AA5))","v":""},{"$f":"IF(LEFT(C15,7)=\"CDT-145\",\"CDT-145\",IF(LEFT(C15,7)=\"CDT-135\",\"CDT-135\",AB5))","v":""},"","","","",""]
[{"$f":"H5","v":5},{"$f":"IF(OR(A16=$A26,A16=0),0,A16+1)","v":6},7,8,9,10,11,12,null,null,null,null,null,null,null,null,null,null,null,null,null,null,null,null,null,null,{"$f":"IF(AND($B16=0,$H16=0),\"Invisible\",\"\")","v":""},{"$f":"IF(AND($B16=0,$H16=0),\"Invisible\",\"\")","v":""},"","","","",""]
[null,{"$f":"IF(B16=0,\"\",VLOOKUP(DATE($A22,$A24,B16)+$I17,Activités!$C$4:$I$534,5,0))","v":{"$error":"#N/A"}},{"$f":"IF(C16=0,\"\",VLOOKUP(DATE($A22,$A24,C16)+$I17,Activités!$C$4:$I$534,5,0))","v":{"$error":"#N/A"}},{"$f":"IF(D16=0,\"\",VLOOKUP(DATE($A22,$A24,D16)+$I17,Activités!$C$4:$I$534,5,0))","v":{"$error":"#N/A"}},{"$f":"IF(E16=0,\"\",VLOOKUP(DATE($A22,$A24,E16)+$I17,Activités!$C$4:$I$534,5,0))","v":{"$error":"#N/A"}},{"$f":"IF(F16=0,\"\",VLOOKUP(DATE($A22,$A24,F16)+$I17,Activités!$C$4:$I$534,5,0))","v":{"$error":"#N/A"}},{"$f":"IF(G16=0,\"\",VLOOKUP(DATE($A22,$A24,G16)+$I17,Activités!$C$4:$I$534,5,0))","v":"CDT-145 - "},{"$f":"IF(H16=0,\"\",VLOOKUP(DATE($A22,$A24,H16)+$I17,Activités!$C$4:$I$534,5,0))","v":{"$error":"#N/A"}},0.1,null,null,null,null,null,null,null,null,null,null,null,null,null,null,null,null,null,{"$f":"AA16","v":""},"","","","","",""]
[null,{"$f":"IF(ISNA(B17),\"\",B17)","v":""},{"$f":"IF(ISNA(C17),\"\",C17)","v":""},"","","","CDT-145 - ","",null,null,null,null,null,null,null,null,null,null,null,null,null,null,null,null,null,null,{"$f":"IF(LEFT(B18,7)=\"CDT-145\",\"CDT-145\",IF(LEFT(B18,7)=\"CDT-135\",\"CDT-135\",AA16))","v":""},"","","","","CDT-145",""]
[null,{"$f":"IF(B16=0,\"\",VLOOKUP(DATE($A22,$A24,B16)+$I19,Activités!$C$4:$I$534,5,0))","v":{"$error":"#N/A"}},{"$f":"IF(C16=0,\"\",VLOOKUP(DATE($A22,$A24,C16)+$I19,Activités!$C$4:$I$534,5,0))","v":{"$error":"#N/A"}},{"$f":"IF(D16=0,\"\",VLOOKUP(DATE($A22,$A24,D16)+$I19,Activités!$C$4:$I$534,5,0))","v":{"$error":"#N/A"}},{"$f":"IF(E16=0,\"\",VLOOKUP(DATE($A22,$A24,E16)+$I19,Activités!$C$4:$I$534,5,0))","v":{"$error":"#N/A"}},{"$f":"IF(F16=0,\"\",VLOOKUP(DATE($A22,$A24,F16)+$I19,Activités!$C$4:$I$534,5,0))","v":{"$error":"#N/A"}},{"$f":"IF(G16=0,\"\",VLOOKUP(DATE($A22,$A24,G16)+$I19,Activités!$C$4:$I$534,5,0))","v":"Créer activité Forteresse"},{"$f":"IF(H16=0,\"\",VLOOKUP(DATE($A22,$A24,H16)+$I19,Activités!$C$4:$I$534,5,0))","v":{"$error":"#N/A"}},{"$f":"+I17+0.1","v":0.2},null,null,null,null,null,null,null,null,null,null,null,null,null,null,null,null,null,{"$f":"AA18","v":""},"","","","","CDT-145",""]
[null,{"$f":"IF(ISNA(B19),\"\",B19)","v":""},"","","","","Créer activité Forteresse","",null,null,null,null,null,null,null,null,null,null,null,null,null,null,null,null,null,null,{"$f":"IF(LEFT(B20,7)=\"CDT-145\",\"CDT-145\",IF(LEFT(B20,7)=\"CDT-135\",\"CDT-135\",AA16))","v":""},"","","","","",""]
[null,{"$f":"IF(B16=0,\"\",VLOOKUP(DATE($A22,$A24,B16)+$I21,Activités!$C$4:$I$534,5,0))","v":{"$error":"#N/A"}},{"$f":"IF(C16=0,\"\",VLOOKUP(DATE($A22,$A24,C16)+$I21,Activités!$C$4:$I$534,5,0))","v":{"$error":"#N/A"}},{"$f":"IF(D16=0,\"\",VLOOKUP(DATE($A22,$A24,D16)+$I21,Activités!$C$4:$I$534,5,0))","v":{"$error":"#N/A"}},{"$f":"IF(E16=0,\"\",VLOOKUP(DATE($A22,$A24,E16)+$I21,Activités!$C$4:$I$534,5,0))","v":{"$error":"#N/A"}},{"$f":"IF(F16=0,\"\",VLOOKUP(DATE($A22,$A24,F16)+$I21,Activités!$C$4:$I$534,5,0))","v":{"$error":"#N/A"}},{"$f":"IF(G16=0,\"\",VLOOKUP(DATE($A22,$A24,G16)+$I21,Activités!$C$4:$I$534,5,0))","v":{"$error":"#N/A"}},{"$f":"IF(H16=0,\"\",VLOOKUP(DATE($A22,$A24,H16)+$I21,Activités!$C$4:$I$534,5,0))","v":{"$error":"#N/A"}},{"$f":"+I19+0.1","v":0.30000000000000004},null,null,null,null,null,null,null,null,null,null,null,null,null,null,null,null,null,{"$f":"AA20","v":""},"","","","","",""]
[{"$f":"A11","v":2017},{"$f":"IF(ISNA(B21),\"\",B21)","v":""},"","","","","","",null,null,null,null,null,null,null,null,null,null,null,null,null,null,null,null,null,null,{"$f":"IF(LEFT(B22,7)=\"CDT-145\",\"CDT-145\",IF(LEFT(B22,7)=\"CDT-135\",\"CDT-135\",AA16))","v":""},"","","","","",""]
[null,{"$f":"IF(B16=0,\"\",VLOOKUP(DATE($A22,$A24,B16)+$I23,Activités!$C$4:$I$534,5,0))","v":{"$error":"#N/A"}},{"$f":"IF(C16=0,\"\",VLOOKUP(DATE($A22,$A24,C16)+$I23,Activités!$C$4:$I$534,5,0))","v":{"$error":"#N/A"}},{"$f":"IF(D16=0,\"\",VLOOKUP(DATE($A22,$A24,D16)+$I23,Activités!$C$4:$I$534,5,0))","v":{"$error":"#N/A"}},{"$f":"IF(E16=0,\"\",VLOOKUP(DATE($A22,$A24,E16)+$I23,Activités!$C$4:$I$534,5,0))","v":{"$error":"#N/A"}},{"$f":"IF(F16=0,\"\",VLOOKUP(DATE($A22,$A24,F16)+$I23,Activités!$C$4:$I$534,5,0))","v":{"$error":"#N/A"}},{"$f":"IF(G16=0,\"\",VLOOKUP(DATE($A22,$A24,G16)+$I23,Activités!$C$4:$I$534,5,0))","v":{"$error":"#N/A"}},{"$f":"IF(H16=0,\"\",VLOOKUP(DATE($A22,$A24,H16)+$I23,Activités!$C$4:$I$534,5,0))","v":{"$error":"#N/A"}},{"$f":"+I21+0.1","v":0.4},null,null,null,null,null,null,null,null,null,null,null,null,null,null,null,null,null,{"$f":"AA22","v":""},"","","","","",""]
[{"$f":"A13","v":8},{"$f":"IF(ISNA(B23),\"\",B23)","v":""},"","","","","","",null,null,null,null,null,null,null,null,null,null,null,null,null,null,null,null,null,null,{"$f":"IF(LEFT(B24,7)=\"CDT-145\",\"CDT-145\",IF(LEFT(B24,7)=\"CDT-135\",\"CDT-135\",AA16))","v":""},"","","","","",""]
[null,{"$f":"IF(B16=0,\"\",VLOOKUP(DATE($A22,$A24,B16)+$I25,Activités!$C$4:$I$534,5,0))","v":{"$error":"#N/A"}},{"$f":"IF(C16=0,\"\",VLOOKUP(DATE($A22,$A24,C16)+$I25,Activités!$C$4:$I$534,5,0))","v":{"$error":"#N/A"}},{"$f":"IF(D16=0,\"\",VLOOKUP(DATE($A22,$A24,D16)+$I25,Activités!$C$4:$I$534,5,0))","v":{"$error":"#N/A"}},{"$f":"IF(E16=0,\"\",VLOOKUP(DATE($A22,$A24,E16)+$I25,Activités!$C$4:$I$534,5,0))","v":{"$error":"#N/A"}},{"$f":"IF(F16=0,\"\",VLOOKUP(DATE($A22,$A24,F16)+$I25,Activités!$C$4:$I$534,5,0))","v":{"$error":"#N/A"}},{"$f":"IF(G16=0,\"\",VLOOKUP(DATE($A22,$A24,G16)+$I25,Activités!$C$4:$I$534,5,0))","v":{"$error":"#N/A"}},{"$f":"IF(H16=0,\"\",VLOOKUP(DATE($A22,$A24,H16)+$I25,Activités!$C$4:$I$534,5,0))","v":{"$error":"#N/A"}},{"$f":"+I23+0.1","v":0.5},null,null,null,null,null,null,null,null,null,null,null,null,null,null,null,null,null,{"$f":"AA24","v":""},"","","","","",""]
[{"$f":"A15","v":31},{"$f":"IF(ISNA(B25),\"\",B25)","v":""},"","","","","","",null,null,null,null,null,null,null,null,null,null,null,null,null,null,null,null,null,null,{"$f":"IF(LEFT(B26,7)=\"CDT-145\",\"CDT-145\",IF(LEFT(B26,7)=\"CDT-135\",\"CDT-135\",AA16))","v":""},"","","","","",""]
[{"$f":"H16","v":12},{"$f":"IF(OR(A27=$A37,A27=0),0,A27+1)","v":13},14,15,16,17,18,19,null,null,null,null,null,null,null,null,null,null,null,null,null,null,null,null,null,null,{"$f":"IF(AND($B27=0,$H27=0),\"Invisible\",\"\")","v":""},{"$f":"IF(AND($B27=0,$H27=0),\"Invisible\",\"\")","v":""},"","","","",""]
[null,{"$f":"IF(B27=0,\"\",VLOOKUP(DATE($A33,$A35,B27)+$I28,Activités!$C$4:$I$534,5,0))","v":{"$error":"#N/A"}},{"$f":"IF(C27=0,\"\",VLOOKUP(DATE($A33,$A35,C27)+$I28,Activités!$C$4:$I$534,5,0))","v":{"$error":"#N/A"}},{"$f":"IF(D27=0,\"\",VLOOKUP(DATE($A33,$A35,D27)+$I28,Activités!$C$4:$I$534,5,0))","v":{"$error":"#N/A"}},{"$f":"IF(E27=0,\"\",VLOOKUP(DATE($A33,$A35,E27)+$I28,Activités!$C$4:$I$534,5,0))","v":{"$error":"#N/A"}},{"$f":"IF(F27=0,\"\",VLOOKUP(DATE($A33,$A35,F27)+$I28,Activités!$C$4:$I$534,5,0))","v":{"$error":"#N/A"}},{"$f":"IF(G27=0,\"\",VLOOKUP(DATE($A33,$A35,G27)+$I28,Activités!$C$4:$I$534,5,0))","v":{"$error":"#N/A"}},{"$f":"IF(H27=0,\"\",VLOOKUP(DATE($A33,$A35,H27)+$I28,Activités!$C$4:$I$534,5,0))","v":{"$error":"#N/A"}},0.1,null,null,null,null,null,null,null,null,null,null,null,null,null,null,null,null,null,{"$f":"AA27","v":""},"","","","","",""]
[null,{"$f":"IF(ISNA(B28),\"\",B28)","v":""},{"$f":"IF(ISNA(C28),\"\",C28)","v":""},"","","","","",null,null,null,null,null,null,null,null,null,null,null,null,null,null,null,null,null,null,{"$f":"IF(LEFT(B29,7)=\"CDT-145\",\"CDT-145\",IF(LEFT(B29,7)=\"CDT-135\",\"CDT-135\",AA27))","v":""},"","","","","",""]
[null,{"$f":"IF(B27=0,\"\",VLOOKUP(DATE($A33,$A35,B27)+$I30,Activités!$C$4:$I$534,5,0))","v":{"$error":"#N/A"}},{"$f":"IF(C27=0,\"\",VLOOKUP(DATE($A33,$A35,C27)+$I30,Activités!$C$4:$I$534,5,0))","v":{"$error":"#N/A"}},{"$f":"IF(D27=0,\"\",VLOOKUP(DATE($A33,$A35,D27)+$I30,Activités!$C$4:$I$534,5,0))","v":{"$error":"#N/A"}},{"$f":"IF(E27=0,\"\",VLOOKUP(DATE($A33,$A35,E27)+$I30,Activités!$C$4:$I$534,5,0))","v":{"$error":"#N/A"}},{"$f":"IF(F27=0,\"\",VLOOKUP(DATE($A33,$A35,F27)+$I30,Activités!$C$4:$I$534,5,0))","v":{"$error":"#N/A"}},{"$f":"IF(G27=0,\"\",VLOOKUP(DATE($A33,$A35,G27)+$I30,Activités!$C$4:$I$534,5,0))","v":{"$error":"#N/A"}},{"$f":"IF(H27=0,\"\",VLOOKUP(DATE($A33,$A35,H27)+$I30,Activités!$C$4:$I$534,5,0))","v":{"$error":"#N/A"}},{"$f":"+I28+0.1","v":0.2},null,null,null,null,null,null,null,null,null,null,null,null,null,null,null,null,null,{"$f":"AA29","v":""},"","","","","",""]
[null,{"$f":"IF(ISNA(B30),\"\",B30)","v":""},"","","","","","",null,null,null,null,null,null,null,null,null,null,null,null,null,null,null,null,null,null,{"$f":"IF(LEFT(B31,7)=\"CDT-145\",\"CDT-145\",IF(LEFT(B31,7)=\"CDT-135\",\"CDT-135\",AA27))","v":""},"","","","","",""]
[null,{"$f":"IF(B27=0,\"\",VLOOKUP(DATE($A33,$A35,B27)+$I32,Activités!$C$4:$I$534,5,0))","v":{"$error":"#N/A"}},{"$f":"IF(C27=0,\"\",VLOOKUP(DATE($A33,$A35,C27)+$I32,Activités!$C$4:$I$534,5,0))","v":{"$error":"#N/A"}},{"$f":"IF(D27=0,\"\",VLOOKUP(DATE($A33,$A35,D27)+$I32,Activités!$C$4:$I$534,5,0))","v":{"$error":"#N/A"}},{"$f":"IF(E27=0,\"\",VLOOKUP(DATE($A33,$A35,E27)+$I32,Activités!$C$4:$I$534,5,0))","v":{"$error":"#N/A"}},{"$f":"IF(F27=0,\"\",VLOOKUP(DATE($A33,$A35,F27)+$I32,Activités!$C$4:$I$534,5,0))","v":{"$error":"#N/A"}},{"$f":"IF(G27=0,\"\",VLOOKUP(DATE($A33,$A35,G27)+$I32,Activités!$C$4:$I$534,5,0))","v":{"$error":"#N/A"}},{"$f":"IF(H27=0,\"\",VLOOKUP(DATE($A33,$A35,H27)+$I32,Activités!$C$4:$I$534,5,0))","v":{"$error":"#N/A"}},{"$f":"+I30+0.1","v":0.30000000000000004},null,null,null,null,null,null,null,null,null,null,null,null,null,null,null,null,null,{"$f":"AA31","v":""},"","","","","",""]
[{"$f":"A22","v":2017},{"$f":"IF(ISNA(B32),\"\",B32)","v":""},"","","","","","",null,null,null,null,null,null,null,null,null,null,null,null,null,null,null,null,null,null,{"$f":"IF(LEFT(B33,7)=\"CDT-145\",\"CDT-145\",IF(LEFT(B33,7)=\"CDT-135\",\"CDT-135\",AA27))","v":""},"","","","","",""]
[null,{"$f":"IF(B27=0,\"\",VLOOKUP(DATE($A33,$A35,B27)+$I34,Activités!$C$4:$I$534,5,0))","v":{"$error":"#N/A"}},{"$f":"IF(C27=0,\"\",VLOOKUP(DATE($A33,$A35,C27)+$I34,Activités!$C$4:$I$534,5,0))","v":{"$error":"#N/A"}},{"$f":"IF(D27=0,\"\",VLOOKUP(DATE($A33,$A35,D27)+$I34,Activités!$C$4:$I$534,5,0))","v":{"$error":"#N/A"}},{"$f":"IF(E27=0,\"\",VLOOKUP(DATE($A33,$A35,E27)+$I34,Activités!$C$4:$I$534,5,0))","v":{"$error":"#N/A"}},{"$f":"IF(F27=0,\"\",VLOOKUP(DATE($A33,$A35,F27)+$I34,Activités!$C$4:$I$534,5,0))","v":{"$error":"#N/A"}},{"$f":"IF(G27=0,\"\",VLOOKUP(DATE($A33,$A35,G27)+$I34,Activités!$C$4:$I$534,5,0))","v":{"$error":"#N/A"}},{"$f":"IF(H27=0,\"\",VLOOKUP(DATE($A33,$A35,H27)+$I34,Activités!$C$4:$I$534,5,0))","v":{"$error":"#N/A"}},{"$f":"+I32+0.1","v":0.4},null,null,null,null,null,null,null,null,null,null,null,null,null,null,null,null,null,{"$f":"AA33","v":""},"","","","","",""]
[{"$f":"A24","v":8},{"$f":"IF(ISNA(B34),\"\",B34)","v":""},"","","","","","",null,null,null,null,null,null,null,null,null,null,null,null,null,null,null,null,null,null,{"$f":"IF(LEFT(B35,7)=\"CDT-145\",\"CDT-145\",IF(LEFT(B35,7)=\"CDT-135\",\"CDT-135\",AA27))","v":""},"","","","","",""]
[null,{"$f":"IF(B27=0,\"\",VLOOKUP(DATE($A33,$A35,B27)+$I36,Activités!$C$4:$I$534,5,0))","v":{"$error":"#N/A"}},{"$f":"IF(C27=0,\"\",VLOOKUP(DATE($A33,$A35,C27)+$I36,Activités!$C$4:$I$534,5,0))","v":{"$error":"#N/A"}},{"$f":"IF(D27=0,\"\",VLOOKUP(DATE($A33,$A35,D27)+$I36,Activités!$C$4:$I$534,5,0))","v":{"$error":"#N/A"}},{"$f":"IF(E27=0,\"\",VLOOKUP(DATE($A33,$A35,E27)+$I36,Activités!$C$4:$I$534,5,0))","v":{"$error":"#N/A"}},{"$f":"IF(F27=0,\"\",VLOOKUP(DATE($A33,$A35,F27)+$I36,Activités!$C$4:$I$534,5,0))","v":{"$error":"#N/A"}},{"$f":"IF(G27=0,\"\",VLOOKUP(DATE($A33,$A35,G27)+$I36,Activités!$C$4:$I$534,5,0))","v":{"$error":"#N/A"}},{"$f":"IF(H27=0,\"\",VLOOKUP(DATE($A33,$A35,H27)+$I36,Activités!$C$4:$I$534,5,0))","v":{"$error":"#N/A"}},{"$f":"+I34+0.1","v":0.5},null,null,null,null,null,null,null,null,null,null,null,null,null,null,null,null,null,{"$f":"AA35","v":""},"","","","","",""]
[{"$f":"A26","v":31},{"$f":"IF(ISNA(B36),\"\",B36)","v":""},"","","","","","",null,null,null,null,null,null,null,null,null,null,null,null,null,null,null,null,null,null,{"$f":"IF(LEFT(B37,7)=\"CDT-145\",\"CDT-145\",IF(LEFT(B37,7)=\"CDT-135\",\"CDT-135\",AA27))","v":""},"","","","","",""]
[{"$f":"H27","v":19},{"$f":"IF(OR(A38=$A48,A38=0),0,A38+1)","v":20},21,22,23,24,25,26,null,null,null,null,null,null,null,null,null,null,null,null,null,null,null,null,null,null,{"$f":"IF(AND($B38=0,$H38=0),\"Invisible\",\"\")","v":""},{"$f":"IF(AND($B38=0,$H38=0),\"Invisible\",\"\")","v":""},"","","","",""]
[null,{"$f":"IF(B38=0,\"\",VLOOKUP(DATE($A44,$A46,B38)+$I39,Activités!$C$4:$I$534,5,0))","v":{"$error":"#N/A"}},{"$f":"IF(C38=0,\"\",VLOOKUP(DATE($A44,$A46,C38)+$I39,Activités!$C$4:$I$534,5,0))","v":{"$error":"#N/A"}},{"$f":"IF(D38=0,\"\",VLOOKUP(DATE($A44,$A46,D38)+$I39,Activités!$C$4:$I$534,5,0))","v":{"$error":"#N/A"}},{"$f":"IF(E38=0,\"\",VLOOKUP(DATE($A44,$A46,E38)+$I39,Activités!$C$4:$I$534,5,0))","v":{"$error":"#N/A"}},{"$f":"IF(F38=0,\"\",VLOOKUP(DATE($A44,$A46,F38)+$I39,Activités!$C$4:$I$534,5,0))","v":{"$error":"#N/A"}},{"$f":"IF(G38=0,\"\",VLOOKUP(DATE($A44,$A46,G38)+$I39,Activités!$C$4:$I$534,5,0))","v":{"$error":"#N/A"}},{"$f":"IF(H38=0,\"\",VLOOKUP(DATE($A44,$A46,H38)+$I39,Activités!$C$4:$I$534,5,0))","v":{"$error":"#N/A"}},0.1,null,null,null,null,null,null,null,null,null,null,null,null,null,null,null,null,null,{"$f":"AA38","v":""},"","","","","",""]
[null,{"$f":"IF(ISNA(B39),\"\",B39)","v":""},{"$f":"IF(ISNA(C39),\"\",C39)","v":""},"","","","","",null,null,null,null,null,null,null,null,null,null,null,null,null,null,null,null,null,null,{"$f":"IF(LEFT(B40,7)=\"CDT-145\",\"CDT-145\",IF(LEFT(B40,7)=\"CDT-135\",\"CDT-135\",AA38))","v":""},"","","","","",""]
[null,{"$f":"IF(B38=0,\"\",VLOOKUP(DATE($A44,$A46,B38)+$I41,Activités!$C$4:$I$534,5,0))","v":{"$error":"#N/A"}},{"$f":"IF(C38=0,\"\",VLOOKUP(DATE($A44,$A46,C38)+$I41,Activités!$C$4:$I$534,5,0))","v":{"$error":"#N/A"}},{"$f":"IF(D38=0,\"\",VLOOKUP(DATE($A44,$A46,D38)+$I41,Activités!$C$4:$I$534,5,0))","v":{"$error":"#N/A"}},{"$f":"IF(E38=0,\"\",VLOOKUP(DATE($A44,$A46,E38)+$I41,Activités!$C$4:$I$534,5,0))","v":{"$error":"#N/A"}},{"$f":"IF(F38=0,\"\",VLOOKUP(DATE($A44,$A46,F38)+$I41,Activités!$C$4:$I$534,5,0))","v":{"$error":"#N/A"}},{"$f":"IF(G38=0,\"\",VLOOKUP(DATE($A44,$A46,G38)+$I41,Activités!$C$4:$I$534,5,0))","v":{"$error":"#N/A"}},{"$f":"IF(H38=0,\"\",VLOOKUP(DATE($A44,$A46,H38)+$I41,Activités!$C$4:$I$534,5,0))","v":{"$error":"#N/A"}},{"$f":"+I39+0.1","v":0.2},null,null,null,null,null,null,null,null,null,null,null,null,null,null,null,null,null,{"$f":"AA40","v":""},"","","","","",""]
[null,{"$f":"IF(ISNA(B41),\"\",B41)","v":""},"","","","","","",null,null,null,null,null,null,null,null,null,null,null,null,null,null,null,null,null,null,{"$f":"IF(LEFT(B42,7)=\"CDT-145\",\"CDT-145\",IF(LEFT(B42,7)=\"CDT-135\",\"CDT-135\",AA38))","v":""},"","","","","",""]
[null,{"$f":"IF(B38=0,\"\",VLOOKUP(DATE($A44,$A46,B38)+$I43,Activités!$C$4:$I$534,5,0))","v":{"$error":"#N/A"}},{"$f":"IF(C38=0,\"\",VLOOKUP(DATE($A44,$A46,C38)+$I43,Activités!$C$4:$I$534,5,0))","v":{"$error":"#N/A"}},{"$f":"IF(D38=0,\"\",VLOOKUP(DATE($A44,$A46,D38)+$I43,Activités!$C$4:$I$534,5,0))","v":{"$error":"#N/A"}},{"$f":"IF(E38=0,\"\",VLOOKUP(DATE($A44,$A46,E38)+$I43,Activités!$C$4:$I$534,5,0))","v":{"$error":"#N/A"}},{"$f":"IF(F38=0,\"\",VLOOKUP(DATE($A44,$A46,F38)+$I43,Activités!$C$4:$I$534,5,0))","v":{"$error":"#N/A"}},{"$f":"IF(G38=0,\"\",VLOOKUP(DATE($A44,$A46,G38)+$I43,Activités!$C$4:$I$534,5,0))","v":{"$error":"#N/A"}},{"$f":"IF(H38=0,\"\",VLOOKUP(DATE($A44,$A46,H38)+$I43,Activités!$C$4:$I$534,5,0))","v":{"$error":"#N/A"}},{"$f":"+I41+0.1","v":0.30000000000000004},null,null,null,null,null,null,null,null,null,null,null,null,null,null,null,null,null,{"$f":"AA42","v":""},"","","","","",""]
[{"$f":"A33","v":2017},{"$f":"IF(ISNA(B43),\"\",B43)","v":""},"","","","","","",null,null,null,null,null,null,null,null,null,null,null,null,null,null,null,null,null,null,{"$f":"IF(LEFT(B44,7)=\"CDT-145\",\"CDT-145\",IF(LEFT(B44,7)=\"CDT-135\",\"CDT-135\",AA38))","v":""},"","","","","",""]
[null,{"$f":"IF(B38=0,\"\",VLOOKUP(DATE($A44,$A46,B38)+$I45,Activités!$C$4:$I$534,5,0))","v":{"$error":"#N/A"}},{"$f":"IF(C38=0,\"\",VLOOKUP(DATE($A44,$A46,C38)+$I45,Activités!$C$4:$I$534,5,0))","v":{"$error":"#N/A"}},{"$f":"IF(D38=0,\"\",VLOOKUP(DATE($A44,$A46,D38)+$I45,Activités!$C$4:$I$534,5,0))","v":{"$error":"#N/A"}},{"$f":"IF(E38=0,\"\",VLOOKUP(DATE($A44,$A46,E38)+$I45,Activités!$C$4:$I$534,5,0))","v":{"$error":"#N/A"}},{"$f":"IF(F38=0,\"\",VLOOKUP(DATE($A44,$A46,F38)+$I45,Activités!$C$4:$I$534,5,0))","v":{"$error":"#N/A"}},{"$f":"IF(G38=0,\"\",VLOOKUP(DATE($A44,$A46,G38)+$I45,Activités!$C$4:$I$534,5,0))","v":{"$error":"#N/A"}},{"$f":"IF(H38=0,\"\",VLOOKUP(DATE($A44,$A46,H38)+$I45,Activités!$C$4:$I$534,5,0))","v":{"$error":"#N/A"}},{"$f":"+I43+0.1","v":0.4},null,null,null,null,null,null,null,null,null,null,null,null,null,null,null,null,null,{"$f":"AA44","v":""},"","","","","",""]
[{"$f":"A35","v":8},{"$f":"IF(ISNA(B45),\"\",B45)","v":""},"","","","","","",null,null,null,null,null,null,null,null,null,null,null,null,null,null,null,null,null,null,{"$f":"IF(LEFT(B46,7)=\"CDT-145\",\"CDT-145\",IF(LEFT(B46,7)=\"CDT-135\",\"CDT-135\",AA38))","v":""},"","","","","",""]
[null,{"$f":"IF(B38=0,\"\",VLOOKUP(DATE($A44,$A46,B38)+$I47,Activités!$C$4:$I$534,5,0))","v":{"$error":"#N/A"}},{"$f":"IF(C38=0,\"\",VLOOKUP(DATE($A44,$A46,C38)+$I47,Activités!$C$4:$I$534,5,0))","v":{"$error":"#N/A"}},{"$f":"IF(D38=0,\"\",VLOOKUP(DATE($A44,$A46,D38)+$I47,Activités!$C$4:$I$534,5,0))","v":{"$error":"#N/A"}},{"$f":"IF(E38=0,\"\",VLOOKUP(DATE($A44,$A46,E38)+$I47,Activités!$C$4:$I$534,5,0))","v":{"$error":"#N/A"}},{"$f":"IF(F38=0,\"\",VLOOKUP(DATE($A44,$A46,F38)+$I47,Activités!$C$4:$I$534,5,0))","v":{"$error":"#N/A"}},{"$f":"IF(G38=0,\"\",VLOOKUP(DATE($A44,$A46,G38)+$I47,Activités!$C$4:$I$534,5,0))","v":{"$error":"#N/A"}},{"$f":"IF(H38=0,\"\",VLOOKUP(DATE($A44,$A46,H38)+$I47,Activités!$C$4:$I$534,5,0))","v":{"$error":"#N/A"}},{"$f":"+I45+0.1","v":0.5},null,null,null,null,null,null,null,null,null,null,null,null,null,null,null,null,null,{"$f":"AA46","v":""},"","","","","",""]
[{"$f":"A37","v":31},{"$f":"IF(ISNA(B47),\"\",B47)","v":""},"","","","","","",null,null,null,null,null,null,null,null,null,null,null,null,null,null,null,null,null,null,{"$f":"IF(LEFT(B48,7)=\"CDT-145\",\"CDT-145\",IF(LEFT(B48,7)=\"CDT-135\",\"CDT-135\",AA38))","v":""},"","","","","",""]
[{"$f":"H38","v":26},{"$f":"IF(OR(A49=$A59,A49=0),0,A49+1)","v":27},28,29,30,31,0,0,null,null,null,null,null,null,null,null,null,null,null,null,null,null,null,null,null,null,{"$f":"IF(AND($B49=0,$H49=0),\"Invisible\",\"\")","v":""},{"$f":"IF(AND($B49=0,$H49=0),\"Invisible\",\"\")","v":""},"","","","",""]
[null,{"$f":"IF(B49=0,\"\",VLOOKUP(DATE($A55,$A57,B49)+$I50,Activités!$C$4:$I$534,5,0))","v":{"$error":"#N/A"}},{"$f":"IF(C49=0,\"\",VLOOKUP(DATE($A55,$A57,C49)+$I50,Activités!$C$4:$I$534,5,0))","v":{"$error":"#N/A"}},{"$f":"IF(D49=0,\"\",VLOOKUP(DATE($A55,$A57,D49)+$I50,Activités!$C$4:$I$534,5,0))","v":{"$error":"#N/A"}},{"$f":"IF(E49=0,\"\",VLOOKUP(DATE($A55,$A57,E49)+$I50,Activités!$C$4:$I$534,5,0))","v":{"$error":"#N/A"}},{"$f":"IF(F49=0,\"\",VLOOKUP(DATE($A55,$A57,F49)+$I50,Activités!$C$4:$I$534,5,0))","v":{"$error":"#N/A"}},{"$f":"IF(G49=0,\"\",VLOOKUP(DATE($A55,$A57,G49)+$I50,Activités!$C$4:$I$534,5,0))","v":""},{"$f":"IF(H49=0,\"\",VLOOKUP(DATE($A55,$A57,H49)+$I50,Activités!$C$4:$I$534,5,0))","v":""},0.1,null,null,null,null,null,null,null,null,null,null,null,null,null,null,null,null,null,{"$f":"AA49","v":""},"","","","","",""]
[null,{"$f":"IF(ISNA(B50),\"\",B50)","v":""},{"$f":"IF(ISNA(C50),\"\",C50)","v":""},"","","","","",null,null,null,null,null,null,null,null,null,null,null,null,null,null,null,null,null,null,{"$f":"IF(LEFT(B51,7)=\"CDT-145\",\"CDT-145\",IF(LEFT(B51,7)=\"CDT-135\",\"CDT-135\",AA49))","v":""},"","","","","",""]
[null,{"$f":"IF(B49=0,\"\",VLOOKUP(DATE($A55,$A57,B49)+$I52,Activités!$C$4:$I$534,5,0))","v":{"$error":"#N/A"}},{"$f":"IF(C49=0,\"\",VLOOKUP(DATE($A55,$A57,C49)+$I52,Activités!$C$4:$I$534,5,0))","v":{"$error":"#N/A"}},{"$f":"IF(D49=0,\"\",VLOOKUP(DATE($A55,$A57,D49)+$I52,Activités!$C$4:$I$534,5,0))","v":{"$error":"#N/A"}},{"$f":"IF(E49=0,\"\",VLOOKUP(DATE($A55,$A57,E49)+$I52,Activités!$C$4:$I$534,5,0))","v":{"$error":"#N/A"}},{"$f":"IF(F49=0,\"\",VLOOKUP(DATE($A55,$A57,F49)+$I52,Activités!$C$4:$I$534,5,0))","v":{"$error":"#N/A"}},{"$f":"IF(G49=0,\"\",VLOOKUP(DATE($A55,$A57,G49)+$I52,Activités!$C$4:$I$534,5,0))","v":""},{"$f":"IF(H49=0,\"\",VLOOKUP(DATE($A55,$A57,H49)+$I52,Activités!$C$4:$I$534,5,0))","v":""},{"$f":"+I50+0.1","v":0.2},null,null,null,null,null,null,null,null,null,null,null,null,null,null,null,null,null,{"$f":"AA51","v":""},"","","","","",""]
[null,{"$f":"IF(ISNA(B52),\"\",B52)","v":""},"","","","","","",null,null,null,null,null,null,null,null,null,null,null,null,null,null,null,null,null,null,{"$f":"IF(LEFT(B53,7)=\"CDT-145\",\"CDT-145\",IF(LEFT(B53,7)=\"CDT-135\",\"CDT-135\",AA49))","v":""},"","","","","",""]
[null,{"$f":"IF(B49=0,\"\",VLOOKUP(DATE($A55,$A57,B49)+$I54,Activités!$C$4:$I$534,5,0))","v":{"$error":"#N/A"}},{"$f":"IF(C49=0,\"\",VLOOKUP(DATE($A55,$A57,C49)+$I54,Activités!$C$4:$I$534,5,0))","v":{"$error":"#N/A"}},{"$f":"IF(D49=0,\"\",VLOOKUP(DATE($A55,$A57,D49)+$I54,Activités!$C$4:$I$534,5,0))","v":{"$error":"#N/A"}},{"$f":"IF(E49=0,\"\",VLOOKUP(DATE($A55,$A57,E49)+$I54,Activités!$C$4:$I$534,5,0))","v":{"$error":"#N/A"}},{"$f":"IF(F49=0,\"\",VLOOKUP(DATE($A55,$A57,F49)+$I54,Activités!$C$4:$I$534,5,0))","v":{"$error":"#N/A"}},{"$f":"IF(G49=0,\"\",VLOOKUP(DATE($A55,$A57,G49)+$I54,Activités!$C$4:$I$534,5,0))","v":""},{"$f":"IF(H49=0,\"\",VLOOKUP(DATE($A55,$A57,H49)+$I54,Activités!$C$4:$I$534,5,0))","v":""},{"$f":"+I52+0.1","v":0.30000000000000004},null,null,null,null,null,null,null,null,null,null,null,null,null,null,null,null,null,{"$f":"AA53","v":""},"","","","","",""]
[{"$f":"A44","v":2017},{"$f":"IF(ISNA(B54),\"\",B54)","v":""},"","","","","","",null,null,null,null,null,null,null,null,null,null,null,null,null,null,null,null,null,null,{"$f":"IF(LEFT(B55,7)=\"CDT-145\",\"CDT-145\",IF(LEFT(B55,7)=\"CDT-135\",\"CDT-135\",AA49))","v":""},"","","","","",""]
[null,{"$f":"IF(B49=0,\"\",VLOOKUP(DATE($A55,$A57,B49)+$I56,Activités!$C$4:$I$534,5,0))","v":{"$error":"#N/A"}},{"$f":"IF(C49=0,\"\",VLOOKUP(DATE($A55,$A57,C49)+$I56,Activités!$C$4:$I$534,5,0))","v":{"$error":"#N/A"}},{"$f":"IF(D49=0,\"\",VLOOKUP(DATE($A55,$A57,D49)+$I56,Activités!$C$4:$I$534,5,0))","v":{"$error":"#N/A"}},{"$f":"IF(E49=0,\"\",VLOOKUP(DATE($A55,$A57,E49)+$I56,Activités!$C$4:$I$534,5,0))","v":{"$error":"#N/A"}},{"$f":"IF(F49=0,\"\",VLOOKUP(DATE($A55,$A57,F49)+$I56,Activités!$C$4:$I$534,5,0))","v":{"$error":"#N/A"}},{"$f":"IF(G49=0,\"\",VLOOKUP(DATE($A55,$A57,G49)+$I56,Activités!$C$4:$I$534,5,0))","v":""},{"$f":"IF(H49=0,\"\",VLOOKUP(DATE($A55,$A57,H49)+$I56,Activités!$C$4:$I$534,5,0))","v":""},{"$f":"+I54+0.1","v":0.4},null,null,null,null,null,null,null,null,null,null,null,null,null,null,null,null,null,{"$f":"AA55","v":""},"","","","","",""]
[{"$f":"A46","v":8},{"$f":"IF(ISNA(B56),\"\",B56)","v":""},"","","","","","",null,null,null,null,null,null,null,null,null,null,null,null,null,null,null,null,null,null,{"$f":"IF(LEFT(B57,7)=\"CDT-145\",\"CDT-145\",IF(LEFT(B57,7)=\"CDT-135\",\"CDT-135\",AA49))","v":""},"","","","","",""]
[null,{"$f":"IF(B49=0,\"\",VLOOKUP(DATE($A55,$A57,B49)+$I58,Activités!$C$4:$I$534,5,0))","v":{"$error":"#N/A"}},{"$f":"IF(C49=0,\"\",VLOOKUP(DATE($A55,$A57,C49)+$I58,Activités!$C$4:$I$534,5,0))","v":{"$error":"#N/A"}},{"$f":"IF(D49=0,\"\",VLOOKUP(DATE($A55,$A57,D49)+$I58,Activités!$C$4:$I$534,5,0))","v":{"$error":"#N/A"}},{"$f":"IF(E49=0,\"\",VLOOKUP(DATE($A55,$A57,E49)+$I58,Activités!$C$4:$I$534,5,0))","v":{"$error":"#N/A"}},{"$f":"IF(F49=0,\"\",VLOOKUP(DATE($A55,$A57,F49)+$I58,Activités!$C$4:$I$534,5,0))","v":{"$error":"#N/A"}},{"$f":"IF(G49=0,\"\",VLOOKUP(DATE($A55,$A57,G49)+$I58,Activités!$C$4:$I$534,5,0))","v":""},{"$f":"IF(H49=0,\"\",VLOOKUP(DATE($A55,$A57,H49)+$I58,Activités!$C$4:$I$534,5,0))","v":""},{"$f":"+I56+0.1","v":0.5},null,null,null,null,null,null,null,null,null,null,null,null,null,null,null,null,null,{"$f":"AA57","v":""},"","","","","",""]
[{"$f":"A48","v":31},{"$f":"IF(ISNA(B58),\"\",B58)","v":""},"","","","","","",null,null,null,null,null,null,null,null,null,null,null,null,null,null,null,null,null,null,{"$f":"IF(LEFT(B59,7)=\"CDT-145\",\"CDT-145\",IF(LEFT(B59,7)=\"CDT-135\",\"CDT-135\",AA49))","v":""},"","","","","",""]
[{"$f":"H49","v":0},{"$f":"IF(OR(A60=$A70,A60=0),0,A60+1)","v":0},0,0,0,0,0,0,null,null,null,null,null,null,null,null,null,null,null,null,null,null,null,null,null,null,{"$f":"IF(AND($B60=0,$H60=0),\"Invisible\",\"\")","v":"Invisible"},{"$f":"IF(AND($B60=0,$H60=0),\"Invisible\",\"\")","v":"Invisible"},"Invisible","Invisible","Invisible","Invisible","Invisible"]
[null,{"$f":"VLOOKUP(DATE($A66,$A68,B60)+$I61,Activités!$C$4:$I$534,5,0)","v":{"$error":"#N/A"}},{"$f":"VLOOKUP(DATE($A66,$A68,C60)+$I61,Activités!$C$4:$I$534,5,0)","v":{"$error":"#N/A"}},{"$f":"VLOOKUP(DATE($A66,$A68,D60)+$I61,Activités!$C$4:$I$534,5,0)","v":{"$error":"#N/A"}},{"$f":"VLOOKUP(DATE($A66,$A68,E60)+$I61,Activités!$C$4:$I$534,5,0)","v":{"$error":"#N/A"}},{"$f":"VLOOKUP(DATE($A66,$A68,F60)+$I61,Activités!$C$4:$I$534,5,0)","v":{"$error":"#N/A"}},{"$f":"VLOOKUP(DATE($A66,$A68,G60)+$I61,Activités!$C$4:$I$534,5,0)","v":{"$error":"#N/A"}},{"$f":"VLOOKUP(DATE($A66,$A68,H60)+$I61,Activités!$C$4:$I$534,5,0)","v":{"$error":"#N/A"}},0.1,null,null,null,null,null,null,null,null,null,null,null,null,null,null,null,null,null,{"$f":"AA60","v":"Invisible"},"Invisible","Invisible","Invisible","Invisible","Invisible","Invisible"]
[null,{"$f":"IF(ISNA(B61),\"\",B61)","v":""},"","","","","","",null,null,null,null,null,null,null,null,null,null,null,null,null,null,null,null,null,null,{"$f":"IF(LEFT(B62,7)=\"CDT-145\",\"CDT-145\",IF(LEFT(B62,7)=\"CDT-135\",\"CDT-135\",AA60))","v":"Invisible"},"Invisible","Invisible","Invisible","Invisible","Invisible","Invisible"]
[null,{"$f":"VLOOKUP(DATE($A66,$A68,B60)+$I63,Activités!$C$4:$I$534,5,0)","v":{"$error":"#N/A"}},{"$f":"VLOOKUP(DATE($A66,$A68,C60)+$I63,Activités!$C$4:$I$534,5,0)","v":{"$error":"#N/A"}},{"$f":"VLOOKUP(DATE($A66,$A68,D60)+$I63,Activités!$C$4:$I$534,5,0)","v":{"$error":"#N/A"}},{"$f":"VLOOKUP(DATE($A66,$A68,E60)+$I63,Activités!$C$4:$I$534,5,0)","v":{"$error":"#N/A"}},{"$f":"VLOOKUP(DATE($A66,$A68,F60)+$I63,Activités!$C$4:$I$534,5,0)","v":{"$error":"#N/A"}},{"$f":"VLOOKUP(DATE($A66,$A68,G60)+$I63,Activités!$C$4:$I$534,5,0)","v":{"$error":"#N/A"}},{"$f":"VLOOKUP(DATE($A66,$A68,H60)+$I63,Activités!$C$4:$I$534,5,0)","v":{"$error":"#N/A"}},{"$f":"+I61+0.1","v":0.2},null,null,null,null,null,null,null,null,null,null,null,null,null,null,null,null,null,{"$f":"AA62","v":"Invisible"},"Invisible","Invisible","Invisible","Invisible","Invisible","Invisible"]
[null,{"$f":"IF(ISNA(B63),\"\",B63)","v":""},"","","","","","",null,null,null,null,null,null,null,null,null,null,null,null,null,null,null,null,null,null,{"$f":"IF(LEFT(B64,7)=\"CDT-145\",\"CDT-145\",IF(LEFT(B64,7)=\"CDT-135\",\"CDT-135\",AA60))","v":"Invisible"},"Invisible","Invisible","Invisible","Invisible","Invisible","Invisible"]
[null,{"$f":"VLOOKUP(DATE($A66,$A68,B60)+$I65,Activités!$C$4:$I$534,5,0)","v":{"$error":"#N/A"}},{"$f":"VLOOKUP(DATE($A66,$A68,C60)+$I65,Activités!$C$4:$I$534,5,0)","v":{"$error":"#N/A"}},{"$f":"VLOOKUP(DATE($A66,$A68,D60)+$I65,Activités!$C$4:$I$534,5,0)","v":{"$error":"#N/A"}},{"$f":"VLOOKUP(DATE($A66,$A68,E60)+$I65,Activités!$C$4:$I$534,5,0)","v":{"$error":"#N/A"}},{"$f":"VLOOKUP(DATE($A66,$A68,F60)+$I65,Activités!$C$4:$I$534,5,0)","v":{"$error":"#N/A"}},{"$f":"VLOOKUP(DATE($A66,$A68,G60)+$I65,Activités!$C$4:$I$534,5,0)","v":{"$error":"#N/A"}},{"$f":"VLOOKUP(DATE($A66,$A68,H60)+$I65,Activités!$C$4:$I$534,5,0)","v":{"$error":"#N/A"}},{"$f":"+I63+0.1","v":0.30000000000000004},null,null,null,null,null,null,null,null,null,null,null,null,null,null,null,null,null,{"$f":"AA64","v":"Invisible"},"Invisible","Invisible","Invisible","Invisible","Invisible","Invisible"]
[{"$f":"A55","v":2017},{"$f":"IF(ISNA(B65),\"\",B65)","v":""},"","","","","","",null,null,null,null,null,null,null,null,null,null,null,null,null,null,null,null,null,null,{"$f":"IF(LEFT(B66,7)=\"CDT-145\",\"CDT-145\",IF(LEFT(B66,7)=\"CDT-135\",\"CDT-135\",AA60))","v":"Invisible"},"Invisible","Invisible","Invisible","Invisible","Invisible","Invisible"]
[null,{"$f":"VLOOKUP(DATE($A66,$A68,B60)+$I67,Activités!$C$4:$I$534,5,0)","v":{"$error":"#N/A"}},{"$f":"VLOOKUP(DATE($A66,$A68,C60)+$I67,Activités!$C$4:$I$534,5,0)","v":{"$error":"#N/A"}},{"$f":"VLOOKUP(DATE($A66,$A68,D60)+$I67,Activités!$C$4:$I$534,5,0)","v":{"$error":"#N/A"}},{"$f":"VLOOKUP(DATE($A66,$A68,E60)+$I67,Activités!$C$4:$I$534,5,0)","v":{"$error":"#N/A"}},{"$f":"VLOOKUP(DATE($A66,$A68,F60)+$I67,Activités!$C$4:$I$534,5,0)","v":{"$error":"#N/A"}},{"$f":"VLOOKUP(DATE($A66,$A68,G60)+$I67,Activités!$C$4:$I$534,5,0)","v":{"$error":"#N/A"}},{"$f":"VLOOKUP(DATE($A66,$A68,H60)+$I67,Activités!$C$4:$I$534,5,0)","v":{"$error":"#N/A"}},{"$f":"+I65+0.1","v":0.4},null,null,null,null,null,null,null,null,null,null,null,null,null,null,null,null,null,{"$f":"AA66","v":"Invisible"},"Invisible","Invisible","Invisible","Invisible","Invisible","Invisible"]
[{"$f":"A57","v":8},{"$f":"IF(ISNA(B67),\"\",B67)","v":""},"","","","","","",null,null,null,null,null,null,null,null,null,null,null,null,null,null,null,null,null,null,{"$f":"IF(LEFT(B68,7)=\"CDT-145\",\"CDT-145\",IF(LEFT(B68,7)=\"CDT-135\",\"CDT-135\",AA60))","v":"Invisible"},"Invisible","Invisible","Invisible","Invisible","Invisible","Invisible"]
[null,{"$f":"VLOOKUP(DATE($A66,$A68,B60)+$I69,Activités!$C$4:$I$534,5,0)","v":{"$error":"#N/A"}},{"$f":"VLOOKUP(DATE($A66,$A68,C60)+$I69,Activités!$C$4:$I$534,5,0)","v":{"$error":"#N/A"}},{"$f":"VLOOKUP(DATE($A66,$A68,D60)+$I69,Activités!$C$4:$I$534,5,0)","v":{"$error":"#N/A"}},{"$f":"VLOOKUP(DATE($A66,$A68,E60)+$I69,Activités!$C$4:$I$534,5,0)","v":{"$error":"#N/A"}},{"$f":"VLOOKUP(DATE($A66,$A68,F60)+$I69,Activités!$C$4:$I$534,5,0)","v":{"$error":"#N/A"}},{"$f":"VLOOKUP(DATE($A66,$A68,G60)+$I69,Activités!$C$4:$I$534,5,0)","v":{"$error":"#N/A"}},{"$f":"VLOOKUP(DATE($A66,$A68,H60)+$I69,Activités!$C$4:$I$534,5,0)","v":{"$error":"#N/A"}},{"$f":"+I67+0.1","v":0.5},null,null,null,null,null,null,null,null,null,null,null,null,null,null,null,null,null,{"$f":"AA68","v":"Invisible"},"Invisible","Invisible","Invisible","Invisible","Invisible","Invisible"]
[{"$f":"A59","v":31},{"$f":"IF(ISNA(B69),\"\",B69)","v":""},"","","","","","",null,null,null,null,null,null,null,null,null,null,null,null,null,null,null,null,null,null,{"$f":"IF(LEFT(B70,7)=\"CDT-145\",\"CDT-145\",IF(LEFT(B70,7)=\"CDT-135\",\"CDT-135\",AA60))","v":"Invisible"},"Invisible","Invisible","Invisible","Invisible","Invisible","Invisible"]
[]
[null,{"$f":"VLOOKUP(104,Traduction!$B$6:$D$250,'Info de l''escadron'!$A$1+1,0)","v":"SEPTEMBRE"},null,null,null,null,null,{"$f":"H3","v":2017}]
[null,{"$f":"B$4","v":"Dimanche"},{"$f":"C$4","v":"Lundi"},"Mardi","Mercredi","Jeudi","Vendredi","Samedi"]
[null,{"$f":"IF(WEEKDAY(DATE($H72,$A82,1),1)=B$2,1,IF(A74=0,0,A74+1))","v":0},0,0,0,0,1,2,null,null,null,null,null,null,null,null,null,null,null,null,null,null,null,null,null,null,{"$f":"IF(AND($B74=0,$H74=0),\"Invisible\",\"\")","v":""},{"$f":"IF(AND($B74=0,$H74=0),\"Invisible\",\"\")","v":""},"","","","",""]
[null,{"$f":"IF(B74=0,\"\",VLOOKUP(DATE($A80,$A82,B74)+$I75,Activités!$C$4:$I$534,5,0))","v":""},{"$f":"IF(C74=0,\"\",VLOOKUP(DATE($A80,$A82,C74)+$I75,Activités!$C$4:$I$534,5,0))","v":""},{"$f":"IF(D74=0,\"\",VLOOKUP(DATE($A80,$A82,D74)+$I75,Activités!$C$4:$I$534,5,0))","v":""},{"$f":"IF(E74=0,\"\",VLOOKUP(DATE($A80,$A82,E74)+$I75,Activités!$C$4:$I$534,5,0))","v":""},{"$f":"IF(F74=0,\"\",VLOOKUP(DATE($A80,$A82,F74)+$I75,Activités!$C$4:$I$534,5,0))","v":""},{"$f":"IF(G74=0,\"\",VLOOKUP(DATE($A80,$A82,G74)+$I75,Activités!$C$4:$I$534,5,0))","v":{"$error":"#N/A"}},{"$f":"IF(H74=0,\"\",VLOOKUP(DATE($A80,$A82,H74)+$I75,Activités!$C$4:$I$534,5,0))","v":{"$error":"#N/A"}},0.1,null,null,null,null,null,null,null,null,null,null,null,null,null,null,null,null,null,{"$f":"AA74","v":""},"","","","","",""]
[null,{"$f":"IF(ISNA(B75),\"\",B75)","v":""},{"$f":"IF(ISNA(C75),\"\",C75)","v":""},"","","","","",null,null,null,null,null,null,null,null,null,null,null,null,null,null,null,null,null,null,{"$f":"IF(LEFT(B76,7)=\"CDT-145\",\"CDT-145\",IF(LEFT(B76,7)=\"CDT-135\",\"CDT-135\",AA74))","v":""},"","","","","",""]
[null,{"$f":"IF(B74=0,\"\",VLOOKUP(DATE($A80,$A82,B74)+$I77,Activités!$C$4:$I$534,5,0))","v":""},{"$f":"IF(C74=0,\"\",VLOOKUP(DATE($A80,$A82,C74)+$I77,Activités!$C$4:$I$534,5,0))","v":""},{"$f":"IF(D74=0,\"\",VLOOKUP(DATE($A80,$A82,D74)+$I77,Activités!$C$4:$I$534,5,0))","v":""},{"$f":"IF(E74=0,\"\",VLOOKUP(DATE($A80,$A82,E74)+$I77,Activités!$C$4:$I$534,5,0))","v":""},{"$f":"IF(F74=0,\"\",VLOOKUP(DATE($A80,$A82,F74)+$I77,Activités!$C$4:$I$534,5,0))","v":""},{"$f":"IF(G74=0,\"\",VLOOKUP(DATE($A80,$A82,G74)+$I77,Activités!$C$4:$I$534,5,0))","v":{"$error":"#N/A"}},{"$f":"IF(H74=0,\"\",VLOOKUP(DATE($A80,$A82,H74)+$I77,Activités!$C$4:$I$534,5,0))","v":{"$error":"#N/A"}},{"$f":"+I75+0.1","v":0.2},null,null,null,null,null,null,null,null,null,null,null,null,null,null,null,null,null,{"$f":"AA76","v":""},"","","","","",""]
[null,{"$f":"IF(ISNA(B77),\"\",B77)","v":""},"","","","","","",null,null,null,null,null,null,null,null,null,null,null,null,null,null,null,null,null,null,{"$f":"IF(LEFT(B78,7)=\"CDT-145\",\"CDT-145\",IF(LEFT(B78,7)=\"CDT-135\",\"CDT-135\",AA74))","v":""},"","","","","",""]
[null,{"$f":"IF(B74=0,\"\",VLOOKUP(DATE($A80,$A82,B74)+$I79,Activités!$C$4:$I$534,5,0))","v":""},{"$f":"IF(C74=0,\"\",VLOOKUP(DATE($A80,$A82,C74)+$I79,Activités!$C$4:$I$534,5,0))","v":""},{"$f":"IF(D74=0,\"\",VLOOKUP(DATE($A80,$A82,D74)+$I79,Activités!$C$4:$I$534,5,0))","v":""},{"$f":"IF(E74=0,\"\",VLOOKUP(DATE($A80,$A82,E74)+$I79,Activités!$C$4:$I$534,5,0))","v":""},{"$f":"IF(F74=0,\"\",VLOOKUP(DATE($A80,$A82,F74)+$I79,Activités!$C$4:$I$534,5,0))","v":""},{"$f":"IF(G74=0,\"\",VLOOKUP(DATE($A80,$A82,G74)+$I79,Activités!$C$4:$I$534,5,0))","v":{"$error":"#N/A"}},{"$f":"IF(H74=0,\"\",VLOOKUP(DATE($A80,$A82,H74)+$I79,Activités!$C$4:$I$534,5,0))","v":{"$error":"#N/A"}},{"$f":"+I77+0.1","v":0.30000000000000004},null,null,null,null,null,null,null,null,null,null,null,null,null,null,null,null,null,{"$f":"AA78","v":""},"","","","","",""]
[{"$f":"H72","v":2017},{"$f":"IF(ISNA(B79),\"\",B79)","v":""},"","","","","","",null,null,null,null,null,null,null,null,null,null,null,null,null,null,null,null,null,null,{"$f":"IF(LEFT(B80,7)=\"CDT-145\",\"CDT-145\",IF(LEFT(B80,7)=\"CDT-135\",\"CDT-135\",AA74))","v":""},"","","","","",""]
[null,{"$f":"IF(B74=0,\"\",VLOOKUP(DATE($A80,$A82,B74)+$I81,Activités!$C$4:$I$534,5,0))","v":""},{"$f":"IF(C74=0,\"\",VLOOKUP(DATE($A80,$A82,C74)+$I81,Activités!$C$4:$I$534,5,0))","v":""},{"$f":"IF(D74=0,\"\",VLOOKUP(DATE($A80,$A82,D74)+$I81,Activités!$C$4:$I$534,5,0))","v":""},{"$f":"IF(E74=0,\"\",VLOOKUP(DATE($A80,$A82,E74)+$I81,Activités!$C$4:$I$534,5,0))","v":""},{"$f":"IF(F74=0,\"\",VLOOKUP(DATE($A80,$A82,F74)+$I81,Activités!$C$4:$I$534,5,0))","v":""},{"$f":"IF(G74=0,\"\",VLOOKUP(DATE($A80,$A82,G74)+$I81,Activités!$C$4:$I$534,5,0))","v":{"$error":"#N/A"}},{"$f":"IF(H74=0,\"\",VLOOKUP(DATE($A80,$A82,H74)+$I81,Activités!$C$4:$I$534,5,0))","v":{"$error":"#N/A"}},{"$f":"+I79+0.1","v":0.4},null,null,null,null,null,null,null,null,null,null,null,null,null,null,null,null,null,{"$f":"AA80","v":""},"","","","","",""]
[9,{"$f":"IF(ISNA(B81),\"\",B81)","v":""},"","","","","","",null,null,null,null,null,null,null,null,null,null,null,null,null,null,null,null,null,null,{"$f":"IF(LEFT(B82,7)=\"CDT-145\",\"CDT-145\",IF(LEFT(B82,7)=\"CDT-135\",\"CDT-135\",AA74))","v":""},"","","","","",""]
[null,{"$f":"IF(B74=0,\"\",VLOOKUP(DATE($A80,$A82,B74)+$I83,Activités!$C$4:$I$534,5,0))","v":""},{"$f":"IF(C74=0,\"\",VLOOKUP(DATE($A80,$A82,C74)+$I83,Activités!$C$4:$I$534,5,0))","v":""},{"$f":"IF(D74=0,\"\",VLOOKUP(DATE($A80,$A82,D74)+$I83,Activités!$C$4:$I$534,5,0))","v":""},{"$f":"IF(E74=0,\"\",VLOOKUP(DATE($A80,$A82,E74)+$I83,Activités!$C$4:$I$534,5,0))","v":""},{"$f":"IF(F74=0,\"\",VLOOKUP(DATE($A80,$A82,F74)+$I83,Activités!$C$4:$I$534,5,0))","v":""},{"$f":"IF(G74=0,\"\",VLOOKUP(DATE($A80,$A82,G74)+$I83,Activités!$C$4:$I$534,5,0))","v":{"$error":"#N/A"}},{"$f":"IF(H74=0,\"\",VLOOKUP(DATE($A80,$A82,H74)+$I83,Activités!$C$4:$I$534,5,0))","v":{"$error":"#N/A"}},{"$f":"+I81+0.1","v":0.5},null,null,null,null,null,null,null,null,null,null,null,null,null,null,null,null,null,{"$f":"AA82","v":""},"","","","","",""]
[30,{"$f":"IF(ISNA(B83),\"\",B83)","v":""},"","","","","","",null,null,null,null,null,null,null,null,null,null,null,null,null,null,null,null,null,null,{"$f":"IF(LEFT(B84,7)=\"CDT-145\",\"CDT-145\",IF(LEFT(B84,7)=\"CDT-135\",\"CDT-135\",AA74))","v":""},"","","","","",""]
[{"$f":"H74","v":2},{"$f":"IF(OR(A85=$A95,A85=0),0,A85+1)","v":3},4,5,6,7,8,9,null,null,null,null,null,null,null,null,null,null,null,null,null,null,null,null,null,null,{"$f":"IF(AND($B85=0,$H85=0),\"Invisible\",\"\")","v":""},{"$f":"IF(AND($B85=0,$H85=0),\"Invisible\",\"\")","v":""},"","","","",""]
[null,{"$f":"IF(B85=0,\"\",VLOOKUP(DATE($A91,$A93,B85)+$I86,Activités!$C$4:$I$534,5,0))","v":{"$error":"#N/A"}},{"$f":"IF(C85=0,\"\",VLOOKUP(DATE($A91,$A93,C85)+$I86,Activités!$C$4:$I$534,5,0))","v":{"$error":"#N/A"}},{"$f":"IF(D85=0,\"\",VLOOKUP(DATE($A91,$A93,D85)+$I86,Activités!$C$4:$I$534,5,0))","v":{"$error":"#N/A"}},{"$f":"IF(E85=0,\"\",VLOOKUP(DATE($A91,$A93,E85)+$I86,Activités!$C$4:$I$534,5,0))","v":{"$error":"#N/A"}},{"$f":"IF(F85=0,\"\",VLOOKUP(DATE($A91,$A93,F85)+$I86,Activités!$C$4:$I$534,5,0))","v":{"$error":"#N/A"}},{"$f":"IF(G85=0,\"\",VLOOKUP(DATE($A91,$A93,G85)+$I86,Activités!$C$4:$I$534,5,0))","v":{"$error":"#N/A"}},{"$f":"IF(H85=0,\"\",VLOOKUP(DATE($A91,$A93,H85)+$I86,Activités!$C$4:$I$534,5,0))","v":{"$error":"#N/A"}},0.1,null,null,null,null,null,null,null,null,null,null,null,null,null,null,null,null,null,{"$f":"AA85","v":""},"","","","","",""]
[null,{"$f":"IF(ISNA(B86),\"\",B86)","v":""},{"$f":"IF(ISNA(C86),\"\",C86)","v":""},"","","","","",null,null,null,null,null,null,null,null,null,null,null,null,null,null,null,null,null,null,{"$f":"IF(LEFT(B87,7)=\"CDT-145\",\"CDT-145\",IF(LEFT(B87,7)=\"CDT-135\",\"CDT-135\",AA85))","v":""},"","","","","",""]
[null,{"$f":"IF(B85=0,\"\",VLOOKUP(DATE($A91,$A93,B85)+$I88,Activités!$C$4:$I$534,5,0))","v":{"$error":"#N/A"}},{"$f":"IF(C85=0,\"\",VLOOKUP(DATE($A91,$A93,C85)+$I88,Activités!$C$4:$I$534,5,0))","v":{"$error":"#N/A"}},{"$f":"IF(D85=0,\"\",VLOOKUP(DATE($A91,$A93,D85)+$I88,Activités!$C$4:$I$534,5,0))","v":{"$error":"#N/A"}},{"$f":"IF(E85=0,\"\",VLOOKUP(DATE($A91,$A93,E85)+$I88,Activités!$C$4:$I$534,5,0))","v":{"$error":"#N/A"}},{"$f":"IF(F85=0,\"\",VLOOKUP(DATE($A91,$A93,F85)+$I88,Activités!$C$4:$I$534,5,0))","v":{"$error":"#N/A"}},{"$f":"IF(G85=0,\"\",VLOOKUP(DATE($A91,$A93,G85)+$I88,Activités!$C$4:$I$534,5,0))","v":{"$error":"#N/A"}},{"$f":"IF(H85=0,\"\",VLOOKUP(DATE($A91,$A93,H85)+$I88,Activités!$C$4:$I$534,5,0))","v":{"$error":"#N/A"}},{"$f":"+I86+0.1","v":0.2},null,null,null,null,null,null,null,null,null,null,null,null,null,null,null,null,null,{"$f":"AA87","v":""},"","","","","",""]
[null,{"$f":"IF(ISNA(B88),\"\",B88)","v":""},"","","","","","",null,null,null,null,null,null,null,null,null,null,null,null,null,null,null,null,null,null,{"$f":"IF(LEFT(B89,7)=\"CDT-145\",\"CDT-145\",IF(LEFT(B89,7)=\"CDT-135\",\"CDT-135\",AA85))","v":""},"","","","","",""]
[null,{"$f":"IF(B85=0,\"\",VLOOKUP(DATE($A91,$A93,B85)+$I90,Activités!$C$4:$I$534,5,0))","v":{"$error":"#N/A"}},{"$f":"IF(C85=0,\"\",VLOOKUP(DATE($A91,$A93,C85)+$I90,Activités!$C$4:$I$534,5,0))","v":{"$error":"#N/A"}},{"$f":"IF(D85=0,\"\",VLOOKUP(DATE($A91,$A93,D85)+$I90,Activités!$C$4:$I$534,5,0))","v":{"$error":"#N/A"}},{"$f":"IF(E85=0,\"\",VLOOKUP(DATE($A91,$A93,E85)+$I90,Activités!$C$4:$I$534,5,0))","v":{"$error":"#N/A"}},{"$f":"IF(F85=0,\"\",VLOOKUP(DATE($A91,$A93,F85)+$I90,Activités!$C$4:$I$534,5,0))","v":{"$error":"#N/A"}},{"$f":"IF(G85=0,\"\",VLOOKUP(DATE($A91,$A93,G85)+$I90,Activités!$C$4:$I$534,5,0))","v":{"$error":"#N/A"}},{"$f":"IF(H85=0,\"\",VLOOKUP(DATE($A91,$A93,H85)+$I90,Activités!$C$4:$I$534,5,0))","v":{"$error":"#N/A"}},{"$f":"+I88+0.1","v":0.30000000000000004},null,null,null,null,null,null,null,null,null,null,null,null,null,null,null,null,null,{"$f":"AA89","v":""},"","","","","",""]
[{"$f":"A80","v":2017},{"$f":"IF(ISNA(B90),\"\",B90)","v":""},"","","","","","",null,null,null,null,null,null,null,null,null,null,null,null,null,null,null,null,null,null,{"$f":"IF(LEFT(B91,7)=\"CDT-145\",\"CDT-145\",IF(LEFT(B91,7)=\"CDT-135\",\"CDT-135\",AA85))","v":""},"","","","","",""]
[null,{"$f":"IF(B85=0,\"\",VLOOKUP(DATE($A91,$A93,B85)+$I92,Activités!$C$4:$I$534,5,0))","v":{"$error":"#N/A"}},{"$f":"IF(C85=0,\"\",VLOOKUP(DATE($A91,$A93,C85)+$I92,Activités!$C$4:$I$534,5,0))","v":{"$error":"#N/A"}},{"$f":"IF(D85=0,\"\",VLOOKUP(DATE($A91,$A93,D85)+$I92,Activités!$C$4:$I$534,5,0))","v":{"$error":"#N/A"}},{"$f":"IF(E85=0,\"\",VLOOKUP(DATE($A91,$A93,E85)+$I92,Activités!$C$4:$I$534,5,0))","v":{"$error":"#N/A"}},{"$f":"IF(F85=0,\"\",VLOOKUP(DATE($A91,$A93,F85)+$I92,Activités!$C$4:$I$534,5,0))","v":{"$error":"#N/A"}},{"$f":"IF(G85=0,\"\",VLOOKUP(DATE($A91,$A93,G85)+$I92,Activités!$C$4:$I$534,5,0))","v":{"$error":"#N/A"}},{"$f":"IF(H85=0,\"\",VLOOKUP(DATE($A91,$A93,H85)+$I92,Activités!$C$4:$I$534,5,0))","v":{"$error":"#N/A"}},{"$f":"+I90+0.1","v":0.4},null,null,null,null,null,null,null,null,null,null,null,null,null,null,null,null,null,{"$f":"AA91","v":""},"","","","","",""]
[{"$f":"A82","v":9},{"$f":"IF(ISNA(B92),\"\",B92)","v":""},"","","","","","",null,null,null,null,null,null,null,null,null,null,null,null,null,null,null,null,null,null,{"$f":"IF(LEFT(B93,7)=\"CDT-145\",\"CDT-145\",IF(LEFT(B93,7)=\"CDT-135\",\"CDT-135\",AA85))","v":""},"","","","","",""]
[null,{"$f":"IF(B85=0,\"\",VLOOKUP(DATE($A91,$A93,B85)+$I94,Activités!$C$4:$I$534,5,0))","v":{"$error":"#N/A"}},{"$f":"IF(C85=0,\"\",VLOOKUP(DATE($A91,$A93,C85)+$I94,Activités!$C$4:$I$534,5,0))","v":{"$error":"#N/A"}},{"$f":"IF(D85=0,\"\",VLOOKUP(DATE($A91,$A93,D85)+$I94,Activités!$C$4:$I$534,5,0))","v":{"$error":"#N/A"}},{"$f":"IF(E85=0,\"\",VLOOKUP(DATE($A91,$A93,E85)+$I94,Activités!$C$4:$I$534,5,0))","v":{"$error":"#N/A"}},{"$f":"IF(F85=0,\"\",VLOOKUP(DATE($A91,$A93,F85)+$I94,Activités!$C$4:$I$534,5,0))","v":{"$error":"#N/A"}},{"$f":"IF(G85=0,\"\",VLOOKUP(DATE($A91,$A93,G85)+$I94,Activités!$C$4:$I$534,5,0))","v":{"$error":"#N/A"}},{"$f":"IF(H85=0,\"\",VLOOKUP(DATE($A91,$A93,H85)+$I94,Activités!$C$4:$I$534,5,0))","v":{"$error":"#N/A"}},{"$f":"+I92+0.1","v":0.5},null,null,null,null,null,null,null,null,null,null,null,null,null,null,null,null,null,{"$f":"AA93","v":""},"","","","","",""]
[{"$f":"A84","v":30},{"$f":"IF(ISNA(B94),\"\",B94)","v":""},"","","","","","",null,null,null,null,null,null,null,null,null,null,null,null,null,null,null,null,null,null,{"$f":"IF(LEFT(B95,7)=\"CDT-145\",\"CDT-145\",IF(LEFT(B95,7)=\"CDT-135\",\"CDT-135\",AA85))","v":""},"","","","","",""]
[{"$f":"H85","v":9},{"$f":"IF(OR(A96=$A106,A96=0),0,A96+1)","v":10},11,12,13,14,15,16,null,null,null,null,null,null,null,null,null,null,null,null,null,null,null,null,null,null,{"$f":"IF(AND($B96=0,$H96=0),\"Invisible\",\"\")","v":""},{"$f":"IF(AND($B96=0,$H96=0),\"Invisible\",\"\")","v":""},"","","","",""]
[null,{"$f":"IF(B96=0,\"\",VLOOKUP(DATE($A102,$A104,B96)+$I97,Activités!$C$4:$I$534,5,0))","v":0},{"$f":"IF(C96=0,\"\",VLOOKUP(DATE($A102,$A104,C96)+$I97,Activités!$C$4:$I$534,5,0))","v":"CDT-135 - "},{"$f":"IF(D96=0,\"\",VLOOKUP(DATE($A102,$A104,D96)+$I97,Activités!$C$4:$I$534,5,0))","v":{"$error":"#N/A"}},{"$f":"IF(E96=0,\"\",VLOOKUP(DATE($A102,$A104,E96)+$I97,Activités!$C$4:$I$534,5,0))","v":{"$error":"#N/A"}},{"$f":"IF(F96=0,\"\",VLOOKUP(DATE($A102,$A104,F96)+$I97,Activités!$C$4:$I$534,5,0))","v":{"$error":"#N/A"}},{"$f":"IF(G96=0,\"\",VLOOKUP(DATE($A102,$A104,G96)+$I97,Activités!$C$4:$I$534,5,0))","v":{"$error":"#N/A"}},{"$f":"IF(H96=0,\"\",VLOOKUP(DATE($A102,$A104,H96)+$I97,Activités!$C$4:$I$534,5,0))","v":{"$error":"#N/A"}},0.1,null,null,null,null,null,null,null,null,null,null,null,null,null,null,null,null,null,{"$f":"AA96","v":""},"","","","","",""]
[null,{"$f":"IF(ISNA(B97),\"\",B97)","v":0},{"$f":"IF(ISNA(C97),\"\",C97)","v":"CDT-135 - "},"","","","","",null,null,null,null,null,null,null,null,null,null,null,null,null,null,null,null,null,null,{"$f":"IF(LEFT(B98,7)=\"CDT-145\",\"CDT-145\",IF(LEFT(B98,7)=\"CDT-135\",\"CDT-135\",AA96))","v":""},"CDT-135","","","","",""]
[null,{"$f":"IF(B96=0,\"\",VLOOKUP(DATE($A102,$A104,B96)+$I99,Activités!$C$4:$I$534,5,0))","v":{"$error":"#N/A"}},{"$f":"IF(C96=0,\"\",VLOOKUP(DATE($A102,$A104,C96)+$I99,Activités!$C$4:$I$534,5,0))","v":"Inscrire les présences"},{"$f":"IF(D96=0,\"\",VLOOKUP(DATE($A102,$A104,D96)+$I99,Activités!$C$4:$I$534,5,0))","v":{"$error":"#N/A"}},{"$f":"IF(E96=0,\"\",VLOOKUP(DATE($A102,$A104,E96)+$I99,Activités!$C$4:$I$534,5,0))","v":{"$error":"#N/A"}},{"$f":"IF(F96=0,\"\",VLOOKUP(DATE($A102,$A104,F96)+$I99,Activités!$C$4:$I$534,5,0))","v":{"$error":"#N/A"}},{"$f":"IF(G96=0,\"\",VLOOKUP(DATE($A102,$A104,G96)+$I99,Activités!$C$4:$I$534,5,0))","v":{"$error":"#N/A"}},{"$f":"IF(H96=0,\"\",VLOOKUP(DATE($A102,$A104,H96)+$I99,Activités!$C$4:$I$534,5,0))","v":{"$error":"#N/A"}},{"$f":"+I97+0.1","v":0.2},null,null,null,null,null,null,null,null,null,null,null,null,null,null,null,null,null,{"$f":"AA98","v":""},"CDT-135","","","","",""]
[null,{"$f":"IF(ISNA(B99),\"\",B99)","v":""},"Inscrire les présences","","","","","",null,null,null,null,null,null,null,null,null,null,null,null,null,null,null,null,null,null,{"$f":"IF(LEFT(B100,7)=\"CDT-145\",\"CDT-145\",IF(LEFT(B100,7)=\"CDT-135\",\"CDT-135\",AA96))","v":""},"","","","","",""]
[null,{"$f":"IF(B96=0,\"\",VLOOKUP(DATE($A102,$A104,B96)+$I101,Activités!$C$4:$I$534,5,0))","v":{"$error":"#N/A"}},{"$f":"IF(C96=0,\"\",VLOOKUP(DATE($A102,$A104,C96)+$I101,Activités!$C$4:$I$534,5,0))","v":{"$error":"#N/A"}},{"$f":"IF(D96=0,\"\",VLOOKUP(DATE($A102,$A104,D96)+$I101,Activités!$C$4:$I$534,5,0))","v":{"$error":"#N/A"}},{"$f":"IF(E96=0,\"\",VLOOKUP(DATE($A102,$A104,E96)+$I101,Activités!$C$4:$I$534,5,0))","v":{"$error":"#N/A"}},{"$f":"IF(F96=0,\"\",VLOOKUP(DATE($A102,$A104,F96)+$I101,Activités!$C$4:$I$534,5,0))","v":{"$error":"#N/A"}},{"$f":"IF(G96=0,\"\",VLOOKUP(DATE($A102,$A104,G96)+$I101,Activités!$C$4:$I$534,5,0))","v":{"$error":"#N/A"}},{"$f":"IF(H96=0,\"\",VLOOKUP(DATE($A102,$A104,H96)+$I101,Activités!$C$4:$I$534,5,0))","v":{"$error":"#N/A"}},{"$f":"+I99+0.1","v":0.30000000000000004},null,null,null,null,null,null,null,null,null,null,null,null,null,null,null,null,null,{"$f":"AA100","v":""},"","","","","",""]
[{"$f":"A91","v":2017},{"$f":"IF(ISNA(B101),\"\",B101)","v":""},"","","","","","",null,null,null,null,null,null,null,null,null,null,null,null,null,null,null,null,null,null,{"$f":"IF(LEFT(B102,7)=\"CDT-145\",\"CDT-145\",IF(LEFT(B102,7)=\"CDT-135\",\"CDT-135\",AA96))","v":""},"","","","","",""]
[null,{"$f":"IF(B96=0,\"\",VLOOKUP(DATE($A102,$A104,B96)+$I103,Activités!$C$4:$I$534,5,0))","v":{"$error":"#N/A"}},{"$f":"IF(C96=0,\"\",VLOOKUP(DATE($A102,$A104,C96)+$I103,Activités!$C$4:$I$534,5,0))","v":{"$error":"#N/A"}},{"$f":"IF(D96=0,\"\",VLOOKUP(DATE($A102,$A104,D96)+$I103,Activités!$C$4:$I$534,5,0))","v":{"$error":"#N/A"}},{"$f":"IF(E96=0,\"\",VLOOKUP(DATE($A102,$A104,E96)+$I103,Activités!$C$4:$I$534,5,0))","v":{"$error":"#N/A"}},{"$f":"IF(F96=0,\"\",VLOOKUP(DATE($A102,$A104,F96)+$I103,Activités!$C$4:$I$534,5,0))","v":{"$error":"#N/A"}},{"$f":"IF(G96=0,\"\",VLOOKUP(DATE($A102,$A104,G96)+$I103,Activités!$C$4:$I$534,5,0))","v":{"$error":"#N/A"}},{"$f":"IF(H96=0,\"\",VLOOKUP(DATE($A102,$A104,H96)+$I103,Activités!$C$4:$I$534,5,0))","v":{"$error":"#N/A"}},{"$f":"+I101+0.1","v":0.4},null,null,null,null,null,null,null,null,null,null,null,null,null,null,null,null,null,{"$f":"AA102","v":""},"","","","","",""]
[{"$f":"A93","v":9},{"$f":"IF(ISNA(B103),\"\",B103)","v":""},"","","","","","",null,null,null,null,null,null,null,null,null,null,null,null,null,null,null,null,null,null,{"$f":"IF(LEFT(B104,7)=\"CDT-145\",\"CDT-145\",IF(LEFT(B104,7)=\"CDT-135\",\"CDT-135\",AA96))","v":""},"","","","","",""]
[null,{"$f":"IF(B96=0,\"\",VLOOKUP(DATE($A102,$A104,B96)+$I105,Activités!$C$4:$I$534,5,0))","v":{"$error":"#N/A"}},{"$f":"IF(C96=0,\"\",VLOOKUP(DATE($A102,$A104,C96)+$I105,Activités!$C$4:$I$534,5,0))","v":{"$error":"#N/A"}},{"$f":"IF(D96=0,\"\",VLOOKUP(DATE($A102,$A104,D96)+$I105,Activités!$C$4:$I$534,5,0))","v":{"$error":"#N/A"}},{"$f":"IF(E96=0,\"\",VLOOKUP(DATE($A102,$A104,E96)+$I105,Activités!$C$4:$I$534,5,0))","v":{"$error":"#N/A"}},{"$f":"IF(F96=0,\"\",VLOOKUP(DATE($A102,$A104,F96)+$I105,Activités!$C$4:$I$534,5,0))","v":{"$error":"#N/A"}},{"$f":"IF(G96=0,\"\",VLOOKUP(DATE($A102,$A104,G96)+$I105,Activités!$C$4:$I$534,5,0))","v":{"$error":"#N/A"}},{"$f":"IF(H96=0,\"\",VLOOKUP(DATE($A102,$A104,H96)+$I105,Activités!$C$4:$I$534,5,0))","v":{"$error":"#N/A"}},{"$f":"+I103+0.1","v":0.5},null,null,null,null,null,null,null,null,null,null,null,null,null,null,null,null,null,{"$f":"AA104","v":""},"","","","","",""]
[{"$f":"A95","v":30},{"$f":"IF(ISNA(B105),\"\",B105)","v":""},"","","","","","",null,null,null,null,null,null,null,null,null,null,null,null,null,null,null,null,null,null,{"$f":"IF(LEFT(B106,7)=\"CDT-145\",\"CDT-145\",IF(LEFT(B106,7)=\"CDT-135\",\"CDT-135\",AA96))","v":""},"","","","","",""]
[{"$f":"H96","v":16},{"$f":"IF(OR(A107=$A117,A107=0),0,A107+1)","v":17},18,19,20,21,22,23,null,null,null,null,null,null,null,null,null,null,null,null,null,null,null,null,null,null,{"$f":"IF(AND($B107=0,$H107=0),\"Invisible\",\"\")","v":""},{"$f":"IF(AND($B107=0,$H107=0),\"Invisible\",\"\")","v":""},"","","","",""]
[null,{"$f":"IF(B107=0,\"\",VLOOKUP(DATE($A113,$A115,B107)+$I108,Activités!$C$4:$I$534,5,0))","v":{"$error":"#N/A"}},{"$f":"IF(C107=0,\"\",VLOOKUP(DATE($A113,$A115,C107)+$I108,Activités!$C$4:$I$534,5,0))","v":{"$error":"#N/A"}},{"$f":"IF(D107=0,\"\",VLOOKUP(DATE($A113,$A115,D107)+$I108,Activités!$C$4:$I$534,5,0))","v":{"$error":"#N/A"}},{"$f":"IF(E107=0,\"\",VLOOKUP(DATE($A113,$A115,E107)+$I108,Activités!$C$4:$I$534,5,0))","v":"CDT-145 - "},{"$f":"IF(F107=0,\"\",VLOOKUP(DATE($A113,$A115,F107)+$I108,Activités!$C$4:$I$534,5,0))","v":"CDT-145 - "},{"$f":"IF(G107=0,\"\",VLOOKUP(DATE($A113,$A115,G107)+$I108,Activités!$C$4:$I$534,5,0))","v":{"$error":"#N/A"}},{"$f":"IF(H107=0,\"\",VLOOKUP(DATE($A113,$A115,H107)+$I108,Activités!$C$4:$I$534,5,0))","v":{"$error":"#N/A"}},0.1,null,null,null,null,null,null,null,null,null,null,null,null,null,null,null,null,null,{"$f":"AA107","v":""},"","","","","",""]
[null,{"$f":"IF(ISNA(B108),\"\",B108)","v":""},{"$f":"IF(ISNA(C108),\"\",C108)","v":""},"","CDT-145 - ","CDT-145 - ","","",null,null,null,null,null,null,null,null,null,null,null,null,null,null,null,null,null,null,{"$f":"IF(LEFT(B109,7)=\"CDT-145\",\"CDT-145\",IF(LEFT(B109,7)=\"CDT-135\",\"CDT-135\",AA107))","v":""},"","","CDT-145","CDT-145","",""]
[null,{"$f":"IF(B107=0,\"\",VLOOKUP(DATE($A113,$A115,B107)+$I110,Activités!$C$4:$I$534,5,0))","v":{"$error":"#N/A"}},{"$f":"IF(C107=0,\"\",VLOOKUP(DATE($A113,$A115,C107)+$I110,Activités!$C$4:$I$534,5,0))","v":{"$error":"#N/A"}},{"$f":"IF(D107=0,\"\",VLOOKUP(DATE($A113,$A115,D107)+$I110,Activités!$C$4:$I$534,5,0))","v":{"$error":"#N/A"}},{"$f":"IF(E107=0,\"\",VLOOKUP(DATE($A113,$A115,E107)+$I110,Activités!$C$4:$I$534,5,0))","v":"Créer activité Forteresse"},{"$f":"IF(F107=0,\"\",VLOOKUP(DATE($A113,$A115,F107)+$I110,Activités!$C$4:$I$534,5,0))","v":"Créer activité Forteresse"},{"$f":"IF(G107=0,\"\",VLOOKUP(DATE($A113,$A115,G107)+$I110,Activités!$C$4:$I$534,5,0))","v":{"$error":"#N/A"}},{"$f":"IF(H107=0,\"\",VLOOKUP(DATE($A113,$A115,H107)+$I110,Activités!$C$4:$I$534,5,0))","v":{"$error":"#N/A"}},{"$f":"+I108+0.1","v":0.2},null,null,null,null,null,null,null,null,null,null,null,null,null,null,null,null,null,{"$f":"AA109","v":""},"","","CDT-145","CDT-145","",""]
[null,{"$f":"IF(ISNA(B110),\"\",B110)","v":""},"","","Créer activité Forteresse","Créer activité Forteresse","","",null,null,null,null,null,null,null,null,null,null,null,null,null,null,null,null,null,null,{"$f":"IF(LEFT(B111,7)=\"CDT-145\",\"CDT-145\",IF(LEFT(B111,7)=\"CDT-135\",\"CDT-135\",AA107))","v":""},"","","","","",""]
[null,{"$f":"IF(B107=0,\"\",VLOOKUP(DATE($A113,$A115,B107)+$I112,Activités!$C$4:$I$534,5,0))","v":{"$error":"#N/A"}},{"$f":"IF(C107=0,\"\",VLOOKUP(DATE($A113,$A115,C107)+$I112,Activités!$C$4:$I$534,5,0))","v":{"$error":"#N/A"}},{"$f":"IF(D107=0,\"\",VLOOKUP(DATE($A113,$A115,D107)+$I112,Activités!$C$4:$I$534,5,0))","v":{"$error":"#N/A"}},{"$f":"IF(E107=0,\"\",VLOOKUP(DATE($A113,$A115,E107)+$I112,Activités!$C$4:$I$534,5,0))","v":{"$error":"#N/A"}},{"$f":"IF(F107=0,\"\",VLOOKUP(DATE($A113,$A115,F107)+$I112,Activités!$C$4:$I$534,5,0))","v":{"$error":"#N/A"}},{"$f":"IF(G107=0,\"\",VLOOKUP(DATE($A113,$A115,G107)+$I112,Activités!$C$4:$I$534,5,0))","v":{"$error":"#N/A"}},{"$f":"IF(H107=0,\"\",VLOOKUP(DATE($A113,$A115,H107)+$I112,Activités!$C$4:$I$534,5,0))","v":{"$error":"#N/A"}},{"$f":"+I110+0.1","v":0.30000000000000004},null,null,null,null,null,null,null,null,null,null,null,null,null,null,null,null,null,{"$f":"AA111","v":""},"","","","","",""]
[{"$f":"A102","v":2017},{"$f":"IF(ISNA(B112),\"\",B112)","v":""},"","","","","","",null,null,null,null,null,null,null,null,null,null,null,null,null,null,null,null,null,null,{"$f":"IF(LEFT(B113,7)=\"CDT-145\",\"CDT-145\",IF(LEFT(B113,7)=\"CDT-135\",\"CDT-135\",AA107))","v":""},"","","","","",""]
[null,{"$f":"IF(B107=0,\"\",VLOOKUP(DATE($A113,$A115,B107)+$I114,Activités!$C$4:$I$534,5,0))","v":{"$error":"#N/A"}},{"$f":"IF(C107=0,\"\",VLOOKUP(DATE($A113,$A115,C107)+$I114,Activités!$C$4:$I$534,5,0))","v":{"$error":"#N/A"}},{"$f":"IF(D107=0,\"\",VLOOKUP(DATE($A113,$A115,D107)+$I114,Activités!$C$4:$I$534,5,0))","v":{"$error":"#N/A"}},{"$f":"IF(E107=0,\"\",VLOOKUP(DATE($A113,$A115,E107)+$I114,Activités!$C$4:$I$534,5,0))","v":{"$error":"#N/A"}},{"$f":"IF(F107=0,\"\",VLOOKUP(DATE($A113,$A115,F107)+$I114,Activités!$C$4:$I$534,5,0))","v":{"$error":"#N/A"}},{"$f":"IF(G107=0,\"\",VLOOKUP(DATE($A113,$A115,G107)+$I114,Activités!$C$4:$I$534,5,0))","v":{"$error":"#N/A"}},{"$f":"IF(H107=0,\"\",VLOOKUP(DATE($A113,$A115,H107)+$I114,Activités!$C$4:$I$534,5,0))","v":{"$error":"#N/A"}},{"$f":"+I112+0.1","v":0.4},null,null,null,null,null,null,null,null,null,null,null,null,null,null,null,null,null,{"$f":"AA113","v":""},"","","","","",""]
[{"$f":"A104","v":9},{"$f":"IF(ISNA(B114),\"\",B114)","v":""},"","","","","","",null,null,null,null,null,null,null,null,null,null,null,null,null,null,null,null,null,null,{"$f":"IF(LEFT(B115,7)=\"CDT-145\",\"CDT-145\",IF(LEFT(B115,7)=\"CDT-135\",\"CDT-135\",AA107))","v":""},"","","","","",""]
[null,{"$f":"IF(B107=0,\"\",VLOOKUP(DATE($A113,$A115,B107)+$I116,Activités!$C$4:$I$534,5,0))","v":{"$error":"#N/A"}},{"$f":"IF(C107=0,\"\",VLOOKUP(DATE($A113,$A115,C107)+$I116,Activités!$C$4:$I$534,5,0))","v":{"$error":"#N/A"}},{"$f":"IF(D107=0,\"\",VLOOKUP(DATE($A113,$A115,D107)+$I116,Activités!$C$4:$I$534,5,0))","v":{"$error":"#N/A"}},{"$f":"IF(E107=0,\"\",VLOOKUP(DATE($A113,$A115,E107)+$I116,Activités!$C$4:$I$534,5,0))","v":{"$error":"#N/A"}},{"$f":"IF(F107=0,\"\",VLOOKUP(DATE($A113,$A115,F107)+$I116,Activités!$C$4:$I$534,5,0))","v":{"$error":"#N/A"}},{"$f":"IF(G107=0,\"\",VLOOKUP(DATE($A113,$A115,G107)+$I116,Activités!$C$4:$I$534,5,0))","v":{"$error":"#N/A"}},{"$f":"IF(H107=0,\"\",VLOOKUP(DATE($A113,$A115,H107)+$I116,Activités!$C$4:$I$534,5,0))","v":{"$error":"#N/A"}},{"$f":"+I114+0.1","v":0.5},null,null,null,null,null,null,null,null,null,null,null,null,null,null,null,null,null,{"$f":"AA115","v":""},"","","","","",""]
[{"$f":"A106","v":30},{"$f":"IF(ISNA(B116),\"\",B116)","v":""},"","","","","","",null,null,null,null,null,null,null,null,null,null,null,null,null,null,null,null,null,null,{"$f":"IF(LEFT(B117,7)=\"CDT-145\",\"CDT-145\",IF(LEFT(B117,7)=\"CDT-135\",\"CDT-135\",AA107))","v":""},"","","","","",""]
[{"$f":"H107","v":23},{"$f":"IF(OR(A118=$A128,A118=0),0,A118+1)","v":24},25,26,27,28,29,30,null,null,null,null,null,null,null,null,null,null,null,null,null,null,null,null,null,null,{"$f":"IF(AND($B118=0,$H118=0),\"Invisible\",\"\")","v":""},{"$f":"IF(AND($B118=0,$H118=0),\"Invisible\",\"\")","v":""},"","","","",""]
[null,{"$f":"IF(B118=0,\"\",VLOOKUP(DATE($A124,$A126,B118)+$I119,Activités!$C$4:$I$534,5,0))","v":{"$error":"#N/A"}},{"$f":"IF(C118=0,\"\",VLOOKUP(DATE($A124,$A126,C118)+$I119,Activités!$C$4:$I$534,5,0))","v":{"$error":"#N/A"}},{"$f":"IF(D118=0,\"\",VLOOKUP(DATE($A124,$A126,D118)+$I119,Activités!$C$4:$I$534,5,0))","v":{"$error":"#N/A"}},{"$f":"IF(E118=0,\"\",VLOOKUP(DATE($A124,$A126,E118)+$I119,Activités!$C$4:$I$534,5,0))","v":{"$error":"#N/A"}},{"$f":"IF(F118=0,\"\",VLOOKUP(DATE($A124,$A126,F118)+$I119,Activités!$C$4:$I$534,5,0))","v":"CDT-145 - "},{"$f":"IF(G118=0,\"\",VLOOKUP(DATE($A124,$A126,G118)+$I119,Activités!$C$4:$I$534,5,0))","v":{"$error":"#N/A"}},{"$f":"IF(H118=0,\"\",VLOOKUP(DATE($A124,$A126,H118)+$I119,Activités!$C$4:$I$534,5,0))","v":{"$error":"#N/A"}},0.1,null,null,null,null,null,null,null,null,null,null,null,null,null,null,null,null,null,{"$f":"AA118","v":""},"","","","","",""]
[null,{"$f":"IF(ISNA(B119),\"\",B119)","v":""},{"$f":"IF(ISNA(C119),\"\",C119)","v":""},"","","CDT-145 - ","","",null,null,null,null,null,null,null,null,null,null,null,null,null,null,null,null,null,null,{"$f":"IF(LEFT(B120,7)=\"CDT-145\",\"CDT-145\",IF(LEFT(B120,7)=\"CDT-135\",\"CDT-135\",AA118))","v":""},"","","","CDT-145","",""]
[null,{"$f":"IF(B118=0,\"\",VLOOKUP(DATE($A124,$A126,B118)+$I121,Activités!$C$4:$I$534,5,0))","v":{"$error":"#N/A"}},{"$f":"IF(C118=0,\"\",VLOOKUP(DATE($A124,$A126,C118)+$I121,Activités!$C$4:$I$534,5,0))","v":{"$error":"#N/A"}},{"$f":"IF(D118=0,\"\",VLOOKUP(DATE($A124,$A126,D118)+$I121,Activités!$C$4:$I$534,5,0))","v":{"$error":"#N/A"}},{"$f":"IF(E118=0,\"\",VLOOKUP(DATE($A124,$A126,E118)+$I121,Activités!$C$4:$I$534,5,0))","v":{"$error":"#N/A"}},{"$f":"IF(F118=0,\"\",VLOOKUP(DATE($A124,$A126,F118)+$I121,Activités!$C$4:$I$534,5,0))","v":"Créer activité Forteresse"},{"$f":"IF(G118=0,\"\",VLOOKUP(DATE($A124,$A126,G118)+$I121,Activités!$C$4:$I$534,5,0))","v":{"$error":"#N/A"}},{"$f":"IF(H118=0,\"\",VLOOKUP(DATE($A124,$A126,H118)+$I121,Activités!$C$4:$I$534,5,0))","v":{"$error":"#N/A"}},{"$f":"+I119+0.1","v":0.2},null,null,null,null,null,null,null,null,null,null,null,null,null,null,null,null,null,{"$f":"AA120","v":""},"","","","CDT-145","",""]
[null,{"$f":"IF(ISNA(B121),\"\",B121)","v":""},"","","","Créer activité Forteresse","","",null,null,null,null,null,null,null,null,null,null,null,null,null,null,null,null,null,null,{"$f":"IF(LEFT(B122,7)=\"CDT-145\",\"CDT-145\",IF(LEFT(B122,7)=\"CDT-135\",\"CDT-135\",AA118))","v":""},"","","","","",""]
[null,{"$f":"IF(B118=0,\"\",VLOOKUP(DATE($A124,$A126,B118)+$I123,Activités!$C$4:$I$534,5,0))","v":{"$error":"#N/A"}},{"$f":"IF(C118=0,\"\",VLOOKUP(DATE($A124,$A126,C118)+$I123,Activités!$C$4:$I$534,5,0))","v":{"$error":"#N/A"}},{"$f":"IF(D118=0,\"\",VLOOKUP(DATE($A124,$A126,D118)+$I123,Activités!$C$4:$I$534,5,0))","v":{"$error":"#N/A"}},{"$f":"IF(E118=0,\"\",VLOOKUP(DATE($A124,$A126,E118)+$I123,Activités!$C$4:$I$534,5,0))","v":{"$error":"#N/A"}},{"$f":"IF(F118=0,\"\",VLOOKUP(DATE($A124,$A126,F118)+$I123,Activités!$C$4:$I$534,5,0))","v":{"$error":"#N/A"}},{"$f":"IF(G118=0,\"\",VLOOKUP(DATE($A124,$A126,G118)+$I123,Activités!$C$4:$I$534,5,0))","v":{"$error":"#N/A"}},{"$f":"IF(H118=0,\"\",VLOOKUP(DATE($A124,$A126,H118)+$I123,Activités!$C$4:$I$534,5,0))","v":{"$error":"#N/A"}},{"$f":"+I121+0.1","v":0.30000000000000004},null,null,null,null,null,null,null,null,null,null,null,null,null,null,null,null,null,{"$f":"AA122","v":""},"","","","","",""]
[{"$f":"A113","v":2017},{"$f":"IF(ISNA(B123),\"\",B123)","v":""},"","","","","","",null,null,null,null,null,null,null,null,null,null,null,null,null,null,null,null,null,null,{"$f":"IF(LEFT(B124,7)=\"CDT-145\",\"CDT-145\",IF(LEFT(B124,7)=\"CDT-135\",\"CDT-135\",AA118))","v":""},"","","","","",""]
[null,{"$f":"IF(B118=0,\"\",VLOOKUP(DATE($A124,$A126,B118)+$I125,Activités!$C$4:$I$534,5,0))","v":{"$error":"#N/A"}},{"$f":"IF(C118=0,\"\",VLOOKUP(DATE($A124,$A126,C118)+$I125,Activités!$C$4:$I$534,5,0))","v":{"$error":"#N/A"}},{"$f":"IF(D118=0,\"\",VLOOKUP(DATE($A124,$A126,D118)+$I125,Activités!$C$4:$I$534,5,0))","v":{"$error":"#N/A"}},{"$f":"IF(E118=0,\"\",VLOOKUP(DATE($A124,$A126,E118)+$I125,Activités!$C$4:$I$534,5,0))","v":{"$error":"#N/A"}},{"$f":"IF(F118=0,\"\",VLOOKUP(DATE($A124,$A126,F118)+$I125,Activités!$C$4:$I$534,5,0))","v":{"$error":"#N/A"}},{"$f":"IF(G118=0,\"\",VLOOKUP(DATE($A124,$A126,G118)+$I125,Activités!$C$4:$I$534,5,0))","v":{"$error":"#N/A"}},{"$f":"IF(H118=0,\"\",VLOOKUP(DATE($A124,$A126,H118)+$I125,Activités!$C$4:$I$534,5,0))","v":{"$error":"#N/A"}},{"$f":"+I123+0.1","v":0.4},null,null,null,null,null,null,null,null,null,null,null,null,null,null,null,null,null,{"$f":"AA124","v":""},"","","","","",""]
[{"$f":"A115","v":9},{"$f":"IF(ISNA(B125),\"\",B125)","v":""},"","","","","","",null,null,null,null,null,null,null,null,null,null,null,null,null,null,null,null,null,null,{"$f":"IF(LEFT(B126,7)=\"CDT-145\",\"CDT-145\",IF(LEFT(B126,7)=\"CDT-135\",\"CDT-135\",AA118))","v":""},"","","","","",""]
[null,{"$f":"IF(B118=0,\"\",VLOOKUP(DATE($A124,$A126,B118)+$I127,Activités!$C$4:$I$534,5,0))","v":{"$error":"#N/A"}},{"$f":"IF(C118=0,\"\",VLOOKUP(DATE($A124,$A126,C118)+$I127,Activités!$C$4:$I$534,5,0))","v":{"$error":"#N/A"}},{"$f":"IF(D118=0,\"\",VLOOKUP(DATE($A124,$A126,D118)+$I127,Activités!$C$4:$I$534,5,0))","v":{"$error":"#N/A"}},{"$f":"IF(E118=0,\"\",VLOOKUP(DATE($A124,$A126,E118)+$I127,Activités!$C$4:$I$534,5,0))","v":{"$error":"#N/A"}},{"$f":"IF(F118=0,\"\",VLOOKUP(DATE($A124,$A126,F118)+$I127,Activités!$C$4:$I$534,5,0))","v":{"$error":"#N/A"}},{"$f":"IF(G118=0,\"\",VLOOKUP(DATE($A124,$A126,G118)+$I127,Activités!$C$4:$I$534,5,0))","v":{"$error":"#N/A"}},{"$f":"IF(H118=0,\"\",VLOOKUP(DATE($A124,$A126,H118)+$I127,Activités!$C$4:$I$534,5,0))","v":{"$error":"#N/A"}},{"$f":"+I125+0.1","v":0.5},null,null,null,null,null,null,null,null,null,null,null,null,null,null,null,null,null,{"$f":"AA126","v":""},"","","","","",""]
[{"$f":"A117","v":30},{"$f":"IF(ISNA(B127),\"\",B127)","v":""},"","","","","","",null,null,null,null,null,null,null,null,null,null,null,null,null,null,null,null,null,null,{"$f":"IF(LEFT(B128,7)=\"CDT-145\",\"CDT-145\",IF(LEFT(B128,7)=\"CDT-135\",\"CDT-135\",AA118))","v":""},"","","","","",""]
[{"$f":"H118","v":30},{"$f":"IF(OR(A129=$A139,A129=0),0,A129+1)","v":0},0,0,0,0,0,0,null,null,null,null,null,null,null,null,null,null,null,null,null,null,null,null,null,null,{"$f":"IF(AND($B129=0,$H129=0),\"Invisible\",\"\")","v":"Invisible"},{"$f":"IF(AND($B129=0,$H129=0),\"Invisible\",\"\")","v":"Invisible"},"Invisible","Invisible","Invisible","Invisible","Invisible"]
[null,{"$f":"IF(B129=0,\"\",VLOOKUP(DATE($A135,$A137,B129)+$I130,Activités!$C$4:$I$534,5,0))","v":""},{"$f":"IF(C129=0,\"\",VLOOKUP(DATE($A135,$A137,C129)+$I130,Activités!$C$4:$I$534,5,0))","v":""},{"$f":"IF(D129=0,\"\",VLOOKUP(DATE($A135,$A137,D129)+$I130,Activités!$C$4:$I$534,5,0))","v":""},{"$f":"IF(E129=0,\"\",VLOOKUP(DATE($A135,$A137,E129)+$I130,Activités!$C$4:$I$534,5,0))","v":""},{"$f":"IF(F129=0,\"\",VLOOKUP(DATE($A135,$A137,F129)+$I130,Activités!$C$4:$I$534,5,0))","v":""},{"$f":"IF(G129=0,\"\",VLOOKUP(DATE($A135,$A137,G129)+$I130,Activités!$C$4:$I$534,5,0))","v":""},{"$f":"IF(H129=0,\"\",VLOOKUP(DATE($A135,$A137,H129)+$I130,Activités!$C$4:$I$534,5,0))","v":""},0.1,null,null,null,null,null,null,null,null,null,null,null,null,null,null,null,null,null,{"$f":"AA129","v":"Invisible"},"Invisible","Invisible","Invisible","Invisible","Invisible","Invisible"]
[null,{"$f":"IF(ISNA(B130),\"\",B130)","v":""},{"$f":"IF(ISNA(C130),\"\",C130)","v":""},"","","","","",null,null,null,null,null,null,null,null,null,null,null,null,null,null,null,null,null,null,{"$f":"IF(LEFT(B131,7)=\"CDT-145\",\"CDT-145\",IF(LEFT(B131,7)=\"CDT-135\",\"CDT-135\",AA129))","v":"Invisible"},"Invisible","Invisible","Invisible","Invisible","Invisible","Invisible"]
[null,{"$f":"IF(B129=0,\"\",VLOOKUP(DATE($A135,$A137,B129)+$I132,Activités!$C$4:$I$534,5,0))","v":""},{"$f":"IF(C129=0,\"\",VLOOKUP(DATE($A135,$A137,C129)+$I132,Activités!$C$4:$I$534,5,0))","v":""},{"$f":"IF(D129=0,\"\",VLOOKUP(DATE($A135,$A137,D129)+$I132,Activités!$C$4:$I$534,5,0))","v":""},{"$f":"IF(E129=0,\"\",VLOOKUP(DATE($A135,$A137,E129)+$I132,Activités!$C$4:$I$534,5,0))","v":""},{"$f":"IF(F129=0,\"\",VLOOKUP(DATE($A135,$A137,F129)+$I132,Activités!$C$4:$I$534,5,0))","v":""},{"$f":"IF(G129=0,\"\",VLOOKUP(DATE($A135,$A137,G129)+$I132,Activités!$C$4:$I$534,5,0))","v":""},{"$f":"IF(H129=0,\"\",VLOOKUP(DATE($A135,$A137,H129)+$I132,Activités!$C$4:$I$534,5,0))","v":""},{"$f":"+I130+0.1","v":0.2},null,null,null,null,null,null,null,null,null,null,null,null,null,null,null,null,null,{"$f":"AA131","v":"Invisible"},"Invisible","Invisible","Invisible","Invisible","Invisible","Invisible"]
[null,{"$f":"IF(ISNA(B132),\"\",B132)","v":""},"","","","","","",null,null,null,null,null,null,null,null,null,null,null,null,null,null,null,null,null,null,{"$f":"IF(LEFT(B133,7)=\"CDT-145\",\"CDT-145\",IF(LEFT(B133,7)=\"CDT-135\",\"CDT-135\",AA129))","v":"Invisible"},"Invisible","Invisible","Invisible","Invisible","Invisible","Invisible"]
[null,{"$f":"IF(B129=0,\"\",VLOOKUP(DATE($A135,$A137,B129)+$I134,Activités!$C$4:$I$534,5,0))","v":""},{"$f":"IF(C129=0,\"\",VLOOKUP(DATE($A135,$A137,C129)+$I134,Activités!$C$4:$I$534,5,0))","v":""},{"$f":"IF(D129=0,\"\",VLOOKUP(DATE($A135,$A137,D129)+$I134,Activités!$C$4:$I$534,5,0))","v":""},{"$f":"IF(E129=0,\"\",VLOOKUP(DATE($A135,$A137,E129)+$I134,Activités!$C$4:$I$534,5,0))","v":""},{"$f":"IF(F129=0,\"\",VLOOKUP(DATE($A135,$A137,F129)+$I134,Activités!$C$4:$I$534,5,0))","v":""},{"$f":"IF(G129=0,\"\",VLOOKUP(DATE($A135,$A137,G129)+$I134,Activités!$C$4:$I$534,5,0))","v":""},{"$f":"IF(H129=0,\"\",VLOOKUP(DATE($A135,$A137,H129)+$I134,Activités!$C$4:$I$534,5,0))","v":""},{"$f":"+I132+0.1","v":0.30000000000000004},null,null,null,null,null,null,null,null,null,null,null,null,null,null,null,null,null,{"$f":"AA133","v":"Invisible"},"Invisible","Invisible","Invisible","Invisible","Invisible","Invisible"]
[{"$f":"A124","v":2017},{"$f":"IF(ISNA(B134),\"\",B134)","v":""},"","","","","","",null,null,null,null,null,null,null,null,null,null,null,null,null,null,null,null,null,null,{"$f":"IF(LEFT(B135,7)=\"CDT-145\",\"CDT-145\",IF(LEFT(B135,7)=\"CDT-135\",\"CDT-135\",AA129))","v":"Invisible"},"Invisible","Invisible","Invisible","Invisible","Invisible","Invisible"]
[null,{"$f":"IF(B129=0,\"\",VLOOKUP(DATE($A135,$A137,B129)+$I136,Activités!$C$4:$I$534,5,0))","v":""},{"$f":"IF(C129=0,\"\",VLOOKUP(DATE($A135,$A137,C129)+$I136,Activités!$C$4:$I$534,5,0))","v":""},{"$f":"IF(D129=0,\"\",VLOOKUP(DATE($A135,$A137,D129)+$I136,Activités!$C$4:$I$534,5,0))","v":""},{"$f":"IF(E129=0,\"\",VLOOKUP(DATE($A135,$A137,E129)+$I136,Activités!$C$4:$I$534,5,0))","v":""},{"$f":"IF(F129=0,\"\",VLOOKUP(DATE($A135,$A137,F129)+$I136,Activités!$C$4:$I$534,5,0))","v":""},{"$f":"IF(G129=0,\"\",VLOOKUP(DATE($A135,$A137,G129)+$I136,Activités!$C$4:$I$534,5,0))","v":""},{"$f":"IF(H129=0,\"\",VLOOKUP(DATE($A135,$A137,H129)+$I136,Activités!$C$4:$I$534,5,0))","v":""},{"$f":"+I134+0.1","v":0.4},null,null,null,null,null,null,null,null,null,null,null,null,null,null,null,null,null,{"$f":"AA135","v":"Invisible"},"Invisible","Invisible","Invisible","Invisible","Invisible","Invisible"]
[{"$f":"A126","v":9},{"$f":"IF(ISNA(B136),\"\",B136)","v":""},"","","","","","",null,null,null,null,null,null,null,null,null,null,null,null,null,null,null,null,null,null,{"$f":"IF(LEFT(B137,7)=\"CDT-145\",\"CDT-145\",IF(LEFT(B137,7)=\"CDT-135\",\"CDT-135\",AA129))","v":"Invisible"},"Invisible","Invisible","Invisible","Invisible","Invisible","Invisible"]
[null,{"$f":"IF(B129=0,\"\",VLOOKUP(DATE($A135,$A137,B129)+$I138,Activités!$C$4:$I$534,5,0))","v":""},{"$f":"IF(C129=0,\"\",VLOOKUP(DATE($A135,$A137,C129)+$I138,Activités!$C$4:$I$534,5,0))","v":""},{"$f":"IF(D129=0,\"\",VLOOKUP(DATE($A135,$A137,D129)+$I138,Activités!$C$4:$I$534,5,0))","v":""},{"$f":"IF(E129=0,\"\",VLOOKUP(DATE($A135,$A137,E129)+$I138,Activités!$C$4:$I$534,5,0))","v":""},{"$f":"IF(F129=0,\"\",VLOOKUP(DATE($A135,$A137,F129)+$I138,Activités!$C$4:$I$534,5,0))","v":""},{"$f":"IF(G129=0,\"\",VLOOKUP(DATE($A135,$A137,G129)+$I138,Activités!$C$4:$I$534,5,0))","v":""},{"$f":"IF(H129=0,\"\",VLOOKUP(DATE($A135,$A137,H129)+$I138,Activités!$C$4:$I$534,5,0))","v":""},{"$f":"+I136+0.1","v":0.5},null,null,null,null,null,null,null,null,null,null,null,null,null,null,null,null,null,{"$f":"AA137","v":"Invisible"},"Invisible","Invisible","Invisible","Invisible","Invisible","Invisible"]
[{"$f":"A128","v":30},{"$f":"IF(ISNA(B138),\"\",B138)","v":""},"","","","","","",null,null,null,null,null,null,null,null,null,null,null,null,null,null,null,null,null,null,{"$f":"IF(LEFT(B139,7)=\"CDT-145\",\"CDT-145\",IF(LEFT(B139,7)=\"CDT-135\",\"CDT-135\",AA129))","v":"Invisible"},"Invisible","Invisible","Invisible","Invisible","Invisible","Invisible"]
[]
[null,{"$f":"VLOOKUP(105,Traduction!$B$6:$D$250,'Info de l''escadron'!$A$1+1,0)","v":"OCTOBRE"},null,null,null,null,null,{"$f":"H72","v":2017}]
[null,{"$f":"B$4","v":"Dimanche"},{"$f":"C$4","v":"Lundi"},"Mardi","Mercredi","Jeudi","Vendredi","Samedi"]
[null,{"$f":"IF(WEEKDAY(DATE($H141,$A151,1),1)=B$2,1,IF(A143=0,0,A143+1))","v":1},2,3,4,5,6,7,null,null,null,null,null,null,null,null,null,null,null,null,null,null,null,null,null,null,{"$f":"IF(AND($B143=0,$H143=0),\"Invisible\",\"\")","v":""},{"$f":"IF(AND($B143=0,$H143=0),\"Invisible\",\"\")","v":""},"","","","",""]
[null,{"$f":"IF(B143=0,\"\",VLOOKUP(DATE($A149,$A151,B143)+$I144,Activités!$C$4:$I$534,5,0))","v":{"$error":"#N/A"}},{"$f":"IF(C143=0,\"\",VLOOKUP(DATE($A149,$A151,C143)+$I144,Activités!$C$4:$I$534,5,0))","v":{"$error":"#N/A"}},{"$f":"IF(D143=0,\"\",VLOOKUP(DATE($A149,$A151,D143)+$I144,Activités!$C$4:$I$534,5,0))","v":{"$error":"#N/A"}},{"$f":"IF(E143=0,\"\",VLOOKUP(DATE($A149,$A151,E143)+$I144,Activités!$C$4:$I$534,5,0))","v":{"$error":"#N/A"}},{"$f":"IF(F143=0,\"\",VLOOKUP(DATE($A149,$A151,F143)+$I144,Activités!$C$4:$I$534,5,0))","v":{"$error":"#N/A"}},{"$f":"IF(G143=0,\"\",VLOOKUP(DATE($A149,$A151,G143)+$I144,Activités!$C$4:$I$534,5,0))","v":{"$error":"#N/A"}},{"$f":"IF(H143=0,\"\",VLOOKUP(DATE($A149,$A151,H143)+$I144,Activités!$C$4:$I$534,5,0))","v":{"$error":"#N/A"}},0.1,null,null,null,null,null,null,null,null,null,null,null,null,null,null,null,null,null,{"$f":"AA143","v":""},"","","","","",""]
[null,{"$f":"IF(ISNA(B144),\"\",B144)","v":""},{"$f":"IF(ISNA(C144),\"\",C144)","v":""},"","","","","",null,null,null,null,null,null,null,null,null,null,null,null,null,null,null,null,null,null,{"$f":"IF(LEFT(B145,7)=\"CDT-145\",\"CDT-145\",IF(LEFT(B145,7)=\"CDT-135\",\"CDT-135\",AA143))","v":""},"","","","","",""]
[null,{"$f":"IF(B143=0,\"\",VLOOKUP(DATE($A149,$A151,B143)+$I146,Activités!$C$4:$I$534,5,0))","v":{"$error":"#N/A"}},{"$f":"IF(C143=0,\"\",VLOOKUP(DATE($A149,$A151,C143)+$I146,Activités!$C$4:$I$534,5,0))","v":{"$error":"#N/A"}},{"$f":"IF(D143=0,\"\",VLOOKUP(DATE($A149,$A151,D143)+$I146,Activités!$C$4:$I$534,5,0))","v":{"$error":"#N/A"}},{"$f":"IF(E143=0,\"\",VLOOKUP(DATE($A149,$A151,E143)+$I146,Activités!$C$4:$I$534,5,0))","v":{"$error":"#N/A"}},{"$f":"IF(F143=0,\"\",VLOOKUP(DATE($A149,$A151,F143)+$I146,Activités!$C$4:$I$534,5,0))","v":{"$error":"#N/A"}},{"$f":"IF(G143=0,\"\",VLOOKUP(DATE($A149,$A151,G143)+$I146,Activités!$C$4:$I$534,5,0))","v":{"$error":"#N/A"}},{"$f":"IF(H143=0,\"\",VLOOKUP(DATE($A149,$A151,H143)+$I146,Activités!$C$4:$I$534,5,0))","v":{"$error":"#N/A"}},{"$f":"+I144+0.1","v":0.2},null,null,null,null,null,null,null,null,null,null,null,null,null,null,null,null,null,{"$f":"AA145","v":""},"","","","","",""]
[null,{"$f":"IF(ISNA(B146),\"\",B146)","v":""},"","","","","","",null,null,null,null,null,null,null,null,null,null,null,null,null,null,null,null,null,null,{"$f":"IF(LEFT(B147,7)=\"CDT-145\",\"CDT-145\",IF(LEFT(B147,7)=\"CDT-135\",\"CDT-135\",AA143))","v":""},"","","","","",""]
[null,{"$f":"IF(B143=0,\"\",VLOOKUP(DATE($A149,$A151,B143)+$I148,Activités!$C$4:$I$534,5,0))","v":{"$error":"#N/A"}},{"$f":"IF(C143=0,\"\",VLOOKUP(DATE($A149,$A151,C143)+$I148,Activités!$C$4:$I$534,5,0))","v":{"$error":"#N/A"}},{"$f":"IF(D143=0,\"\",VLOOKUP(DATE($A149,$A151,D143)+$I148,Activités!$C$4:$I$534,5,0))","v":{"$error":"#N/A"}},{"$f":"IF(E143=0,\"\",VLOOKUP(DATE($A149,$A151,E143)+$I148,Activités!$C$4:$I$534,5,0))","v":{"$error":"#N/A"}},{"$f":"IF(F143=0,\"\",VLOOKUP(DATE($A149,$A151,F143)+$I148,Activités!$C$4:$I$534,5,0))","v":{"$error":"#N/A"}},{"$f":"IF(G143=0,\"\",VLOOKUP(DATE($A149,$A151,G143)+$I148,Activités!$C$4:$I$534,5,0))","v":{"$error":"#N/A"}},{"$f":"IF(H143=0,\"\",VLOOKUP(DATE($A149,$A151,H143)+$I148,Activités!$C$4:$I$534,5,0))","v":{"$error":"#N/A"}},{"$f":"+I146+0.1","v":0.30000000000000004},null,null,null,null,null,null,null,null,null,null,null,null,null,null,null,null,null,{"$f":"AA147","v":""},"","","","","",""]
[{"$f":"H141","v":2017},{"$f":"IF(ISNA(B148),\"\",B148)","v":""},"","","","","","",null,null,null,null,null,null,null,null,null,null,null,null,null,null,null,null,null,null,{"$f":"IF(LEFT(B149,7)=\"CDT-145\",\"CDT-145\",IF(LEFT(B149,7)=\"CDT-135\",\"CDT-135\",AA143))","v":""},"","","","","",""]
[null,{"$f":"IF(B143=0,\"\",VLOOKUP(DATE($A149,$A151,B143)+$I150,Activités!$C$4:$I$534,5,0))","v":{"$error":"#N/A"}},{"$f":"IF(C143=0,\"\",VLOOKUP(DATE($A149,$A151,C143)+$I150,Activités!$C$4:$I$534,5,0))","v":{"$error":"#N/A"}},{"$f":"IF(D143=0,\"\",VLOOKUP(DATE($A149,$A151,D143)+$I150,Activités!$C$4:$I$534,5,0))","v":{"$error":"#N/A"}},{"$f":"IF(E143=0,\"\",VLOOKUP(DATE($A149,$A151,E143)+$I150,Activités!$C$4:$I$534,5,0))","v":{"$error":"#N/A"}},{"$f":"IF(F143=0,\"\",VLOOKUP(DATE($A149,$A151,F143)+$I150,Activités!$C$4:$I$534,5,0))","v":{"$error":"#N/A"}},{"$f":"IF(G143=0,\"\",VLOOKUP(DATE($A149,$A151,G143)+$I150,Activités!$C$4:$I$534,5,0))","v":{"$error":"#N/A"}},{"$f":"IF(H143=0,\"\",VLOOKUP(DATE($A149,$A151,H143)+$I150,Activités!$C$4:$I$534,5,0))","v":{"$error":"#N/A"}},{"$f":"+I148+0.1","v":0.4},null,null,null,null,null,null,null,null,null,null,null,null,null,null,null,null,null,{"$f":"AA149","v":""},"","","","","",""]
[10,{"$f":"IF(ISNA(B150),\"\",B150)","v":""},"","","","","","",null,null,null,null,null,null,null,null,null,null,null,null,null,null,null,null,null,null,{"$f":"IF(LEFT(B151,7)=\"CDT-145\",\"CDT-145\",IF(LEFT(B151,7)=\"CDT-135\",\"CDT-135\",AA143))","v":""},"","","","","",""]
[null,{"$f":"IF(B143=0,\"\",VLOOKUP(DATE($A149,$A151,B143)+$I152,Activités!$C$4:$I$534,5,0))","v":{"$error":"#N/A"}},{"$f":"IF(C143=0,\"\",VLOOKUP(DATE($A149,$A151,C143)+$I152,Activités!$C$4:$I$534,5,0))","v":{"$error":"#N/A"}},{"$f":"IF(D143=0,\"\",VLOOKUP(DATE($A149,$A151,D143)+$I152,Activités!$C$4:$I$534,5,0))","v":{"$error":"#N/A"}},{"$f":"IF(E143=0,\"\",VLOOKUP(DATE($A149,$A151,E143)+$I152,Activités!$C$4:$I$534,5,0))","v":{"$error":"#N/A"}},{"$f":"IF(F143=0,\"\",VLOOKUP(DATE($A149,$A151,F143)+$I152,Activités!$C$4:$I$534,5,0))","v":{"$error":"#N/A"}},{"$f":"IF(G143=0,\"\",VLOOKUP(DATE($A149,$A151,G143)+$I152,Activités!$C$4:$I$534,5,0))","v":{"$error":"#N/A"}},{"$f":"IF(H143=0,\"\",VLOOKUP(DATE($A149,$A151,H143)+$I152,Activités!$C$4:$I$534,5,0))","v":{"$error":"#N/A"}},{"$f":"+I150+0.1","v":0.5},null,null,null,null,null,null,null,null,null,null,null,null,null,null,null,null,null,{"$f":"AA151","v":""},"","","","","",""]
[31,{"$f":"IF(ISNA(B152),\"\",B152)","v":""},"","","","","","",null,null,null,null,null,null,null,null,null,null,null,null,null,null,null,null,null,null,{"$f":"IF(LEFT(B153,7)=\"CDT-145\",\"CDT-145\",IF(LEFT(B153,7)=\"CDT-135\",\"CDT-135\",AA143))","v":""},"","","","","",""]
[{"$f":"H143","v":7},{"$f":"IF(OR(A154=$A164,A154=0),0,A154+1)","v":8},9,10,11,12,13,14,null,null,null,null,null,null,null,null,null,null,null,null,null,null,null,null,null,null,{"$f":"IF(AND($B154=0,$H154=0),\"Invisible\",\"\")","v":""},{"$f":"IF(AND($B154=0,$H154=0),\"Invisible\",\"\")","v":""},"","","","",""]
[null,{"$f":"IF(B154=0,\"\",VLOOKUP(DATE($A160,$A162,B154)+$I155,Activités!$C$4:$I$534,5,0))","v":{"$error":"#N/A"}},{"$f":"IF(C154=0,\"\",VLOOKUP(DATE($A160,$A162,C154)+$I155,Activités!$C$4:$I$534,5,0))","v":{"$error":"#N/A"}},{"$f":"IF(D154=0,\"\",VLOOKUP(DATE($A160,$A162,D154)+$I155,Activités!$C$4:$I$534,5,0))","v":{"$error":"#N/A"}},{"$f":"IF(E154=0,\"\",VLOOKUP(DATE($A160,$A162,E154)+$I155,Activités!$C$4:$I$534,5,0))","v":{"$error":"#N/A"}},{"$f":"IF(F154=0,\"\",VLOOKUP(DATE($A160,$A162,F154)+$I155,Activités!$C$4:$I$534,5,0))","v":{"$error":"#N/A"}},{"$f":"IF(G154=0,\"\",VLOOKUP(DATE($A160,$A162,G154)+$I155,Activités!$C$4:$I$534,5,0))","v":{"$error":"#N/A"}},{"$f":"IF(H154=0,\"\",VLOOKUP(DATE($A160,$A162,H154)+$I155,Activités!$C$4:$I$534,5,0))","v":{"$error":"#N/A"}},0.1,null,null,null,null,null,null,null,null,null,null,null,null,null,null,null,null,null,{"$f":"AA154","v":""},"","","","","",""]
[null,{"$f":"IF(ISNA(B155),\"\",B155)","v":""},{"$f":"IF(ISNA(C155),\"\",C155)","v":""},"","","","","",null,null,null,null,null,null,null,null,null,null,null,null,null,null,null,null,null,null,{"$f":"IF(LEFT(B156,7)=\"CDT-145\",\"CDT-145\",IF(LEFT(B156,7)=\"CDT-135\",\"CDT-135\",AA154))","v":""},"","","","","",""]
[null,{"$f":"IF(B154=0,\"\",VLOOKUP(DATE($A160,$A162,B154)+$I157,Activités!$C$4:$I$534,5,0))","v":{"$error":"#N/A"}},{"$f":"IF(C154=0,\"\",VLOOKUP(DATE($A160,$A162,C154)+$I157,Activités!$C$4:$I$534,5,0))","v":{"$error":"#N/A"}},{"$f":"IF(D154=0,\"\",VLOOKUP(DATE($A160,$A162,D154)+$I157,Activités!$C$4:$I$534,5,0))","v":{"$error":"#N/A"}},{"$f":"IF(E154=0,\"\",VLOOKUP(DATE($A160,$A162,E154)+$I157,Activités!$C$4:$I$534,5,0))","v":{"$error":"#N/A"}},{"$f":"IF(F154=0,\"\",VLOOKUP(DATE($A160,$A162,F154)+$I157,Activités!$C$4:$I$534,5,0))","v":{"$error":"#N/A"}},{"$f":"IF(G154=0,\"\",VLOOKUP(DATE($A160,$A162,G154)+$I157,Activités!$C$4:$I$534,5,0))","v":{"$error":"#N/A"}},{"$f":"IF(H154=0,\"\",VLOOKUP(DATE($A160,$A162,H154)+$I157,Activités!$C$4:$I$534,5,0))","v":{"$error":"#N/A"}},{"$f":"+I155+0.1","v":0.2},null,null,null,null,null,null,null,null,null,null,null,null,null,null,null,null,null,{"$f":"AA156","v":""},"","","","","",""]
[null,{"$f":"IF(ISNA(B157),\"\",B157)","v":""},"","","","","","",null,null,null,null,null,null,null,null,null,null,null,null,null,null,null,null,null,null,{"$f":"IF(LEFT(B158,7)=\"CDT-145\",\"CDT-145\",IF(LEFT(B158,7)=\"CDT-135\",\"CDT-135\",AA154))","v":""},"","","","","",""]
[null,{"$f":"IF(B154=0,\"\",VLOOKUP(DATE($A160,$A162,B154)+$I159,Activités!$C$4:$I$534,5,0))","v":{"$error":"#N/A"}},{"$f":"IF(C154=0,\"\",VLOOKUP(DATE($A160,$A162,C154)+$I159,Activités!$C$4:$I$534,5,0))","v":{"$error":"#N/A"}},{"$f":"IF(D154=0,\"\",VLOOKUP(DATE($A160,$A162,D154)+$I159,Activités!$C$4:$I$534,5,0))","v":{"$error":"#N/A"}},{"$f":"IF(E154=0,\"\",VLOOKUP(DATE($A160,$A162,E154)+$I159,Activités!$C$4:$I$534,5,0))","v":{"$error":"#N/A"}},{"$f":"IF(F154=0,\"\",VLOOKUP(DATE($A160,$A162,F154)+$I159,Activités!$C$4:$I$534,5,0))","v":{"$error":"#N/A"}},{"$f":"IF(G154=0,\"\",VLOOKUP(DATE($A160,$A162,G154)+$I159,Activités!$C$4:$I$534,5,0))","v":{"$error":"#N/A"}},{"$f":"IF(H154=0,\"\",VLOOKUP(DATE($A160,$A162,H154)+$I159,Activités!$C$4:$I$534,5,0))","v":{"$error":"#N/A"}},{"$f":"+I157+0.1","v":0.30000000000000004},null,null,null,null,null,null,null,null,null,null,null,null,null,null,null,null,null,{"$f":"AA158","v":""},"","","","","",""]
[{"$f":"A149","v":2017},{"$f":"IF(ISNA(B159),\"\",B159)","v":""},"","","","","","",null,null,null,null,null,null,null,null,null,null,null,null,null,null,null,null,null,null,{"$f":"IF(LEFT(B160,7)=\"CDT-145\",\"CDT-145\",IF(LEFT(B160,7)=\"CDT-135\",\"CDT-135\",AA154))","v":""},"","","","","",""]
[null,{"$f":"IF(B154=0,\"\",VLOOKUP(DATE($A160,$A162,B154)+$I161,Activités!$C$4:$I$534,5,0))","v":{"$error":"#N/A"}},{"$f":"IF(C154=0,\"\",VLOOKUP(DATE($A160,$A162,C154)+$I161,Activités!$C$4:$I$534,5,0))","v":{"$error":"#N/A"}},{"$f":"IF(D154=0,\"\",VLOOKUP(DATE($A160,$A162,D154)+$I161,Activités!$C$4:$I$534,5,0))","v":{"$error":"#N/A"}},{"$f":"IF(E154=0,\"\",VLOOKUP(DATE($A160,$A162,E154)+$I161,Activités!$C$4:$I$534,5,0))","v":{"$error":"#N/A"}},{"$f":"IF(F154=0,\"\",VLOOKUP(DATE($A160,$A162,F154)+$I161,Activités!$C$4:$I$534,5,0))","v":{"$error":"#N/A"}},{"$f":"IF(G154=0,\"\",VLOOKUP(DATE($A160,$A162,G154)+$I161,Activités!$C$4:$I$534,5,0))","v":{"$error":"#N/A"}},{"$f":"IF(H154=0,\"\",VLOOKUP(DATE($A160,$A162,H154)+$I161,Activités!$C$4:$I$534,5,0))","v":{"$error":"#N/A"}},{"$f":"+I159+0.1","v":0.4},null,null,null,null,null,null,null,null,null,null,null,null,null,null,null,null,null,{"$f":"AA160","v":""},"","","","","",""]
[{"$f":"A151","v":10},{"$f":"IF(ISNA(B161),\"\",B161)","v":""},"","","","","","",null,null,null,null,null,null,null,null,null,null,null,null,null,null,null,null,null,null,{"$f":"IF(LEFT(B162,7)=\"CDT-145\",\"CDT-145\",IF(LEFT(B162,7)=\"CDT-135\",\"CDT-135\",AA154))","v":""},"","","","","",""]
[null,{"$f":"IF(B154=0,\"\",VLOOKUP(DATE($A160,$A162,B154)+$I163,Activités!$C$4:$I$534,5,0))","v":{"$error":"#N/A"}},{"$f":"IF(C154=0,\"\",VLOOKUP(DATE($A160,$A162,C154)+$I163,Activités!$C$4:$I$534,5,0))","v":{"$error":"#N/A"}},{"$f":"IF(D154=0,\"\",VLOOKUP(DATE($A160,$A162,D154)+$I163,Activités!$C$4:$I$534,5,0))","v":{"$error":"#N/A"}},{"$f":"IF(E154=0,\"\",VLOOKUP(DATE($A160,$A162,E154)+$I163,Activités!$C$4:$I$534,5,0))","v":{"$error":"#N/A"}},{"$f":"IF(F154=0,\"\",VLOOKUP(DATE($A160,$A162,F154)+$I163,Activités!$C$4:$I$534,5,0))","v":{"$error":"#N/A"}},{"$f":"IF(G154=0,\"\",VLOOKUP(DATE($A160,$A162,G154)+$I163,Activités!$C$4:$I$534,5,0))","v":{"$error":"#N/A"}},{"$f":"IF(H154=0,\"\",VLOOKUP(DATE($A160,$A162,H154)+$I163,Activités!$C$4:$I$534,5,0))","v":{"$error":"#N/A"}},{"$f":"+I161+0.1","v":0.5},null,null,null,null,null,null,null,null,null,null,null,null,null,null,null,null,null,{"$f":"AA162","v":""},"","","","","",""]
[{"$f":"A153","v":31},{"$f":"IF(ISNA(B163),\"\",B163)","v":""},"","","","","","",null,null,null,null,null,null,null,null,null,null,null,null,null,null,null,null,null,null,{"$f":"IF(LEFT(B164,7)=\"CDT-145\",\"CDT-145\",IF(LEFT(B164,7)=\"CDT-135\",\"CDT-135\",AA154))","v":""},"","","","","",""]
[{"$f":"H154","v":14},{"$f":"IF(OR(A165=$A175,A165=0),0,A165+1)","v":15},16,17,18,19,20,21,null,null,null,null,null,null,null,null,null,null,null,null,null,null,null,null,null,null,{"$f":"IF(AND($B165=0,$H165=0),\"Invisible\",\"\")","v":""},{"$f":"IF(AND($B165=0,$H165=0),\"Invisible\",\"\")","v":""},"","","","",""]
[null,{"$f":"IF(B165=0,\"\",VLOOKUP(DATE($A171,$A173,B165)+$I166,Activités!$C$4:$I$534,5,0))","v":{"$error":"#N/A"}},{"$f":"IF(C165=0,\"\",VLOOKUP(DATE($A171,$A173,C165)+$I166,Activités!$C$4:$I$534,5,0))","v":{"$error":"#N/A"}},{"$f":"IF(D165=0,\"\",VLOOKUP(DATE($A171,$A173,D165)+$I166,Activités!$C$4:$I$534,5,0))","v":{"$error":"#N/A"}},{"$f":"IF(E165=0,\"\",VLOOKUP(DATE($A171,$A173,E165)+$I166,Activités!$C$4:$I$534,5,0))","v":{"$error":"#N/A"}},{"$f":"IF(F165=0,\"\",VLOOKUP(DATE($A171,$A173,F165)+$I166,Activités!$C$4:$I$534,5,0))","v":{"$error":"#N/A"}},{"$f":"IF(G165=0,\"\",VLOOKUP(DATE($A171,$A173,G165)+$I166,Activités!$C$4:$I$534,5,0))","v":0},{"$f":"IF(H165=0,\"\",VLOOKUP(DATE($A171,$A173,H165)+$I166,Activités!$C$4:$I$534,5,0))","v":"CDT-135 - "},0.1,null,null,null,null,null,null,null,null,null,null,null,null,null,null,null,null,null,{"$f":"AA165","v":""},"","","","","",""]
[null,{"$f":"IF(ISNA(B166),\"\",B166)","v":""},{"$f":"IF(ISNA(C166),\"\",C166)","v":""},"","","",0,"CDT-135 - ",null,null,null,null,null,null,null,null,null,null,null,null,null,null,null,null,null,null,{"$f":"IF(LEFT(B167,7)=\"CDT-145\",\"CDT-145\",IF(LEFT(B167,7)=\"CDT-135\",\"CDT-135\",AA165))","v":""},"","","","","","CDT-135"]
[null,{"$f":"IF(B165=0,\"\",VLOOKUP(DATE($A171,$A173,B165)+$I168,Activités!$C$4:$I$534,5,0))","v":{"$error":"#N/A"}},{"$f":"IF(C165=0,\"\",VLOOKUP(DATE($A171,$A173,C165)+$I168,Activités!$C$4:$I$534,5,0))","v":{"$error":"#N/A"}},{"$f":"IF(D165=0,\"\",VLOOKUP(DATE($A171,$A173,D165)+$I168,Activités!$C$4:$I$534,5,0))","v":{"$error":"#N/A"}},{"$f":"IF(E165=0,\"\",VLOOKUP(DATE($A171,$A173,E165)+$I168,Activités!$C$4:$I$534,5,0))","v":{"$error":"#N/A"}},{"$f":"IF(F165=0,\"\",VLOOKUP(DATE($A171,$A173,F165)+$I168,Activités!$C$4:$I$534,5,0))","v":{"$error":"#N/A"}},{"$f":"IF(G165=0,\"\",VLOOKUP(DATE($A171,$A173,G165)+$I168,Activités!$C$4:$I$534,5,0))","v":{"$error":"#N/A"}},{"$f":"IF(H165=0,\"\",VLOOKUP(DATE($A171,$A173,H165)+$I168,Activités!$C$4:$I$534,5,0))","v":"Inscrire les présences"},{"$f":"+I166+0.1","v":0.2},null,null,null,null,null,null,null,null,null,null,null,null,null,null,null,null,null,{"$f":"AA167","v":""},"","","","","","CDT-135"]
[null,{"$f":"IF(ISNA(B168),\"\",B168)","v":""},"","","","","","Inscrire les présences",null,null,null,null,null,null,null,null,null,null,null,null,null,null,null,null,null,null,{"$f":"IF(LEFT(B169,7)=\"CDT-145\",\"CDT-145\",IF(LEFT(B169,7)=\"CDT-135\",\"CDT-135\",AA165))","v":""},"","","","","",""]
[null,{"$f":"IF(B165=0,\"\",VLOOKUP(DATE($A171,$A173,B165)+$I170,Activités!$C$4:$I$534,5,0))","v":{"$error":"#N/A"}},{"$f":"IF(C165=0,\"\",VLOOKUP(DATE($A171,$A173,C165)+$I170,Activités!$C$4:$I$534,5,0))","v":{"$error":"#N/A"}},{"$f":"IF(D165=0,\"\",VLOOKUP(DATE($A171,$A173,D165)+$I170,Activités!$C$4:$I$534,5,0))","v":{"$error":"#N/A"}},{"$f":"IF(E165=0,\"\",VLOOKUP(DATE($A171,$A173,E165)+$I170,Activités!$C$4:$I$534,5,0))","v":{"$error":"#N/A"}},{"$f":"IF(F165=0,\"\",VLOOKUP(DATE($A171,$A173,F165)+$I170,Activités!$C$4:$I$534,5,0))","v":{"$error":"#N/A"}},{"$f":"IF(G165=0,\"\",VLOOKUP(DATE($A171,$A173,G165)+$I170,Activités!$C$4:$I$534,5,0))","v":{"$error":"#N/A"}},{"$f":"IF(H165=0,\"\",VLOOKUP(DATE($A171,$A173,H165)+$I170,Activités!$C$4:$I$534,5,0))","v":0},{"$f":"+I168+0.1","v":0.30000000000000004},null,null,null,null,null,null,null,null,null,null,null,null,null,null,null,null,null,{"$f":"AA169","v":""},"","","","","",""]
[{"$f":"A160","v":2017},{"$f":"IF(ISNA(B170),\"\",B170)","v":""},"","","","","",0,null,null,null,null,null,null,null,null,null,null,null,null,null,null,null,null,null,null,{"$f":"IF(LEFT(B171,7)=\"CDT-145\",\"CDT-145\",IF(LEFT(B171,7)=\"CDT-135\",\"CDT-135\",AA165))","v":""},"","","","","",""]
[null,{"$f":"IF(B165=0,\"\",VLOOKUP(DATE($A171,$A173,B165)+$I172,Activités!$C$4:$I$534,5,0))","v":{"$error":"#N/A"}},{"$f":"IF(C165=0,\"\",VLOOKUP(DATE($A171,$A173,C165)+$I172,Activités!$C$4:$I$534,5,0))","v":{"$error":"#N/A"}},{"$f":"IF(D165=0,\"\",VLOOKUP(DATE($A171,$A173,D165)+$I172,Activités!$C$4:$I$534,5,0))","v":{"$error":"#N/A"}},{"$f":"IF(E165=0,\"\",VLOOKUP(DATE($A171,$A173,E165)+$I172,Activités!$C$4:$I$534,5,0))","v":{"$error":"#N/A"}},{"$f":"IF(F165=0,\"\",VLOOKUP(DATE($A171,$A173,F165)+$I172,Activités!$C$4:$I$534,5,0))","v":{"$error":"#N/A"}},{"$f":"IF(G165=0,\"\",VLOOKUP(DATE($A171,$A173,G165)+$I172,Activités!$C$4:$I$534,5,0))","v":{"$error":"#N/A"}},{"$f":"IF(H165=0,\"\",VLOOKUP(DATE($A171,$A173,H165)+$I172,Activités!$C$4:$I$534,5,0))","v":{"$error":"#N/A"}},{"$f":"+I170+0.1","v":0.4},null,null,null,null,null,null,null,null,null,null,null,null,null,null,null,null,null,{"$f":"AA171","v":""},"","","","","",""]
[{"$f":"A162","v":10},{"$f":"IF(ISNA(B172),\"\",B172)","v":""},"","","","","","",null,null,null,null,null,null,null,null,null,null,null,null,null,null,null,null,null,null,{"$f":"IF(LEFT(B173,7)=\"CDT-145\",\"CDT-145\",IF(LEFT(B173,7)=\"CDT-135\",\"CDT-135\",AA165))","v":""},"","","","","",""]
[null,{"$f":"IF(B165=0,\"\",VLOOKUP(DATE($A171,$A173,B165)+$I174,Activités!$C$4:$I$534,5,0))","v":{"$error":"#N/A"}},{"$f":"IF(C165=0,\"\",VLOOKUP(DATE($A171,$A173,C165)+$I174,Activités!$C$4:$I$534,5,0))","v":{"$error":"#N/A"}},{"$f":"IF(D165=0,\"\",VLOOKUP(DATE($A171,$A173,D165)+$I174,Activités!$C$4:$I$534,5,0))","v":{"$error":"#N/A"}},{"$f":"IF(E165=0,\"\",VLOOKUP(DATE($A171,$A173,E165)+$I174,Activités!$C$4:$I$534,5,0))","v":{"$error":"#N/A"}},{"$f":"IF(F165=0,\"\",VLOOKUP(DATE($A171,$A173,F165)+$I174,Activités!$C$4:$I$534,5,0))","v":{"$error":"#N/A"}},{"$f":"IF(G165=0,\"\",VLOOKUP(DATE($A171,$A173,G165)+$I174,Activités!$C$4:$I$534,5,0))","v":{"$error":"#N/A"}},{"$f":"IF(H165=0,\"\",VLOOKUP(DATE($A171,$A173,H165)+$I174,Activités!$C$4:$I$534,5,0))","v":{"$error":"#N/A"}},{"$f":"+I172+0.1","v":0.5},null,null,null,null,null,null,null,null,null,null,null,null,null,null,null,null,null,{"$f":"AA173","v":""},"","","","","",""]
[{"$f":"A164","v":31},{"$f":"IF(ISNA(B174),\"\",B174)","v":""},"","","","","","",null,null,null,null,null,null,null,null,null,null,null,null,null,null,null,null,null,null,{"$f":"IF(LEFT(B175,7)=\"CDT-145\",\"CDT-145\",IF(LEFT(B175,7)=\"CDT-135\",\"CDT-135\",AA165))","v":""},"","","","","",""]
[{"$f":"H165","v":21},{"$f":"IF(OR(A176=$A186,A176=0),0,A176+1)","v":22},23,24,25,26,27,28,null,null,null,null,null,null,null,null,null,null,null,null,null,null,null,null,null,null,{"$f":"IF(AND($B176=0,$H176=0),\"Invisible\",\"\")","v":""},{"$f":"IF(AND($B176=0,$H176=0),\"Invisible\",\"\")","v":""},"","","","",""]
[null,{"$f":"IF(B176=0,\"\",VLOOKUP(DATE($A182,$A184,B176)+$I177,Activités!$C$4:$I$534,5,0))","v":"CDT-135 - "},{"$f":"IF(C176=0,\"\",VLOOKUP(DATE($A182,$A184,C176)+$I177,Activités!$C$4:$I$534,5,0))","v":{"$error":"#N/A"}},{"$f":"IF(D176=0,\"\",VLOOKUP(DATE($A182,$A184,D176)+$I177,Activités!$C$4:$I$534,5,0))","v":{"$error":"#N/A"}},{"$f":"IF(E176=0,\"\",VLOOKUP(DATE($A182,$A184,E176)+$I177,Activités!$C$4:$I$534,5,0))","v":{"$error":"#N/A"}},{"$f":"IF(F176=0,\"\",VLOOKUP(DATE($A182,$A184,F176)+$I177,Activités!$C$4:$I$534,5,0))","v":{"$error":"#N/A"}},{"$f":"IF(G176=0,\"\",VLOOKUP(DATE($A182,$A184,G176)+$I177,Activités!$C$4:$I$534,5,0))","v":{"$error":"#N/A"}},{"$f":"IF(H176=0,\"\",VLOOKUP(DATE($A182,$A184,H176)+$I177,Activités!$C$4:$I$534,5,0))","v":0},0.1,null,null,null,null,null,null,null,null,null,null,null,null,null,null,null,null,null,{"$f":"AA176","v":""},"","","","","",""]
[null,{"$f":"IF(ISNA(B177),\"\",B177)","v":"CDT-135 - "},{"$f":"IF(ISNA(C177),\"\",C177)","v":""},"","","","",0,null,null,null,null,null,null,null,null,null,null,null,null,null,null,null,null,null,null,{"$f":"IF(LEFT(B178,7)=\"CDT-145\",\"CDT-145\",IF(LEFT(B178,7)=\"CDT-135\",\"CDT-135\",AA176))","v":"CDT-135"},"","","","","",""]
[null,{"$f":"IF(B176=0,\"\",VLOOKUP(DATE($A182,$A184,B176)+$I179,Activités!$C$4:$I$534,5,0))","v":"Inscrire les présences"},{"$f":"IF(C176=0,\"\",VLOOKUP(DATE($A182,$A184,C176)+$I179,Activités!$C$4:$I$534,5,0))","v":{"$error":"#N/A"}},{"$f":"IF(D176=0,\"\",VLOOKUP(DATE($A182,$A184,D176)+$I179,Activités!$C$4:$I$534,5,0))","v":{"$error":"#N/A"}},{"$f":"IF(E176=0,\"\",VLOOKUP(DATE($A182,$A184,E176)+$I179,Activités!$C$4:$I$534,5,0))","v":{"$error":"#N/A"}},{"$f":"IF(F176=0,\"\",VLOOKUP(DATE($A182,$A184,F176)+$I179,Activités!$C$4:$I$534,5,0))","v":{"$error":"#N/A"}},{"$f":"IF(G176=0,\"\",VLOOKUP(DATE($A182,$A184,G176)+$I179,Activités!$C$4:$I$534,5,0))","v":{"$error":"#N/A"}},{"$f":"IF(H176=0,\"\",VLOOKUP(DATE($A182,$A184,H176)+$I179,Activités!$C$4:$I$534,5,0))","v":{"$error":"#N/A"}},{"$f":"+I177+0.1","v":0.2},null,null,null,null,null,null,null,null,null,null,null,null,null,null,null,null,null,{"$f":"AA178","v":"CDT-135"},"","","","","",""]
[null,{"$f":"IF(ISNA(B179),\"\",B179)","v":"Inscrire les présences"},"","","","","","",null,null,null,null,null,null,null,null,null,null,null,null,null,null,null,null,null,null,{"$f":"IF(LEFT(B180,7)=\"CDT-145\",\"CDT-145\",IF(LEFT(B180,7)=\"CDT-135\",\"CDT-135\",AA176))","v":""},"","","","","",""]
[null,{"$f":"IF(B176=0,\"\",VLOOKUP(DATE($A182,$A184,B176)+$I181,Activités!$C$4:$I$534,5,0))","v":{"$error":"#N/A"}},{"$f":"IF(C176=0,\"\",VLOOKUP(DATE($A182,$A184,C176)+$I181,Activités!$C$4:$I$534,5,0))","v":{"$error":"#N/A"}},{"$f":"IF(D176=0,\"\",VLOOKUP(DATE($A182,$A184,D176)+$I181,Activités!$C$4:$I$534,5,0))","v":{"$error":"#N/A"}},{"$f":"IF(E176=0,\"\",VLOOKUP(DATE($A182,$A184,E176)+$I181,Activités!$C$4:$I$534,5,0))","v":{"$error":"#N/A"}},{"$f":"IF(F176=0,\"\",VLOOKUP(DATE($A182,$A184,F176)+$I181,Activités!$C$4:$I$534,5,0))","v":{"$error":"#N/A"}},{"$f":"IF(G176=0,\"\",VLOOKUP(DATE($A182,$A184,G176)+$I181,Activités!$C$4:$I$534,5,0))","v":{"$error":"#N/A"}},{"$f":"IF(H176=0,\"\",VLOOKUP(DATE($A182,$A184,H176)+$I181,Activités!$C$4:$I$534,5,0))","v":{"$error":"#N/A"}},{"$f":"+I179+0.1","v":0.30000000000000004},null,null,null,null,null,null,null,null,null,null,null,null,null,null,null,null,null,{"$f":"AA180","v":""},"","","","","",""]
[{"$f":"A171","v":2017},{"$f":"IF(ISNA(B181),\"\",B181)","v":""},"","","","","","",null,null,null,null,null,null,null,null,null,null,null,null,null,null,null,null,null,null,{"$f":"IF(LEFT(B182,7)=\"CDT-145\",\"CDT-145\",IF(LEFT(B182,7)=\"CDT-135\",\"CDT-135\",AA176))","v":""},"","","","","",""]
[null,{"$f":"IF(B176=0,\"\",VLOOKUP(DATE($A182,$A184,B176)+$I183,Activités!$C$4:$I$534,5,0))","v":{"$error":"#N/A"}},{"$f":"IF(C176=0,\"\",VLOOKUP(DATE($A182,$A184,C176)+$I183,Activités!$C$4:$I$534,5,0))","v":{"$error":"#N/A"}},{"$f":"IF(D176=0,\"\",VLOOKUP(DATE($A182,$A184,D176)+$I183,Activités!$C$4:$I$534,5,0))","v":{"$error":"#N/A"}},{"$f":"IF(E176=0,\"\",VLOOKUP(DATE($A182,$A184,E176)+$I183,Activités!$C$4:$I$534,5,0))","v":{"$error":"#N/A"}},{"$f":"IF(F176=0,\"\",VLOOKUP(DATE($A182,$A184,F176)+$I183,Activités!$C$4:$I$534,5,0))","v":{"$error":"#N/A"}},{"$f":"IF(G176=0,\"\",VLOOKUP(DATE($A182,$A184,G176)+$I183,Activités!$C$4:$I$534,5,0))","v":{"$error":"#N/A"}},{"$f":"IF(H176=0,\"\",VLOOKUP(DATE($A182,$A184,H176)+$I183,Activités!$C$4:$I$534,5,0))","v":{"$error":"#N/A"}},{"$f":"+I181+0.1","v":0.4},null,null,null,null,null,null,null,null,null,null,null,null,null,null,null,null,null,{"$f":"AA182","v":""},"","","","","",""]
[{"$f":"A173","v":10},{"$f":"IF(ISNA(B183),\"\",B183)","v":""},"","","","","","",null,null,null,null,null,null,null,null,null,null,null,null,null,null,null,null,null,null,{"$f":"IF(LEFT(B184,7)=\"CDT-145\",\"CDT-145\",IF(LEFT(B184,7)=\"CDT-135\",\"CDT-135\",AA176))","v":""},"","","","","",""]
[null,{"$f":"IF(B176=0,\"\",VLOOKUP(DATE($A182,$A184,B176)+$I185,Activités!$C$4:$I$534,5,0))","v":{"$error":"#N/A"}},{"$f":"IF(C176=0,\"\",VLOOKUP(DATE($A182,$A184,C176)+$I185,Activités!$C$4:$I$534,5,0))","v":{"$error":"#N/A"}},{"$f":"IF(D176=0,\"\",VLOOKUP(DATE($A182,$A184,D176)+$I185,Activités!$C$4:$I$534,5,0))","v":{"$error":"#N/A"}},{"$f":"IF(E176=0,\"\",VLOOKUP(DATE($A182,$A184,E176)+$I185,Activités!$C$4:$I$534,5,0))","v":{"$error":"#N/A"}},{"$f":"IF(F176=0,\"\",VLOOKUP(DATE($A182,$A184,F176)+$I185,Activités!$C$4:$I$534,5,0))","v":{"$error":"#N/A"}},{"$f":"IF(G176=0,\"\",VLOOKUP(DATE($A182,$A184,G176)+$I185,Activités!$C$4:$I$534,5,0))","v":{"$error":"#N/A"}},{"$f":"IF(H176=0,\"\",VLOOKUP(DATE($A182,$A184,H176)+$I185,Activités!$C$4:$I$534,5,0))","v":{"$error":"#N/A"}},{"$f":"+I183+0.1","v":0.5},null,null,null,null,null,null,null,null,null,null,null,null,null,null,null,null,null,{"$f":"AA184","v":""},"","","","","",""]
[{"$f":"A175","v":31},{"$f":"IF(ISNA(B185),\"\",B185)","v":""},"","","","","","",null,null,null,null,null,null,null,null,null,null,null,null,null,null,null,null,null,null,{"$f":"IF(LEFT(B186,7)=\"CDT-145\",\"CDT-145\",IF(LEFT(B186,7)=\"CDT-135\",\"CDT-135\",AA176))","v":""},"","","","","",""]
[{"$f":"H176","v":28},{"$f":"IF(OR(A187=$A197,A187=0),0,A187+1)","v":29},30,31,0,0,0,0,null,null,null,null,null,null,null,null,null,null,null,null,null,null,null,null,null,null,{"$f":"IF(AND($B187=0,$H187=0),\"Invisible\",\"\")","v":""},{"$f":"IF(AND($B187=0,$H187=0),\"Invisible\",\"\")","v":""},"","","","",""]
[null,{"$f":"IF(B187=0,\"\",VLOOKUP(DATE($A193,$A195,B187)+$I188,Activités!$C$4:$I$534,5,0))","v":"CDT-135 - "},{"$f":"IF(C187=0,\"\",VLOOKUP(DATE($A193,$A195,C187)+$I188,Activités!$C$4:$I$534,5,0))","v":{"$error":"#N/A"}},{"$f":"IF(D187=0,\"\",VLOOKUP(DATE($A193,$A195,D187)+$I188,Activités!$C$4:$I$534,5,0))","v":{"$error":"#N/A"}},{"$f":"IF(E187=0,\"\",VLOOKUP(DATE($A193,$A195,E187)+$I188,Activités!$C$4:$I$534,5,0))","v":""},{"$f":"IF(F187=0,\"\",VLOOKUP(DATE($A193,$A195,F187)+$I188,Activités!$C$4:$I$534,5,0))","v":""},{"$f":"IF(G187=0,\"\",VLOOKUP(DATE($A193,$A195,G187)+$I188,Activités!$C$4:$I$534,5,0))","v":""},{"$f":"IF(H187=0,\"\",VLOOKUP(DATE($A193,$A195,H187)+$I188,Activités!$C$4:$I$534,5,0))","v":""},0.1,null,null,null,null,null,null,null,null,null,null,null,null,null,null,null,null,null,{"$f":"AA187","v":""},"","","","","",""]
[null,{"$f":"IF(ISNA(B188),\"\",B188)","v":"CDT-135 - "},{"$f":"IF(ISNA(C188),\"\",C188)","v":""},"","","","","",null,null,null,null,null,null,null,null,null,null,null,null,null,null,null,null,null,null,{"$f":"IF(LEFT(B189,7)=\"CDT-145\",\"CDT-145\",IF(LEFT(B189,7)=\"CDT-135\",\"CDT-135\",AA187))","v":"CDT-135"},"","","","","",""]
[null,{"$f":"IF(B187=0,\"\",VLOOKUP(DATE($A193,$A195,B187)+$I190,Activités!$C$4:$I$534,5,0))","v":"Inscrire les présences"},{"$f":"IF(C187=0,\"\",VLOOKUP(DATE($A193,$A195,C187)+$I190,Activités!$C$4:$I$534,5,0))","v":{"$error":"#N/A"}},{"$f":"IF(D187=0,\"\",VLOOKUP(DATE($A193,$A195,D187)+$I190,Activités!$C$4:$I$534,5,0))","v":{"$error":"#N/A"}},{"$f":"IF(E187=0,\"\",VLOOKUP(DATE($A193,$A195,E187)+$I190,Activités!$C$4:$I$534,5,0))","v":""},{"$f":"IF(F187=0,\"\",VLOOKUP(DATE($A193,$A195,F187)+$I190,Activités!$C$4:$I$534,5,0))","v":""},{"$f":"IF(G187=0,\"\",VLOOKUP(DATE($A193,$A195,G187)+$I190,Activités!$C$4:$I$534,5,0))","v":""},{"$f":"IF(H187=0,\"\",VLOOKUP(DATE($A193,$A195,H187)+$I190,Activités!$C$4:$I$534,5,0))","v":""},{"$f":"+I188+0.1","v":0.2},null,null,null,null,null,null,null,null,null,null,null,null,null,null,null,null,null,{"$f":"AA189","v":"CDT-135"},"","","","","",""]
[null,{"$f":"IF(ISNA(B190),\"\",B190)","v":"Inscrire les présences"},"","","","","","",null,null,null,null,null,null,null,null,null,null,null,null,null,null,null,null,null,null,{"$f":"IF(LEFT(B191,7)=\"CDT-145\",\"CDT-145\",IF(LEFT(B191,7)=\"CDT-135\",\"CDT-135\",AA187))","v":""},"","","","","",""]
[null,{"$f":"IF(B187=0,\"\",VLOOKUP(DATE($A193,$A195,B187)+$I192,Activités!$C$4:$I$534,5,0))","v":{"$error":"#N/A"}},{"$f":"IF(C187=0,\"\",VLOOKUP(DATE($A193,$A195,C187)+$I192,Activités!$C$4:$I$534,5,0))","v":{"$error":"#N/A"}},{"$f":"IF(D187=0,\"\",VLOOKUP(DATE($A193,$A195,D187)+$I192,Activités!$C$4:$I$534,5,0))","v":{"$error":"#N/A"}},{"$f":"IF(E187=0,\"\",VLOOKUP(DATE($A193,$A195,E187)+$I192,Activités!$C$4:$I$534,5,0))","v":""},{"$f":"IF(F187=0,\"\",VLOOKUP(DATE($A193,$A195,F187)+$I192,Activités!$C$4:$I$534,5,0))","v":""},{"$f":"IF(G187=0,\"\",VLOOKUP(DATE($A193,$A195,G187)+$I192,Activités!$C$4:$I$534,5,0))","v":""},{"$f":"IF(H187=0,\"\",VLOOKUP(DATE($A193,$A195,H187)+$I192,Activités!$C$4:$I$534,5,0))","v":""},{"$f":"+I190+0.1","v":0.30000000000000004},null,null,null,null,null,null,null,null,null,null,null,null,null,null,null,null,null,{"$f":"AA191","v":""},"","","","","",""]
[{"$f":"A182","v":2017},{"$f":"IF(ISNA(B192),\"\",B192)","v":""},"","","","","","",null,null,null,null,null,null,null,null,null,null,null,null,null,null,null,null,null,null,{"$f":"IF(LEFT(B193,7)=\"CDT-145\",\"CDT-145\",IF(LEFT(B193,7)=\"CDT-135\",\"CDT-135\",AA187))","v":""},"","","","","",""]
[null,{"$f":"IF(B187=0,\"\",VLOOKUP(DATE($A193,$A195,B187)+$I194,Activités!$C$4:$I$534,5,0))","v":{"$error":"#N/A"}},{"$f":"IF(C187=0,\"\",VLOOKUP(DATE($A193,$A195,C187)+$I194,Activités!$C$4:$I$534,5,0))","v":{"$error":"#N/A"}},{"$f":"IF(D187=0,\"\",VLOOKUP(DATE($A193,$A195,D187)+$I194,Activités!$C$4:$I$534,5,0))","v":{"$error":"#N/A"}},{"$f":"IF(E187=0,\"\",VLOOKUP(DATE($A193,$A195,E187)+$I194,Activités!$C$4:$I$534,5,0))","v":""},{"$f":"IF(F187=0,\"\",VLOOKUP(DATE($A193,$A195,F187)+$I194,Activités!$C$4:$I$534,5,0))","v":""},{"$f":"IF(G187=0,\"\",VLOOKUP(DATE($A193,$A195,G187)+$I194,Activités!$C$4:$I$534,5,0))","v":""},{"$f":"IF(H187=0,\"\",VLOOKUP(DATE($A193,$A195,H187)+$I194,Activités!$C$4:$I$534,5,0))","v":""},{"$f":"+I192+0.1","v":0.4},null,null,null,null,null,null,null,null,null,null,null,null,null,null,null,null,null,{"$f":"AA193","v":""},"","","","","",""]
[{"$f":"A184","v":10},{"$f":"IF(ISNA(B194),\"\",B194)","v":""},"","","","","","",null,null,null,null,null,null,null,null,null,null,null,null,null,null,null,null,null,null,{"$f":"IF(LEFT(B195,7)=\"CDT-145\",\"CDT-145\",IF(LEFT(B195,7)=\"CDT-135\",\"CDT-135\",AA187))","v":""},"","","","","",""]
[null,{"$f":"IF(B187=0,\"\",VLOOKUP(DATE($A193,$A195,B187)+$I196,Activités!$C$4:$I$534,5,0))","v":{"$error":"#N/A"}},{"$f":"IF(C187=0,\"\",VLOOKUP(DATE($A193,$A195,C187)+$I196,Activités!$C$4:$I$534,5,0))","v":{"$error":"#N/A"}},{"$f":"IF(D187=0,\"\",VLOOKUP(DATE($A193,$A195,D187)+$I196,Activités!$C$4:$I$534,5,0))","v":{"$error":"#N/A"}},{"$f":"IF(E187=0,\"\",VLOOKUP(DATE($A193,$A195,E187)+$I196,Activités!$C$4:$I$534,5,0))","v":""},{"$f":"IF(F187=0,\"\",VLOOKUP(DATE($A193,$A195,F187)+$I196,Activités!$C$4:$I$534,5,0))","v":""},{"$f":"IF(G187=0,\"\",VLOOKUP(DATE($A193,$A195,G187)+$I196,Activités!$C$4:$I$534,5,0))","v":""},{"$f":"IF(H187=0,\"\",VLOOKUP(DATE($A193,$A195,H187)+$I196,Activités!$C$4:$I$534,5,0))","v":""},{"$f":"+I194+0.1","v":0.5},null,null,null,null,null,null,null,null,null,null,null,null,null,null,null,null,null,{"$f":"AA195","v":""},"","","","","",""]
[{"$f":"A186","v":31},{"$f":"IF(ISNA(B196),\"\",B196)","v":""},"","","","","","",null,null,null,null,null,null,null,null,null,null,null,null,null,null,null,null,null,null,{"$f":"IF(LEFT(B197,7)=\"CDT-145\",\"CDT-145\",IF(LEFT(B197,7)=\"CDT-135\",\"CDT-135\",AA187))","v":""},"","","","","",""]
[{"$f":"H187","v":0},{"$f":"IF(OR(A198=$A208,A198=0),0,A198+1)","v":0},0,0,0,0,0,0,null,null,null,null,null,null,null,null,null,null,null,null,null,null,null,null,null,null,{"$f":"IF(AND($B198=0,$H198=0),\"Invisible\",\"\")","v":"Invisible"},{"$f":"IF(AND($B198=0,$H198=0),\"Invisible\",\"\")","v":"Invisible"},"Invisible","Invisible","Invisible","Invisible","Invisible"]
[null,{"$f":"IF(B198=0,\"\",VLOOKUP(DATE($A204,$A206,B198)+$I199,Activités!$C$4:$I$534,5,0))","v":""},{"$f":"IF(C198=0,\"\",VLOOKUP(DATE($A204,$A206,C198)+$I199,Activités!$C$4:$I$534,5,0))","v":""},{"$f":"IF(D198=0,\"\",VLOOKUP(DATE($A204,$A206,D198)+$I199,Activités!$C$4:$I$534,5,0))","v":""},{"$f":"IF(E198=0,\"\",VLOOKUP(DATE($A204,$A206,E198)+$I199,Activités!$C$4:$I$534,5,0))","v":""},{"$f":"IF(F198=0,\"\",VLOOKUP(DATE($A204,$A206,F198)+$I199,Activités!$C$4:$I$534,5,0))","v":""},{"$f":"IF(G198=0,\"\",VLOOKUP(DATE($A204,$A206,G198)+$I199,Activités!$C$4:$I$534,5,0))","v":""},{"$f":"IF(H198=0,\"\",VLOOKUP(DATE($A204,$A206,H198)+$I199,Activités!$C$4:$I$534,5,0))","v":""},0.1,null,null,null,null,null,null,null,null,null,null,null,null,null,null,null,null,null,{"$f":"AA198","v":"Invisible"},"Invisible","Invisible","Invisible","Invisible","Invisible","Invisible"]
[null,{"$f":"IF(ISNA(B199),\"\",B199)","v":""},{"$f":"IF(ISNA(C199),\"\",C199)","v":""},"","","","","",null,null,null,null,null,null,null,null,null,null,null,null,null,null,null,null,null,null,{"$f":"IF(LEFT(B200,7)=\"CDT-145\",\"CDT-145\",IF(LEFT(B200,7)=\"CDT-135\",\"CDT-135\",AA198))","v":"Invisible"},"Invisible","Invisible","Invisible","Invisible","Invisible","Invisible"]
[null,{"$f":"IF(B198=0,\"\",VLOOKUP(DATE($A204,$A206,B198)+$I201,Activités!$C$4:$I$534,5,0))","v":""},{"$f":"IF(C198=0,\"\",VLOOKUP(DATE($A204,$A206,C198)+$I201,Activités!$C$4:$I$534,5,0))","v":""},{"$f":"IF(D198=0,\"\",VLOOKUP(DATE($A204,$A206,D198)+$I201,Activités!$C$4:$I$534,5,0))","v":""},{"$f":"IF(E198=0,\"\",VLOOKUP(DATE($A204,$A206,E198)+$I201,Activités!$C$4:$I$534,5,0))","v":""},{"$f":"IF(F198=0,\"\",VLOOKUP(DATE($A204,$A206,F198)+$I201,Activités!$C$4:$I$534,5,0))","v":""},{"$f":"IF(G198=0,\"\",VLOOKUP(DATE($A204,$A206,G198)+$I201,Activités!$C$4:$I$534,5,0))","v":""},{"$f":"IF(H198=0,\"\",VLOOKUP(DATE($A204,$A206,H198)+$I201,Activités!$C$4:$I$534,5,0))","v":""},{"$f":"+I199+0.1","v":0.2},null,null,null,null,null,null,null,null,null,null,null,null,null,null,null,null,null,{"$f":"AA200","v":"Invisible"},"Invisible","Invisible","Invisible","Invisible","Invisible","Invisible"]
[null,{"$f":"IF(ISNA(B201),\"\",B201)","v":""},"","","","","","",null,null,null,null,null,null,null,null,null,null,null,null,null,null,null,null,null,null,{"$f":"IF(LEFT(B202,7)=\"CDT-145\",\"CDT-145\",IF(LEFT(B202,7)=\"CDT-135\",\"CDT-135\",AA198))","v":"Invisible"},"Invisible","Invisible","Invisible","Invisible","Invisible","Invisible"]
[null,{"$f":"IF(B198=0,\"\",VLOOKUP(DATE($A204,$A206,B198)+$I203,Activités!$C$4:$I$534,5,0))","v":""},{"$f":"IF(C198=0,\"\",VLOOKUP(DATE($A204,$A206,C198)+$I203,Activités!$C$4:$I$534,5,0))","v":""},{"$f":"IF(D198=0,\"\",VLOOKUP(DATE($A204,$A206,D198)+$I203,Activités!$C$4:$I$534,5,0))","v":""},{"$f":"IF(E198=0,\"\",VLOOKUP(DATE($A204,$A206,E198)+$I203,Activités!$C$4:$I$534,5,0))","v":""},{"$f":"IF(F198=0,\"\",VLOOKUP(DATE($A204,$A206,F198)+$I203,Activités!$C$4:$I$534,5,0))","v":""},{"$f":"IF(G198=0,\"\",VLOOKUP(DATE($A204,$A206,G198)+$I203,Activités!$C$4:$I$534,5,0))","v":""},{"$f":"IF(H198=0,\"\",VLOOKUP(DATE($A204,$A206,H198)+$I203,Activités!$C$4:$I$534,5,0))","v":""},{"$f":"+I201+0.1","v":0.30000000000000004},null,null,null,null,null,null,null,null,null,null,null,null,null,null,null,null,null,{"$f":"AA202","v":"Invisible"},"Invisible","Invisible","Invisible","Invisible","Invisible","Invisible"]
[{"$f":"A193","v":2017},{"$f":"IF(ISNA(B203),\"\",B203)","v":""},"","","","","","",null,null,null,null,null,null,null,null,null,null,null,null,null,null,null,null,null,null,{"$f":"IF(LEFT(B204,7)=\"CDT-145\",\"CDT-145\",IF(LEFT(B204,7)=\"CDT-135\",\"CDT-135\",AA198))","v":"Invisible"},"Invisible","Invisible","Invisible","Invisible","Invisible","Invisible"]
[null,{"$f":"IF(B198=0,\"\",VLOOKUP(DATE($A204,$A206,B198)+$I205,Activités!$C$4:$I$534,5,0))","v":""},{"$f":"IF(C198=0,\"\",VLOOKUP(DATE($A204,$A206,C198)+$I205,Activités!$C$4:$I$534,5,0))","v":""},{"$f":"IF(D198=0,\"\",VLOOKUP(DATE($A204,$A206,D198)+$I205,Activités!$C$4:$I$534,5,0))","v":""},{"$f":"IF(E198=0,\"\",VLOOKUP(DATE($A204,$A206,E198)+$I205,Activités!$C$4:$I$534,5,0))","v":""},{"$f":"IF(F198=0,\"\",VLOOKUP(DATE($A204,$A206,F198)+$I205,Activités!$C$4:$I$534,5,0))","v":""},{"$f":"IF(G198=0,\"\",VLOOKUP(DATE($A204,$A206,G198)+$I205,Activités!$C$4:$I$534,5,0))","v":""},{"$f":"IF(H198=0,\"\",VLOOKUP(DATE($A204,$A206,H198)+$I205,Activités!$C$4:$I$534,5,0))","v":""},{"$f":"+I203+0.1","v":0.4},null,null,null,null,null,null,null,null,null,null,null,null,null,null,null,null,null,{"$f":"AA204","v":"Invisible"},"Invisible","Invisible","Invisible","Invisible","Invisible","Invisible"]
[{"$f":"A195","v":10},{"$f":"IF(ISNA(B205),\"\",B205)","v":""},"","","","","","",null,null,null,null,null,null,null,null,null,null,null,null,null,null,null,null,null,null,{"$f":"IF(LEFT(B206,7)=\"CDT-145\",\"CDT-145\",IF(LEFT(B206,7)=\"CDT-135\",\"CDT-135\",AA198))","v":"Invisible"},"Invisible","Invisible","Invisible","Invisible","Invisible","Invisible"]
[null,{"$f":"IF(B198=0,\"\",VLOOKUP(DATE($A204,$A206,B198)+$I207,Activités!$C$4:$I$534,5,0))","v":""},{"$f":"IF(C198=0,\"\",VLOOKUP(DATE($A204,$A206,C198)+$I207,Activités!$C$4:$I$534,5,0))","v":""},{"$f":"IF(D198=0,\"\",VLOOKUP(DATE($A204,$A206,D198)+$I207,Activités!$C$4:$I$534,5,0))","v":""},{"$f":"IF(E198=0,\"\",VLOOKUP(DATE($A204,$A206,E198)+$I207,Activités!$C$4:$I$534,5,0))","v":""},{"$f":"IF(F198=0,\"\",VLOOKUP(DATE($A204,$A206,F198)+$I207,Activités!$C$4:$I$534,5,0))","v":""},{"$f":"IF(G198=0,\"\",VLOOKUP(DATE($A204,$A206,G198)+$I207,Activités!$C$4:$I$534,5,0))","v":""},{"$f":"IF(H198=0,\"\",VLOOKUP(DATE($A204,$A206,H198)+$I207,Activités!$C$4:$I$534,5,0))","v":""},{"$f":"+I205+0.1","v":0.5},null,null,null,null,null,null,null,null,null,null,null,null,null,null,null,null,null,{"$f":"AA206","v":"Invisible"},"Invisible","Invisible","Invisible","Invisible","Invisible","Invisible"]
[{"$f":"A197","v":31},{"$f":"IF(ISNA(B207),\"\",B207)","v":""},"","","","","","",null,null,null,null,null,null,null,null,null,null,null,null,null,null,null,null,null,null,{"$f":"IF(LEFT(B208,7)=\"CDT-145\",\"CDT-145\",IF(LEFT(B208,7)=\"CDT-135\",\"CDT-135\",AA198))","v":"Invisible"},"Invisible","Invisible","Invisible","Invisible","Invisible","Invisible"]
[]
[null,{"$f":"VLOOKUP(106,Traduction!$B$6:$D$250,'Info de l''escadron'!$A$1+1,0)","v":"NOVEMBRE"},null,null,null,null,null,{"$f":"H141","v":2017}]
[null,{"$f":"B$4","v":"Dimanche"},{"$f":"C$4","v":"Lundi"},"Mardi","Mercredi","Jeudi","Vendredi","Samedi"]
[null,{"$f":"IF(WEEKDAY(DATE($H210,$A220,1),1)=B$2,1,IF(A212=0,0,A212+1))","v":0},0,0,1,2,3,4,null,null,null,null,null,null,null,null,null,null,null,null,null,null,null,null,null,null,{"$f":"IF(AND($B212=0,$H212=0),\"Invisible\",\"\")","v":""},{"$f":"IF(AND($B212=0,$H212=0),\"Invisible\",\"\")","v":""},"","","","",""]
[null,{"$f":"IF(B212=0,\"\",VLOOKUP(DATE($A218,$A220,B212)+$I213,Activités!$C$4:$I$534,5,0))","v":""},{"$f":"IF(C212=0,\"\",VLOOKUP(DATE($A218,$A220,C212)+$I213,Activités!$C$4:$I$534,5,0))","v":""},{"$f":"IF(D212=0,\"\",VLOOKUP(DATE($A218,$A220,D212)+$I213,Activités!$C$4:$I$534,5,0))","v":""},{"$f":"IF(E212=0,\"\",VLOOKUP(DATE($A218,$A220,E212)+$I213,Activités!$C$4:$I$534,5,0))","v":{"$error":"#N/A"}},{"$f":"IF(F212=0,\"\",VLOOKUP(DATE($A218,$A220,F212)+$I213,Activités!$C$4:$I$534,5,0))","v":{"$error":"#N/A"}},{"$f":"IF(G212=0,\"\",VLOOKUP(DATE($A218,$A220,G212)+$I213,Activités!$C$4:$I$534,5,0))","v":{"$error":"#N/A"}},{"$f":"IF(H212=0,\"\",VLOOKUP(DATE($A218,$A220,H212)+$I213,Activités!$C$4:$I$534,5,0))","v":{"$error":"#N/A"}},0.1,null,null,null,null,null,null,null,null,null,null,null,null,null,null,null,null,null,{"$f":"AA212","v":""},"","","","","",""]
[null,{"$f":"IF(ISNA(B213),\"\",B213)","v":""},{"$f":"IF(ISNA(C213),\"\",C213)","v":""},"","","","","",null,null,null,null,null,null,null,null,null,null,null,null,null,null,null,null,null,null,{"$f":"IF(LEFT(B214,7)=\"CDT-145\",\"CDT-145\",IF(LEFT(B214,7)=\"CDT-135\",\"CDT-135\",AA212))","v":""},"","","","","",""]
[null,{"$f":"IF(B212=0,\"\",VLOOKUP(DATE($A218,$A220,B212)+$I215,Activités!$C$4:$I$534,5,0))","v":""},{"$f":"IF(C212=0,\"\",VLOOKUP(DATE($A218,$A220,C212)+$I215,Activités!$C$4:$I$534,5,0))","v":""},{"$f":"IF(D212=0,\"\",VLOOKUP(DATE($A218,$A220,D212)+$I215,Activités!$C$4:$I$534,5,0))","v":""},{"$f":"IF(E212=0,\"\",VLOOKUP(DATE($A218,$A220,E212)+$I215,Activités!$C$4:$I$534,5,0))","v":{"$error":"#N/A"}},{"$f":"IF(F212=0,\"\",VLOOKUP(DATE($A218,$A220,F212)+$I215,Activités!$C$4:$I$534,5,0))","v":{"$error":"#N/A"}},{"$f":"IF(G212=0,\"\",VLOOKUP(DATE($A218,$A220,G212)+$I215,Activités!$C$4:$I$534,5,0))","v":{"$error":"#N/A"}},{"$f":"IF(H212=0,\"\",VLOOKUP(DATE($A218,$A220,H212)+$I215,Activités!$C$4:$I$534,5,0))","v":{"$error":"#N/A"}},{"$f":"+I213+0.1","v":0.2},null,null,null,null,null,null,null,null,null,null,null,null,null,null,null,null,null,{"$f":"AA214","v":""},"","","","","",""]
[null,{"$f":"IF(ISNA(B215),\"\",B215)","v":""},"","","","","","",null,null,null,null,null,null,null,null,null,null,null,null,null,null,null,null,null,null,{"$f":"IF(LEFT(B216,7)=\"CDT-145\",\"CDT-145\",IF(LEFT(B216,7)=\"CDT-135\",\"CDT-135\",AA212))","v":""},"","","","","",""]
[null,{"$f":"IF(B212=0,\"\",VLOOKUP(DATE($A218,$A220,B212)+$I217,Activités!$C$4:$I$534,5,0))","v":""},{"$f":"IF(C212=0,\"\",VLOOKUP(DATE($A218,$A220,C212)+$I217,Activités!$C$4:$I$534,5,0))","v":""},{"$f":"IF(D212=0,\"\",VLOOKUP(DATE($A218,$A220,D212)+$I217,Activités!$C$4:$I$534,5,0))","v":""},{"$f":"IF(E212=0,\"\",VLOOKUP(DATE($A218,$A220,E212)+$I217,Activités!$C$4:$I$534,5,0))","v":{"$error":"#N/A"}},{"$f":"IF(F212=0,\"\",VLOOKUP(DATE($A218,$A220,F212)+$I217,Activités!$C$4:$I$534,5,0))","v":{"$error":"#N/A"}},{"$f":"IF(G212=0,\"\",VLOOKUP(DATE($A218,$A220,G212)+$I217,Activités!$C$4:$I$534,5,0))","v":{"$error":"#N/A"}},{"$f":"IF(H212=0,\"\",VLOOKUP(DATE($A218,$A220,H212)+$I217,Activités!$C$4:$I$534,5,0))","v":{"$error":"#N/A"}},{"$f":"+I215+0.1","v":0.30000000000000004},null,null,null,null,null,null,null,null,null,null,null,null,null,null,null,null,null,{"$f":"AA216","v":""},"","","","","",""]
[{"$f":"H210","v":2017},{"$f":"IF(ISNA(B217),\"\",B217)","v":""},"","","","","","",null,null,null,null,null,null,null,null,null,null,null,null,null,null,null,null,null,null,{"$f":"IF(LEFT(B218,7)=\"CDT-145\",\"CDT-145\",IF(LEFT(B218,7)=\"CDT-135\",\"CDT-135\",AA212))","v":""},"","","","","",""]
[null,{"$f":"IF(B212=0,\"\",VLOOKUP(DATE($A218,$A220,B212)+$I219,Activités!$C$4:$I$534,5,0))","v":""},{"$f":"IF(C212=0,\"\",VLOOKUP(DATE($A218,$A220,C212)+$I219,Activités!$C$4:$I$534,5,0))","v":""},{"$f":"IF(D212=0,\"\",VLOOKUP(DATE($A218,$A220,D212)+$I219,Activités!$C$4:$I$534,5,0))","v":""},{"$f":"IF(E212=0,\"\",VLOOKUP(DATE($A218,$A220,E212)+$I219,Activités!$C$4:$I$534,5,0))","v":{"$error":"#N/A"}},{"$f":"IF(F212=0,\"\",VLOOKUP(DATE($A218,$A220,F212)+$I219,Activités!$C$4:$I$534,5,0))","v":{"$error":"#N/A"}},{"$f":"IF(G212=0,\"\",VLOOKUP(DATE($A218,$A220,G212)+$I219,Activités!$C$4:$I$534,5,0))","v":{"$error":"#N/A"}},{"$f":"IF(H212=0,\"\",VLOOKUP(DATE($A218,$A220,H212)+$I219,Activités!$C$4:$I$534,5,0))","v":{"$error":"#N/A"}},{"$f":"+I217+0.1","v":0.4},null,null,null,null,null,null,null,null,null,null,null,null,null,null,null,null,null,{"$f":"AA218","v":""},"","","","","",""]
[11,{"$f":"IF(ISNA(B219),\"\",B219)","v":""},"","","","","","",null,null,null,null,null,null,null,null,null,null,null,null,null,null,null,null,null,null,{"$f":"IF(LEFT(B220,7)=\"CDT-145\",\"CDT-145\",IF(LEFT(B220,7)=\"CDT-135\",\"CDT-135\",AA212))","v":""},"","","","","",""]
[null,{"$f":"IF(B212=0,\"\",VLOOKUP(DATE($A218,$A220,B212)+$I221,Activités!$C$4:$I$534,5,0))","v":""},{"$f":"IF(C212=0,\"\",VLOOKUP(DATE($A218,$A220,C212)+$I221,Activités!$C$4:$I$534,5,0))","v":""},{"$f":"IF(D212=0,\"\",VLOOKUP(DATE($A218,$A220,D212)+$I221,Activités!$C$4:$I$534,5,0))","v":""},{"$f":"IF(E212=0,\"\",VLOOKUP(DATE($A218,$A220,E212)+$I221,Activités!$C$4:$I$534,5,0))","v":{"$error":"#N/A"}},{"$f":"IF(F212=0,\"\",VLOOKUP(DATE($A218,$A220,F212)+$I221,Activités!$C$4:$I$534,5,0))","v":{"$error":"#N/A"}},{"$f":"IF(G212=0,\"\",VLOOKUP(DATE($A218,$A220,G212)+$I221,Activités!$C$4:$I$534,5,0))","v":{"$error":"#N/A"}},{"$f":"IF(H212=0,\"\",VLOOKUP(DATE($A218,$A220,H212)+$I221,Activités!$C$4:$I$534,5,0))","v":{"$error":"#N/A"}},{"$f":"+I219+0.1","v":0.5},null,null,null,null,null,null,null,null,null,null,null,null,null,null,null,null,null,{"$f":"AA220","v":""},"","","","","",""]
[30,{"$f":"IF(ISNA(B221),\"\",B221)","v":""},"","","","","","",null,null,null,null,null,null,null,null,null,null,null,null,null,null,null,null,null,null,{"$f":"IF(LEFT(B222,7)=\"CDT-145\",\"CDT-145\",IF(LEFT(B222,7)=\"CDT-135\",\"CDT-135\",AA212))","v":""},"","","","","",""]
[{"$f":"H212","v":4},{"$f":"IF(OR(A223=$A233,A223=0),0,A223+1)","v":5},6,7,8,9,10,11,null,null,null,null,null,null,null,null,null,null,null,null,null,null,null,null,null,null,{"$f":"IF(AND($B223=0,$H223=0),\"Invisible\",\"\")","v":""},{"$f":"IF(AND($B223=0,$H223=0),\"Invisible\",\"\")","v":""},"","","","",""]
[null,{"$f":"IF(B223=0,\"\",VLOOKUP(DATE($A229,$A231,B223)+$I224,Activités!$C$4:$I$534,5,0))","v":{"$error":"#N/A"}},{"$f":"IF(C223=0,\"\",VLOOKUP(DATE($A229,$A231,C223)+$I224,Activités!$C$4:$I$534,5,0))","v":{"$error":"#N/A"}},{"$f":"IF(D223=0,\"\",VLOOKUP(DATE($A229,$A231,D223)+$I224,Activités!$C$4:$I$534,5,0))","v":{"$error":"#N/A"}},{"$f":"IF(E223=0,\"\",VLOOKUP(DATE($A229,$A231,E223)+$I224,Activités!$C$4:$I$534,5,0))","v":{"$error":"#N/A"}},{"$f":"IF(F223=0,\"\",VLOOKUP(DATE($A229,$A231,F223)+$I224,Activités!$C$4:$I$534,5,0))","v":{"$error":"#N/A"}},{"$f":"IF(G223=0,\"\",VLOOKUP(DATE($A229,$A231,G223)+$I224,Activités!$C$4:$I$534,5,0))","v":{"$error":"#N/A"}},{"$f":"IF(H223=0,\"\",VLOOKUP(DATE($A229,$A231,H223)+$I224,Activités!$C$4:$I$534,5,0))","v":{"$error":"#N/A"}},0.1,null,null,null,null,null,null,null,null,null,null,null,null,null,null,null,null,null,{"$f":"AA223","v":""},"","","","","",""]
[null,{"$f":"IF(ISNA(B224),\"\",B224)","v":""},{"$f":"IF(ISNA(C224),\"\",C224)","v":""},"","","","","",null,null,null,null,null,null,null,null,null,null,null,null,null,null,null,null,null,null,{"$f":"IF(LEFT(B225,7)=\"CDT-145\",\"CDT-145\",IF(LEFT(B225,7)=\"CDT-135\",\"CDT-135\",AA223))","v":""},"","","","","",""]
[null,{"$f":"IF(B223=0,\"\",VLOOKUP(DATE($A229,$A231,B223)+$I226,Activités!$C$4:$I$534,5,0))","v":{"$error":"#N/A"}},{"$f":"IF(C223=0,\"\",VLOOKUP(DATE($A229,$A231,C223)+$I226,Activités!$C$4:$I$534,5,0))","v":{"$error":"#N/A"}},{"$f":"IF(D223=0,\"\",VLOOKUP(DATE($A229,$A231,D223)+$I226,Activités!$C$4:$I$534,5,0))","v":{"$error":"#N/A"}},{"$f":"IF(E223=0,\"\",VLOOKUP(DATE($A229,$A231,E223)+$I226,Activités!$C$4:$I$534,5,0))","v":{"$error":"#N/A"}},{"$f":"IF(F223=0,\"\",VLOOKUP(DATE($A229,$A231,F223)+$I226,Activités!$C$4:$I$534,5,0))","v":{"$error":"#N/A"}},{"$f":"IF(G223=0,\"\",VLOOKUP(DATE($A229,$A231,G223)+$I226,Activités!$C$4:$I$534,5,0))","v":{"$error":"#N/A"}},{"$f":"IF(H223=0,\"\",VLOOKUP(DATE($A229,$A231,H223)+$I226,Activités!$C$4:$I$534,5,0))","v":{"$error":"#N/A"}},{"$f":"+I224+0.1","v":0.2},null,null,null,null,null,null,null,null,null,null,null,null,null,null,null,null,null,{"$f":"AA225","v":""},"","","","","",""]
[null,{"$f":"IF(ISNA(B226),\"\",B226)","v":""},"","","","","","",null,null,null,null,null,null,null,null,null,null,null,null,null,null,null,null,null,null,{"$f":"IF(LEFT(B227,7)=\"CDT-145\",\"CDT-145\",IF(LEFT(B227,7)=\"CDT-135\",\"CDT-135\",AA223))","v":""},"","","","","",""]
[null,{"$f":"IF(B223=0,\"\",VLOOKUP(DATE($A229,$A231,B223)+$I228,Activités!$C$4:$I$534,5,0))","v":{"$error":"#N/A"}},{"$f":"IF(C223=0,\"\",VLOOKUP(DATE($A229,$A231,C223)+$I228,Activités!$C$4:$I$534,5,0))","v":{"$error":"#N/A"}},{"$f":"IF(D223=0,\"\",VLOOKUP(DATE($A229,$A231,D223)+$I228,Activités!$C$4:$I$534,5,0))","v":{"$error":"#N/A"}},{"$f":"IF(E223=0,\"\",VLOOKUP(DATE($A229,$A231,E223)+$I228,Activités!$C$4:$I$534,5,0))","v":{"$error":"#N/A"}},{"$f":"IF(F223=0,\"\",VLOOKUP(DATE($A229,$A231,F223)+$I228,Activités!$C$4:$I$534,5,0))","v":{"$error":"#N/A"}},{"$f":"IF(G223=0,\"\",VLOOKUP(DATE($A229,$A231,G223)+$I228,Activités!$C$4:$I$534,5,0))","v":{"$error":"#N/A"}},{"$f":"IF(H223=0,\"\",VLOOKUP(DATE($A229,$A231,H223)+$I228,Activités!$C$4:$I$534,5,0))","v":{"$error":"#N/A"}},{"$f":"+I226+0.1","v":0.30000000000000004},null,null,null,null,null,null,null,null,null,null,null,null,null,null,null,null,null,{"$f":"AA227","v":""},"","","","","",""]
[{"$f":"A218","v":2017},{"$f":"IF(ISNA(B228),\"\",B228)","v":""},"","","","","","",null,null,null,null,null,null,null,null,null,null,null,null,null,null,null,null,null,null,{"$f":"IF(LEFT(B229,7)=\"CDT-145\",\"CDT-145\",IF(LEFT(B229,7)=\"CDT-135\",\"CDT-135\",AA223))","v":""},"","","","","",""]
[null,{"$f":"IF(B223=0,\"\",VLOOKUP(DATE($A229,$A231,B223)+$I230,Activités!$C$4:$I$534,5,0))","v":{"$error":"#N/A"}},{"$f":"IF(C223=0,\"\",VLOOKUP(DATE($A229,$A231,C223)+$I230,Activités!$C$4:$I$534,5,0))","v":{"$error":"#N/A"}},{"$f":"IF(D223=0,\"\",VLOOKUP(DATE($A229,$A231,D223)+$I230,Activités!$C$4:$I$534,5,0))","v":{"$error":"#N/A"}},{"$f":"IF(E223=0,\"\",VLOOKUP(DATE($A229,$A231,E223)+$I230,Activités!$C$4:$I$534,5,0))","v":{"$error":"#N/A"}},{"$f":"IF(F223=0,\"\",VLOOKUP(DATE($A229,$A231,F223)+$I230,Activités!$C$4:$I$534,5,0))","v":{"$error":"#N/A"}},{"$f":"IF(G223=0,\"\",VLOOKUP(DATE($A229,$A231,G223)+$I230,Activités!$C$4:$I$534,5,0))","v":{"$error":"#N/A"}},{"$f":"IF(H223=0,\"\",VLOOKUP(DATE($A229,$A231,H223)+$I230,Activités!$C$4:$I$534,5,0))","v":{"$error":"#N/A"}},{"$f":"+I228+0.1","v":0.4},null,null,null,null,null,null,null,null,null,null,null,null,null,null,null,null,null,{"$f":"AA229","v":""},"","","","","",""]
[{"$f":"A220","v":11},{"$f":"IF(ISNA(B230),\"\",B230)","v":""},"","","","","","",null,null,null,null,null,null,null,null,null,null,null,null,null,null,null,null,null,null,{"$f":"IF(LEFT(B231,7)=\"CDT-145\",\"CDT-145\",IF(LEFT(B231,7)=\"CDT-135\",\"CDT-135\",AA223))","v":""},"","","","","",""]
[null,{"$f":"IF(B223=0,\"\",VLOOKUP(DATE($A229,$A231,B223)+$I232,Activités!$C$4:$I$534,5,0))","v":{"$error":"#N/A"}},{"$f":"IF(C223=0,\"\",VLOOKUP(DATE($A229,$A231,C223)+$I232,Activités!$C$4:$I$534,5,0))","v":{"$error":"#N/A"}},{"$f":"IF(D223=0,\"\",VLOOKUP(DATE($A229,$A231,D223)+$I232,Activités!$C$4:$I$534,5,0))","v":{"$error":"#N/A"}},{"$f":"IF(E223=0,\"\",VLOOKUP(DATE($A229,$A231,E223)+$I232,Activités!$C$4:$I$534,5,0))","v":{"$error":"#N/A"}},{"$f":"IF(F223=0,\"\",VLOOKUP(DATE($A229,$A231,F223)+$I232,Activités!$C$4:$I$534,5,0))","v":{"$error":"#N/A"}},{"$f":"IF(G223=0,\"\",VLOOKUP(DATE($A229,$A231,G223)+$I232,Activités!$C$4:$I$534,5,0))","v":{"$error":"#N/A"}},{"$f":"IF(H223=0,\"\",VLOOKUP(DATE($A229,$A231,H223)+$I232,Activités!$C$4:$I$534,5,0))","v":{"$error":"#N/A"}},{"$f":"+I230+0.1","v":0.5},null,null,null,null,null,null,null,null,null,null,null,null,null,null,null,null,null,{"$f":"AA231","v":""},"","","","","",""]
[{"$f":"A222","v":30},{"$f":"IF(ISNA(B232),\"\",B232)","v":""},"","","","","","",null,null,null,null,null,null,null,null,null,null,null,null,null,null,null,null,null,null,{"$f":"IF(LEFT(B233,7)=\"CDT-145\",\"CDT-145\",IF(LEFT(B233,7)=\"CDT-135\",\"CDT-135\",AA223))","v":""},"","","","","",""]
[{"$f":"H223","v":11},{"$f":"IF(OR(A234=$A244,A234=0),0,A234+1)","v":12},13,14,15,16,17,18,null,null,null,null,null,null,null,null,null,null,null,null,null,null,null,null,null,null,{"$f":"IF(AND($B234=0,$H234=0),\"Invisible\",\"\")","v":""},{"$f":"IF(AND($B234=0,$H234=0),\"Invisible\",\"\")","v":""},"","","","",""]
[null,{"$f":"IF(B234=0,\"\",VLOOKUP(DATE($A240,$A242,B234)+$I235,Activités!$C$4:$I$534,5,0))","v":{"$error":"#N/A"}},{"$f":"IF(C234=0,\"\",VLOOKUP(DATE($A240,$A242,C234)+$I235,Activités!$C$4:$I$534,5,0))","v":{"$error":"#N/A"}},{"$f":"IF(D234=0,\"\",VLOOKUP(DATE($A240,$A242,D234)+$I235,Activités!$C$4:$I$534,5,0))","v":{"$error":"#N/A"}},{"$f":"IF(E234=0,\"\",VLOOKUP(DATE($A240,$A242,E234)+$I235,Activités!$C$4:$I$534,5,0))","v":{"$error":"#N/A"}},{"$f":"IF(F234=0,\"\",VLOOKUP(DATE($A240,$A242,F234)+$I235,Activités!$C$4:$I$534,5,0))","v":{"$error":"#N/A"}},{"$f":"IF(G234=0,\"\",VLOOKUP(DATE($A240,$A242,G234)+$I235,Activités!$C$4:$I$534,5,0))","v":{"$error":"#N/A"}},{"$f":"IF(H234=0,\"\",VLOOKUP(DATE($A240,$A242,H234)+$I235,Activités!$C$4:$I$534,5,0))","v":{"$error":"#N/A"}},0.1,null,null,null,null,null,null,null,null,null,null,null,null,null,null,null,null,null,{"$f":"AA234","v":""},"","","","","",""]
[null,{"$f":"IF(ISNA(B235),\"\",B235)","v":""},{"$f":"IF(ISNA(C235),\"\",C235)","v":""},"","","","","",null,null,null,null,null,null,null,null,null,null,null,null,null,null,null,null,null,null,{"$f":"IF(LEFT(B236,7)=\"CDT-145\",\"CDT-145\",IF(LEFT(B236,7)=\"CDT-135\",\"CDT-135\",AA234))","v":""},"","","","","",""]
[null,{"$f":"IF(B234=0,\"\",VLOOKUP(DATE($A240,$A242,B234)+$I237,Activités!$C$4:$I$534,5,0))","v":{"$error":"#N/A"}},{"$f":"IF(C234=0,\"\",VLOOKUP(DATE($A240,$A242,C234)+$I237,Activités!$C$4:$I$534,5,0))","v":{"$error":"#N/A"}},{"$f":"IF(D234=0,\"\",VLOOKUP(DATE($A240,$A242,D234)+$I237,Activités!$C$4:$I$534,5,0))","v":{"$error":"#N/A"}},{"$f":"IF(E234=0,\"\",VLOOKUP(DATE($A240,$A242,E234)+$I237,Activités!$C$4:$I$534,5,0))","v":{"$error":"#N/A"}},{"$f":"IF(F234=0,\"\",VLOOKUP(DATE($A240,$A242,F234)+$I237,Activités!$C$4:$I$534,5,0))","v":{"$error":"#N/A"}},{"$f":"IF(G234=0,\"\",VLOOKUP(DATE($A240,$A242,G234)+$I237,Activités!$C$4:$I$534,5,0))","v":{"$error":"#N/A"}},{"$f":"IF(H234=0,\"\",VLOOKUP(DATE($A240,$A242,H234)+$I237,Activités!$C$4:$I$534,5,0))","v":{"$error":"#N/A"}},{"$f":"+I235+0.1","v":0.2},null,null,null,null,null,null,null,null,null,null,null,null,null,null,null,null,null,{"$f":"AA236","v":""},"","","","","",""]
[null,{"$f":"IF(ISNA(B237),\"\",B237)","v":""},"","","","","","",null,null,null,null,null,null,null,null,null,null,null,null,null,null,null,null,null,null,{"$f":"IF(LEFT(B238,7)=\"CDT-145\",\"CDT-145\",IF(LEFT(B238,7)=\"CDT-135\",\"CDT-135\",AA234))","v":""},"","","","","",""]
[null,{"$f":"IF(B234=0,\"\",VLOOKUP(DATE($A240,$A242,B234)+$I239,Activités!$C$4:$I$534,5,0))","v":{"$error":"#N/A"}},{"$f":"IF(C234=0,\"\",VLOOKUP(DATE($A240,$A242,C234)+$I239,Activités!$C$4:$I$534,5,0))","v":{"$error":"#N/A"}},{"$f":"IF(D234=0,\"\",VLOOKUP(DATE($A240,$A242,D234)+$I239,Activités!$C$4:$I$534,5,0))","v":{"$error":"#N/A"}},{"$f":"IF(E234=0,\"\",VLOOKUP(DATE($A240,$A242,E234)+$I239,Activités!$C$4:$I$534,5,0))","v":{"$error":"#N/A"}},{"$f":"IF(F234=0,\"\",VLOOKUP(DATE($A240,$A242,F234)+$I239,Activités!$C$4:$I$534,5,0))","v":{"$error":"#N/A"}},{"$f":"IF(G234=0,\"\",VLOOKUP(DATE($A240,$A242,G234)+$I239,Activités!$C$4:$I$534,5,0))","v":{"$error":"#N/A"}},{"$f":"IF(H234=0,\"\",VLOOKUP(DATE($A240,$A242,H234)+$I239,Activités!$C$4:$I$534,5,0))","v":{"$error":"#N/A"}},{"$f":"+I237+0.1","v":0.30000000000000004},null,null,null,null,null,null,null,null,null,null,null,null,null,null,null,null,null,{"$f":"AA238","v":""},"","","","","",""]
[{"$f":"A229","v":2017},{"$f":"IF(ISNA(B239),\"\",B239)","v":""},"","","","","","",null,null,null,null,null,null,null,null,null,null,null,null,null,null,null,null,null,null,{"$f":"IF(LEFT(B240,7)=\"CDT-145\",\"CDT-145\",IF(LEFT(B240,7)=\"CDT-135\",\"CDT-135\",AA234))","v":""},"","","","","",""]
[null,{"$f":"IF(B234=0,\"\",VLOOKUP(DATE($A240,$A242,B234)+$I241,Activités!$C$4:$I$534,5,0))","v":{"$error":"#N/A"}},{"$f":"IF(C234=0,\"\",VLOOKUP(DATE($A240,$A242,C234)+$I241,Activités!$C$4:$I$534,5,0))","v":{"$error":"#N/A"}},{"$f":"IF(D234=0,\"\",VLOOKUP(DATE($A240,$A242,D234)+$I241,Activités!$C$4:$I$534,5,0))","v":{"$error":"#N/A"}},{"$f":"IF(E234=0,\"\",VLOOKUP(DATE($A240,$A242,E234)+$I241,Activités!$C$4:$I$534,5,0))","v":{"$error":"#N/A"}},{"$f":"IF(F234=0,\"\",VLOOKUP(DATE($A240,$A242,F234)+$I241,Activités!$C$4:$I$534,5,0))","v":{"$error":"#N/A"}},{"$f":"IF(G234=0,\"\",VLOOKUP(DATE($A240,$A242,G234)+$I241,Activités!$C$4:$I$534,5,0))","v":{"$error":"#N/A"}},{"$f":"IF(H234=0,\"\",VLOOKUP(DATE($A240,$A242,H234)+$I241,Activités!$C$4:$I$534,5,0))","v":{"$error":"#N/A"}},{"$f":"+I239+0.1","v":0.4},null,null,null,null,null,null,null,null,null,null,null,null,null,null,null,null,null,{"$f":"AA240","v":""},"","","","","",""]
[{"$f":"A231","v":11},{"$f":"IF(ISNA(B241),\"\",B241)","v":""},"","","","","","",null,null,null,null,null,null,null,null,null,null,null,null,null,null,null,null,null,null,{"$f":"IF(LEFT(B242,7)=\"CDT-145\",\"CDT-145\",IF(LEFT(B242,7)=\"CDT-135\",\"CDT-135\",AA234))","v":""},"","","","","",""]
[null,{"$f":"IF(B234=0,\"\",VLOOKUP(DATE($A240,$A242,B234)+$I243,Activités!$C$4:$I$534,5,0))","v":{"$error":"#N/A"}},{"$f":"IF(C234=0,\"\",VLOOKUP(DATE($A240,$A242,C234)+$I243,Activités!$C$4:$I$534,5,0))","v":{"$error":"#N/A"}},{"$f":"IF(D234=0,\"\",VLOOKUP(DATE($A240,$A242,D234)+$I243,Activités!$C$4:$I$534,5,0))","v":{"$error":"#N/A"}},{"$f":"IF(E234=0,\"\",VLOOKUP(DATE($A240,$A242,E234)+$I243,Activités!$C$4:$I$534,5,0))","v":{"$error":"#N/A"}},{"$f":"IF(F234=0,\"\",VLOOKUP(DATE($A240,$A242,F234)+$I243,Activités!$C$4:$I$534,5,0))","v":{"$error":"#N/A"}},{"$f":"IF(G234=0,\"\",VLOOKUP(DATE($A240,$A242,G234)+$I243,Activités!$C$4:$I$534,5,0))","v":{"$error":"#N/A"}},{"$f":"IF(H234=0,\"\",VLOOKUP(DATE($A240,$A242,H234)+$I243,Activités!$C$4:$I$534,5,0))","v":{"$error":"#N/A"}},{"$f":"+I241+0.1","v":0.5},null,null,null,null,null,null,null,null,null,null,null,null,null,null,null,null,null,{"$f":"AA242","v":""},"","","","","",""]
[{"$f":"A233","v":30},{"$f":"IF(ISNA(B243),\"\",B243)","v":""},"","","","","","",null,null,null,null,null,null,null,null,null,null,null,null,null,null,null,null,null,null,{"$f":"IF(LEFT(B244,7)=\"CDT-145\",\"CDT-145\",IF(LEFT(B244,7)=\"CDT-135\",\"CDT-135\",AA234))","v":""},"","","","","",""]
[{"$f":"H234","v":18},{"$f":"IF(OR(A245=$A255,A245=0),0,A245+1)","v":19},20,21,22,23,24,25,null,null,null,null,null,null,null,null,null,null,null,null,null,null,null,null,null,null,{"$f":"IF(AND($B245=0,$H245=0),\"Invisible\",\"\")","v":""},{"$f":"IF(AND($B245=0,$H245=0),\"Invisible\",\"\")","v":""},"","","","",""]
[null,{"$f":"IF(B245=0,\"\",VLOOKUP(DATE($A251,$A253,B245)+$I246,Activités!$C$4:$I$534,5,0))","v":{"$error":"#N/A"}},{"$f":"IF(C245=0,\"\",VLOOKUP(DATE($A251,$A253,C245)+$I246,Activités!$C$4:$I$534,5,0))","v":{"$error":"#N/A"}},{"$f":"IF(D245=0,\"\",VLOOKUP(DATE($A251,$A253,D245)+$I246,Activités!$C$4:$I$534,5,0))","v":{"$error":"#N/A"}},{"$f":"IF(E245=0,\"\",VLOOKUP(DATE($A251,$A253,E245)+$I246,Activités!$C$4:$I$534,5,0))","v":{"$error":"#N/A"}},{"$f":"IF(F245=0,\"\",VLOOKUP(DATE($A251,$A253,F245)+$I246,Activités!$C$4:$I$534,5,0))","v":{"$error":"#N/A"}},{"$f":"IF(G245=0,\"\",VLOOKUP(DATE($A251,$A253,G245)+$I246,Activités!$C$4:$I$534,5,0))","v":{"$error":"#N/A"}},{"$f":"IF(H245=0,\"\",VLOOKUP(DATE($A251,$A253,H245)+$I246,Activités!$C$4:$I$534,5,0))","v":{"$error":"#N/A"}},0.1,null,null,null,null,null,null,null,null,null,null,null,null,null,null,null,null,null,{"$f":"AA245","v":""},"","","","","",""]
[null,{"$f":"IF(ISNA(B246),\"\",B246)","v":""},{"$f":"IF(ISNA(C246),\"\",C246)","v":""},"","","","","",null,null,null,null,null,null,null,null,null,null,null,null,null,null,null,null,null,null,{"$f":"IF(LEFT(B247,7)=\"CDT-145\",\"CDT-145\",IF(LEFT(B247,7)=\"CDT-135\",\"CDT-135\",AA245))","v":""},"","","","","",""]
[null,{"$f":"IF(B245=0,\"\",VLOOKUP(DATE($A251,$A253,B245)+$I248,Activités!$C$4:$I$534,5,0))","v":{"$error":"#N/A"}},{"$f":"IF(C245=0,\"\",VLOOKUP(DATE($A251,$A253,C245)+$I248,Activités!$C$4:$I$534,5,0))","v":{"$error":"#N/A"}},{"$f":"IF(D245=0,\"\",VLOOKUP(DATE($A251,$A253,D245)+$I248,Activités!$C$4:$I$534,5,0))","v":{"$error":"#N/A"}},{"$f":"IF(E245=0,\"\",VLOOKUP(DATE($A251,$A253,E245)+$I248,Activités!$C$4:$I$534,5,0))","v":{"$error":"#N/A"}},{"$f":"IF(F245=0,\"\",VLOOKUP(DATE($A251,$A253,F245)+$I248,Activités!$C$4:$I$534,5,0))","v":{"$error":"#N/A"}},{"$f":"IF(G245=0,\"\",VLOOKUP(DATE($A251,$A253,G245)+$I248,Activités!$C$4:$I$534,5,0))","v":{"$error":"#N/A"}},{"$f":"IF(H245=0,\"\",VLOOKUP(DATE($A251,$A253,H245)+$I248,Activités!$C$4:$I$534,5,0))","v":{"$error":"#N/A"}},{"$f":"+I246+0.1","v":0.2},null,null,null,null,null,null,null,null,null,null,null,null,null,null,null,null,null,{"$f":"AA247","v":""},"","","","","",""]
[null,{"$f":"IF(ISNA(B248),\"\",B248)","v":""},"","","","","","",null,null,null,null,null,null,null,null,null,null,null,null,null,null,null,null,null,null,{"$f":"IF(LEFT(B249,7)=\"CDT-145\",\"CDT-145\",IF(LEFT(B249,7)=\"CDT-135\",\"CDT-135\",AA245))","v":""},"","","","","",""]
[null,{"$f":"IF(B245=0,\"\",VLOOKUP(DATE($A251,$A253,B245)+$I250,Activités!$C$4:$I$534,5,0))","v":{"$error":"#N/A"}},{"$f":"IF(C245=0,\"\",VLOOKUP(DATE($A251,$A253,C245)+$I250,Activités!$C$4:$I$534,5,0))","v":{"$error":"#N/A"}},{"$f":"IF(D245=0,\"\",VLOOKUP(DATE($A251,$A253,D245)+$I250,Activités!$C$4:$I$534,5,0))","v":{"$error":"#N/A"}},{"$f":"IF(E245=0,\"\",VLOOKUP(DATE($A251,$A253,E245)+$I250,Activités!$C$4:$I$534,5,0))","v":{"$error":"#N/A"}},{"$f":"IF(F245=0,\"\",VLOOKUP(DATE($A251,$A253,F245)+$I250,Activités!$C$4:$I$534,5,0))","v":{"$error":"#N/A"}},{"$f":"IF(G245=0,\"\",VLOOKUP(DATE($A251,$A253,G245)+$I250,Activités!$C$4:$I$534,5,0))","v":{"$error":"#N/A"}},{"$f":"IF(H245=0,\"\",VLOOKUP(DATE($A251,$A253,H245)+$I250,Activités!$C$4:$I$534,5,0))","v":{"$error":"#N/A"}},{"$f":"+I248+0.1","v":0.30000000000000004},null,null,null,null,null,null,null,null,null,null,null,null,null,null,null,null,null,{"$f":"AA249","v":""},"","","","","",""]
[{"$f":"A240","v":2017},{"$f":"IF(ISNA(B250),\"\",B250)","v":""},"","","","","","",null,null,null,null,null,null,null,null,null,null,null,null,null,null,null,null,null,null,{"$f":"IF(LEFT(B251,7)=\"CDT-145\",\"CDT-145\",IF(LEFT(B251,7)=\"CDT-135\",\"CDT-135\",AA245))","v":""},"","","","","",""]
[null,{"$f":"IF(B245=0,\"\",VLOOKUP(DATE($A251,$A253,B245)+$I252,Activités!$C$4:$I$534,5,0))","v":{"$error":"#N/A"}},{"$f":"IF(C245=0,\"\",VLOOKUP(DATE($A251,$A253,C245)+$I252,Activités!$C$4:$I$534,5,0))","v":{"$error":"#N/A"}},{"$f":"IF(D245=0,\"\",VLOOKUP(DATE($A251,$A253,D245)+$I252,Activités!$C$4:$I$534,5,0))","v":{"$error":"#N/A"}},{"$f":"IF(E245=0,\"\",VLOOKUP(DATE($A251,$A253,E245)+$I252,Activités!$C$4:$I$534,5,0))","v":{"$error":"#N/A"}},{"$f":"IF(F245=0,\"\",VLOOKUP(DATE($A251,$A253,F245)+$I252,Activités!$C$4:$I$534,5,0))","v":{"$error":"#N/A"}},{"$f":"IF(G245=0,\"\",VLOOKUP(DATE($A251,$A253,G245)+$I252,Activités!$C$4:$I$534,5,0))","v":{"$error":"#N/A"}},{"$f":"IF(H245=0,\"\",VLOOKUP(DATE($A251,$A253,H245)+$I252,Activités!$C$4:$I$534,5,0))","v":{"$error":"#N/A"}},{"$f":"+I250+0.1","v":0.4},null,null,null,null,null,null,null,null,null,null,null,null,null,null,null,null,null,{"$f":"AA251","v":""},"","","","","",""]
[{"$f":"A242","v":11},{"$f":"IF(ISNA(B252),\"\",B252)","v":""},"","","","","","",null,null,null,null,null,null,null,null,null,null,null,null,null,null,null,null,null,null,{"$f":"IF(LEFT(B253,7)=\"CDT-145\",\"CDT-145\",IF(LEFT(B253,7)=\"CDT-135\",\"CDT-135\",AA245))","v":""},"","","","","",""]
[null,{"$f":"IF(B245=0,\"\",VLOOKUP(DATE($A251,$A253,B245)+$I254,Activités!$C$4:$I$534,5,0))","v":{"$error":"#N/A"}},{"$f":"IF(C245=0,\"\",VLOOKUP(DATE($A251,$A253,C245)+$I254,Activités!$C$4:$I$534,5,0))","v":{"$error":"#N/A"}},{"$f":"IF(D245=0,\"\",VLOOKUP(DATE($A251,$A253,D245)+$I254,Activités!$C$4:$I$534,5,0))","v":{"$error":"#N/A"}},{"$f":"IF(E245=0,\"\",VLOOKUP(DATE($A251,$A253,E245)+$I254,Activités!$C$4:$I$534,5,0))","v":{"$error":"#N/A"}},{"$f":"IF(F245=0,\"\",VLOOKUP(DATE($A251,$A253,F245)+$I254,Activités!$C$4:$I$534,5,0))","v":{"$error":"#N/A"}},{"$f":"IF(G245=0,\"\",VLOOKUP(DATE($A251,$A253,G245)+$I254,Activités!$C$4:$I$534,5,0))","v":{"$error":"#N/A"}},{"$f":"IF(H245=0,\"\",VLOOKUP(DATE($A251,$A253,H245)+$I254,Activités!$C$4:$I$534,5,0))","v":{"$error":"#N/A"}},{"$f":"+I252+0.1","v":0.5},null,null,null,null,null,null,null,null,null,null,null,null,null,null,null,null,null,{"$f":"AA253","v":""},"","","","","",""]
[{"$f":"A244","v":30},{"$f":"IF(ISNA(B254),\"\",B254)","v":""},"","","","","","",null,null,null,null,null,null,null,null,null,null,null,null,null,null,null,null,null,null,{"$f":"IF(LEFT(B255,7)=\"CDT-145\",\"CDT-145\",IF(LEFT(B255,7)=\"CDT-135\",\"CDT-135\",AA245))","v":""},"","","","","",""]
[{"$f":"H245","v":25},{"$f":"IF(OR(A256=$A266,A256=0),0,A256+1)","v":26},27,28,29,30,0,0,null,null,null,null,null,null,null,null,null,null,null,null,null,null,null,null,null,null,{"$f":"IF(AND($B256=0,$H256=0),\"Invisible\",\"\")","v":""},{"$f":"IF(AND($B256=0,$H256=0),\"Invisible\",\"\")","v":""},"","","","",""]
[null,{"$f":"IF(B256=0,\"\",VLOOKUP(DATE($A262,$A264,B256)+$I257,Activités!$C$4:$I$534,5,0))","v":{"$error":"#N/A"}},{"$f":"IF(C256=0,\"\",VLOOKUP(DATE($A262,$A264,C256)+$I257,Activités!$C$4:$I$534,5,0))","v":{"$error":"#N/A"}},{"$f":"IF(D256=0,\"\",VLOOKUP(DATE($A262,$A264,D256)+$I257,Activités!$C$4:$I$534,5,0))","v":{"$error":"#N/A"}},{"$f":"IF(E256=0,\"\",VLOOKUP(DATE($A262,$A264,E256)+$I257,Activités!$C$4:$I$534,5,0))","v":{"$error":"#N/A"}},{"$f":"IF(F256=0,\"\",VLOOKUP(DATE($A262,$A264,F256)+$I257,Activités!$C$4:$I$534,5,0))","v":{"$error":"#N/A"}},{"$f":"IF(G256=0,\"\",VLOOKUP(DATE($A262,$A264,G256)+$I257,Activités!$C$4:$I$534,5,0))","v":""},{"$f":"IF(H256=0,\"\",VLOOKUP(DATE($A262,$A264,H256)+$I257,Activités!$C$4:$I$534,5,0))","v":""},0.1,null,null,null,null,null,null,null,null,null,null,null,null,null,null,null,null,null,{"$f":"AA256","v":""},"","","","","",""]
[null,{"$f":"IF(ISNA(B257),\"\",B257)","v":""},{"$f":"IF(ISNA(C257),\"\",C257)","v":""},"","","","","",null,null,null,null,null,null,null,null,null,null,null,null,null,null,null,null,null,null,{"$f":"IF(LEFT(B258,7)=\"CDT-145\",\"CDT-145\",IF(LEFT(B258,7)=\"CDT-135\",\"CDT-135\",AA256))","v":""},"","","","","",""]
[null,{"$f":"IF(B256=0,\"\",VLOOKUP(DATE($A262,$A264,B256)+$I259,Activités!$C$4:$I$534,5,0))","v":{"$error":"#N/A"}},{"$f":"IF(C256=0,\"\",VLOOKUP(DATE($A262,$A264,C256)+$I259,Activités!$C$4:$I$534,5,0))","v":{"$error":"#N/A"}},{"$f":"IF(D256=0,\"\",VLOOKUP(DATE($A262,$A264,D256)+$I259,Activités!$C$4:$I$534,5,0))","v":{"$error":"#N/A"}},{"$f":"IF(E256=0,\"\",VLOOKUP(DATE($A262,$A264,E256)+$I259,Activités!$C$4:$I$534,5,0))","v":{"$error":"#N/A"}},{"$f":"IF(F256=0,\"\",VLOOKUP(DATE($A262,$A264,F256)+$I259,Activités!$C$4:$I$534,5,0))","v":{"$error":"#N/A"}},{"$f":"IF(G256=0,\"\",VLOOKUP(DATE($A262,$A264,G256)+$I259,Activités!$C$4:$I$534,5,0))","v":""},{"$f":"IF(H256=0,\"\",VLOOKUP(DATE($A262,$A264,H256)+$I259,Activités!$C$4:$I$534,5,0))","v":""},{"$f":"+I257+0.1","v":0.2},null,null,null,null,null,null,null,null,null,null,null,null,null,null,null,null,null,{"$f":"AA258","v":""},"","","","","",""]
[null,{"$f":"IF(ISNA(B259),\"\",B259)","v":""},"","","","","","",null,null,null,null,null,null,null,null,null,null,null,null,null,null,null,null,null,null,{"$f":"IF(LEFT(B260,7)=\"CDT-145\",\"CDT-145\",IF(LEFT(B260,7)=\"CDT-135\",\"CDT-135\",AA256))","v":""},"","","","","",""]
[null,{"$f":"IF(B256=0,\"\",VLOOKUP(DATE($A262,$A264,B256)+$I261,Activités!$C$4:$I$534,5,0))","v":{"$error":"#N/A"}},{"$f":"IF(C256=0,\"\",VLOOKUP(DATE($A262,$A264,C256)+$I261,Activités!$C$4:$I$534,5,0))","v":{"$error":"#N/A"}},{"$f":"IF(D256=0,\"\",VLOOKUP(DATE($A262,$A264,D256)+$I261,Activités!$C$4:$I$534,5,0))","v":{"$error":"#N/A"}},{"$f":"IF(E256=0,\"\",VLOOKUP(DATE($A262,$A264,E256)+$I261,Activités!$C$4:$I$534,5,0))","v":{"$error":"#N/A"}},{"$f":"IF(F256=0,\"\",VLOOKUP(DATE($A262,$A264,F256)+$I261,Activités!$C$4:$I$534,5,0))","v":{"$error":"#N/A"}},{"$f":"IF(G256=0,\"\",VLOOKUP(DATE($A262,$A264,G256)+$I261,Activités!$C$4:$I$534,5,0))","v":""},{"$f":"IF(H256=0,\"\",VLOOKUP(DATE($A262,$A264,H256)+$I261,Activités!$C$4:$I$534,5,0))","v":""},{"$f":"+I259+0.1","v":0.30000000000000004},null,null,null,null,null,null,null,null,null,null,null,null,null,null,null,null,null,{"$f":"AA260","v":""},"","","","","",""]
[{"$f":"A251","v":2017},{"$f":"IF(ISNA(B261),\"\",B261)","v":""},"","","","","","",null,null,null,null,null,null,null,null,null,null,null,null,null,null,null,null,null,null,{"$f":"IF(LEFT(B262,7)=\"CDT-145\",\"CDT-145\",IF(LEFT(B262,7)=\"CDT-135\",\"CDT-135\",AA256))","v":""},"","","","","",""]
[null,{"$f":"IF(B256=0,\"\",VLOOKUP(DATE($A262,$A264,B256)+$I263,Activités!$C$4:$I$534,5,0))","v":{"$error":"#N/A"}},{"$f":"IF(C256=0,\"\",VLOOKUP(DATE($A262,$A264,C256)+$I263,Activités!$C$4:$I$534,5,0))","v":{"$error":"#N/A"}},{"$f":"IF(D256=0,\"\",VLOOKUP(DATE($A262,$A264,D256)+$I263,Activités!$C$4:$I$534,5,0))","v":{"$error":"#N/A"}},{"$f":"IF(E256=0,\"\",VLOOKUP(DATE($A262,$A264,E256)+$I263,Activités!$C$4:$I$534,5,0))","v":{"$error":"#N/A"}},{"$f":"IF(F256=0,\"\",VLOOKUP(DATE($A262,$A264,F256)+$I263,Activités!$C$4:$I$534,5,0))","v":{"$error":"#N/A"}},{"$f":"IF(G256=0,\"\",VLOOKUP(DATE($A262,$A264,G256)+$I263,Activités!$C$4:$I$534,5,0))","v":""},{"$f":"IF(H256=0,\"\",VLOOKUP(DATE($A262,$A264,H256)+$I263,Activités!$C$4:$I$534,5,0))","v":""},{"$f":"+I261+0.1","v":0.4},null,null,null,null,null,null,null,null,null,null,null,null,null,null,null,null,null,{"$f":"AA262","v":""},"","","","","",""]
[{"$f":"A253","v":11},{"$f":"IF(ISNA(B263),\"\",B263)","v":""},"","","","","","",null,null,null,null,null,null,null,null,null,null,null,null,null,null,null,null,null,null,{"$f":"IF(LEFT(B264,7)=\"CDT-145\",\"CDT-145\",IF(LEFT(B264,7)=\"CDT-135\",\"CDT-135\",AA256))","v":""},"","","","","",""]
[null,{"$f":"IF(B256=0,\"\",VLOOKUP(DATE($A262,$A264,B256)+$I265,Activités!$C$4:$I$534,5,0))","v":{"$error":"#N/A"}},{"$f":"IF(C256=0,\"\",VLOOKUP(DATE($A262,$A264,C256)+$I265,Activités!$C$4:$I$534,5,0))","v":{"$error":"#N/A"}},{"$f":"IF(D256=0,\"\",VLOOKUP(DATE($A262,$A264,D256)+$I265,Activités!$C$4:$I$534,5,0))","v":{"$error":"#N/A"}},{"$f":"IF(E256=0,\"\",VLOOKUP(DATE($A262,$A264,E256)+$I265,Activités!$C$4:$I$534,5,0))","v":{"$error":"#N/A"}},{"$f":"IF(F256=0,\"\",VLOOKUP(DATE($A262,$A264,F256)+$I265,Activités!$C$4:$I$534,5,0))","v":{"$error":"#N/A"}},{"$f":"IF(G256=0,\"\",VLOOKUP(DATE($A262,$A264,G256)+$I265,Activités!$C$4:$I$534,5,0))","v":""},{"$f":"IF(H256=0,\"\",VLOOKUP(DATE($A262,$A264,H256)+$I265,Activités!$C$4:$I$534,5,0))","v":""},{"$f":"+I263+0.1","v":0.5},null,null,null,null,null,null,null,null,null,null,null,null,null,null,null,null,null,{"$f":"AA264","v":""},"","","","","",""]
[{"$f":"A255","v":30},{"$f":"IF(ISNA(B265),\"\",B265)","v":""},"","","","","","",null,null,null,null,null,null,null,null,null,null,null,null,null,null,null,null,null,null,{"$f":"IF(LEFT(B266,7)=\"CDT-145\",\"CDT-145\",IF(LEFT(B266,7)=\"CDT-135\",\"CDT-135\",AA256))","v":""},"","","","","",""]
[{"$f":"H256","v":0},{"$f":"IF(OR(A267=$A277,A267=0),0,A267+1)","v":0},0,0,0,0,0,0,null,null,null,null,null,null,null,null,null,null,null,null,null,null,null,null,null,null,{"$f":"IF(AND($B267=0,$H267=0),\"Invisible\",\"\")","v":"Invisible"},{"$f":"IF(AND($B267=0,$H267=0),\"Invisible\",\"\")","v":"Invisible"},"Invisible","Invisible","Invisible","Invisible","Invisible"]
[null,{"$f":"IF(B267=0,\"\",VLOOKUP(DATE($A273,$A275,B267)+$I268,Activités!$C$4:$I$534,5,0))","v":""},{"$f":"IF(C267=0,\"\",VLOOKUP(DATE($A273,$A275,C267)+$I268,Activités!$C$4:$I$534,5,0))","v":""},{"$f":"IF(D267=0,\"\",VLOOKUP(DATE($A273,$A275,D267)+$I268,Activités!$C$4:$I$534,5,0))","v":""},{"$f":"IF(E267=0,\"\",VLOOKUP(DATE($A273,$A275,E267)+$I268,Activités!$C$4:$I$534,5,0))","v":""},{"$f":"IF(F267=0,\"\",VLOOKUP(DATE($A273,$A275,F267)+$I268,Activités!$C$4:$I$534,5,0))","v":""},{"$f":"IF(G267=0,\"\",VLOOKUP(DATE($A273,$A275,G267)+$I268,Activités!$C$4:$I$534,5,0))","v":""},{"$f":"IF(H267=0,\"\",VLOOKUP(DATE($A273,$A275,H267)+$I268,Activités!$C$4:$I$534,5,0))","v":""},0.1,null,null,null,null,null,null,null,null,null,null,null,null,null,null,null,null,null,{"$f":"AA267","v":"Invisible"},"Invisible","Invisible","Invisible","Invisible","Invisible","Invisible"]
[null,{"$f":"IF(ISNA(B268),\"\",B268)","v":""},{"$f":"IF(ISNA(C268),\"\",C268)","v":""},"","","","","",null,null,null,null,null,null,null,null,null,null,null,null,null,null,null,null,null,null,{"$f":"IF(LEFT(B269,7)=\"CDT-145\",\"CDT-145\",IF(LEFT(B269,7)=\"CDT-135\",\"CDT-135\",AA267))","v":"Invisible"},"Invisible","Invisible","Invisible","Invisible","Invisible","Invisible"]
[null,{"$f":"IF(B267=0,\"\",VLOOKUP(DATE($A273,$A275,B267)+$I270,Activités!$C$4:$I$534,5,0))","v":""},{"$f":"IF(C267=0,\"\",VLOOKUP(DATE($A273,$A275,C267)+$I270,Activités!$C$4:$I$534,5,0))","v":""},{"$f":"IF(D267=0,\"\",VLOOKUP(DATE($A273,$A275,D267)+$I270,Activités!$C$4:$I$534,5,0))","v":""},{"$f":"IF(E267=0,\"\",VLOOKUP(DATE($A273,$A275,E267)+$I270,Activités!$C$4:$I$534,5,0))","v":""},{"$f":"IF(F267=0,\"\",VLOOKUP(DATE($A273,$A275,F267)+$I270,Activités!$C$4:$I$534,5,0))","v":""},{"$f":"IF(G267=0,\"\",VLOOKUP(DATE($A273,$A275,G267)+$I270,Activités!$C$4:$I$534,5,0))","v":""},{"$f":"IF(H267=0,\"\",VLOOKUP(DATE($A273,$A275,H267)+$I270,Activités!$C$4:$I$534,5,0))","v":""},{"$f":"+I268+0.1","v":0.2},null,null,null,null,null,null,null,null,null,null,null,null,null,null,null,null,null,{"$f":"AA269","v":"Invisible"},"Invisible","Invisible","Invisible","Invisible","Invisible","Invisible"]
[null,{"$f":"IF(ISNA(B270),\"\",B270)","v":""},"","","","","","",null,null,null,null,null,null,null,null,null,null,null,null,null,null,null,null,null,null,{"$f":"IF(LEFT(B271,7)=\"CDT-145\",\"CDT-145\",IF(LEFT(B271,7)=\"CDT-135\",\"CDT-135\",AA267))","v":"Invisible"},"Invisible","Invisible","Invisible","Invisible","Invisible","Invisible"]
[null,{"$f":"IF(B267=0,\"\",VLOOKUP(DATE($A273,$A275,B267)+$I272,Activités!$C$4:$I$534,5,0))","v":""},{"$f":"IF(C267=0,\"\",VLOOKUP(DATE($A273,$A275,C267)+$I272,Activités!$C$4:$I$534,5,0))","v":""},{"$f":"IF(D267=0,\"\",VLOOKUP(DATE($A273,$A275,D267)+$I272,Activités!$C$4:$I$534,5,0))","v":""},{"$f":"IF(E267=0,\"\",VLOOKUP(DATE($A273,$A275,E267)+$I272,Activités!$C$4:$I$534,5,0))","v":""},{"$f":"IF(F267=0,\"\",VLOOKUP(DATE($A273,$A275,F267)+$I272,Activités!$C$4:$I$534,5,0))","v":""},{"$f":"IF(G267=0,\"\",VLOOKUP(DATE($A273,$A275,G267)+$I272,Activités!$C$4:$I$534,5,0))","v":""},{"$f":"IF(H267=0,\"\",VLOOKUP(DATE($A273,$A275,H267)+$I272,Activités!$C$4:$I$534,5,0))","v":""},{"$f":"+I270+0.1","v":0.30000000000000004},null,null,null,null,null,null,null,null,null,null,null,null,null,null,null,null,null,{"$f":"AA271","v":"Invisible"},"Invisible","Invisible","Invisible","Invisible","Invisible","Invisible"]
[{"$f":"A262","v":2017},{"$f":"IF(ISNA(B272),\"\",B272)","v":""},"","","","","","",null,null,null,null,null,null,null,null,null,null,null,null,null,null,null,null,null,null,{"$f":"IF(LEFT(B273,7)=\"CDT-145\",\"CDT-145\",IF(LEFT(B273,7)=\"CDT-135\",\"CDT-135\",AA267))","v":"Invisible"},"Invisible","Invisible","Invisible","Invisible","Invisible","Invisible"]
[null,{"$f":"IF(B267=0,\"\",VLOOKUP(DATE($A273,$A275,B267)+$I274,Activités!$C$4:$I$534,5,0))","v":""},{"$f":"IF(C267=0,\"\",VLOOKUP(DATE($A273,$A275,C267)+$I274,Activités!$C$4:$I$534,5,0))","v":""},{"$f":"IF(D267=0,\"\",VLOOKUP(DATE($A273,$A275,D267)+$I274,Activités!$C$4:$I$534,5,0))","v":""},{"$f":"IF(E267=0,\"\",VLOOKUP(DATE($A273,$A275,E267)+$I274,Activités!$C$4:$I$534,5,0))","v":""},{"$f":"IF(F267=0,\"\",VLOOKUP(DATE($A273,$A275,F267)+$I274,Activités!$C$4:$I$534,5,0))","v":""},{"$f":"IF(G267=0,\"\",VLOOKUP(DATE($A273,$A275,G267)+$I274,Activités!$C$4:$I$534,5,0))","v":""},{"$f":"IF(H267=0,\"\",VLOOKUP(DATE($A273,$A275,H267)+$I274,Activités!$C$4:$I$534,5,0))","v":""},{"$f":"+I272+0.1","v":0.4},null,null,null,null,null,null,null,null,null,null,null,null,null,null,null,null,null,{"$f":"AA273","v":"Invisible"},"Invisible","Invisible","Invisible","Invisible","Invisible","Invisible"]
[{"$f":"A264","v":11},{"$f":"IF(ISNA(B274),\"\",B274)","v":""},"","","","","","",null,null,null,null,null,null,null,null,null,null,null,null,null,null,null,null,null,null,{"$f":"IF(LEFT(B275,7)=\"CDT-145\",\"CDT-145\",IF(LEFT(B275,7)=\"CDT-135\",\"CDT-135\",AA267))","v":"Invisible"},"Invisible","Invisible","Invisible","Invisible","Invisible","Invisible"]
[null,{"$f":"IF(B267=0,\"\",VLOOKUP(DATE($A273,$A275,B267)+$I276,Activités!$C$4:$I$534,5,0))","v":""},{"$f":"IF(C267=0,\"\",VLOOKUP(DATE($A273,$A275,C267)+$I276,Activités!$C$4:$I$534,5,0))","v":""},{"$f":"IF(D267=0,\"\",VLOOKUP(DATE($A273,$A275,D267)+$I276,Activités!$C$4:$I$534,5,0))","v":""},{"$f":"IF(E267=0,\"\",VLOOKUP(DATE($A273,$A275,E267)+$I276,Activités!$C$4:$I$534,5,0))","v":""},{"$f":"IF(F267=0,\"\",VLOOKUP(DATE($A273,$A275,F267)+$I276,Activités!$C$4:$I$534,5,0))","v":""},{"$f":"IF(G267=0,\"\",VLOOKUP(DATE($A273,$A275,G267)+$I276,Activités!$C$4:$I$534,5,0))","v":""},{"$f":"IF(H267=0,\"\",VLOOKUP(DATE($A273,$A275,H267)+$I276,Activités!$C$4:$I$534,5,0))","v":""},{"$f":"+I274+0.1","v":0.5},null,null,null,null,null,null,null,null,null,null,null,null,null,null,null,null,null,{"$f":"AA275","v":"Invisible"},"Invisible","Invisible","Invisible","Invisible","Invisible","Invisible"]
[{"$f":"A266","v":30},{"$f":"IF(ISNA(B276),\"\",B276)","v":""},"","","","","","",null,null,null,null,null,null,null,null,null,null,null,null,null,null,null,null,null,null,{"$f":"IF(LEFT(B277,7)=\"CDT-145\",\"CDT-145\",IF(LEFT(B277,7)=\"CDT-135\",\"CDT-135\",AA267))","v":"Invisible"},"Invisible","Invisible","Invisible","Invisible","Invisible","Invisible"]
[]
[null,{"$f":"VLOOKUP(107,Traduction!$B$6:$D$250,'Info de l''escadron'!$A$1+1,0)","v":"DÉCEMBRE"},null,null,null,null,null,{"$f":"H210","v":2017}]
[null,{"$f":"B$4","v":"Dimanche"},{"$f":"C$4","v":"Lundi"},"Mardi","Mercredi","Jeudi","Vendredi","Samedi"]
[null,{"$f":"IF(WEEKDAY(DATE($H279,$A289,1),1)=B$2,1,IF(A281=0,0,A281+1))","v":0},0,0,0,0,1,2,null,null,null,null,null,null,null,null,null,null,null,null,null,null,null,null,null,null,{"$f":"IF(AND($B281=0,$H281=0),\"Invisible\",\"\")","v":""},{"$f":"IF(AND($B281=0,$H281=0),\"Invisible\",\"\")","v":""},"","","","",""]
[null,{"$f":"IF(B281=0,\"\",VLOOKUP(DATE($A287,$A289,B281)+$I282,Activités!$C$4:$I$534,5,0))","v":""},{"$f":"IF(C281=0,\"\",VLOOKUP(DATE($A287,$A289,C281)+$I282,Activités!$C$4:$I$534,5,0))","v":""},{"$f":"IF(D281=0,\"\",VLOOKUP(DATE($A287,$A289,D281)+$I282,Activités!$C$4:$I$534,5,0))","v":""},{"$f":"IF(E281=0,\"\",VLOOKUP(DATE($A287,$A289,E281)+$I282,Activités!$C$4:$I$534,5,0))","v":""},{"$f":"IF(F281=0,\"\",VLOOKUP(DATE($A287,$A289,F281)+$I282,Activités!$C$4:$I$534,5,0))","v":""},{"$f":"IF(G281=0,\"\",VLOOKUP(DATE($A287,$A289,G281)+$I282,Activités!$C$4:$I$534,5,0))","v":{"$error":"#N/A"}},{"$f":"IF(H281=0,\"\",VLOOKUP(DATE($A287,$A289,H281)+$I282,Activités!$C$4:$I$534,5,0))","v":{"$error":"#N/A"}},0.1,null,null,null,null,null,null,null,null,null,null,null,null,null,null,null,null,null,{"$f":"AA281","v":""},"","","","","",""]
[null,{"$f":"IF(ISNA(B282),\"\",B282)","v":""},{"$f":"IF(ISNA(C282),\"\",C282)","v":""},"","","","","",null,null,null,null,null,null,null,null,null,null,null,null,null,null,null,null,null,null,{"$f":"IF(LEFT(B283,7)=\"CDT-145\",\"CDT-145\",IF(LEFT(B283,7)=\"CDT-135\",\"CDT-135\",AA281))","v":""},"","","","","",""]
[null,{"$f":"IF(B281=0,\"\",VLOOKUP(DATE($A287,$A289,B281)+$I284,Activités!$C$4:$I$534,5,0))","v":""},{"$f":"IF(C281=0,\"\",VLOOKUP(DATE($A287,$A289,C281)+$I284,Activités!$C$4:$I$534,5,0))","v":""},{"$f":"IF(D281=0,\"\",VLOOKUP(DATE($A287,$A289,D281)+$I284,Activités!$C$4:$I$534,5,0))","v":""},{"$f":"IF(E281=0,\"\",VLOOKUP(DATE($A287,$A289,E281)+$I284,Activités!$C$4:$I$534,5,0))","v":""},{"$f":"IF(F281=0,\"\",VLOOKUP(DATE($A287,$A289,F281)+$I284,Activités!$C$4:$I$534,5,0))","v":""},{"$f":"IF(G281=0,\"\",VLOOKUP(DATE($A287,$A289,G281)+$I284,Activités!$C$4:$I$534,5,0))","v":{"$error":"#N/A"}},{"$f":"IF(H281=0,\"\",VLOOKUP(DATE($A287,$A289,H281)+$I284,Activités!$C$4:$I$534,5,0))","v":{"$error":"#N/A"}},{"$f":"+I282+0.1","v":0.2},null,null,null,null,null,null,null,null,null,null,null,null,null,null,null,null,null,{"$f":"AA283","v":""},"","","","","",""]
[null,{"$f":"IF(ISNA(B284),\"\",B284)","v":""},"","","","","","",null,null,null,null,null,null,null,null,null,null,null,null,null,null,null,null,null,null,{"$f":"IF(LEFT(B285,7)=\"CDT-145\",\"CDT-145\",IF(LEFT(B285,7)=\"CDT-135\",\"CDT-135\",AA281))","v":""},"","","","","",""]
[null,{"$f":"IF(B281=0,\"\",VLOOKUP(DATE($A287,$A289,B281)+$I286,Activités!$C$4:$I$534,5,0))","v":""},{"$f":"IF(C281=0,\"\",VLOOKUP(DATE($A287,$A289,C281)+$I286,Activités!$C$4:$I$534,5,0))","v":""},{"$f":"IF(D281=0,\"\",VLOOKUP(DATE($A287,$A289,D281)+$I286,Activités!$C$4:$I$534,5,0))","v":""},{"$f":"IF(E281=0,\"\",VLOOKUP(DATE($A287,$A289,E281)+$I286,Activités!$C$4:$I$534,5,0))","v":""},{"$f":"IF(F281=0,\"\",VLOOKUP(DATE($A287,$A289,F281)+$I286,Activités!$C$4:$I$534,5,0))","v":""},{"$f":"IF(G281=0,\"\",VLOOKUP(DATE($A287,$A289,G281)+$I286,Activités!$C$4:$I$534,5,0))","v":{"$error":"#N/A"}},{"$f":"IF(H281=0,\"\",VLOOKUP(DATE($A287,$A289,H281)+$I286,Activités!$C$4:$I$534,5,0))","v":{"$error":"#N/A"}},{"$f":"+I284+0.1","v":0.30000000000000004},null,null,null,null,null,null,null,null,null,null,null,null,null,null,null,null,null,{"$f":"AA285","v":""},"","","","","",""]
[{"$f":"H279","v":2017},{"$f":"IF(ISNA(B286),\"\",B286)","v":""},"","","","","","",null,null,null,null,null,null,null,null,null,null,null,null,null,null,null,null,null,null,{"$f":"IF(LEFT(B287,7)=\"CDT-145\",\"CDT-145\",IF(LEFT(B287,7)=\"CDT-135\",\"CDT-135\",AA281))","v":""},"","","","","",""]
[null,{"$f":"IF(B281=0,\"\",VLOOKUP(DATE($A287,$A289,B281)+$I288,Activités!$C$4:$I$534,5,0))","v":""},{"$f":"IF(C281=0,\"\",VLOOKUP(DATE($A287,$A289,C281)+$I288,Activités!$C$4:$I$534,5,0))","v":""},{"$f":"IF(D281=0,\"\",VLOOKUP(DATE($A287,$A289,D281)+$I288,Activités!$C$4:$I$534,5,0))","v":""},{"$f":"IF(E281=0,\"\",VLOOKUP(DATE($A287,$A289,E281)+$I288,Activités!$C$4:$I$534,5,0))","v":""},{"$f":"IF(F281=0,\"\",VLOOKUP(DATE($A287,$A289,F281)+$I288,Activités!$C$4:$I$534,5,0))","v":""},{"$f":"IF(G281=0,\"\",VLOOKUP(DATE($A287,$A289,G281)+$I288,Activités!$C$4:$I$534,5,0))","v":{"$error":"#N/A"}},{"$f":"IF(H281=0,\"\",VLOOKUP(DATE($A287,$A289,H281)+$I288,Activités!$C$4:$I$534,5,0))","v":{"$error":"#N/A"}},{"$f":"+I286+0.1","v":0.4},null,null,null,null,null,null,null,null,null,null,null,null,null,null,null,null,null,{"$f":"AA287","v":""},"","","","","",""]
[12,{"$f":"IF(ISNA(B288),\"\",B288)","v":""},"","","","","","",null,null,null,null,null,null,null,null,null,null,null,null,null,null,null,null,null,null,{"$f":"IF(LEFT(B289,7)=\"CDT-145\",\"CDT-145\",IF(LEFT(B289,7)=\"CDT-135\",\"CDT-135\",AA281))","v":""},"","","","","",""]
[null,{"$f":"IF(B281=0,\"\",VLOOKUP(DATE($A287,$A289,B281)+$I290,Activités!$C$4:$I$534,5,0))","v":""},{"$f":"IF(C281=0,\"\",VLOOKUP(DATE($A287,$A289,C281)+$I290,Activités!$C$4:$I$534,5,0))","v":""},{"$f":"IF(D281=0,\"\",VLOOKUP(DATE($A287,$A289,D281)+$I290,Activités!$C$4:$I$534,5,0))","v":""},{"$f":"IF(E281=0,\"\",VLOOKUP(DATE($A287,$A289,E281)+$I290,Activités!$C$4:$I$534,5,0))","v":""},{"$f":"IF(F281=0,\"\",VLOOKUP(DATE($A287,$A289,F281)+$I290,Activités!$C$4:$I$534,5,0))","v":""},{"$f":"IF(G281=0,\"\",VLOOKUP(DATE($A287,$A289,G281)+$I290,Activités!$C$4:$I$534,5,0))","v":{"$error":"#N/A"}},{"$f":"IF(H281=0,\"\",VLOOKUP(DATE($A287,$A289,H281)+$I290,Activités!$C$4:$I$534,5,0))","v":{"$error":"#N/A"}},{"$f":"+I288+0.1","v":0.5},null,null,null,null,null,null,null,null,null,null,null,null,null,null,null,null,null,{"$f":"AA289","v":""},"","","","","",""]
[31,{"$f":"IF(ISNA(B290),\"\",B290)","v":""},"","","","","","",null,null,null,null,null,null,null,null,null,null,null,null,null,null,null,null,null,null,{"$f":"IF(LEFT(B291,7)=\"CDT-145\",\"CDT-145\",IF(LEFT(B291,7)=\"CDT-135\",\"CDT-135\",AA281))","v":""},"","","","","",""]
[{"$f":"H281","v":2},{"$f":"IF(OR(A292=$A302,A292=0),0,A292+1)","v":3},4,5,6,7,8,9,null,null,null,null,null,null,null,null,null,null,null,null,null,null,null,null,null,null,{"$f":"IF(AND($B292=0,$H292=0),\"Invisible\",\"\")","v":""},{"$f":"IF(AND($B292=0,$H292=0),\"Invisible\",\"\")","v":""},"","","","",""]
[null,{"$f":"IF(B292=0,\"\",VLOOKUP(DATE($A298,$A300,B292)+$I293,Activités!$C$4:$I$534,5,0))","v":{"$error":"#N/A"}},{"$f":"IF(C292=0,\"\",VLOOKUP(DATE($A298,$A300,C292)+$I293,Activités!$C$4:$I$534,5,0))","v":{"$error":"#N/A"}},{"$f":"IF(D292=0,\"\",VLOOKUP(DATE($A298,$A300,D292)+$I293,Activités!$C$4:$I$534,5,0))","v":{"$error":"#N/A"}},{"$f":"IF(E292=0,\"\",VLOOKUP(DATE($A298,$A300,E292)+$I293,Activités!$C$4:$I$534,5,0))","v":{"$error":"#N/A"}},{"$f":"IF(F292=0,\"\",VLOOKUP(DATE($A298,$A300,F292)+$I293,Activités!$C$4:$I$534,5,0))","v":{"$error":"#N/A"}},{"$f":"IF(G292=0,\"\",VLOOKUP(DATE($A298,$A300,G292)+$I293,Activités!$C$4:$I$534,5,0))","v":{"$error":"#N/A"}},{"$f":"IF(H292=0,\"\",VLOOKUP(DATE($A298,$A300,H292)+$I293,Activités!$C$4:$I$534,5,0))","v":{"$error":"#N/A"}},0.1,null,null,null,null,null,null,null,null,null,null,null,null,null,null,null,null,null,{"$f":"AA292","v":""},"","","","","",""]
[null,{"$f":"IF(ISNA(B293),\"\",B293)","v":""},{"$f":"IF(ISNA(C293),\"\",C293)","v":""},"","","","","",null,null,null,null,null,null,null,null,null,null,null,null,null,null,null,null,null,null,{"$f":"IF(LEFT(B294,7)=\"CDT-145\",\"CDT-145\",IF(LEFT(B294,7)=\"CDT-135\",\"CDT-135\",AA292))","v":""},"","","","","",""]
[null,{"$f":"IF(B292=0,\"\",VLOOKUP(DATE($A298,$A300,B292)+$I295,Activités!$C$4:$I$534,5,0))","v":{"$error":"#N/A"}},{"$f":"IF(C292=0,\"\",VLOOKUP(DATE($A298,$A300,C292)+$I295,Activités!$C$4:$I$534,5,0))","v":{"$error":"#N/A"}},{"$f":"IF(D292=0,\"\",VLOOKUP(DATE($A298,$A300,D292)+$I295,Activités!$C$4:$I$534,5,0))","v":{"$error":"#N/A"}},{"$f":"IF(E292=0,\"\",VLOOKUP(DATE($A298,$A300,E292)+$I295,Activités!$C$4:$I$534,5,0))","v":{"$error":"#N/A"}},{"$f":"IF(F292=0,\"\",VLOOKUP(DATE($A298,$A300,F292)+$I295,Activités!$C$4:$I$534,5,0))","v":{"$error":"#N/A"}},{"$f":"IF(G292=0,\"\",VLOOKUP(DATE($A298,$A300,G292)+$I295,Activités!$C$4:$I$534,5,0))","v":{"$error":"#N/A"}},{"$f":"IF(H292=0,\"\",VLOOKUP(DATE($A298,$A300,H292)+$I295,Activités!$C$4:$I$534,5,0))","v":{"$error":"#N/A"}},{"$f":"+I293+0.1","v":0.2},null,null,null,null,null,null,null,null,null,null,null,null,null,null,null,null,null,{"$f":"AA294","v":""},"","","","","",""]
[null,{"$f":"IF(ISNA(B295),\"\",B295)","v":""},"","","","","","",null,null,null,null,null,null,null,null,null,null,null,null,null,null,null,null,null,null,{"$f":"IF(LEFT(B296,7)=\"CDT-145\",\"CDT-145\",IF(LEFT(B296,7)=\"CDT-135\",\"CDT-135\",AA292))","v":""},"","","","","",""]
[null,{"$f":"IF(B292=0,\"\",VLOOKUP(DATE($A298,$A300,B292)+$I297,Activités!$C$4:$I$534,5,0))","v":{"$error":"#N/A"}},{"$f":"IF(C292=0,\"\",VLOOKUP(DATE($A298,$A300,C292)+$I297,Activités!$C$4:$I$534,5,0))","v":{"$error":"#N/A"}},{"$f":"IF(D292=0,\"\",VLOOKUP(DATE($A298,$A300,D292)+$I297,Activités!$C$4:$I$534,5,0))","v":{"$error":"#N/A"}},{"$f":"IF(E292=0,\"\",VLOOKUP(DATE($A298,$A300,E292)+$I297,Activités!$C$4:$I$534,5,0))","v":{"$error":"#N/A"}},{"$f":"IF(F292=0,\"\",VLOOKUP(DATE($A298,$A300,F292)+$I297,Activités!$C$4:$I$534,5,0))","v":{"$error":"#N/A"}},{"$f":"IF(G292=0,\"\",VLOOKUP(DATE($A298,$A300,G292)+$I297,Activités!$C$4:$I$534,5,0))","v":{"$error":"#N/A"}},{"$f":"IF(H292=0,\"\",VLOOKUP(DATE($A298,$A300,H292)+$I297,Activités!$C$4:$I$534,5,0))","v":{"$error":"#N/A"}},{"$f":"+I295+0.1","v":0.30000000000000004},null,null,null,null,null,null,null,null,null,null,null,null,null,null,null,null,null,{"$f":"AA296","v":""},"","","","","",""]
[{"$f":"A287","v":2017},{"$f":"IF(ISNA(B297),\"\",B297)","v":""},"","","","","","",null,null,null,null,null,null,null,null,null,null,null,null,null,null,null,null,null,null,{"$f":"IF(LEFT(B298,7)=\"CDT-145\",\"CDT-145\",IF(LEFT(B298,7)=\"CDT-135\",\"CDT-135\",AA292))","v":""},"","","","","",""]
[null,{"$f":"IF(B292=0,\"\",VLOOKUP(DATE($A298,$A300,B292)+$I299,Activités!$C$4:$I$534,5,0))","v":{"$error":"#N/A"}},{"$f":"IF(C292=0,\"\",VLOOKUP(DATE($A298,$A300,C292)+$I299,Activités!$C$4:$I$534,5,0))","v":{"$error":"#N/A"}},{"$f":"IF(D292=0,\"\",VLOOKUP(DATE($A298,$A300,D292)+$I299,Activités!$C$4:$I$534,5,0))","v":{"$error":"#N/A"}},{"$f":"IF(E292=0,\"\",VLOOKUP(DATE($A298,$A300,E292)+$I299,Activités!$C$4:$I$534,5,0))","v":{"$error":"#N/A"}},{"$f":"IF(F292=0,\"\",VLOOKUP(DATE($A298,$A300,F292)+$I299,Activités!$C$4:$I$534,5,0))","v":{"$error":"#N/A"}},{"$f":"IF(G292=0,\"\",VLOOKUP(DATE($A298,$A300,G292)+$I299,Activités!$C$4:$I$534,5,0))","v":{"$error":"#N/A"}},{"$f":"IF(H292=0,\"\",VLOOKUP(DATE($A298,$A300,H292)+$I299,Activités!$C$4:$I$534,5,0))","v":{"$error":"#N/A"}},{"$f":"+I297+0.1","v":0.4},null,null,null,null,null,null,null,null,null,null,null,null,null,null,null,null,null,{"$f":"AA298","v":""},"","","","","",""]
[{"$f":"A289","v":12},{"$f":"IF(ISNA(B299),\"\",B299)","v":""},"","","","","","",null,null,null,null,null,null,null,null,null,null,null,null,null,null,null,null,null,null,{"$f":"IF(LEFT(B300,7)=\"CDT-145\",\"CDT-145\",IF(LEFT(B300,7)=\"CDT-135\",\"CDT-135\",AA292))","v":""},"","","","","",""]
[null,{"$f":"IF(B292=0,\"\",VLOOKUP(DATE($A298,$A300,B292)+$I301,Activités!$C$4:$I$534,5,0))","v":{"$error":"#N/A"}},{"$f":"IF(C292=0,\"\",VLOOKUP(DATE($A298,$A300,C292)+$I301,Activités!$C$4:$I$534,5,0))","v":{"$error":"#N/A"}},{"$f":"IF(D292=0,\"\",VLOOKUP(DATE($A298,$A300,D292)+$I301,Activités!$C$4:$I$534,5,0))","v":{"$error":"#N/A"}},{"$f":"IF(E292=0,\"\",VLOOKUP(DATE($A298,$A300,E292)+$I301,Activités!$C$4:$I$534,5,0))","v":{"$error":"#N/A"}},{"$f":"IF(F292=0,\"\",VLOOKUP(DATE($A298,$A300,F292)+$I301,Activités!$C$4:$I$534,5,0))","v":{"$error":"#N/A"}},{"$f":"IF(G292=0,\"\",VLOOKUP(DATE($A298,$A300,G292)+$I301,Activités!$C$4:$I$534,5,0))","v":{"$error":"#N/A"}},{"$f":"IF(H292=0,\"\",VLOOKUP(DATE($A298,$A300,H292)+$I301,Activités!$C$4:$I$534,5,0))","v":{"$error":"#N/A"}},{"$f":"+I299+0.1","v":0.5},null,null,null,null,null,null,null,null,null,null,null,null,null,null,null,null,null,{"$f":"AA300","v":""},"","","","","",""]
[{"$f":"A291","v":31},{"$f":"IF(ISNA(B301),\"\",B301)","v":""},"","","","","","",null,null,null,null,null,null,null,null,null,null,null,null,null,null,null,null,null,null,{"$f":"IF(LEFT(B302,7)=\"CDT-145\",\"CDT-145\",IF(LEFT(B302,7)=\"CDT-135\",\"CDT-135\",AA292))","v":""},"","","","","",""]
[{"$f":"H292","v":9},{"$f":"IF(OR(A303=$A313,A303=0),0,A303+1)","v":10},11,12,13,14,15,16,null,null,null,null,null,null,null,null,null,null,null,null,null,null,null,null,null,null,{"$f":"IF(AND($B303=0,$H303=0),\"Invisible\",\"\")","v":""},{"$f":"IF(AND($B303=0,$H303=0),\"Invisible\",\"\")","v":""},"","","","",""]
[null,{"$f":"IF(B303=0,\"\",VLOOKUP(DATE($A309,$A311,B303)+$I304,Activités!$C$4:$I$534,5,0))","v":{"$error":"#N/A"}},{"$f":"IF(C303=0,\"\",VLOOKUP(DATE($A309,$A311,C303)+$I304,Activités!$C$4:$I$534,5,0))","v":{"$error":"#N/A"}},{"$f":"IF(D303=0,\"\",VLOOKUP(DATE($A309,$A311,D303)+$I304,Activités!$C$4:$I$534,5,0))","v":{"$error":"#N/A"}},{"$f":"IF(E303=0,\"\",VLOOKUP(DATE($A309,$A311,E303)+$I304,Activités!$C$4:$I$534,5,0))","v":{"$error":"#N/A"}},{"$f":"IF(F303=0,\"\",VLOOKUP(DATE($A309,$A311,F303)+$I304,Activités!$C$4:$I$534,5,0))","v":{"$error":"#N/A"}},{"$f":"IF(G303=0,\"\",VLOOKUP(DATE($A309,$A311,G303)+$I304,Activités!$C$4:$I$534,5,0))","v":{"$error":"#N/A"}},{"$f":"IF(H303=0,\"\",VLOOKUP(DATE($A309,$A311,H303)+$I304,Activités!$C$4:$I$534,5,0))","v":{"$error":"#N/A"}},0.1,null,null,null,null,null,null,null,null,null,null,null,null,null,null,null,null,null,{"$f":"AA303","v":""},"","","","","",""]
[null,{"$f":"IF(ISNA(B304),\"\",B304)","v":""},{"$f":"IF(ISNA(C304),\"\",C304)","v":""},"","","","","",null,null,null,null,null,null,null,null,null,null,null,null,null,null,null,null,null,null,{"$f":"IF(LEFT(B305,7)=\"CDT-145\",\"CDT-145\",IF(LEFT(B305,7)=\"CDT-135\",\"CDT-135\",AA303))","v":""},"","","","","",""]
[null,{"$f":"IF(B303=0,\"\",VLOOKUP(DATE($A309,$A311,B303)+$I306,Activités!$C$4:$I$534,5,0))","v":{"$error":"#N/A"}},{"$f":"IF(C303=0,\"\",VLOOKUP(DATE($A309,$A311,C303)+$I306,Activités!$C$4:$I$534,5,0))","v":{"$error":"#N/A"}},{"$f":"IF(D303=0,\"\",VLOOKUP(DATE($A309,$A311,D303)+$I306,Activités!$C$4:$I$534,5,0))","v":{"$error":"#N/A"}},{"$f":"IF(E303=0,\"\",VLOOKUP(DATE($A309,$A311,E303)+$I306,Activités!$C$4:$I$534,5,0))","v":{"$error":"#N/A"}},{"$f":"IF(F303=0,\"\",VLOOKUP(DATE($A309,$A311,F303)+$I306,Activités!$C$4:$I$534,5,0))","v":{"$error":"#N/A"}},{"$f":"IF(G303=0,\"\",VLOOKUP(DATE($A309,$A311,G303)+$I306,Activités!$C$4:$I$534,5,0))","v":{"$error":"#N/A"}},{"$f":"IF(H303=0,\"\",VLOOKUP(DATE($A309,$A311,H303)+$I306,Activités!$C$4:$I$534,5,0))","v":{"$error":"#N/A"}},{"$f":"+I304+0.1","v":0.2},null,null,null,null,null,null,null,null,null,null,null,null,null,null,null,null,null,{"$f":"AA305","v":""},"","","","","",""]
[null,{"$f":"IF(ISNA(B306),\"\",B306)","v":""},"","","","","","",null,null,null,null,null,null,null,null,null,null,null,null,null,null,null,null,null,null,{"$f":"IF(LEFT(B307,7)=\"CDT-145\",\"CDT-145\",IF(LEFT(B307,7)=\"CDT-135\",\"CDT-135\",AA303))","v":""},"","","","","",""]
[null,{"$f":"IF(B303=0,\"\",VLOOKUP(DATE($A309,$A311,B303)+$I308,Activités!$C$4:$I$534,5,0))","v":{"$error":"#N/A"}},{"$f":"IF(C303=0,\"\",VLOOKUP(DATE($A309,$A311,C303)+$I308,Activités!$C$4:$I$534,5,0))","v":{"$error":"#N/A"}},{"$f":"IF(D303=0,\"\",VLOOKUP(DATE($A309,$A311,D303)+$I308,Activités!$C$4:$I$534,5,0))","v":{"$error":"#N/A"}},{"$f":"IF(E303=0,\"\",VLOOKUP(DATE($A309,$A311,E303)+$I308,Activités!$C$4:$I$534,5,0))","v":{"$error":"#N/A"}},{"$f":"IF(F303=0,\"\",VLOOKUP(DATE($A309,$A311,F303)+$I308,Activités!$C$4:$I$534,5,0))","v":{"$error":"#N/A"}},{"$f":"IF(G303=0,\"\",VLOOKUP(DATE($A309,$A311,G303)+$I308,Activités!$C$4:$I$534,5,0))","v":{"$error":"#N/A"}},{"$f":"IF(H303=0,\"\",VLOOKUP(DATE($A309,$A311,H303)+$I308,Activités!$C$4:$I$534,5,0))","v":{"$error":"#N/A"}},{"$f":"+I306+0.1","v":0.30000000000000004},null,null,null,null,null,null,null,null,null,null,null,null,null,null,null,null,null,{"$f":"AA307","v":""},"","","","","",""]
[{"$f":"A298","v":2017},{"$f":"IF(ISNA(B308),\"\",B308)","v":""},"","","","","","",null,null,null,null,null,null,null,null,null,null,null,null,null,null,null,null,null,null,{"$f":"IF(LEFT(B309,7)=\"CDT-145\",\"CDT-145\",IF(LEFT(B309,7)=\"CDT-135\",\"CDT-135\",AA303))","v":""},"","","","","",""]
[null,{"$f":"IF(B303=0,\"\",VLOOKUP(DATE($A309,$A311,B303)+$I310,Activités!$C$4:$I$534,5,0))","v":{"$error":"#N/A"}},{"$f":"IF(C303=0,\"\",VLOOKUP(DATE($A309,$A311,C303)+$I310,Activités!$C$4:$I$534,5,0))","v":{"$error":"#N/A"}},{"$f":"IF(D303=0,\"\",VLOOKUP(DATE($A309,$A311,D303)+$I310,Activités!$C$4:$I$534,5,0))","v":{"$error":"#N/A"}},{"$f":"IF(E303=0,\"\",VLOOKUP(DATE($A309,$A311,E303)+$I310,Activités!$C$4:$I$534,5,0))","v":{"$error":"#N/A"}},{"$f":"IF(F303=0,\"\",VLOOKUP(DATE($A309,$A311,F303)+$I310,Activités!$C$4:$I$534,5,0))","v":{"$error":"#N/A"}},{"$f":"IF(G303=0,\"\",VLOOKUP(DATE($A309,$A311,G303)+$I310,Activités!$C$4:$I$534,5,0))","v":{"$error":"#N/A"}},{"$f":"IF(H303=0,\"\",VLOOKUP(DATE($A309,$A311,H303)+$I310,Activités!$C$4:$I$534,5,0))","v":{"$error":"#N/A"}},{"$f":"+I308+0.1","v":0.4},null,null,null,null,null,null,null,null,null,null,null,null,null,null,null,null,null,{"$f":"AA309","v":""},"","","","","",""]
[{"$f":"A300","v":12},{"$f":"IF(ISNA(B310),\"\",B310)","v":""},"","","","","","",null,null,null,null,null,null,null,null,null,null,null,null,null,null,null,null,null,null,{"$f":"IF(LEFT(B311,7)=\"CDT-145\",\"CDT-145\",IF(LEFT(B311,7)=\"CDT-135\",\"CDT-135\",AA303))","v":""},"","","","","",""]
[null,{"$f":"IF(B303=0,\"\",VLOOKUP(DATE($A309,$A311,B303)+$I312,Activités!$C$4:$I$534,5,0))","v":{"$error":"#N/A"}},{"$f":"IF(C303=0,\"\",VLOOKUP(DATE($A309,$A311,C303)+$I312,Activités!$C$4:$I$534,5,0))","v":{"$error":"#N/A"}},{"$f":"IF(D303=0,\"\",VLOOKUP(DATE($A309,$A311,D303)+$I312,Activités!$C$4:$I$534,5,0))","v":{"$error":"#N/A"}},{"$f":"IF(E303=0,\"\",VLOOKUP(DATE($A309,$A311,E303)+$I312,Activités!$C$4:$I$534,5,0))","v":{"$error":"#N/A"}},{"$f":"IF(F303=0,\"\",VLOOKUP(DATE($A309,$A311,F303)+$I312,Activités!$C$4:$I$534,5,0))","v":{"$error":"#N/A"}},{"$f":"IF(G303=0,\"\",VLOOKUP(DATE($A309,$A311,G303)+$I312,Activités!$C$4:$I$534,5,0))","v":{"$error":"#N/A"}},{"$f":"IF(H303=0,\"\",VLOOKUP(DATE($A309,$A311,H303)+$I312,Activités!$C$4:$I$534,5,0))","v":{"$error":"#N/A"}},{"$f":"+I310+0.1","v":0.5},null,null,null,null,null,null,null,null,null,null,null,null,null,null,null,null,null,{"$f":"AA311","v":""},"","","","","",""]
[{"$f":"A302","v":31},{"$f":"IF(ISNA(B312),\"\",B312)","v":""},"","","","","","",null,null,null,null,null,null,null,null,null,null,null,null,null,null,null,null,null,null,{"$f":"IF(LEFT(B313,7)=\"CDT-145\",\"CDT-145\",IF(LEFT(B313,7)=\"CDT-135\",\"CDT-135\",AA303))","v":""},"","","","","",""]
[{"$f":"H303","v":16},{"$f":"IF(OR(A314=$A324,A314=0),0,A314+1)","v":17},18,19,20,21,22,23,null,null,null,null,null,null,null,null,null,null,null,null,null,null,null,null,null,null,{"$f":"IF(AND($B314=0,$H314=0),\"Invisible\",\"\")","v":""},{"$f":"IF(AND($B314=0,$H314=0),\"Invisible\",\"\")","v":""},"","","","",""]
[null,{"$f":"IF(B314=0,\"\",VLOOKUP(DATE($A320,$A322,B314)+$I315,Activités!$C$4:$I$534,5,0))","v":{"$error":"#N/A"}},{"$f":"IF(C314=0,\"\",VLOOKUP(DATE($A320,$A322,C314)+$I315,Activités!$C$4:$I$534,5,0))","v":{"$error":"#N/A"}},{"$f":"IF(D314=0,\"\",VLOOKUP(DATE($A320,$A322,D314)+$I315,Activités!$C$4:$I$534,5,0))","v":{"$error":"#N/A"}},{"$f":"IF(E314=0,\"\",VLOOKUP(DATE($A320,$A322,E314)+$I315,Activités!$C$4:$I$534,5,0))","v":{"$error":"#N/A"}},{"$f":"IF(F314=0,\"\",VLOOKUP(DATE($A320,$A322,F314)+$I315,Activités!$C$4:$I$534,5,0))","v":{"$error":"#N/A"}},{"$f":"IF(G314=0,\"\",VLOOKUP(DATE($A320,$A322,G314)+$I315,Activités!$C$4:$I$534,5,0))","v":{"$error":"#N/A"}},{"$f":"IF(H314=0,\"\",VLOOKUP(DATE($A320,$A322,H314)+$I315,Activités!$C$4:$I$534,5,0))","v":{"$error":"#N/A"}},0.1,null,null,null,null,null,null,null,null,null,null,null,null,null,null,null,null,null,{"$f":"AA314","v":""},"","","","","",""]
[null,{"$f":"IF(ISNA(B315),\"\",B315)","v":""},{"$f":"IF(ISNA(C315),\"\",C315)","v":""},"","","","","",null,null,null,null,null,null,null,null,null,null,null,null,null,null,null,null,null,null,{"$f":"IF(LEFT(B316,7)=\"CDT-145\",\"CDT-145\",IF(LEFT(B316,7)=\"CDT-135\",\"CDT-135\",AA314))","v":""},"","","","","",""]
[null,{"$f":"IF(B314=0,\"\",VLOOKUP(DATE($A320,$A322,B314)+$I317,Activités!$C$4:$I$534,5,0))","v":{"$error":"#N/A"}},{"$f":"IF(C314=0,\"\",VLOOKUP(DATE($A320,$A322,C314)+$I317,Activités!$C$4:$I$534,5,0))","v":{"$error":"#N/A"}},{"$f":"IF(D314=0,\"\",VLOOKUP(DATE($A320,$A322,D314)+$I317,Activités!$C$4:$I$534,5,0))","v":{"$error":"#N/A"}},{"$f":"IF(E314=0,\"\",VLOOKUP(DATE($A320,$A322,E314)+$I317,Activités!$C$4:$I$534,5,0))","v":{"$error":"#N/A"}},{"$f":"IF(F314=0,\"\",VLOOKUP(DATE($A320,$A322,F314)+$I317,Activités!$C$4:$I$534,5,0))","v":{"$error":"#N/A"}},{"$f":"IF(G314=0,\"\",VLOOKUP(DATE($A320,$A322,G314)+$I317,Activités!$C$4:$I$534,5,0))","v":{"$error":"#N/A"}},{"$f":"IF(H314=0,\"\",VLOOKUP(DATE($A320,$A322,H314)+$I317,Activités!$C$4:$I$534,5,0))","v":{"$error":"#N/A"}},{"$f":"+I315+0.1","v":0.2},null,null,null,null,null,null,null,null,null,null,null,null,null,null,null,null,null,{"$f":"AA316","v":""},"","","","","",""]
[null,{"$f":"IF(ISNA(B317),\"\",B317)","v":""},"","","","","","",null,null,null,null,null,null,null,null,null,null,null,null,null,null,null,null,null,null,{"$f":"IF(LEFT(B318,7)=\"CDT-145\",\"CDT-145\",IF(LEFT(B318,7)=\"CDT-135\",\"CDT-135\",AA314))","v":""},"","","","","",""]
[null,{"$f":"IF(B314=0,\"\",VLOOKUP(DATE($A320,$A322,B314)+$I319,Activités!$C$4:$I$534,5,0))","v":{"$error":"#N/A"}},{"$f":"IF(C314=0,\"\",VLOOKUP(DATE($A320,$A322,C314)+$I319,Activités!$C$4:$I$534,5,0))","v":{"$error":"#N/A"}},{"$f":"IF(D314=0,\"\",VLOOKUP(DATE($A320,$A322,D314)+$I319,Activités!$C$4:$I$534,5,0))","v":{"$error":"#N/A"}},{"$f":"IF(E314=0,\"\",VLOOKUP(DATE($A320,$A322,E314)+$I319,Activités!$C$4:$I$534,5,0))","v":{"$error":"#N/A"}},{"$f":"IF(F314=0,\"\",VLOOKUP(DATE($A320,$A322,F314)+$I319,Activités!$C$4:$I$534,5,0))","v":{"$error":"#N/A"}},{"$f":"IF(G314=0,\"\",VLOOKUP(DATE($A320,$A322,G314)+$I319,Activités!$C$4:$I$534,5,0))","v":{"$error":"#N/A"}},{"$f":"IF(H314=0,\"\",VLOOKUP(DATE($A320,$A322,H314)+$I319,Activités!$C$4:$I$534,5,0))","v":{"$error":"#N/A"}},{"$f":"+I317+0.1","v":0.30000000000000004},null,null,null,null,null,null,null,null,null,null,null,null,null,null,null,null,null,{"$f":"AA318","v":""},"","","","","",""]
[{"$f":"A309","v":2017},{"$f":"IF(ISNA(B319),\"\",B319)","v":""},"","","","","","",null,null,null,null,null,null,null,null,null,null,null,null,null,null,null,null,null,null,{"$f":"IF(LEFT(B320,7)=\"CDT-145\",\"CDT-145\",IF(LEFT(B320,7)=\"CDT-135\",\"CDT-135\",AA314))","v":""},"","","","","",""]
[null,{"$f":"IF(B314=0,\"\",VLOOKUP(DATE($A320,$A322,B314)+$I321,Activités!$C$4:$I$534,5,0))","v":{"$error":"#N/A"}},{"$f":"IF(C314=0,\"\",VLOOKUP(DATE($A320,$A322,C314)+$I321,Activités!$C$4:$I$534,5,0))","v":{"$error":"#N/A"}},{"$f":"IF(D314=0,\"\",VLOOKUP(DATE($A320,$A322,D314)+$I321,Activités!$C$4:$I$534,5,0))","v":{"$error":"#N/A"}},{"$f":"IF(E314=0,\"\",VLOOKUP(DATE($A320,$A322,E314)+$I321,Activités!$C$4:$I$534,5,0))","v":{"$error":"#N/A"}},{"$f":"IF(F314=0,\"\",VLOOKUP(DATE($A320,$A322,F314)+$I321,Activités!$C$4:$I$534,5,0))","v":{"$error":"#N/A"}},{"$f":"IF(G314=0,\"\",VLOOKUP(DATE($A320,$A322,G314)+$I321,Activités!$C$4:$I$534,5,0))","v":{"$error":"#N/A"}},{"$f":"IF(H314=0,\"\",VLOOKUP(DATE($A320,$A322,H314)+$I321,Activités!$C$4:$I$534,5,0))","v":{"$error":"#N/A"}},{"$f":"+I319+0.1","v":0.4},null,null,null,null,null,null,null,null,null,null,null,null,null,null,null,null,null,{"$f":"AA320","v":""},"","","","","",""]
[{"$f":"A311","v":12},{"$f":"IF(ISNA(B321),\"\",B321)","v":""},"","","","","","",null,null,null,null,null,null,null,null,null,null,null,null,null,null,null,null,null,null,{"$f":"IF(LEFT(B322,7)=\"CDT-145\",\"CDT-145\",IF(LEFT(B322,7)=\"CDT-135\",\"CDT-135\",AA314))","v":""},"","","","","",""]
[null,{"$f":"IF(B314=0,\"\",VLOOKUP(DATE($A320,$A322,B314)+$I323,Activités!$C$4:$I$534,5,0))","v":{"$error":"#N/A"}},{"$f":"IF(C314=0,\"\",VLOOKUP(DATE($A320,$A322,C314)+$I323,Activités!$C$4:$I$534,5,0))","v":{"$error":"#N/A"}},{"$f":"IF(D314=0,\"\",VLOOKUP(DATE($A320,$A322,D314)+$I323,Activités!$C$4:$I$534,5,0))","v":{"$error":"#N/A"}},{"$f":"IF(E314=0,\"\",VLOOKUP(DATE($A320,$A322,E314)+$I323,Activités!$C$4:$I$534,5,0))","v":{"$error":"#N/A"}},{"$f":"IF(F314=0,\"\",VLOOKUP(DATE($A320,$A322,F314)+$I323,Activités!$C$4:$I$534,5,0))","v":{"$error":"#N/A"}},{"$f":"IF(G314=0,\"\",VLOOKUP(DATE($A320,$A322,G314)+$I323,Activités!$C$4:$I$534,5,0))","v":{"$error":"#N/A"}},{"$f":"IF(H314=0,\"\",VLOOKUP(DATE($A320,$A322,H314)+$I323,Activités!$C$4:$I$534,5,0))","v":{"$error":"#N/A"}},{"$f":"+I321+0.1","v":0.5},null,null,null,null,null,null,null,null,null,null,null,null,null,null,null,null,null,{"$f":"AA322","v":""},"","","","","",""]
[{"$f":"A313","v":31},{"$f":"IF(ISNA(B323),\"\",B323)","v":""},"","","","","","",null,null,null,null,null,null,null,null,null,null,null,null,null,null,null,null,null,null,{"$f":"IF(LEFT(B324,7)=\"CDT-145\",\"CDT-145\",IF(LEFT(B324,7)=\"CDT-135\",\"CDT-135\",AA314))","v":""},"","","","","",""]
[{"$f":"H314","v":23},{"$f":"IF(OR(A325=$A335,A325=0),0,A325+1)","v":24},25,26,27,28,29,30,null,null,null,null,null,null,null,null,null,null,null,null,null,null,null,null,null,null,{"$f":"IF(AND($B325=0,$H325=0),\"Invisible\",\"\")","v":""},{"$f":"IF(AND($B325=0,$H325=0),\"Invisible\",\"\")","v":""},"","","","",""]
[null,{"$f":"IF(B325=0,\"\",VLOOKUP(DATE($A331,$A333,B325)+$I326,Activités!$C$4:$I$534,5,0))","v":{"$error":"#N/A"}},{"$f":"IF(C325=0,\"\",VLOOKUP(DATE($A331,$A333,C325)+$I326,Activités!$C$4:$I$534,5,0))","v":{"$error":"#N/A"}},{"$f":"IF(D325=0,\"\",VLOOKUP(DATE($A331,$A333,D325)+$I326,Activités!$C$4:$I$534,5,0))","v":{"$error":"#N/A"}},{"$f":"IF(E325=0,\"\",VLOOKUP(DATE($A331,$A333,E325)+$I326,Activités!$C$4:$I$534,5,0))","v":{"$error":"#N/A"}},{"$f":"IF(F325=0,\"\",VLOOKUP(DATE($A331,$A333,F325)+$I326,Activités!$C$4:$I$534,5,0))","v":{"$error":"#N/A"}},{"$f":"IF(G325=0,\"\",VLOOKUP(DATE($A331,$A333,G325)+$I326,Activités!$C$4:$I$534,5,0))","v":{"$error":"#N/A"}},{"$f":"IF(H325=0,\"\",VLOOKUP(DATE($A331,$A333,H325)+$I326,Activités!$C$4:$I$534,5,0))","v":{"$error":"#N/A"}},0.1,null,null,null,null,null,null,null,null,null,null,null,null,null,null,null,null,null,{"$f":"AA325","v":""},"","","","","",""]
[null,{"$f":"IF(ISNA(B326),\"\",B326)","v":""},{"$f":"IF(ISNA(C326),\"\",C326)","v":""},"","","","","",null,null,null,null,null,null,null,null,null,null,null,null,null,null,null,null,null,null,{"$f":"IF(LEFT(B327,7)=\"CDT-145\",\"CDT-145\",IF(LEFT(B327,7)=\"CDT-135\",\"CDT-135\",AA325))","v":""},"","","","","",""]
[null,{"$f":"IF(B325=0,\"\",VLOOKUP(DATE($A331,$A333,B325)+$I328,Activités!$C$4:$I$534,5,0))","v":{"$error":"#N/A"}},{"$f":"IF(C325=0,\"\",VLOOKUP(DATE($A331,$A333,C325)+$I328,Activités!$C$4:$I$534,5,0))","v":{"$error":"#N/A"}},{"$f":"IF(D325=0,\"\",VLOOKUP(DATE($A331,$A333,D325)+$I328,Activités!$C$4:$I$534,5,0))","v":{"$error":"#N/A"}},{"$f":"IF(E325=0,\"\",VLOOKUP(DATE($A331,$A333,E325)+$I328,Activités!$C$4:$I$534,5,0))","v":{"$error":"#N/A"}},{"$f":"IF(F325=0,\"\",VLOOKUP(DATE($A331,$A333,F325)+$I328,Activités!$C$4:$I$534,5,0))","v":{"$error":"#N/A"}},{"$f":"IF(G325=0,\"\",VLOOKUP(DATE($A331,$A333,G325)+$I328,Activités!$C$4:$I$534,5,0))","v":{"$error":"#N/A"}},{"$f":"IF(H325=0,\"\",VLOOKUP(DATE($A331,$A333,H325)+$I328,Activités!$C$4:$I$534,5,0))","v":{"$error":"#N/A"}},{"$f":"+I326+0.1","v":0.2},null,null,null,null,null,null,null,null,null,null,null,null,null,null,null,null,null,{"$f":"AA327","v":""},"","","","","",""]
[null,{"$f":"IF(ISNA(B328),\"\",B328)","v":""},"","","","","","",null,null,null,null,null,null,null,null,null,null,null,null,null,null,null,null,null,null,{"$f":"IF(LEFT(B329,7)=\"CDT-145\",\"CDT-145\",IF(LEFT(B329,7)=\"CDT-135\",\"CDT-135\",AA325))","v":""},"","","","","",""]
[null,{"$f":"IF(B325=0,\"\",VLOOKUP(DATE($A331,$A333,B325)+$I330,Activités!$C$4:$I$534,5,0))","v":{"$error":"#N/A"}},{"$f":"IF(C325=0,\"\",VLOOKUP(DATE($A331,$A333,C325)+$I330,Activités!$C$4:$I$534,5,0))","v":{"$error":"#N/A"}},{"$f":"IF(D325=0,\"\",VLOOKUP(DATE($A331,$A333,D325)+$I330,Activités!$C$4:$I$534,5,0))","v":{"$error":"#N/A"}},{"$f":"IF(E325=0,\"\",VLOOKUP(DATE($A331,$A333,E325)+$I330,Activités!$C$4:$I$534,5,0))","v":{"$error":"#N/A"}},{"$f":"IF(F325=0,\"\",VLOOKUP(DATE($A331,$A333,F325)+$I330,Activités!$C$4:$I$534,5,0))","v":{"$error":"#N/A"}},{"$f":"IF(G325=0,\"\",VLOOKUP(DATE($A331,$A333,G325)+$I330,Activités!$C$4:$I$534,5,0))","v":{"$error":"#N/A"}},{"$f":"IF(H325=0,\"\",VLOOKUP(DATE($A331,$A333,H325)+$I330,Activités!$C$4:$I$534,5,0))","v":{"$error":"#N/A"}},{"$f":"+I328+0.1","v":0.30000000000000004},null,null,null,null,null,null,null,null,null,null,null,null,null,null,null,null,null,{"$f":"AA329","v":""},"","","","","",""]
[{"$f":"A320","v":2017},{"$f":"IF(ISNA(B330),\"\",B330)","v":""},"","","","","","",null,null,null,null,null,null,null,null,null,null,null,null,null,null,null,null,null,null,{"$f":"IF(LEFT(B331,7)=\"CDT-145\",\"CDT-145\",IF(LEFT(B331,7)=\"CDT-135\",\"CDT-135\",AA325))","v":""},"","","","","",""]
[null,{"$f":"IF(B325=0,\"\",VLOOKUP(DATE($A331,$A333,B325)+$I332,Activités!$C$4:$I$534,5,0))","v":{"$error":"#N/A"}},{"$f":"IF(C325=0,\"\",VLOOKUP(DATE($A331,$A333,C325)+$I332,Activités!$C$4:$I$534,5,0))","v":{"$error":"#N/A"}},{"$f":"IF(D325=0,\"\",VLOOKUP(DATE($A331,$A333,D325)+$I332,Activités!$C$4:$I$534,5,0))","v":{"$error":"#N/A"}},{"$f":"IF(E325=0,\"\",VLOOKUP(DATE($A331,$A333,E325)+$I332,Activités!$C$4:$I$534,5,0))","v":{"$error":"#N/A"}},{"$f":"IF(F325=0,\"\",VLOOKUP(DATE($A331,$A333,F325)+$I332,Activités!$C$4:$I$534,5,0))","v":{"$error":"#N/A"}},{"$f":"IF(G325=0,\"\",VLOOKUP(DATE($A331,$A333,G325)+$I332,Activités!$C$4:$I$534,5,0))","v":{"$error":"#N/A"}},{"$f":"IF(H325=0,\"\",VLOOKUP(DATE($A331,$A333,H325)+$I332,Activités!$C$4:$I$534,5,0))","v":{"$error":"#N/A"}},{"$f":"+I330+0.1","v":0.4},null,null,null,null,null,null,null,null,null,null,null,null,null,null,null,null,null,{"$f":"AA331","v":""},"","","","","",""]
[{"$f":"A322","v":12},{"$f":"IF(ISNA(B332),\"\",B332)","v":""},"","","","","","",null,null,null,null,null,null,null,null,null,null,null,null,null,null,null,null,null,null,{"$f":"IF(LEFT(B333,7)=\"CDT-145\",\"CDT-145\",IF(LEFT(B333,7)=\"CDT-135\",\"CDT-135\",AA325))","v":""},"","","","","",""]
[null,{"$f":"IF(B325=0,\"\",VLOOKUP(DATE($A331,$A333,B325)+$I334,Activités!$C$4:$I$534,5,0))","v":{"$error":"#N/A"}},{"$f":"IF(C325=0,\"\",VLOOKUP(DATE($A331,$A333,C325)+$I334,Activités!$C$4:$I$534,5,0))","v":{"$error":"#N/A"}},{"$f":"IF(D325=0,\"\",VLOOKUP(DATE($A331,$A333,D325)+$I334,Activités!$C$4:$I$534,5,0))","v":{"$error":"#N/A"}},{"$f":"IF(E325=0,\"\",VLOOKUP(DATE($A331,$A333,E325)+$I334,Activités!$C$4:$I$534,5,0))","v":{"$error":"#N/A"}},{"$f":"IF(F325=0,\"\",VLOOKUP(DATE($A331,$A333,F325)+$I334,Activités!$C$4:$I$534,5,0))","v":{"$error":"#N/A"}},{"$f":"IF(G325=0,\"\",VLOOKUP(DATE($A331,$A333,G325)+$I334,Activités!$C$4:$I$534,5,0))","v":{"$error":"#N/A"}},{"$f":"IF(H325=0,\"\",VLOOKUP(DATE($A331,$A333,H325)+$I334,Activités!$C$4:$I$534,5,0))","v":{"$error":"#N/A"}},{"$f":"+I332+0.1","v":0.5},null,null,null,null,null,null,null,null,null,null,null,null,null,null,null,null,null,{"$f":"AA333","v":""},"","","","","",""]
[{"$f":"A324","v":31},{"$f":"IF(ISNA(B334),\"\",B334)","v":""},"","","","","","",null,null,null,null,null,null,null,null,null,null,null,null,null,null,null,null,null,null,{"$f":"IF(LEFT(B335,7)=\"CDT-145\",\"CDT-145\",IF(LEFT(B335,7)=\"CDT-135\",\"CDT-135\",AA325))","v":""},"","","","","",""]
[{"$f":"H325","v":30},{"$f":"IF(OR(A336=$A346,A336=0),0,A336+1)","v":31},0,0,0,0,0,0,null,null,null,null,null,null,null,null,null,null,null,null,null,null,null,null,null,null,{"$f":"IF(AND($B336=0,$H336=0),\"Invisible\",\"\")","v":""},{"$f":"IF(AND($B336=0,$H336=0),\"Invisible\",\"\")","v":""},"","","","",""]
[null,{"$f":"IF(B336=0,\"\",VLOOKUP(DATE($A342,$A344,B336)+$I337,Activités!$C$4:$I$534,5,0))","v":{"$error":"#N/A"}},{"$f":"IF(C336=0,\"\",VLOOKUP(DATE($A342,$A344,C336)+$I337,Activités!$C$4:$I$534,5,0))","v":""},{"$f":"IF(D336=0,\"\",VLOOKUP(DATE($A342,$A344,D336)+$I337,Activités!$C$4:$I$534,5,0))","v":""},{"$f":"IF(E336=0,\"\",VLOOKUP(DATE($A342,$A344,E336)+$I337,Activités!$C$4:$I$534,5,0))","v":""},{"$f":"IF(F336=0,\"\",VLOOKUP(DATE($A342,$A344,F336)+$I337,Activités!$C$4:$I$534,5,0))","v":""},{"$f":"IF(G336=0,\"\",VLOOKUP(DATE($A342,$A344,G336)+$I337,Activités!$C$4:$I$534,5,0))","v":""},{"$f":"IF(H336=0,\"\",VLOOKUP(DATE($A342,$A344,H336)+$I337,Activités!$C$4:$I$534,5,0))","v":""},0.1,null,null,null,null,null,null,null,null,null,null,null,null,null,null,null,null,null,{"$f":"AA336","v":""},"","","","","",""]
[null,{"$f":"IF(ISNA(B337),\"\",B337)","v":""},{"$f":"IF(ISNA(C337),\"\",C337)","v":""},"","","","","",null,null,null,null,null,null,null,null,null,null,null,null,null,null,null,null,null,null,{"$f":"IF(LEFT(B338,7)=\"CDT-145\",\"CDT-145\",IF(LEFT(B338,7)=\"CDT-135\",\"CDT-135\",AA336))","v":""},"","","","","",""]
[null,{"$f":"IF(B336=0,\"\",VLOOKUP(DATE($A342,$A344,B336)+$I339,Activités!$C$4:$I$534,5,0))","v":{"$error":"#N/A"}},{"$f":"IF(C336=0,\"\",VLOOKUP(DATE($A342,$A344,C336)+$I339,Activités!$C$4:$I$534,5,0))","v":""},{"$f":"IF(D336=0,\"\",VLOOKUP(DATE($A342,$A344,D336)+$I339,Activités!$C$4:$I$534,5,0))","v":""},{"$f":"IF(E336=0,\"\",VLOOKUP(DATE($A342,$A344,E336)+$I339,Activités!$C$4:$I$534,5,0))","v":""},{"$f":"IF(F336=0,\"\",VLOOKUP(DATE($A342,$A344,F336)+$I339,Activités!$C$4:$I$534,5,0))","v":""},{"$f":"IF(G336=0,\"\",VLOOKUP(DATE($A342,$A344,G336)+$I339,Activités!$C$4:$I$534,5,0))","v":""},{"$f":"IF(H336=0,\"\",VLOOKUP(DATE($A342,$A344,H336)+$I339,Activités!$C$4:$I$534,5,0))","v":""},{"$f":"+I337+0.1","v":0.2},null,null,null,null,null,null,null,null,null,null,null,null,null,null,null,null,null,{"$f":"AA338","v":""},"","","","","",""]
[null,{"$f":"IF(ISNA(B339),\"\",B339)","v":""},"","","","","","",null,null,null,null,null,null,null,null,null,null,null,null,null,null,null,null,null,null,{"$f":"IF(LEFT(B340,7)=\"CDT-145\",\"CDT-145\",IF(LEFT(B340,7)=\"CDT-135\",\"CDT-135\",AA336))","v":""},"","","","","",""]
[null,{"$f":"IF(B336=0,\"\",VLOOKUP(DATE($A342,$A344,B336)+$I341,Activités!$C$4:$I$534,5,0))","v":{"$error":"#N/A"}},{"$f":"IF(C336=0,\"\",VLOOKUP(DATE($A342,$A344,C336)+$I341,Activités!$C$4:$I$534,5,0))","v":""},{"$f":"IF(D336=0,\"\",VLOOKUP(DATE($A342,$A344,D336)+$I341,Activités!$C$4:$I$534,5,0))","v":""},{"$f":"IF(E336=0,\"\",VLOOKUP(DATE($A342,$A344,E336)+$I341,Activités!$C$4:$I$534,5,0))","v":""},{"$f":"IF(F336=0,\"\",VLOOKUP(DATE($A342,$A344,F336)+$I341,Activités!$C$4:$I$534,5,0))","v":""},{"$f":"IF(G336=0,\"\",VLOOKUP(DATE($A342,$A344,G336)+$I341,Activités!$C$4:$I$534,5,0))","v":""},{"$f":"IF(H336=0,\"\",VLOOKUP(DATE($A342,$A344,H336)+$I341,Activités!$C$4:$I$534,5,0))","v":""},{"$f":"+I339+0.1","v":0.30000000000000004},null,null,null,null,null,null,null,null,null,null,null,null,null,null,null,null,null,{"$f":"AA340","v":""},"","","","","",""]
[{"$f":"A331","v":2017},{"$f":"IF(ISNA(B341),\"\",B341)","v":""},"","","","","","",null,null,null,null,null,null,null,null,null,null,null,null,null,null,null,null,null,null,{"$f":"IF(LEFT(B342,7)=\"CDT-145\",\"CDT-145\",IF(LEFT(B342,7)=\"CDT-135\",\"CDT-135\",AA336))","v":""},"","","","","",""]
[null,{"$f":"IF(B336=0,\"\",VLOOKUP(DATE($A342,$A344,B336)+$I343,Activités!$C$4:$I$534,5,0))","v":{"$error":"#N/A"}},{"$f":"IF(C336=0,\"\",VLOOKUP(DATE($A342,$A344,C336)+$I343,Activités!$C$4:$I$534,5,0))","v":""},{"$f":"IF(D336=0,\"\",VLOOKUP(DATE($A342,$A344,D336)+$I343,Activités!$C$4:$I$534,5,0))","v":""},{"$f":"IF(E336=0,\"\",VLOOKUP(DATE($A342,$A344,E336)+$I343,Activités!$C$4:$I$534,5,0))","v":""},{"$f":"IF(F336=0,\"\",VLOOKUP(DATE($A342,$A344,F336)+$I343,Activités!$C$4:$I$534,5,0))","v":""},{"$f":"IF(G336=0,\"\",VLOOKUP(DATE($A342,$A344,G336)+$I343,Activités!$C$4:$I$534,5,0))","v":""},{"$f":"IF(H336=0,\"\",VLOOKUP(DATE($A342,$A344,H336)+$I343,Activités!$C$4:$I$534,5,0))","v":""},{"$f":"+I341+0.1","v":0.4},null,null,null,null,null,null,null,null,null,null,null,null,null,null,null,null,null,{"$f":"AA342","v":""},"","","","","",""]
[{"$f":"A333","v":12},{"$f":"IF(ISNA(B343),\"\",B343)","v":""},"","","","","","",null,null,null,null,null,null,null,null,null,null,null,null,null,null,null,null,null,null,{"$f":"IF(LEFT(B344,7)=\"CDT-145\",\"CDT-145\",IF(LEFT(B344,7)=\"CDT-135\",\"CDT-135\",AA336))","v":""},"","","","","",""]
[null,{"$f":"IF(B336=0,\"\",VLOOKUP(DATE($A342,$A344,B336)+$I345,Activités!$C$4:$I$534,5,0))","v":{"$error":"#N/A"}},{"$f":"IF(C336=0,\"\",VLOOKUP(DATE($A342,$A344,C336)+$I345,Activités!$C$4:$I$534,5,0))","v":""},{"$f":"IF(D336=0,\"\",VLOOKUP(DATE($A342,$A344,D336)+$I345,Activités!$C$4:$I$534,5,0))","v":""},{"$f":"IF(E336=0,\"\",VLOOKUP(DATE($A342,$A344,E336)+$I345,Activités!$C$4:$I$534,5,0))","v":""},{"$f":"IF(F336=0,\"\",VLOOKUP(DATE($A342,$A344,F336)+$I345,Activités!$C$4:$I$534,5,0))","v":""},{"$f":"IF(G336=0,\"\",VLOOKUP(DATE($A342,$A344,G336)+$I345,Activités!$C$4:$I$534,5,0))","v":""},{"$f":"IF(H336=0,\"\",VLOOKUP(DATE($A342,$A344,H336)+$I345,Activités!$C$4:$I$534,5,0))","v":""},{"$f":"+I343+0.1","v":0.5},null,null,null,null,null,null,null,null,null,null,null,null,null,null,null,null,null,{"$f":"AA344","v":""},"","","","","",""]
[{"$f":"A335","v":31},{"$f":"IF(ISNA(B345),\"\",B345)","v":""},"","","","","","",null,null,null,null,null,null,null,null,null,null,null,null,null,null,null,null,null,null,{"$f":"IF(LEFT(B346,7)=\"CDT-145\",\"CDT-145\",IF(LEFT(B346,7)=\"CDT-135\",\"CDT-135\",AA336))","v":""},"","","","","",""]
[]
[null,{"$f":"VLOOKUP(108,Traduction!$B$6:$D$250,'Info de l''escadron'!$A$1+1,0)","v":"JANVIER"},null,null,null,null,null,{"$f":"H279+1","v":2018}]
[null,{"$f":"B$4","v":"Dimanche"},{"$f":"C$4","v":"Lundi"},"Mardi","Mercredi","Jeudi","Vendredi","Samedi"]
[null,{"$f":"IF(WEEKDAY(DATE($H348,$A358,1),1)=B$2,1,IF(A350=0,0,A350+1))","v":0},1,2,3,4,5,6,null,null,null,null,null,null,null,null,null,null,null,null,null,null,null,null,null,null,{"$f":"IF(AND($B350=0,$H350=0),\"Invisible\",\"\")","v":""},{"$f":"IF(AND($B350=0,$H350=0),\"Invisible\",\"\")","v":""},"","","","",""]
[null,{"$f":"IF(B350=0,\"\",VLOOKUP(DATE($A356,$A358,B350)+$I351,Activités!$C$4:$I$534,5,0))","v":""},{"$f":"IF(C350=0,\"\",VLOOKUP(DATE($A356,$A358,C350)+$I351,Activités!$C$4:$I$534,5,0))","v":{"$error":"#N/A"}},{"$f":"IF(D350=0,\"\",VLOOKUP(DATE($A356,$A358,D350)+$I351,Activités!$C$4:$I$534,5,0))","v":{"$error":"#N/A"}},{"$f":"IF(E350=0,\"\",VLOOKUP(DATE($A356,$A358,E350)+$I351,Activités!$C$4:$I$534,5,0))","v":{"$error":"#N/A"}},{"$f":"IF(F350=0,\"\",VLOOKUP(DATE($A356,$A358,F350)+$I351,Activités!$C$4:$I$534,5,0))","v":{"$error":"#N/A"}},{"$f":"IF(G350=0,\"\",VLOOKUP(DATE($A356,$A358,G350)+$I351,Activités!$C$4:$I$534,5,0))","v":{"$error":"#N/A"}},{"$f":"IF(H350=0,\"\",VLOOKUP(DATE($A356,$A358,H350)+$I351,Activités!$C$4:$I$534,5,0))","v":{"$error":"#N/A"}},0.1,null,null,null,null,null,null,null,null,null,null,null,null,null,null,null,null,null,{"$f":"AA350","v":""},"","","","","",""]
[null,{"$f":"IF(ISNA(B351),\"\",B351)","v":""},{"$f":"IF(ISNA(C351),\"\",C351)","v":""},"","","","","",null,null,null,null,null,null,null,null,null,null,null,null,null,null,null,null,null,null,{"$f":"IF(LEFT(B352,7)=\"CDT-145\",\"CDT-145\",IF(LEFT(B352,7)=\"CDT-135\",\"CDT-135\",AA350))","v":""},"","","","","",""]
[null,{"$f":"IF(B350=0,\"\",VLOOKUP(DATE($A356,$A358,B350)+$I353,Activités!$C$4:$I$534,5,0))","v":""},{"$f":"IF(C350=0,\"\",VLOOKUP(DATE($A356,$A358,C350)+$I353,Activités!$C$4:$I$534,5,0))","v":{"$error":"#N/A"}},{"$f":"IF(D350=0,\"\",VLOOKUP(DATE($A356,$A358,D350)+$I353,Activités!$C$4:$I$534,5,0))","v":{"$error":"#N/A"}},{"$f":"IF(E350=0,\"\",VLOOKUP(DATE($A356,$A358,E350)+$I353,Activités!$C$4:$I$534,5,0))","v":{"$error":"#N/A"}},{"$f":"IF(F350=0,\"\",VLOOKUP(DATE($A356,$A358,F350)+$I353,Activités!$C$4:$I$534,5,0))","v":{"$error":"#N/A"}},{"$f":"IF(G350=0,\"\",VLOOKUP(DATE($A356,$A358,G350)+$I353,Activités!$C$4:$I$534,5,0))","v":{"$error":"#N/A"}},{"$f":"IF(H350=0,\"\",VLOOKUP(DATE($A356,$A358,H350)+$I353,Activités!$C$4:$I$534,5,0))","v":{"$error":"#N/A"}},{"$f":"+I351+0.1","v":0.2},null,null,null,null,null,null,null,null,null,null,null,null,null,null,null,null,null,{"$f":"AA352","v":""},"","","","","",""]
[null,{"$f":"IF(ISNA(B353),\"\",B353)","v":""},"","","","","","",null,null,null,null,null,null,null,null,null,null,null,null,null,null,null,null,null,null,{"$f":"IF(LEFT(B354,7)=\"CDT-145\",\"CDT-145\",IF(LEFT(B354,7)=\"CDT-135\",\"CDT-135\",AA350))","v":""},"","","","","",""]
[null,{"$f":"IF(B350=0,\"\",VLOOKUP(DATE($A356,$A358,B350)+$I355,Activités!$C$4:$I$534,5,0))","v":""},{"$f":"IF(C350=0,\"\",VLOOKUP(DATE($A356,$A358,C350)+$I355,Activités!$C$4:$I$534,5,0))","v":{"$error":"#N/A"}},{"$f":"IF(D350=0,\"\",VLOOKUP(DATE($A356,$A358,D350)+$I355,Activités!$C$4:$I$534,5,0))","v":{"$error":"#N/A"}},{"$f":"IF(E350=0,\"\",VLOOKUP(DATE($A356,$A358,E350)+$I355,Activités!$C$4:$I$534,5,0))","v":{"$error":"#N/A"}},{"$f":"IF(F350=0,\"\",VLOOKUP(DATE($A356,$A358,F350)+$I355,Activités!$C$4:$I$534,5,0))","v":{"$error":"#N/A"}},{"$f":"IF(G350=0,\"\",VLOOKUP(DATE($A356,$A358,G350)+$I355,Activités!$C$4:$I$534,5,0))","v":{"$error":"#N/A"}},{"$f":"IF(H350=0,\"\",VLOOKUP(DATE($A356,$A358,H350)+$I355,Activités!$C$4:$I$534,5,0))","v":{"$error":"#N/A"}},{"$f":"+I353+0.1","v":0.30000000000000004},null,null,null,null,null,null,null,null,null,null,null,null,null,null,null,null,null,{"$f":"AA354","v":""},"","","","","",""]
[{"$f":"H348","v":2018},{"$f":"IF(ISNA(B355),\"\",B355)","v":""},"","","","","","",null,null,null,null,null,null,null,null,null,null,null,null,null,null,null,null,null,null,{"$f":"IF(LEFT(B356,7)=\"CDT-145\",\"CDT-145\",IF(LEFT(B356,7)=\"CDT-135\",\"CDT-135\",AA350))","v":""},"","","","","",""]
[null,{"$f":"IF(B350=0,\"\",VLOOKUP(DATE($A356,$A358,B350)+$I357,Activités!$C$4:$I$534,5,0))","v":""},{"$f":"IF(C350=0,\"\",VLOOKUP(DATE($A356,$A358,C350)+$I357,Activités!$C$4:$I$534,5,0))","v":{"$error":"#N/A"}},{"$f":"IF(D350=0,\"\",VLOOKUP(DATE($A356,$A358,D350)+$I357,Activités!$C$4:$I$534,5,0))","v":{"$error":"#N/A"}},{"$f":"IF(E350=0,\"\",VLOOKUP(DATE($A356,$A358,E350)+$I357,Activités!$C$4:$I$534,5,0))","v":{"$error":"#N/A"}},{"$f":"IF(F350=0,\"\",VLOOKUP(DATE($A356,$A358,F350)+$I357,Activités!$C$4:$I$534,5,0))","v":{"$error":"#N/A"}},{"$f":"IF(G350=0,\"\",VLOOKUP(DATE($A356,$A358,G350)+$I357,Activités!$C$4:$I$534,5,0))","v":{"$error":"#N/A"}},{"$f":"IF(H350=0,\"\",VLOOKUP(DATE($A356,$A358,H350)+$I357,Activités!$C$4:$I$534,5,0))","v":{"$error":"#N/A"}},{"$f":"+I355+0.1","v":0.4},null,null,null,null,null,null,null,null,null,null,null,null,null,null,null,null,null,{"$f":"AA356","v":""},"","","","","",""]
[1,{"$f":"IF(ISNA(B357),\"\",B357)","v":""},"","","","","","",null,null,null,null,null,null,null,null,null,null,null,null,null,null,null,null,null,null,{"$f":"IF(LEFT(B358,7)=\"CDT-145\",\"CDT-145\",IF(LEFT(B358,7)=\"CDT-135\",\"CDT-135\",AA350))","v":""},"","","","","",""]
[null,{"$f":"IF(B350=0,\"\",VLOOKUP(DATE($A356,$A358,B350)+$I359,Activités!$C$4:$I$534,5,0))","v":""},{"$f":"IF(C350=0,\"\",VLOOKUP(DATE($A356,$A358,C350)+$I359,Activités!$C$4:$I$534,5,0))","v":{"$error":"#N/A"}},{"$f":"IF(D350=0,\"\",VLOOKUP(DATE($A356,$A358,D350)+$I359,Activités!$C$4:$I$534,5,0))","v":{"$error":"#N/A"}},{"$f":"IF(E350=0,\"\",VLOOKUP(DATE($A356,$A358,E350)+$I359,Activités!$C$4:$I$534,5,0))","v":{"$error":"#N/A"}},{"$f":"IF(F350=0,\"\",VLOOKUP(DATE($A356,$A358,F350)+$I359,Activités!$C$4:$I$534,5,0))","v":{"$error":"#N/A"}},{"$f":"IF(G350=0,\"\",VLOOKUP(DATE($A356,$A358,G350)+$I359,Activités!$C$4:$I$534,5,0))","v":{"$error":"#N/A"}},{"$f":"IF(H350=0,\"\",VLOOKUP(DATE($A356,$A358,H350)+$I359,Activités!$C$4:$I$534,5,0))","v":{"$error":"#N/A"}},{"$f":"+I357+0.1","v":0.5},null,null,null,null,null,null,null,null,null,null,null,null,null,null,null,null,null,{"$f":"AA358","v":""},"","","","","",""]
[31,{"$f":"IF(ISNA(B359),\"\",B359)","v":""},"","","","","","",null,null,null,null,null,null,null,null,null,null,null,null,null,null,null,null,null,null,{"$f":"IF(LEFT(B360,7)=\"CDT-145\",\"CDT-145\",IF(LEFT(B360,7)=\"CDT-135\",\"CDT-135\",AA350))","v":""},"","","","","",""]
[{"$f":"H350","v":6},{"$f":"IF(OR(A361=$A371,A361=0),0,A361+1)","v":7},8,9,10,11,12,13,null,null,null,null,null,null,null,null,null,null,null,null,null,null,null,null,null,null,{"$f":"IF(AND($B361=0,$H361=0),\"Invisible\",\"\")","v":""},{"$f":"IF(AND($B361=0,$H361=0),\"Invisible\",\"\")","v":""},"","","","",""]
[null,{"$f":"IF(B361=0,\"\",VLOOKUP(DATE($A367,$A369,B361)+$I362,Activités!$C$4:$I$534,5,0))","v":{"$error":"#N/A"}},{"$f":"IF(C361=0,\"\",VLOOKUP(DATE($A367,$A369,C361)+$I362,Activités!$C$4:$I$534,5,0))","v":{"$error":"#N/A"}},{"$f":"IF(D361=0,\"\",VLOOKUP(DATE($A367,$A369,D361)+$I362,Activités!$C$4:$I$534,5,0))","v":{"$error":"#N/A"}},{"$f":"IF(E361=0,\"\",VLOOKUP(DATE($A367,$A369,E361)+$I362,Activités!$C$4:$I$534,5,0))","v":{"$error":"#N/A"}},{"$f":"IF(F361=0,\"\",VLOOKUP(DATE($A367,$A369,F361)+$I362,Activités!$C$4:$I$534,5,0))","v":{"$error":"#N/A"}},{"$f":"IF(G361=0,\"\",VLOOKUP(DATE($A367,$A369,G361)+$I362,Activités!$C$4:$I$534,5,0))","v":{"$error":"#N/A"}},{"$f":"IF(H361=0,\"\",VLOOKUP(DATE($A367,$A369,H361)+$I362,Activités!$C$4:$I$534,5,0))","v":{"$error":"#N/A"}},0.1,null,null,null,null,null,null,null,null,null,null,null,null,null,null,null,null,null,{"$f":"AA361","v":""},"","","","","",""]
[null,{"$f":"IF(ISNA(B362),\"\",B362)","v":""},{"$f":"IF(ISNA(C362),\"\",C362)","v":""},"","","","","",null,null,null,null,null,null,null,null,null,null,null,null,null,null,null,null,null,null,{"$f":"IF(LEFT(B363,7)=\"CDT-145\",\"CDT-145\",IF(LEFT(B363,7)=\"CDT-135\",\"CDT-135\",AA361))","v":""},"","","","","",""]
[null,{"$f":"IF(B361=0,\"\",VLOOKUP(DATE($A367,$A369,B361)+$I364,Activités!$C$4:$I$534,5,0))","v":{"$error":"#N/A"}},{"$f":"IF(C361=0,\"\",VLOOKUP(DATE($A367,$A369,C361)+$I364,Activités!$C$4:$I$534,5,0))","v":{"$error":"#N/A"}},{"$f":"IF(D361=0,\"\",VLOOKUP(DATE($A367,$A369,D361)+$I364,Activités!$C$4:$I$534,5,0))","v":{"$error":"#N/A"}},{"$f":"IF(E361=0,\"\",VLOOKUP(DATE($A367,$A369,E361)+$I364,Activités!$C$4:$I$534,5,0))","v":{"$error":"#N/A"}},{"$f":"IF(F361=0,\"\",VLOOKUP(DATE($A367,$A369,F361)+$I364,Activités!$C$4:$I$534,5,0))","v":{"$error":"#N/A"}},{"$f":"IF(G361=0,\"\",VLOOKUP(DATE($A367,$A369,G361)+$I364,Activités!$C$4:$I$534,5,0))","v":{"$error":"#N/A"}},{"$f":"IF(H361=0,\"\",VLOOKUP(DATE($A367,$A369,H361)+$I364,Activités!$C$4:$I$534,5,0))","v":{"$error":"#N/A"}},{"$f":"+I362+0.1","v":0.2},null,null,null,null,null,null,null,null,null,null,null,null,null,null,null,null,null,{"$f":"AA363","v":""},"","","","","",""]
[null,{"$f":"IF(ISNA(B364),\"\",B364)","v":""},"","","","","","",null,null,null,null,null,null,null,null,null,null,null,null,null,null,null,null,null,null,{"$f":"IF(LEFT(B365,7)=\"CDT-145\",\"CDT-145\",IF(LEFT(B365,7)=\"CDT-135\",\"CDT-135\",AA361))","v":""},"","","","","",""]
[null,{"$f":"IF(B361=0,\"\",VLOOKUP(DATE($A367,$A369,B361)+$I366,Activités!$C$4:$I$534,5,0))","v":{"$error":"#N/A"}},{"$f":"IF(C361=0,\"\",VLOOKUP(DATE($A367,$A369,C361)+$I366,Activités!$C$4:$I$534,5,0))","v":{"$error":"#N/A"}},{"$f":"IF(D361=0,\"\",VLOOKUP(DATE($A367,$A369,D361)+$I366,Activités!$C$4:$I$534,5,0))","v":{"$error":"#N/A"}},{"$f":"IF(E361=0,\"\",VLOOKUP(DATE($A367,$A369,E361)+$I366,Activités!$C$4:$I$534,5,0))","v":{"$error":"#N/A"}},{"$f":"IF(F361=0,\"\",VLOOKUP(DATE($A367,$A369,F361)+$I366,Activités!$C$4:$I$534,5,0))","v":{"$error":"#N/A"}},{"$f":"IF(G361=0,\"\",VLOOKUP(DATE($A367,$A369,G361)+$I366,Activités!$C$4:$I$534,5,0))","v":{"$error":"#N/A"}},{"$f":"IF(H361=0,\"\",VLOOKUP(DATE($A367,$A369,H361)+$I366,Activités!$C$4:$I$534,5,0))","v":{"$error":"#N/A"}},{"$f":"+I364+0.1","v":0.30000000000000004},null,null,null,null,null,null,null,null,null,null,null,null,null,null,null,null,null,{"$f":"AA365","v":""},"","","","","",""]
[{"$f":"A356","v":2018},{"$f":"IF(ISNA(B366),\"\",B366)","v":""},"","","","","","",null,null,null,null,null,null,null,null,null,null,null,null,null,null,null,null,null,null,{"$f":"IF(LEFT(B367,7)=\"CDT-145\",\"CDT-145\",IF(LEFT(B367,7)=\"CDT-135\",\"CDT-135\",AA361))","v":""},"","","","","",""]
[null,{"$f":"IF(B361=0,\"\",VLOOKUP(DATE($A367,$A369,B361)+$I368,Activités!$C$4:$I$534,5,0))","v":{"$error":"#N/A"}},{"$f":"IF(C361=0,\"\",VLOOKUP(DATE($A367,$A369,C361)+$I368,Activités!$C$4:$I$534,5,0))","v":{"$error":"#N/A"}},{"$f":"IF(D361=0,\"\",VLOOKUP(DATE($A367,$A369,D361)+$I368,Activités!$C$4:$I$534,5,0))","v":{"$error":"#N/A"}},{"$f":"IF(E361=0,\"\",VLOOKUP(DATE($A367,$A369,E361)+$I368,Activités!$C$4:$I$534,5,0))","v":{"$error":"#N/A"}},{"$f":"IF(F361=0,\"\",VLOOKUP(DATE($A367,$A369,F361)+$I368,Activités!$C$4:$I$534,5,0))","v":{"$error":"#N/A"}},{"$f":"IF(G361=0,\"\",VLOOKUP(DATE($A367,$A369,G361)+$I368,Activités!$C$4:$I$534,5,0))","v":{"$error":"#N/A"}},{"$f":"IF(H361=0,\"\",VLOOKUP(DATE($A367,$A369,H361)+$I368,Activités!$C$4:$I$534,5,0))","v":{"$error":"#N/A"}},{"$f":"+I366+0.1","v":0.4},null,null,null,null,null,null,null,null,null,null,null,null,null,null,null,null,null,{"$f":"AA367","v":""},"","","","","",""]
[{"$f":"A358","v":1},{"$f":"IF(ISNA(B368),\"\",B368)","v":""},"","","","","","",null,null,null,null,null,null,null,null,null,null,null,null,null,null,null,null,null,null,{"$f":"IF(LEFT(B369,7)=\"CDT-145\",\"CDT-145\",IF(LEFT(B369,7)=\"CDT-135\",\"CDT-135\",AA361))","v":""},"","","","","",""]
[null,{"$f":"IF(B361=0,\"\",VLOOKUP(DATE($A367,$A369,B361)+$I370,Activités!$C$4:$I$534,5,0))","v":{"$error":"#N/A"}},{"$f":"IF(C361=0,\"\",VLOOKUP(DATE($A367,$A369,C361)+$I370,Activités!$C$4:$I$534,5,0))","v":{"$error":"#N/A"}},{"$f":"IF(D361=0,\"\",VLOOKUP(DATE($A367,$A369,D361)+$I370,Activités!$C$4:$I$534,5,0))","v":{"$error":"#N/A"}},{"$f":"IF(E361=0,\"\",VLOOKUP(DATE($A367,$A369,E361)+$I370,Activités!$C$4:$I$534,5,0))","v":{"$error":"#N/A"}},{"$f":"IF(F361=0,\"\",VLOOKUP(DATE($A367,$A369,F361)+$I370,Activités!$C$4:$I$534,5,0))","v":{"$error":"#N/A"}},{"$f":"IF(G361=0,\"\",VLOOKUP(DATE($A367,$A369,G361)+$I370,Activités!$C$4:$I$534,5,0))","v":{"$error":"#N/A"}},{"$f":"IF(H361=0,\"\",VLOOKUP(DATE($A367,$A369,H361)+$I370,Activités!$C$4:$I$534,5,0))","v":{"$error":"#N/A"}},{"$f":"+I368+0.1","v":0.5},null,null,null,null,null,null,null,null,null,null,null,null,null,null,null,null,null,{"$f":"AA369","v":""},"","","","","",""]
[{"$f":"A360","v":31},{"$f":"IF(ISNA(B370),\"\",B370)","v":""},"","","","","","",null,null,null,null,null,null,null,null,null,null,null,null,null,null,null,null,null,null,{"$f":"IF(LEFT(B371,7)=\"CDT-145\",\"CDT-145\",IF(LEFT(B371,7)=\"CDT-135\",\"CDT-135\",AA361))","v":""},"","","","","",""]
[{"$f":"H361","v":13},{"$f":"IF(OR(A372=$A382,A372=0),0,A372+1)","v":14},15,16,17,18,19,20,null,null,null,null,null,null,null,null,null,null,null,null,null,null,null,null,null,null,{"$f":"IF(AND($B372=0,$H372=0),\"Invisible\",\"\")","v":""},{"$f":"IF(AND($B372=0,$H372=0),\"Invisible\",\"\")","v":""},"","","","",""]
[null,{"$f":"IF(B372=0,\"\",VLOOKUP(DATE($A378,$A380,B372)+$I373,Activités!$C$4:$I$534,5,0))","v":{"$error":"#N/A"}},{"$f":"IF(C372=0,\"\",VLOOKUP(DATE($A378,$A380,C372)+$I373,Activités!$C$4:$I$534,5,0))","v":{"$error":"#N/A"}},{"$f":"IF(D372=0,\"\",VLOOKUP(DATE($A378,$A380,D372)+$I373,Activités!$C$4:$I$534,5,0))","v":{"$error":"#N/A"}},{"$f":"IF(E372=0,\"\",VLOOKUP(DATE($A378,$A380,E372)+$I373,Activités!$C$4:$I$534,5,0))","v":{"$error":"#N/A"}},{"$f":"IF(F372=0,\"\",VLOOKUP(DATE($A378,$A380,F372)+$I373,Activités!$C$4:$I$534,5,0))","v":{"$error":"#N/A"}},{"$f":"IF(G372=0,\"\",VLOOKUP(DATE($A378,$A380,G372)+$I373,Activités!$C$4:$I$534,5,0))","v":{"$error":"#N/A"}},{"$f":"IF(H372=0,\"\",VLOOKUP(DATE($A378,$A380,H372)+$I373,Activités!$C$4:$I$534,5,0))","v":{"$error":"#N/A"}},0.1,null,null,null,null,null,null,null,null,null,null,null,null,null,null,null,null,null,{"$f":"AA372","v":""},"","","","","",""]
[null,{"$f":"IF(ISNA(B373),\"\",B373)","v":""},{"$f":"IF(ISNA(C373),\"\",C373)","v":""},"","","","","",null,null,null,null,null,null,null,null,null,null,null,null,null,null,null,null,null,null,{"$f":"IF(LEFT(B374,7)=\"CDT-145\",\"CDT-145\",IF(LEFT(B374,7)=\"CDT-135\",\"CDT-135\",AA372))","v":""},"","","","","",""]
[null,{"$f":"IF(B372=0,\"\",VLOOKUP(DATE($A378,$A380,B372)+$I375,Activités!$C$4:$I$534,5,0))","v":{"$error":"#N/A"}},{"$f":"IF(C372=0,\"\",VLOOKUP(DATE($A378,$A380,C372)+$I375,Activités!$C$4:$I$534,5,0))","v":{"$error":"#N/A"}},{"$f":"IF(D372=0,\"\",VLOOKUP(DATE($A378,$A380,D372)+$I375,Activités!$C$4:$I$534,5,0))","v":{"$error":"#N/A"}},{"$f":"IF(E372=0,\"\",VLOOKUP(DATE($A378,$A380,E372)+$I375,Activités!$C$4:$I$534,5,0))","v":{"$error":"#N/A"}},{"$f":"IF(F372=0,\"\",VLOOKUP(DATE($A378,$A380,F372)+$I375,Activités!$C$4:$I$534,5,0))","v":{"$error":"#N/A"}},{"$f":"IF(G372=0,\"\",VLOOKUP(DATE($A378,$A380,G372)+$I375,Activités!$C$4:$I$534,5,0))","v":{"$error":"#N/A"}},{"$f":"IF(H372=0,\"\",VLOOKUP(DATE($A378,$A380,H372)+$I375,Activités!$C$4:$I$534,5,0))","v":{"$error":"#N/A"}},{"$f":"+I373+0.1","v":0.2},null,null,null,null,null,null,null,null,null,null,null,null,null,null,null,null,null,{"$f":"AA374","v":""},"","","","","",""]
[null,{"$f":"IF(ISNA(B375),\"\",B375)","v":""},"","","","","","",null,null,null,null,null,null,null,null,null,null,null,null,null,null,null,null,null,null,{"$f":"IF(LEFT(B376,7)=\"CDT-145\",\"CDT-145\",IF(LEFT(B376,7)=\"CDT-135\",\"CDT-135\",AA372))","v":""},"","","","","",""]
[null,{"$f":"IF(B372=0,\"\",VLOOKUP(DATE($A378,$A380,B372)+$I377,Activités!$C$4:$I$534,5,0))","v":{"$error":"#N/A"}},{"$f":"IF(C372=0,\"\",VLOOKUP(DATE($A378,$A380,C372)+$I377,Activités!$C$4:$I$534,5,0))","v":{"$error":"#N/A"}},{"$f":"IF(D372=0,\"\",VLOOKUP(DATE($A378,$A380,D372)+$I377,Activités!$C$4:$I$534,5,0))","v":{"$error":"#N/A"}},{"$f":"IF(E372=0,\"\",VLOOKUP(DATE($A378,$A380,E372)+$I377,Activités!$C$4:$I$534,5,0))","v":{"$error":"#N/A"}},{"$f":"IF(F372=0,\"\",VLOOKUP(DATE($A378,$A380,F372)+$I377,Activités!$C$4:$I$534,5,0))","v":{"$error":"#N/A"}},{"$f":"IF(G372=0,\"\",VLOOKUP(DATE($A378,$A380,G372)+$I377,Activités!$C$4:$I$534,5,0))","v":{"$error":"#N/A"}},{"$f":"IF(H372=0,\"\",VLOOKUP(DATE($A378,$A380,H372)+$I377,Activités!$C$4:$I$534,5,0))","v":{"$error":"#N/A"}},{"$f":"+I375+0.1","v":0.30000000000000004},null,null,null,null,null,null,null,null,null,null,null,null,null,null,null,null,null,{"$f":"AA376","v":""},"","","","","",""]
[{"$f":"A367","v":2018},{"$f":"IF(ISNA(B377),\"\",B377)","v":""},"","","","","","",null,null,null,null,null,null,null,null,null,null,null,null,null,null,null,null,null,null,{"$f":"IF(LEFT(B378,7)=\"CDT-145\",\"CDT-145\",IF(LEFT(B378,7)=\"CDT-135\",\"CDT-135\",AA372))","v":""},"","","","","",""]
[null,{"$f":"IF(B372=0,\"\",VLOOKUP(DATE($A378,$A380,B372)+$I379,Activités!$C$4:$I$534,5,0))","v":{"$error":"#N/A"}},{"$f":"IF(C372=0,\"\",VLOOKUP(DATE($A378,$A380,C372)+$I379,Activités!$C$4:$I$534,5,0))","v":{"$error":"#N/A"}},{"$f":"IF(D372=0,\"\",VLOOKUP(DATE($A378,$A380,D372)+$I379,Activités!$C$4:$I$534,5,0))","v":{"$error":"#N/A"}},{"$f":"IF(E372=0,\"\",VLOOKUP(DATE($A378,$A380,E372)+$I379,Activités!$C$4:$I$534,5,0))","v":{"$error":"#N/A"}},{"$f":"IF(F372=0,\"\",VLOOKUP(DATE($A378,$A380,F372)+$I379,Activités!$C$4:$I$534,5,0))","v":{"$error":"#N/A"}},{"$f":"IF(G372=0,\"\",VLOOKUP(DATE($A378,$A380,G372)+$I379,Activités!$C$4:$I$534,5,0))","v":{"$error":"#N/A"}},{"$f":"IF(H372=0,\"\",VLOOKUP(DATE($A378,$A380,H372)+$I379,Activités!$C$4:$I$534,5,0))","v":{"$error":"#N/A"}},{"$f":"+I377+0.1","v":0.4},null,null,null,null,null,null,null,null,null,null,null,null,null,null,null,null,null,{"$f":"AA378","v":""},"","","","","",""]
[{"$f":"A369","v":1},{"$f":"IF(ISNA(B379),\"\",B379)","v":""},"","","","","","",null,null,null,null,null,null,null,null,null,null,null,null,null,null,null,null,null,null,{"$f":"IF(LEFT(B380,7)=\"CDT-145\",\"CDT-145\",IF(LEFT(B380,7)=\"CDT-135\",\"CDT-135\",AA372))","v":""},"","","","","",""]
[null,{"$f":"IF(B372=0,\"\",VLOOKUP(DATE($A378,$A380,B372)+$I381,Activités!$C$4:$I$534,5,0))","v":{"$error":"#N/A"}},{"$f":"IF(C372=0,\"\",VLOOKUP(DATE($A378,$A380,C372)+$I381,Activités!$C$4:$I$534,5,0))","v":{"$error":"#N/A"}},{"$f":"IF(D372=0,\"\",VLOOKUP(DATE($A378,$A380,D372)+$I381,Activités!$C$4:$I$534,5,0))","v":{"$error":"#N/A"}},{"$f":"IF(E372=0,\"\",VLOOKUP(DATE($A378,$A380,E372)+$I381,Activités!$C$4:$I$534,5,0))","v":{"$error":"#N/A"}},{"$f":"IF(F372=0,\"\",VLOOKUP(DATE($A378,$A380,F372)+$I381,Activités!$C$4:$I$534,5,0))","v":{"$error":"#N/A"}},{"$f":"IF(G372=0,\"\",VLOOKUP(DATE($A378,$A380,G372)+$I381,Activités!$C$4:$I$534,5,0))","v":{"$error":"#N/A"}},{"$f":"IF(H372=0,\"\",VLOOKUP(DATE($A378,$A380,H372)+$I381,Activités!$C$4:$I$534,5,0))","v":{"$error":"#N/A"}},{"$f":"+I379+0.1","v":0.5},null,null,null,null,null,null,null,null,null,null,null,null,null,null,null,null,null,{"$f":"AA380","v":""},"","","","","",""]
[{"$f":"A371","v":31},{"$f":"IF(ISNA(B381),\"\",B381)","v":""},"","","","","","",null,null,null,null,null,null,null,null,null,null,null,null,null,null,null,null,null,null,{"$f":"IF(LEFT(B382,7)=\"CDT-145\",\"CDT-145\",IF(LEFT(B382,7)=\"CDT-135\",\"CDT-135\",AA372))","v":""},"","","","","",""]
[{"$f":"H372","v":20},{"$f":"IF(OR(A383=$A393,A383=0),0,A383+1)","v":21},22,23,24,25,26,27,null,null,null,null,null,null,null,null,null,null,null,null,null,null,null,null,null,null,{"$f":"IF(AND($B383=0,$H383=0),\"Invisible\",\"\")","v":""},{"$f":"IF(AND($B383=0,$H383=0),\"Invisible\",\"\")","v":""},"","","","",""]
[null,{"$f":"IF(B383=0,\"\",VLOOKUP(DATE($A389,$A391,B383)+$I384,Activités!$C$4:$I$534,5,0))","v":{"$error":"#N/A"}},{"$f":"IF(C383=0,\"\",VLOOKUP(DATE($A389,$A391,C383)+$I384,Activités!$C$4:$I$534,5,0))","v":{"$error":"#N/A"}},{"$f":"IF(D383=0,\"\",VLOOKUP(DATE($A389,$A391,D383)+$I384,Activités!$C$4:$I$534,5,0))","v":{"$error":"#N/A"}},{"$f":"IF(E383=0,\"\",VLOOKUP(DATE($A389,$A391,E383)+$I384,Activités!$C$4:$I$534,5,0))","v":{"$error":"#N/A"}},{"$f":"IF(F383=0,\"\",VLOOKUP(DATE($A389,$A391,F383)+$I384,Activités!$C$4:$I$534,5,0))","v":{"$error":"#N/A"}},{"$f":"IF(G383=0,\"\",VLOOKUP(DATE($A389,$A391,G383)+$I384,Activités!$C$4:$I$534,5,0))","v":{"$error":"#N/A"}},{"$f":"IF(H383=0,\"\",VLOOKUP(DATE($A389,$A391,H383)+$I384,Activités!$C$4:$I$534,5,0))","v":{"$error":"#N/A"}},0.1,null,null,null,null,null,null,null,null,null,null,null,null,null,null,null,null,null,{"$f":"AA383","v":""},"","","","","",""]
[null,{"$f":"IF(ISNA(B384),\"\",B384)","v":""},{"$f":"IF(ISNA(C384),\"\",C384)","v":""},"","","","","",null,null,null,null,null,null,null,null,null,null,null,null,null,null,null,null,null,null,{"$f":"IF(LEFT(B385,7)=\"CDT-145\",\"CDT-145\",IF(LEFT(B385,7)=\"CDT-135\",\"CDT-135\",AA383))","v":""},"","","","","",""]
[null,{"$f":"IF(B383=0,\"\",VLOOKUP(DATE($A389,$A391,B383)+$I386,Activités!$C$4:$I$534,5,0))","v":{"$error":"#N/A"}},{"$f":"IF(C383=0,\"\",VLOOKUP(DATE($A389,$A391,C383)+$I386,Activités!$C$4:$I$534,5,0))","v":{"$error":"#N/A"}},{"$f":"IF(D383=0,\"\",VLOOKUP(DATE($A389,$A391,D383)+$I386,Activités!$C$4:$I$534,5,0))","v":{"$error":"#N/A"}},{"$f":"IF(E383=0,\"\",VLOOKUP(DATE($A389,$A391,E383)+$I386,Activités!$C$4:$I$534,5,0))","v":{"$error":"#N/A"}},{"$f":"IF(F383=0,\"\",VLOOKUP(DATE($A389,$A391,F383)+$I386,Activités!$C$4:$I$534,5,0))","v":{"$error":"#N/A"}},{"$f":"IF(G383=0,\"\",VLOOKUP(DATE($A389,$A391,G383)+$I386,Activités!$C$4:$I$534,5,0))","v":{"$error":"#N/A"}},{"$f":"IF(H383=0,\"\",VLOOKUP(DATE($A389,$A391,H383)+$I386,Activités!$C$4:$I$534,5,0))","v":{"$error":"#N/A"}},{"$f":"+I384+0.1","v":0.2},null,null,null,null,null,null,null,null,null,null,null,null,null,null,null,null,null,{"$f":"AA385","v":""},"","","","","",""]
[null,{"$f":"IF(ISNA(B386),\"\",B386)","v":""},"","","","","","",null,null,null,null,null,null,null,null,null,null,null,null,null,null,null,null,null,null,{"$f":"IF(LEFT(B387,7)=\"CDT-145\",\"CDT-145\",IF(LEFT(B387,7)=\"CDT-135\",\"CDT-135\",AA383))","v":""},"","","","","",""]
[null,{"$f":"IF(B383=0,\"\",VLOOKUP(DATE($A389,$A391,B383)+$I388,Activités!$C$4:$I$534,5,0))","v":{"$error":"#N/A"}},{"$f":"IF(C383=0,\"\",VLOOKUP(DATE($A389,$A391,C383)+$I388,Activités!$C$4:$I$534,5,0))","v":{"$error":"#N/A"}},{"$f":"IF(D383=0,\"\",VLOOKUP(DATE($A389,$A391,D383)+$I388,Activités!$C$4:$I$534,5,0))","v":{"$error":"#N/A"}},{"$f":"IF(E383=0,\"\",VLOOKUP(DATE($A389,$A391,E383)+$I388,Activités!$C$4:$I$534,5,0))","v":{"$error":"#N/A"}},{"$f":"IF(F383=0,\"\",VLOOKUP(DATE($A389,$A391,F383)+$I388,Activités!$C$4:$I$534,5,0))","v":{"$error":"#N/A"}},{"$f":"IF(G383=0,\"\",VLOOKUP(DATE($A389,$A391,G383)+$I388,Activités!$C$4:$I$534,5,0))","v":{"$error":"#N/A"}},{"$f":"IF(H383=0,\"\",VLOOKUP(DATE($A389,$A391,H383)+$I388,Activités!$C$4:$I$534,5,0))","v":{"$error":"#N/A"}},{"$f":"+I386+0.1","v":0.30000000000000004},null,null,null,null,null,null,null,null,null,null,null,null,null,null,null,null,null,{"$f":"AA387","v":""},"","","","","",""]
[{"$f":"A378","v":2018},{"$f":"IF(ISNA(B388),\"\",B388)","v":""},"","","","","","",null,null,null,null,null,null,null,null,null,null,null,null,null,null,null,null,null,null,{"$f":"IF(LEFT(B389,7)=\"CDT-145\",\"CDT-145\",IF(LEFT(B389,7)=\"CDT-135\",\"CDT-135\",AA383))","v":""},"","","","","",""]
[null,{"$f":"IF(B383=0,\"\",VLOOKUP(DATE($A389,$A391,B383)+$I390,Activités!$C$4:$I$534,5,0))","v":{"$error":"#N/A"}},{"$f":"IF(C383=0,\"\",VLOOKUP(DATE($A389,$A391,C383)+$I390,Activités!$C$4:$I$534,5,0))","v":{"$error":"#N/A"}},{"$f":"IF(D383=0,\"\",VLOOKUP(DATE($A389,$A391,D383)+$I390,Activités!$C$4:$I$534,5,0))","v":{"$error":"#N/A"}},{"$f":"IF(E383=0,\"\",VLOOKUP(DATE($A389,$A391,E383)+$I390,Activités!$C$4:$I$534,5,0))","v":{"$error":"#N/A"}},{"$f":"IF(F383=0,\"\",VLOOKUP(DATE($A389,$A391,F383)+$I390,Activités!$C$4:$I$534,5,0))","v":{"$error":"#N/A"}},{"$f":"IF(G383=0,\"\",VLOOKUP(DATE($A389,$A391,G383)+$I390,Activités!$C$4:$I$534,5,0))","v":{"$error":"#N/A"}},{"$f":"IF(H383=0,\"\",VLOOKUP(DATE($A389,$A391,H383)+$I390,Activités!$C$4:$I$534,5,0))","v":{"$error":"#N/A"}},{"$f":"+I388+0.1","v":0.4},null,null,null,null,null,null,null,null,null,null,null,null,null,null,null,null,null,{"$f":"AA389","v":""},"","","","","",""]
[{"$f":"A380","v":1},{"$f":"IF(ISNA(B390),\"\",B390)","v":""},"","","","","","",null,null,null,null,null,null,null,null,null,null,null,null,null,null,null,null,null,null,{"$f":"IF(LEFT(B391,7)=\"CDT-145\",\"CDT-145\",IF(LEFT(B391,7)=\"CDT-135\",\"CDT-135\",AA383))","v":""},"","","","","",""]
[null,{"$f":"IF(B383=0,\"\",VLOOKUP(DATE($A389,$A391,B383)+$I392,Activités!$C$4:$I$534,5,0))","v":{"$error":"#N/A"}},{"$f":"IF(C383=0,\"\",VLOOKUP(DATE($A389,$A391,C383)+$I392,Activités!$C$4:$I$534,5,0))","v":{"$error":"#N/A"}},{"$f":"IF(D383=0,\"\",VLOOKUP(DATE($A389,$A391,D383)+$I392,Activités!$C$4:$I$534,5,0))","v":{"$error":"#N/A"}},{"$f":"IF(E383=0,\"\",VLOOKUP(DATE($A389,$A391,E383)+$I392,Activités!$C$4:$I$534,5,0))","v":{"$error":"#N/A"}},{"$f":"IF(F383=0,\"\",VLOOKUP(DATE($A389,$A391,F383)+$I392,Activités!$C$4:$I$534,5,0))","v":{"$error":"#N/A"}},{"$f":"IF(G383=0,\"\",VLOOKUP(DATE($A389,$A391,G383)+$I392,Activités!$C$4:$I$534,5,0))","v":{"$error":"#N/A"}},{"$f":"IF(H383=0,\"\",VLOOKUP(DATE($A389,$A391,H383)+$I392,Activités!$C$4:$I$534,5,0))","v":{"$error":"#N/A"}},{"$f":"+I390+0.1","v":0.5},null,null,null,null,null,null,null,null,null,null,null,null,null,null,null,null,null,{"$f":"AA391","v":""},"","","","","",""]
[{"$f":"A382","v":31},{"$f":"IF(ISNA(B392),\"\",B392)","v":""},"","","","","","",null,null,null,null,null,null,null,null,null,null,null,null,null,null,null,null,null,null,{"$f":"IF(LEFT(B393,7)=\"CDT-145\",\"CDT-145\",IF(LEFT(B393,7)=\"CDT-135\",\"CDT-135\",AA383))","v":""},"","","","","",""]
[{"$f":"H383","v":27},{"$f":"IF(OR(A394=$A404,A394=0),0,A394+1)","v":28},29,30,31,0,0,0,null,null,null,null,null,null,null,null,null,null,null,null,null,null,null,null,null,null,{"$f":"IF(AND($B394=0,$H394=0),\"Invisible\",\"\")","v":""},{"$f":"IF(AND($B394=0,$H394=0),\"Invisible\",\"\")","v":""},"","","","",""]
[null,{"$f":"IF(B394=0,\"\",VLOOKUP(DATE($A400,$A402,B394)+$I395,Activités!$C$4:$I$534,5,0))","v":{"$error":"#N/A"}},{"$f":"IF(C394=0,\"\",VLOOKUP(DATE($A400,$A402,C394)+$I395,Activités!$C$4:$I$534,5,0))","v":{"$error":"#N/A"}},{"$f":"IF(D394=0,\"\",VLOOKUP(DATE($A400,$A402,D394)+$I395,Activités!$C$4:$I$534,5,0))","v":{"$error":"#N/A"}},{"$f":"IF(E394=0,\"\",VLOOKUP(DATE($A400,$A402,E394)+$I395,Activités!$C$4:$I$534,5,0))","v":{"$error":"#N/A"}},{"$f":"IF(F394=0,\"\",VLOOKUP(DATE($A400,$A402,F394)+$I395,Activités!$C$4:$I$534,5,0))","v":""},{"$f":"IF(G394=0,\"\",VLOOKUP(DATE($A400,$A402,G394)+$I395,Activités!$C$4:$I$534,5,0))","v":""},{"$f":"IF(H394=0,\"\",VLOOKUP(DATE($A400,$A402,H394)+$I395,Activités!$C$4:$I$534,5,0))","v":""},0.1,null,null,null,null,null,null,null,null,null,null,null,null,null,null,null,null,null,{"$f":"AA394","v":""},"","","","","",""]
[null,{"$f":"IF(ISNA(B395),\"\",B395)","v":""},{"$f":"IF(ISNA(C395),\"\",C395)","v":""},"","","","","",null,null,null,null,null,null,null,null,null,null,null,null,null,null,null,null,null,null,{"$f":"IF(LEFT(B396,7)=\"CDT-145\",\"CDT-145\",IF(LEFT(B396,7)=\"CDT-135\",\"CDT-135\",AA394))","v":""},"","","","","",""]
[null,{"$f":"IF(B394=0,\"\",VLOOKUP(DATE($A400,$A402,B394)+$I397,Activités!$C$4:$I$534,5,0))","v":{"$error":"#N/A"}},{"$f":"IF(C394=0,\"\",VLOOKUP(DATE($A400,$A402,C394)+$I397,Activités!$C$4:$I$534,5,0))","v":{"$error":"#N/A"}},{"$f":"IF(D394=0,\"\",VLOOKUP(DATE($A400,$A402,D394)+$I397,Activités!$C$4:$I$534,5,0))","v":{"$error":"#N/A"}},{"$f":"IF(E394=0,\"\",VLOOKUP(DATE($A400,$A402,E394)+$I397,Activités!$C$4:$I$534,5,0))","v":{"$error":"#N/A"}},{"$f":"IF(F394=0,\"\",VLOOKUP(DATE($A400,$A402,F394)+$I397,Activités!$C$4:$I$534,5,0))","v":""},{"$f":"IF(G394=0,\"\",VLOOKUP(DATE($A400,$A402,G394)+$I397,Activités!$C$4:$I$534,5,0))","v":""},{"$f":"IF(H394=0,\"\",VLOOKUP(DATE($A400,$A402,H394)+$I397,Activités!$C$4:$I$534,5,0))","v":""},{"$f":"+I395+0.1","v":0.2},null,null,null,null,null,null,null,null,null,null,null,null,null,null,null,null,null,{"$f":"AA396","v":""},"","","","","",""]
[null,{"$f":"IF(ISNA(B397),\"\",B397)","v":""},"","","","","","",null,null,null,null,null,null,null,null,null,null,null,null,null,null,null,null,null,null,{"$f":"IF(LEFT(B398,7)=\"CDT-145\",\"CDT-145\",IF(LEFT(B398,7)=\"CDT-135\",\"CDT-135\",AA394))","v":""},"","","","","",""]
[null,{"$f":"IF(B394=0,\"\",VLOOKUP(DATE($A400,$A402,B394)+$I399,Activités!$C$4:$I$534,5,0))","v":{"$error":"#N/A"}},{"$f":"IF(C394=0,\"\",VLOOKUP(DATE($A400,$A402,C394)+$I399,Activités!$C$4:$I$534,5,0))","v":{"$error":"#N/A"}},{"$f":"IF(D394=0,\"\",VLOOKUP(DATE($A400,$A402,D394)+$I399,Activités!$C$4:$I$534,5,0))","v":{"$error":"#N/A"}},{"$f":"IF(E394=0,\"\",VLOOKUP(DATE($A400,$A402,E394)+$I399,Activités!$C$4:$I$534,5,0))","v":{"$error":"#N/A"}},{"$f":"IF(F394=0,\"\",VLOOKUP(DATE($A400,$A402,F394)+$I399,Activités!$C$4:$I$534,5,0))","v":""},{"$f":"IF(G394=0,\"\",VLOOKUP(DATE($A400,$A402,G394)+$I399,Activités!$C$4:$I$534,5,0))","v":""},{"$f":"IF(H394=0,\"\",VLOOKUP(DATE($A400,$A402,H394)+$I399,Activités!$C$4:$I$534,5,0))","v":""},{"$f":"+I397+0.1","v":0.30000000000000004},null,null,null,null,null,null,null,null,null,null,null,null,null,null,null,null,null,{"$f":"AA398","v":""},"","","","","",""]
[{"$f":"A389","v":2018},{"$f":"IF(ISNA(B399),\"\",B399)","v":""},"","","","","","",null,null,null,null,null,null,null,null,null,null,null,null,null,null,null,null,null,null,{"$f":"IF(LEFT(B400,7)=\"CDT-145\",\"CDT-145\",IF(LEFT(B400,7)=\"CDT-135\",\"CDT-135\",AA394))","v":""},"","","","","",""]
[null,{"$f":"IF(B394=0,\"\",VLOOKUP(DATE($A400,$A402,B394)+$I401,Activités!$C$4:$I$534,5,0))","v":{"$error":"#N/A"}},{"$f":"IF(C394=0,\"\",VLOOKUP(DATE($A400,$A402,C394)+$I401,Activités!$C$4:$I$534,5,0))","v":{"$error":"#N/A"}},{"$f":"IF(D394=0,\"\",VLOOKUP(DATE($A400,$A402,D394)+$I401,Activités!$C$4:$I$534,5,0))","v":{"$error":"#N/A"}},{"$f":"IF(E394=0,\"\",VLOOKUP(DATE($A400,$A402,E394)+$I401,Activités!$C$4:$I$534,5,0))","v":{"$error":"#N/A"}},{"$f":"IF(F394=0,\"\",VLOOKUP(DATE($A400,$A402,F394)+$I401,Activités!$C$4:$I$534,5,0))","v":""},{"$f":"IF(G394=0,\"\",VLOOKUP(DATE($A400,$A402,G394)+$I401,Activités!$C$4:$I$534,5,0))","v":""},{"$f":"IF(H394=0,\"\",VLOOKUP(DATE($A400,$A402,H394)+$I401,Activités!$C$4:$I$534,5,0))","v":""},{"$f":"+I399+0.1","v":0.4},null,null,null,null,null,null,null,null,null,null,null,null,null,null,null,null,null,{"$f":"AA400","v":""},"","","","","",""]
[{"$f":"A391","v":1},{"$f":"IF(ISNA(B401),\"\",B401)","v":""},"","","","","","",null,null,null,null,null,null,null,null,null,null,null,null,null,null,null,null,null,null,{"$f":"IF(LEFT(B402,7)=\"CDT-145\",\"CDT-145\",IF(LEFT(B402,7)=\"CDT-135\",\"CDT-135\",AA394))","v":""},"","","","","",""]
[null,{"$f":"IF(B394=0,\"\",VLOOKUP(DATE($A400,$A402,B394)+$I403,Activités!$C$4:$I$534,5,0))","v":{"$error":"#N/A"}},{"$f":"IF(C394=0,\"\",VLOOKUP(DATE($A400,$A402,C394)+$I403,Activités!$C$4:$I$534,5,0))","v":{"$error":"#N/A"}},{"$f":"IF(D394=0,\"\",VLOOKUP(DATE($A400,$A402,D394)+$I403,Activités!$C$4:$I$534,5,0))","v":{"$error":"#N/A"}},{"$f":"IF(E394=0,\"\",VLOOKUP(DATE($A400,$A402,E394)+$I403,Activités!$C$4:$I$534,5,0))","v":{"$error":"#N/A"}},{"$f":"IF(F394=0,\"\",VLOOKUP(DATE($A400,$A402,F394)+$I403,Activités!$C$4:$I$534,5,0))","v":""},{"$f":"IF(G394=0,\"\",VLOOKUP(DATE($A400,$A402,G394)+$I403,Activités!$C$4:$I$534,5,0))","v":""},{"$f":"IF(H394=0,\"\",VLOOKUP(DATE($A400,$A402,H394)+$I403,Activités!$C$4:$I$534,5,0))","v":""},{"$f":"+I401+0.1","v":0.5},null,null,null,null,null,null,null,null,null,null,null,null,null,null,null,null,null,{"$f":"AA402","v":""},"","","","","",""]
[{"$f":"A393","v":31},{"$f":"IF(ISNA(B403),\"\",B403)","v":""},"","","","","","",null,null,null,null,null,null,null,null,null,null,null,null,null,null,null,null,null,null,{"$f":"IF(LEFT(B404,7)=\"CDT-145\",\"CDT-145\",IF(LEFT(B404,7)=\"CDT-135\",\"CDT-135\",AA394))","v":""},"","","","","",""]
[{"$f":"H394","v":0},{"$f":"IF(OR(A405=$A415,A405=0),0,A405+1)","v":0},0,0,0,0,0,0,null,null,null,null,null,null,null,null,null,null,null,null,null,null,null,null,null,null,{"$f":"IF(AND($B405=0,$H405=0),\"Invisible\",\"\")","v":"Invisible"},{"$f":"IF(AND($B405=0,$H405=0),\"Invisible\",\"\")","v":"Invisible"},"Invisible","Invisible","Invisible","Invisible","Invisible"]
[null,{"$f":"IF(B405=0,\"\",VLOOKUP(DATE($A411,$A413,B405)+$I406,Activités!$C$4:$I$534,5,0))","v":""},{"$f":"IF(C405=0,\"\",VLOOKUP(DATE($A411,$A413,C405)+$I406,Activités!$C$4:$I$534,5,0))","v":""},{"$f":"IF(D405=0,\"\",VLOOKUP(DATE($A411,$A413,D405)+$I406,Activités!$C$4:$I$534,5,0))","v":""},{"$f":"IF(E405=0,\"\",VLOOKUP(DATE($A411,$A413,E405)+$I406,Activités!$C$4:$I$534,5,0))","v":""},{"$f":"IF(F405=0,\"\",VLOOKUP(DATE($A411,$A413,F405)+$I406,Activités!$C$4:$I$534,5,0))","v":""},{"$f":"IF(G405=0,\"\",VLOOKUP(DATE($A411,$A413,G405)+$I406,Activités!$C$4:$I$534,5,0))","v":""},{"$f":"IF(H405=0,\"\",VLOOKUP(DATE($A411,$A413,H405)+$I406,Activités!$C$4:$I$534,5,0))","v":""},0.1,null,null,null,null,null,null,null,null,null,null,null,null,null,null,null,null,null,{"$f":"AA405","v":"Invisible"},"Invisible","Invisible","Invisible","Invisible","Invisible","Invisible"]
[null,{"$f":"IF(ISNA(B406),\"\",B406)","v":""},{"$f":"IF(ISNA(C406),\"\",C406)","v":""},"","","","","",null,null,null,null,null,null,null,null,null,null,null,null,null,null,null,null,null,null,{"$f":"IF(LEFT(B407,7)=\"CDT-145\",\"CDT-145\",IF(LEFT(B407,7)=\"CDT-135\",\"CDT-135\",AA405))","v":"Invisible"},"Invisible","Invisible","Invisible","Invisible","Invisible","Invisible"]
[null,{"$f":"IF(B405=0,\"\",VLOOKUP(DATE($A411,$A413,B405)+$I408,Activités!$C$4:$I$534,5,0))","v":""},{"$f":"IF(C405=0,\"\",VLOOKUP(DATE($A411,$A413,C405)+$I408,Activités!$C$4:$I$534,5,0))","v":""},{"$f":"IF(D405=0,\"\",VLOOKUP(DATE($A411,$A413,D405)+$I408,Activités!$C$4:$I$534,5,0))","v":""},{"$f":"IF(E405=0,\"\",VLOOKUP(DATE($A411,$A413,E405)+$I408,Activités!$C$4:$I$534,5,0))","v":""},{"$f":"IF(F405=0,\"\",VLOOKUP(DATE($A411,$A413,F405)+$I408,Activités!$C$4:$I$534,5,0))","v":""},{"$f":"IF(G405=0,\"\",VLOOKUP(DATE($A411,$A413,G405)+$I408,Activités!$C$4:$I$534,5,0))","v":""},{"$f":"IF(H405=0,\"\",VLOOKUP(DATE($A411,$A413,H405)+$I408,Activités!$C$4:$I$534,5,0))","v":""},{"$f":"+I406+0.1","v":0.2},null,null,null,null,null,null,null,null,null,null,null,null,null,null,null,null,null,{"$f":"AA407","v":"Invisible"},"Invisible","Invisible","Invisible","Invisible","Invisible","Invisible"]
[null,{"$f":"IF(ISNA(B408),\"\",B408)","v":""},"","","","","","",null,null,null,null,null,null,null,null,null,null,null,null,null,null,null,null,null,null,{"$f":"IF(LEFT(B409,7)=\"CDT-145\",\"CDT-145\",IF(LEFT(B409,7)=\"CDT-135\",\"CDT-135\",AA405))","v":"Invisible"},"Invisible","Invisible","Invisible","Invisible","Invisible","Invisible"]
[null,{"$f":"IF(B405=0,\"\",VLOOKUP(DATE($A411,$A413,B405)+$I410,Activités!$C$4:$I$534,5,0))","v":""},{"$f":"IF(C405=0,\"\",VLOOKUP(DATE($A411,$A413,C405)+$I410,Activités!$C$4:$I$534,5,0))","v":""},{"$f":"IF(D405=0,\"\",VLOOKUP(DATE($A411,$A413,D405)+$I410,Activités!$C$4:$I$534,5,0))","v":""},{"$f":"IF(E405=0,\"\",VLOOKUP(DATE($A411,$A413,E405)+$I410,Activités!$C$4:$I$534,5,0))","v":""},{"$f":"IF(F405=0,\"\",VLOOKUP(DATE($A411,$A413,F405)+$I410,Activités!$C$4:$I$534,5,0))","v":""},{"$f":"IF(G405=0,\"\",VLOOKUP(DATE($A411,$A413,G405)+$I410,Activités!$C$4:$I$534,5,0))","v":""},{"$f":"IF(H405=0,\"\",VLOOKUP(DATE($A411,$A413,H405)+$I410,Activités!$C$4:$I$534,5,0))","v":""},{"$f":"+I408+0.1","v":0.30000000000000004},null,null,null,null,null,null,null,null,null,null,null,null,null,null,null,null,null,{"$f":"AA409","v":"Invisible"},"Invisible","Invisible","Invisible","Invisible","Invisible","Invisible"]
[{"$f":"A400","v":2018},{"$f":"IF(ISNA(B410),\"\",B410)","v":""},"","","","","","",null,null,null,null,null,null,null,null,null,null,null,null,null,null,null,null,null,null,{"$f":"IF(LEFT(B411,7)=\"CDT-145\",\"CDT-145\",IF(LEFT(B411,7)=\"CDT-135\",\"CDT-135\",AA405))","v":"Invisible"},"Invisible","Invisible","Invisible","Invisible","Invisible","Invisible"]
[null,{"$f":"IF(B405=0,\"\",VLOOKUP(DATE($A411,$A413,B405)+$I412,Activités!$C$4:$I$534,5,0))","v":""},{"$f":"IF(C405=0,\"\",VLOOKUP(DATE($A411,$A413,C405)+$I412,Activités!$C$4:$I$534,5,0))","v":""},{"$f":"IF(D405=0,\"\",VLOOKUP(DATE($A411,$A413,D405)+$I412,Activités!$C$4:$I$534,5,0))","v":""},{"$f":"IF(E405=0,\"\",VLOOKUP(DATE($A411,$A413,E405)+$I412,Activités!$C$4:$I$534,5,0))","v":""},{"$f":"IF(F405=0,\"\",VLOOKUP(DATE($A411,$A413,F405)+$I412,Activités!$C$4:$I$534,5,0))","v":""},{"$f":"IF(G405=0,\"\",VLOOKUP(DATE($A411,$A413,G405)+$I412,Activités!$C$4:$I$534,5,0))","v":""},{"$f":"IF(H405=0,\"\",VLOOKUP(DATE($A411,$A413,H405)+$I412,Activités!$C$4:$I$534,5,0))","v":""},{"$f":"+I410+0.1","v":0.4},null,null,null,null,null,null,null,null,null,null,null,null,null,null,null,null,null,{"$f":"AA411","v":"Invisible"},"Invisible","Invisible","Invisible","Invisible","Invisible","Invisible"]
[{"$f":"A402","v":1},{"$f":"IF(ISNA(B412),\"\",B412)","v":""},"","","","","","",null,null,null,null,null,null,null,null,null,null,null,null,null,null,null,null,null,null,{"$f":"IF(LEFT(B413,7)=\"CDT-145\",\"CDT-145\",IF(LEFT(B413,7)=\"CDT-135\",\"CDT-135\",AA405))","v":"Invisible"},"Invisible","Invisible","Invisible","Invisible","Invisible","Invisible"]
[null,{"$f":"IF(B405=0,\"\",VLOOKUP(DATE($A411,$A413,B405)+$I414,Activités!$C$4:$I$534,5,0))","v":""},{"$f":"IF(C405=0,\"\",VLOOKUP(DATE($A411,$A413,C405)+$I414,Activités!$C$4:$I$534,5,0))","v":""},{"$f":"IF(D405=0,\"\",VLOOKUP(DATE($A411,$A413,D405)+$I414,Activités!$C$4:$I$534,5,0))","v":""},{"$f":"IF(E405=0,\"\",VLOOKUP(DATE($A411,$A413,E405)+$I414,Activités!$C$4:$I$534,5,0))","v":""},{"$f":"IF(F405=0,\"\",VLOOKUP(DATE($A411,$A413,F405)+$I414,Activités!$C$4:$I$534,5,0))","v":""},{"$f":"IF(G405=0,\"\",VLOOKUP(DATE($A411,$A413,G405)+$I414,Activités!$C$4:$I$534,5,0))","v":""},{"$f":"IF(H405=0,\"\",VLOOKUP(DATE($A411,$A413,H405)+$I414,Activités!$C$4:$I$534,5,0))","v":""},{"$f":"+I412+0.1","v":0.5},null,null,null,null,null,null,null,null,null,null,null,null,null,null,null,null,null,{"$f":"AA413","v":"Invisible"},"Invisible","Invisible","Invisible","Invisible","Invisible","Invisible"]
[{"$f":"A404","v":31},{"$f":"IF(ISNA(B414),\"\",B414)","v":""},"","","","","","",null,null,null,null,null,null,null,null,null,null,null,null,null,null,null,null,null,null,{"$f":"IF(LEFT(B415,7)=\"CDT-145\",\"CDT-145\",IF(LEFT(B415,7)=\"CDT-135\",\"CDT-135\",AA405))","v":"Invisible"},"Invisible","Invisible","Invisible","Invisible","Invisible","Invisible"]
[]
[null,{"$f":"VLOOKUP(109,Traduction!$B$6:$D$250,'Info de l''escadron'!$A$1+1,0)","v":"FÉVRIER"},null,null,null,null,null,{"$f":"H348","v":2018}]
[null,{"$f":"B$4","v":"Dimanche"},{"$f":"C$4","v":"Lundi"},"Mardi","Mercredi","Jeudi","Vendredi","Samedi"]
[null,{"$f":"IF(WEEKDAY(DATE($H417,$A427,1),1)=B$2,1,IF(A419=0,0,A419+1))","v":0},0,0,0,1,2,3,null,null,null,null,null,null,null,null,null,null,null,null,null,null,null,null,null,null,{"$f":"IF(AND($B419=0,$H419=0),\"Invisible\",\"\")","v":""},{"$f":"IF(AND($B419=0,$H419=0),\"Invisible\",\"\")","v":""},"","","","",""]
[null,{"$f":"IF(B419=0,\"\",VLOOKUP(DATE($A425,$A427,B419)+$I420,Activités!$C$4:$I$534,5,0))","v":""},{"$f":"IF(C419=0,\"\",VLOOKUP(DATE($A425,$A427,C419)+$I420,Activités!$C$4:$I$534,5,0))","v":""},{"$f":"IF(D419=0,\"\",VLOOKUP(DATE($A425,$A427,D419)+$I420,Activités!$C$4:$I$534,5,0))","v":""},{"$f":"IF(E419=0,\"\",VLOOKUP(DATE($A425,$A427,E419)+$I420,Activités!$C$4:$I$534,5,0))","v":""},{"$f":"IF(F419=0,\"\",VLOOKUP(DATE($A425,$A427,F419)+$I420,Activités!$C$4:$I$534,5,0))","v":{"$error":"#N/A"}},{"$f":"IF(G419=0,\"\",VLOOKUP(DATE($A425,$A427,G419)+$I420,Activités!$C$4:$I$534,5,0))","v":{"$error":"#N/A"}},{"$f":"IF(H419=0,\"\",VLOOKUP(DATE($A425,$A427,H419)+$I420,Activités!$C$4:$I$534,5,0))","v":{"$error":"#N/A"}},0.1,null,null,null,null,null,null,null,null,null,null,null,null,null,null,null,null,null,{"$f":"AA419","v":""},"","","","","",""]
[null,{"$f":"IF(ISNA(B420),\"\",B420)","v":""},{"$f":"IF(ISNA(C420),\"\",C420)","v":""},"","","","","",null,null,null,null,null,null,null,null,null,null,null,null,null,null,null,null,null,null,{"$f":"IF(LEFT(B421,7)=\"CDT-145\",\"CDT-145\",IF(LEFT(B421,7)=\"CDT-135\",\"CDT-135\",AA419))","v":""},"","","","","",""]
[null,{"$f":"IF(B419=0,\"\",VLOOKUP(DATE($A425,$A427,B419)+$I422,Activités!$C$4:$I$534,5,0))","v":""},{"$f":"IF(C419=0,\"\",VLOOKUP(DATE($A425,$A427,C419)+$I422,Activités!$C$4:$I$534,5,0))","v":""},{"$f":"IF(D419=0,\"\",VLOOKUP(DATE($A425,$A427,D419)+$I422,Activités!$C$4:$I$534,5,0))","v":""},{"$f":"IF(E419=0,\"\",VLOOKUP(DATE($A425,$A427,E419)+$I422,Activités!$C$4:$I$534,5,0))","v":""},{"$f":"IF(F419=0,\"\",VLOOKUP(DATE($A425,$A427,F419)+$I422,Activités!$C$4:$I$534,5,0))","v":{"$error":"#N/A"}},{"$f":"IF(G419=0,\"\",VLOOKUP(DATE($A425,$A427,G419)+$I422,Activités!$C$4:$I$534,5,0))","v":{"$error":"#N/A"}},{"$f":"IF(H419=0,\"\",VLOOKUP(DATE($A425,$A427,H419)+$I422,Activités!$C$4:$I$534,5,0))","v":{"$error":"#N/A"}},{"$f":"+I420+0.1","v":0.2},null,null,null,null,null,null,null,null,null,null,null,null,null,null,null,null,null,{"$f":"AA421","v":""},"","","","","",""]
[null,{"$f":"IF(ISNA(B422),\"\",B422)","v":""},"","","","","","",null,null,null,null,null,null,null,null,null,null,null,null,null,null,null,null,null,null,{"$f":"IF(LEFT(B423,7)=\"CDT-145\",\"CDT-145\",IF(LEFT(B423,7)=\"CDT-135\",\"CDT-135\",AA419))","v":""},"","","","","",""]
[null,{"$f":"IF(B419=0,\"\",VLOOKUP(DATE($A425,$A427,B419)+$I424,Activités!$C$4:$I$534,5,0))","v":""},{"$f":"IF(C419=0,\"\",VLOOKUP(DATE($A425,$A427,C419)+$I424,Activités!$C$4:$I$534,5,0))","v":""},{"$f":"IF(D419=0,\"\",VLOOKUP(DATE($A425,$A427,D419)+$I424,Activités!$C$4:$I$534,5,0))","v":""},{"$f":"IF(E419=0,\"\",VLOOKUP(DATE($A425,$A427,E419)+$I424,Activités!$C$4:$I$534,5,0))","v":""},{"$f":"IF(F419=0,\"\",VLOOKUP(DATE($A425,$A427,F419)+$I424,Activités!$C$4:$I$534,5,0))","v":{"$error":"#N/A"}},{"$f":"IF(G419=0,\"\",VLOOKUP(DATE($A425,$A427,G419)+$I424,Activités!$C$4:$I$534,5,0))","v":{"$error":"#N/A"}},{"$f":"IF(H419=0,\"\",VLOOKUP(DATE($A425,$A427,H419)+$I424,Activités!$C$4:$I$534,5,0))","v":{"$error":"#N/A"}},{"$f":"+I422+0.1","v":0.30000000000000004},null,null,null,null,null,null,null,null,null,null,null,null,null,null,null,null,null,{"$f":"AA423","v":""},"","","","","",""]
[{"$f":"H417","v":2018},{"$f":"IF(ISNA(B424),\"\",B424)","v":""},"","","","","","",null,null,null,null,null,null,null,null,null,null,null,null,null,null,null,null,null,null,{"$f":"IF(LEFT(B425,7)=\"CDT-145\",\"CDT-145\",IF(LEFT(B425,7)=\"CDT-135\",\"CDT-135\",AA419))","v":""},"","","","","",""]
[null,{"$f":"IF(B419=0,\"\",VLOOKUP(DATE($A425,$A427,B419)+$I426,Activités!$C$4:$I$534,5,0))","v":""},{"$f":"IF(C419=0,\"\",VLOOKUP(DATE($A425,$A427,C419)+$I426,Activités!$C$4:$I$534,5,0))","v":""},{"$f":"IF(D419=0,\"\",VLOOKUP(DATE($A425,$A427,D419)+$I426,Activités!$C$4:$I$534,5,0))","v":""},{"$f":"IF(E419=0,\"\",VLOOKUP(DATE($A425,$A427,E419)+$I426,Activités!$C$4:$I$534,5,0))","v":""},{"$f":"IF(F419=0,\"\",VLOOKUP(DATE($A425,$A427,F419)+$I426,Activités!$C$4:$I$534,5,0))","v":{"$error":"#N/A"}},{"$f":"IF(G419=0,\"\",VLOOKUP(DATE($A425,$A427,G419)+$I426,Activités!$C$4:$I$534,5,0))","v":{"$error":"#N/A"}},{"$f":"IF(H419=0,\"\",VLOOKUP(DATE($A425,$A427,H419)+$I426,Activités!$C$4:$I$534,5,0))","v":{"$error":"#N/A"}},{"$f":"+I424+0.1","v":0.4},null,null,null,null,null,null,null,null,null,null,null,null,null,null,null,null,null,{"$f":"AA425","v":""},"","","","","",""]
[2,{"$f":"IF(ISNA(B426),\"\",B426)","v":""},"","","","","","",null,null,null,null,null,null,null,null,null,null,null,null,null,null,null,null,null,null,{"$f":"IF(LEFT(B427,7)=\"CDT-145\",\"CDT-145\",IF(LEFT(B427,7)=\"CDT-135\",\"CDT-135\",AA419))","v":""},"","","","","",""]
[null,{"$f":"IF(B419=0,\"\",VLOOKUP(DATE($A425,$A427,B419)+$I428,Activités!$C$4:$I$534,5,0))","v":""},{"$f":"IF(C419=0,\"\",VLOOKUP(DATE($A425,$A427,C419)+$I428,Activités!$C$4:$I$534,5,0))","v":""},{"$f":"IF(D419=0,\"\",VLOOKUP(DATE($A425,$A427,D419)+$I428,Activités!$C$4:$I$534,5,0))","v":""},{"$f":"IF(E419=0,\"\",VLOOKUP(DATE($A425,$A427,E419)+$I428,Activités!$C$4:$I$534,5,0))","v":""},{"$f":"IF(F419=0,\"\",VLOOKUP(DATE($A425,$A427,F419)+$I428,Activités!$C$4:$I$534,5,0))","v":{"$error":"#N/A"}},{"$f":"IF(G419=0,\"\",VLOOKUP(DATE($A425,$A427,G419)+$I428,Activités!$C$4:$I$534,5,0))","v":{"$error":"#N/A"}},{"$f":"IF(H419=0,\"\",VLOOKUP(DATE($A425,$A427,H419)+$I428,Activités!$C$4:$I$534,5,0))","v":{"$error":"#N/A"}},{"$f":"+I426+0.1","v":0.5},null,null,null,null,null,null,null,null,null,null,null,null,null,null,null,null,null,{"$f":"AA427","v":""},"","","","","",""]
[{"$f":"IF(INT(H417/4)=H417/4,29,28)","v":28},{"$f":"IF(ISNA(B428),\"\",B428)","v":""},"","","","","","",null,null,null,null,null,null,null,null,null,null,null,null,null,null,null,null,null,null,{"$f":"IF(LEFT(B429,7)=\"CDT-145\",\"CDT-145\",IF(LEFT(B429,7)=\"CDT-135\",\"CDT-135\",AA419))","v":""},"","","","","",""]
[{"$f":"H419","v":3},{"$f":"IF(OR(A430=$A440,A430=0),0,A430+1)","v":4},5,6,7,8,9,10,null,null,null,null,null,null,null,null,null,null,null,null,null,null,null,null,null,null,{"$f":"IF(AND($B430=0,$H430=0),\"Invisible\",\"\")","v":""},{"$f":"IF(AND($B430=0,$H430=0),\"Invisible\",\"\")","v":""},"","","","",""]
[null,{"$f":"IF(B430=0,\"\",VLOOKUP(DATE($A436,$A438,B430)+$I431,Activités!$C$4:$I$534,5,0))","v":{"$error":"#N/A"}},{"$f":"IF(C430=0,\"\",VLOOKUP(DATE($A436,$A438,C430)+$I431,Activités!$C$4:$I$534,5,0))","v":{"$error":"#N/A"}},{"$f":"IF(D430=0,\"\",VLOOKUP(DATE($A436,$A438,D430)+$I431,Activités!$C$4:$I$534,5,0))","v":{"$error":"#N/A"}},{"$f":"IF(E430=0,\"\",VLOOKUP(DATE($A436,$A438,E430)+$I431,Activités!$C$4:$I$534,5,0))","v":{"$error":"#N/A"}},{"$f":"IF(F430=0,\"\",VLOOKUP(DATE($A436,$A438,F430)+$I431,Activités!$C$4:$I$534,5,0))","v":{"$error":"#N/A"}},{"$f":"IF(G430=0,\"\",VLOOKUP(DATE($A436,$A438,G430)+$I431,Activités!$C$4:$I$534,5,0))","v":{"$error":"#N/A"}},{"$f":"IF(H430=0,\"\",VLOOKUP(DATE($A436,$A438,H430)+$I431,Activités!$C$4:$I$534,5,0))","v":{"$error":"#N/A"}},0.1,null,null,null,null,null,null,null,null,null,null,null,null,null,null,null,null,null,{"$f":"AA430","v":""},"","","","","",""]
[null,{"$f":"IF(ISNA(B431),\"\",B431)","v":""},{"$f":"IF(ISNA(C431),\"\",C431)","v":""},"","","","","",null,null,null,null,null,null,null,null,null,null,null,null,null,null,null,null,null,null,{"$f":"IF(LEFT(B432,7)=\"CDT-145\",\"CDT-145\",IF(LEFT(B432,7)=\"CDT-135\",\"CDT-135\",AA430))","v":""},"","","","","",""]
[null,{"$f":"IF(B430=0,\"\",VLOOKUP(DATE($A436,$A438,B430)+$I433,Activités!$C$4:$I$534,5,0))","v":{"$error":"#N/A"}},{"$f":"IF(C430=0,\"\",VLOOKUP(DATE($A436,$A438,C430)+$I433,Activités!$C$4:$I$534,5,0))","v":{"$error":"#N/A"}},{"$f":"IF(D430=0,\"\",VLOOKUP(DATE($A436,$A438,D430)+$I433,Activités!$C$4:$I$534,5,0))","v":{"$error":"#N/A"}},{"$f":"IF(E430=0,\"\",VLOOKUP(DATE($A436,$A438,E430)+$I433,Activités!$C$4:$I$534,5,0))","v":{"$error":"#N/A"}},{"$f":"IF(F430=0,\"\",VLOOKUP(DATE($A436,$A438,F430)+$I433,Activités!$C$4:$I$534,5,0))","v":{"$error":"#N/A"}},{"$f":"IF(G430=0,\"\",VLOOKUP(DATE($A436,$A438,G430)+$I433,Activités!$C$4:$I$534,5,0))","v":{"$error":"#N/A"}},{"$f":"IF(H430=0,\"\",VLOOKUP(DATE($A436,$A438,H430)+$I433,Activités!$C$4:$I$534,5,0))","v":{"$error":"#N/A"}},{"$f":"+I431+0.1","v":0.2},null,null,null,null,null,null,null,null,null,null,null,null,null,null,null,null,null,{"$f":"AA432","v":""},"","","","","",""]
[null,{"$f":"IF(ISNA(B433),\"\",B433)","v":""},"","","","","","",null,null,null,null,null,null,null,null,null,null,null,null,null,null,null,null,null,null,{"$f":"IF(LEFT(B434,7)=\"CDT-145\",\"CDT-145\",IF(LEFT(B434,7)=\"CDT-135\",\"CDT-135\",AA430))","v":""},"","","","","",""]
[null,{"$f":"IF(B430=0,\"\",VLOOKUP(DATE($A436,$A438,B430)+$I435,Activités!$C$4:$I$534,5,0))","v":{"$error":"#N/A"}},{"$f":"IF(C430=0,\"\",VLOOKUP(DATE($A436,$A438,C430)+$I435,Activités!$C$4:$I$534,5,0))","v":{"$error":"#N/A"}},{"$f":"IF(D430=0,\"\",VLOOKUP(DATE($A436,$A438,D430)+$I435,Activités!$C$4:$I$534,5,0))","v":{"$error":"#N/A"}},{"$f":"IF(E430=0,\"\",VLOOKUP(DATE($A436,$A438,E430)+$I435,Activités!$C$4:$I$534,5,0))","v":{"$error":"#N/A"}},{"$f":"IF(F430=0,\"\",VLOOKUP(DATE($A436,$A438,F430)+$I435,Activités!$C$4:$I$534,5,0))","v":{"$error":"#N/A"}},{"$f":"IF(G430=0,\"\",VLOOKUP(DATE($A436,$A438,G430)+$I435,Activités!$C$4:$I$534,5,0))","v":{"$error":"#N/A"}},{"$f":"IF(H430=0,\"\",VLOOKUP(DATE($A436,$A438,H430)+$I435,Activités!$C$4:$I$534,5,0))","v":{"$error":"#N/A"}},{"$f":"+I433+0.1","v":0.30000000000000004},null,null,null,null,null,null,null,null,null,null,null,null,null,null,null,null,null,{"$f":"AA434","v":""},"","","","","",""]
[{"$f":"A425","v":2018},{"$f":"IF(ISNA(B435),\"\",B435)","v":""},"","","","","","",null,null,null,null,null,null,null,null,null,null,null,null,null,null,null,null,null,null,{"$f":"IF(LEFT(B436,7)=\"CDT-145\",\"CDT-145\",IF(LEFT(B436,7)=\"CDT-135\",\"CDT-135\",AA430))","v":""},"","","","","",""]
[null,{"$f":"IF(B430=0,\"\",VLOOKUP(DATE($A436,$A438,B430)+$I437,Activités!$C$4:$I$534,5,0))","v":{"$error":"#N/A"}},{"$f":"IF(C430=0,\"\",VLOOKUP(DATE($A436,$A438,C430)+$I437,Activités!$C$4:$I$534,5,0))","v":{"$error":"#N/A"}},{"$f":"IF(D430=0,\"\",VLOOKUP(DATE($A436,$A438,D430)+$I437,Activités!$C$4:$I$534,5,0))","v":{"$error":"#N/A"}},{"$f":"IF(E430=0,\"\",VLOOKUP(DATE($A436,$A438,E430)+$I437,Activités!$C$4:$I$534,5,0))","v":{"$error":"#N/A"}},{"$f":"IF(F430=0,\"\",VLOOKUP(DATE($A436,$A438,F430)+$I437,Activités!$C$4:$I$534,5,0))","v":{"$error":"#N/A"}},{"$f":"IF(G430=0,\"\",VLOOKUP(DATE($A436,$A438,G430)+$I437,Activités!$C$4:$I$534,5,0))","v":{"$error":"#N/A"}},{"$f":"IF(H430=0,\"\",VLOOKUP(DATE($A436,$A438,H430)+$I437,Activités!$C$4:$I$534,5,0))","v":{"$error":"#N/A"}},{"$f":"+I435+0.1","v":0.4},null,null,null,null,null,null,null,null,null,null,null,null,null,null,null,null,null,{"$f":"AA436","v":""},"","","","","",""]
[{"$f":"A427","v":2},{"$f":"IF(ISNA(B437),\"\",B437)","v":""},"","","","","","",null,null,null,null,null,null,null,null,null,null,null,null,null,null,null,null,null,null,{"$f":"IF(LEFT(B438,7)=\"CDT-145\",\"CDT-145\",IF(LEFT(B438,7)=\"CDT-135\",\"CDT-135\",AA430))","v":""},"","","","","",""]
[null,{"$f":"IF(B430=0,\"\",VLOOKUP(DATE($A436,$A438,B430)+$I439,Activités!$C$4:$I$534,5,0))","v":{"$error":"#N/A"}},{"$f":"IF(C430=0,\"\",VLOOKUP(DATE($A436,$A438,C430)+$I439,Activités!$C$4:$I$534,5,0))","v":{"$error":"#N/A"}},{"$f":"IF(D430=0,\"\",VLOOKUP(DATE($A436,$A438,D430)+$I439,Activités!$C$4:$I$534,5,0))","v":{"$error":"#N/A"}},{"$f":"IF(E430=0,\"\",VLOOKUP(DATE($A436,$A438,E430)+$I439,Activités!$C$4:$I$534,5,0))","v":{"$error":"#N/A"}},{"$f":"IF(F430=0,\"\",VLOOKUP(DATE($A436,$A438,F430)+$I439,Activités!$C$4:$I$534,5,0))","v":{"$error":"#N/A"}},{"$f":"IF(G430=0,\"\",VLOOKUP(DATE($A436,$A438,G430)+$I439,Activités!$C$4:$I$534,5,0))","v":{"$error":"#N/A"}},{"$f":"IF(H430=0,\"\",VLOOKUP(DATE($A436,$A438,H430)+$I439,Activités!$C$4:$I$534,5,0))","v":{"$error":"#N/A"}},{"$f":"+I437+0.1","v":0.5},null,null,null,null,null,null,null,null,null,null,null,null,null,null,null,null,null,{"$f":"AA438","v":""},"","","","","",""]
[{"$f":"A429","v":28},{"$f":"IF(ISNA(B439),\"\",B439)","v":""},"","","","","","",null,null,null,null,null,null,null,null,null,null,null,null,null,null,null,null,null,null,{"$f":"IF(LEFT(B440,7)=\"CDT-145\",\"CDT-145\",IF(LEFT(B440,7)=\"CDT-135\",\"CDT-135\",AA430))","v":""},"","","","","",""]
[{"$f":"H430","v":10},{"$f":"IF(OR(A441=$A451,A441=0),0,A441+1)","v":11},12,13,14,15,16,17,null,null,null,null,null,null,null,null,null,null,null,null,null,null,null,null,null,null,{"$f":"IF(AND($B441=0,$H441=0),\"Invisible\",\"\")","v":""},{"$f":"IF(AND($B441=0,$H441=0),\"Invisible\",\"\")","v":""},"","","","",""]
[null,{"$f":"IF(B441=0,\"\",VLOOKUP(DATE($A447,$A449,B441)+$I442,Activités!$C$4:$I$534,5,0))","v":{"$error":"#N/A"}},{"$f":"IF(C441=0,\"\",VLOOKUP(DATE($A447,$A449,C441)+$I442,Activités!$C$4:$I$534,5,0))","v":{"$error":"#N/A"}},{"$f":"IF(D441=0,\"\",VLOOKUP(DATE($A447,$A449,D441)+$I442,Activités!$C$4:$I$534,5,0))","v":{"$error":"#N/A"}},{"$f":"IF(E441=0,\"\",VLOOKUP(DATE($A447,$A449,E441)+$I442,Activités!$C$4:$I$534,5,0))","v":{"$error":"#N/A"}},{"$f":"IF(F441=0,\"\",VLOOKUP(DATE($A447,$A449,F441)+$I442,Activités!$C$4:$I$534,5,0))","v":{"$error":"#N/A"}},{"$f":"IF(G441=0,\"\",VLOOKUP(DATE($A447,$A449,G441)+$I442,Activités!$C$4:$I$534,5,0))","v":{"$error":"#N/A"}},{"$f":"IF(H441=0,\"\",VLOOKUP(DATE($A447,$A449,H441)+$I442,Activités!$C$4:$I$534,5,0))","v":{"$error":"#N/A"}},0.1,null,null,null,null,null,null,null,null,null,null,null,null,null,null,null,null,null,{"$f":"AA441","v":""},"","","","","",""]
[null,{"$f":"IF(ISNA(B442),\"\",B442)","v":""},{"$f":"IF(ISNA(C442),\"\",C442)","v":""},"","","","","",null,null,null,null,null,null,null,null,null,null,null,null,null,null,null,null,null,null,{"$f":"IF(LEFT(B443,7)=\"CDT-145\",\"CDT-145\",IF(LEFT(B443,7)=\"CDT-135\",\"CDT-135\",AA441))","v":""},"","","","","",""]
[null,{"$f":"IF(B441=0,\"\",VLOOKUP(DATE($A447,$A449,B441)+$I444,Activités!$C$4:$I$534,5,0))","v":{"$error":"#N/A"}},{"$f":"IF(C441=0,\"\",VLOOKUP(DATE($A447,$A449,C441)+$I444,Activités!$C$4:$I$534,5,0))","v":{"$error":"#N/A"}},{"$f":"IF(D441=0,\"\",VLOOKUP(DATE($A447,$A449,D441)+$I444,Activités!$C$4:$I$534,5,0))","v":{"$error":"#N/A"}},{"$f":"IF(E441=0,\"\",VLOOKUP(DATE($A447,$A449,E441)+$I444,Activités!$C$4:$I$534,5,0))","v":{"$error":"#N/A"}},{"$f":"IF(F441=0,\"\",VLOOKUP(DATE($A447,$A449,F441)+$I444,Activités!$C$4:$I$534,5,0))","v":{"$error":"#N/A"}},{"$f":"IF(G441=0,\"\",VLOOKUP(DATE($A447,$A449,G441)+$I444,Activités!$C$4:$I$534,5,0))","v":{"$error":"#N/A"}},{"$f":"IF(H441=0,\"\",VLOOKUP(DATE($A447,$A449,H441)+$I444,Activités!$C$4:$I$534,5,0))","v":{"$error":"#N/A"}},{"$f":"+I442+0.1","v":0.2},null,null,null,null,null,null,null,null,null,null,null,null,null,null,null,null,null,{"$f":"AA443","v":""},"","","","","",""]
[null,{"$f":"IF(ISNA(B444),\"\",B444)","v":""},"","","","","","",null,null,null,null,null,null,null,null,null,null,null,null,null,null,null,null,null,null,{"$f":"IF(LEFT(B445,7)=\"CDT-145\",\"CDT-145\",IF(LEFT(B445,7)=\"CDT-135\",\"CDT-135\",AA441))","v":""},"","","","","",""]
[null,{"$f":"IF(B441=0,\"\",VLOOKUP(DATE($A447,$A449,B441)+$I446,Activités!$C$4:$I$534,5,0))","v":{"$error":"#N/A"}},{"$f":"IF(C441=0,\"\",VLOOKUP(DATE($A447,$A449,C441)+$I446,Activités!$C$4:$I$534,5,0))","v":{"$error":"#N/A"}},{"$f":"IF(D441=0,\"\",VLOOKUP(DATE($A447,$A449,D441)+$I446,Activités!$C$4:$I$534,5,0))","v":{"$error":"#N/A"}},{"$f":"IF(E441=0,\"\",VLOOKUP(DATE($A447,$A449,E441)+$I446,Activités!$C$4:$I$534,5,0))","v":{"$error":"#N/A"}},{"$f":"IF(F441=0,\"\",VLOOKUP(DATE($A447,$A449,F441)+$I446,Activités!$C$4:$I$534,5,0))","v":{"$error":"#N/A"}},{"$f":"IF(G441=0,\"\",VLOOKUP(DATE($A447,$A449,G441)+$I446,Activités!$C$4:$I$534,5,0))","v":{"$error":"#N/A"}},{"$f":"IF(H441=0,\"\",VLOOKUP(DATE($A447,$A449,H441)+$I446,Activités!$C$4:$I$534,5,0))","v":{"$error":"#N/A"}},{"$f":"+I444+0.1","v":0.30000000000000004},null,null,null,null,null,null,null,null,null,null,null,null,null,null,null,null,null,{"$f":"AA445","v":""},"","","","","",""]
[{"$f":"A436","v":2018},{"$f":"IF(ISNA(B446),\"\",B446)","v":""},"","","","","","",null,null,null,null,null,null,null,null,null,null,null,null,null,null,null,null,null,null,{"$f":"IF(LEFT(B447,7)=\"CDT-145\",\"CDT-145\",IF(LEFT(B447,7)=\"CDT-135\",\"CDT-135\",AA441))","v":""},"","","","","",""]
[null,{"$f":"IF(B441=0,\"\",VLOOKUP(DATE($A447,$A449,B441)+$I448,Activités!$C$4:$I$534,5,0))","v":{"$error":"#N/A"}},{"$f":"IF(C441=0,\"\",VLOOKUP(DATE($A447,$A449,C441)+$I448,Activités!$C$4:$I$534,5,0))","v":{"$error":"#N/A"}},{"$f":"IF(D441=0,\"\",VLOOKUP(DATE($A447,$A449,D441)+$I448,Activités!$C$4:$I$534,5,0))","v":{"$error":"#N/A"}},{"$f":"IF(E441=0,\"\",VLOOKUP(DATE($A447,$A449,E441)+$I448,Activités!$C$4:$I$534,5,0))","v":{"$error":"#N/A"}},{"$f":"IF(F441=0,\"\",VLOOKUP(DATE($A447,$A449,F441)+$I448,Activités!$C$4:$I$534,5,0))","v":{"$error":"#N/A"}},{"$f":"IF(G441=0,\"\",VLOOKUP(DATE($A447,$A449,G441)+$I448,Activités!$C$4:$I$534,5,0))","v":{"$error":"#N/A"}},{"$f":"IF(H441=0,\"\",VLOOKUP(DATE($A447,$A449,H441)+$I448,Activités!$C$4:$I$534,5,0))","v":{"$error":"#N/A"}},{"$f":"+I446+0.1","v":0.4},null,null,null,null,null,null,null,null,null,null,null,null,null,null,null,null,null,{"$f":"AA447","v":""},"","","","","",""]
[{"$f":"A438","v":2},{"$f":"IF(ISNA(B448),\"\",B448)","v":""},"","","","","","",null,null,null,null,null,null,null,null,null,null,null,null,null,null,null,null,null,null,{"$f":"IF(LEFT(B449,7)=\"CDT-145\",\"CDT-145\",IF(LEFT(B449,7)=\"CDT-135\",\"CDT-135\",AA441))","v":""},"","","","","",""]
[null,{"$f":"IF(B441=0,\"\",VLOOKUP(DATE($A447,$A449,B441)+$I450,Activités!$C$4:$I$534,5,0))","v":{"$error":"#N/A"}},{"$f":"IF(C441=0,\"\",VLOOKUP(DATE($A447,$A449,C441)+$I450,Activités!$C$4:$I$534,5,0))","v":{"$error":"#N/A"}},{"$f":"IF(D441=0,\"\",VLOOKUP(DATE($A447,$A449,D441)+$I450,Activités!$C$4:$I$534,5,0))","v":{"$error":"#N/A"}},{"$f":"IF(E441=0,\"\",VLOOKUP(DATE($A447,$A449,E441)+$I450,Activités!$C$4:$I$534,5,0))","v":{"$error":"#N/A"}},{"$f":"IF(F441=0,\"\",VLOOKUP(DATE($A447,$A449,F441)+$I450,Activités!$C$4:$I$534,5,0))","v":{"$error":"#N/A"}},{"$f":"IF(G441=0,\"\",VLOOKUP(DATE($A447,$A449,G441)+$I450,Activités!$C$4:$I$534,5,0))","v":{"$error":"#N/A"}},{"$f":"IF(H441=0,\"\",VLOOKUP(DATE($A447,$A449,H441)+$I450,Activités!$C$4:$I$534,5,0))","v":{"$error":"#N/A"}},{"$f":"+I448+0.1","v":0.5},null,null,null,null,null,null,null,null,null,null,null,null,null,null,null,null,null,{"$f":"AA449","v":""},"","","","","",""]
[{"$f":"A440","v":28},{"$f":"IF(ISNA(B450),\"\",B450)","v":""},"","","","","","",null,null,null,null,null,null,null,null,null,null,null,null,null,null,null,null,null,null,{"$f":"IF(LEFT(B451,7)=\"CDT-145\",\"CDT-145\",IF(LEFT(B451,7)=\"CDT-135\",\"CDT-135\",AA441))","v":""},"","","","","",""]
[{"$f":"H441","v":17},{"$f":"IF(OR(A452=$A462,A452=0),0,A452+1)","v":18},19,20,21,22,23,24,null,null,null,null,null,null,null,null,null,null,null,null,null,null,null,null,null,null,{"$f":"IF(AND($B452=0,$H452=0),\"Invisible\",\"\")","v":""},{"$f":"IF(AND($B452=0,$H452=0),\"Invisible\",\"\")","v":""},"","","","",""]
[null,{"$f":"IF(B452=0,\"\",VLOOKUP(DATE($A458,$A460,B452)+$I453,Activités!$C$4:$I$534,5,0))","v":{"$error":"#N/A"}},{"$f":"IF(C452=0,\"\",VLOOKUP(DATE($A458,$A460,C452)+$I453,Activités!$C$4:$I$534,5,0))","v":{"$error":"#N/A"}},{"$f":"IF(D452=0,\"\",VLOOKUP(DATE($A458,$A460,D452)+$I453,Activités!$C$4:$I$534,5,0))","v":{"$error":"#N/A"}},{"$f":"IF(E452=0,\"\",VLOOKUP(DATE($A458,$A460,E452)+$I453,Activités!$C$4:$I$534,5,0))","v":{"$error":"#N/A"}},{"$f":"IF(F452=0,\"\",VLOOKUP(DATE($A458,$A460,F452)+$I453,Activités!$C$4:$I$534,5,0))","v":{"$error":"#N/A"}},{"$f":"IF(G452=0,\"\",VLOOKUP(DATE($A458,$A460,G452)+$I453,Activités!$C$4:$I$534,5,0))","v":{"$error":"#N/A"}},{"$f":"IF(H452=0,\"\",VLOOKUP(DATE($A458,$A460,H452)+$I453,Activités!$C$4:$I$534,5,0))","v":{"$error":"#N/A"}},0.1,null,null,null,null,null,null,null,null,null,null,null,null,null,null,null,null,null,{"$f":"AA452","v":""},"","","","","",""]
[null,{"$f":"IF(ISNA(B453),\"\",B453)","v":""},{"$f":"IF(ISNA(C453),\"\",C453)","v":""},"","","","","",null,null,null,null,null,null,null,null,null,null,null,null,null,null,null,null,null,null,{"$f":"IF(LEFT(B454,7)=\"CDT-145\",\"CDT-145\",IF(LEFT(B454,7)=\"CDT-135\",\"CDT-135\",AA452))","v":""},"","","","","",""]
[null,{"$f":"IF(B452=0,\"\",VLOOKUP(DATE($A458,$A460,B452)+$I455,Activités!$C$4:$I$534,5,0))","v":{"$error":"#N/A"}},{"$f":"IF(C452=0,\"\",VLOOKUP(DATE($A458,$A460,C452)+$I455,Activités!$C$4:$I$534,5,0))","v":{"$error":"#N/A"}},{"$f":"IF(D452=0,\"\",VLOOKUP(DATE($A458,$A460,D452)+$I455,Activités!$C$4:$I$534,5,0))","v":{"$error":"#N/A"}},{"$f":"IF(E452=0,\"\",VLOOKUP(DATE($A458,$A460,E452)+$I455,Activités!$C$4:$I$534,5,0))","v":{"$error":"#N/A"}},{"$f":"IF(F452=0,\"\",VLOOKUP(DATE($A458,$A460,F452)+$I455,Activités!$C$4:$I$534,5,0))","v":{"$error":"#N/A"}},{"$f":"IF(G452=0,\"\",VLOOKUP(DATE($A458,$A460,G452)+$I455,Activités!$C$4:$I$534,5,0))","v":{"$error":"#N/A"}},{"$f":"IF(H452=0,\"\",VLOOKUP(DATE($A458,$A460,H452)+$I455,Activités!$C$4:$I$534,5,0))","v":{"$error":"#N/A"}},{"$f":"+I453+0.1","v":0.2},null,null,null,null,null,null,null,null,null,null,null,null,null,null,null,null,null,{"$f":"AA454","v":""},"","","","","",""]
[null,{"$f":"IF(ISNA(B455),\"\",B455)","v":""},"","","","","","",null,null,null,null,null,null,null,null,null,null,null,null,null,null,null,null,null,null,{"$f":"IF(LEFT(B456,7)=\"CDT-145\",\"CDT-145\",IF(LEFT(B456,7)=\"CDT-135\",\"CDT-135\",AA452))","v":""},"","","","","",""]
[null,{"$f":"IF(B452=0,\"\",VLOOKUP(DATE($A458,$A460,B452)+$I457,Activités!$C$4:$I$534,5,0))","v":{"$error":"#N/A"}},{"$f":"IF(C452=0,\"\",VLOOKUP(DATE($A458,$A460,C452)+$I457,Activités!$C$4:$I$534,5,0))","v":{"$error":"#N/A"}},{"$f":"IF(D452=0,\"\",VLOOKUP(DATE($A458,$A460,D452)+$I457,Activités!$C$4:$I$534,5,0))","v":{"$error":"#N/A"}},{"$f":"IF(E452=0,\"\",VLOOKUP(DATE($A458,$A460,E452)+$I457,Activités!$C$4:$I$534,5,0))","v":{"$error":"#N/A"}},{"$f":"IF(F452=0,\"\",VLOOKUP(DATE($A458,$A460,F452)+$I457,Activités!$C$4:$I$534,5,0))","v":{"$error":"#N/A"}},{"$f":"IF(G452=0,\"\",VLOOKUP(DATE($A458,$A460,G452)+$I457,Activités!$C$4:$I$534,5,0))","v":{"$error":"#N/A"}},{"$f":"IF(H452=0,\"\",VLOOKUP(DATE($A458,$A460,H452)+$I457,Activités!$C$4:$I$534,5,0))","v":{"$error":"#N/A"}},{"$f":"+I455+0.1","v":0.30000000000000004},null,null,null,null,null,null,null,null,null,null,null,null,null,null,null,null,null,{"$f":"AA456","v":""},"","","","","",""]
[{"$f":"A447","v":2018},{"$f":"IF(ISNA(B457),\"\",B457)","v":""},"","","","","","",null,null,null,null,null,null,null,null,null,null,null,null,null,null,null,null,null,null,{"$f":"IF(LEFT(B458,7)=\"CDT-145\",\"CDT-145\",IF(LEFT(B458,7)=\"CDT-135\",\"CDT-135\",AA452))","v":""},"","","","","",""]
[null,{"$f":"IF(B452=0,\"\",VLOOKUP(DATE($A458,$A460,B452)+$I459,Activités!$C$4:$I$534,5,0))","v":{"$error":"#N/A"}},{"$f":"IF(C452=0,\"\",VLOOKUP(DATE($A458,$A460,C452)+$I459,Activités!$C$4:$I$534,5,0))","v":{"$error":"#N/A"}},{"$f":"IF(D452=0,\"\",VLOOKUP(DATE($A458,$A460,D452)+$I459,Activités!$C$4:$I$534,5,0))","v":{"$error":"#N/A"}},{"$f":"IF(E452=0,\"\",VLOOKUP(DATE($A458,$A460,E452)+$I459,Activités!$C$4:$I$534,5,0))","v":{"$error":"#N/A"}},{"$f":"IF(F452=0,\"\",VLOOKUP(DATE($A458,$A460,F452)+$I459,Activités!$C$4:$I$534,5,0))","v":{"$error":"#N/A"}},{"$f":"IF(G452=0,\"\",VLOOKUP(DATE($A458,$A460,G452)+$I459,Activités!$C$4:$I$534,5,0))","v":{"$error":"#N/A"}},{"$f":"IF(H452=0,\"\",VLOOKUP(DATE($A458,$A460,H452)+$I459,Activités!$C$4:$I$534,5,0))","v":{"$error":"#N/A"}},{"$f":"+I457+0.1","v":0.4},null,null,null,null,null,null,null,null,null,null,null,null,null,null,null,null,null,{"$f":"AA458","v":""},"","","","","",""]
[{"$f":"A449","v":2},{"$f":"IF(ISNA(B459),\"\",B459)","v":""},"","","","","","",null,null,null,null,null,null,null,null,null,null,null,null,null,null,null,null,null,null,{"$f":"IF(LEFT(B460,7)=\"CDT-145\",\"CDT-145\",IF(LEFT(B460,7)=\"CDT-135\",\"CDT-135\",AA452))","v":""},"","","","","",""]
[null,{"$f":"IF(B452=0,\"\",VLOOKUP(DATE($A458,$A460,B452)+$I461,Activités!$C$4:$I$534,5,0))","v":{"$error":"#N/A"}},{"$f":"IF(C452=0,\"\",VLOOKUP(DATE($A458,$A460,C452)+$I461,Activités!$C$4:$I$534,5,0))","v":{"$error":"#N/A"}},{"$f":"IF(D452=0,\"\",VLOOKUP(DATE($A458,$A460,D452)+$I461,Activités!$C$4:$I$534,5,0))","v":{"$error":"#N/A"}},{"$f":"IF(E452=0,\"\",VLOOKUP(DATE($A458,$A460,E452)+$I461,Activités!$C$4:$I$534,5,0))","v":{"$error":"#N/A"}},{"$f":"IF(F452=0,\"\",VLOOKUP(DATE($A458,$A460,F452)+$I461,Activités!$C$4:$I$534,5,0))","v":{"$error":"#N/A"}},{"$f":"IF(G452=0,\"\",VLOOKUP(DATE($A458,$A460,G452)+$I461,Activités!$C$4:$I$534,5,0))","v":{"$error":"#N/A"}},{"$f":"IF(H452=0,\"\",VLOOKUP(DATE($A458,$A460,H452)+$I461,Activités!$C$4:$I$534,5,0))","v":{"$error":"#N/A"}},{"$f":"+I459+0.1","v":0.5},null,null,null,null,null,null,null,null,null,null,null,null,null,null,null,null,null,{"$f":"AA460","v":""},"","","","","",""]
[{"$f":"A451","v":28},{"$f":"IF(ISNA(B461),\"\",B461)","v":""},"","","","","","",null,null,null,null,null,null,null,null,null,null,null,null,null,null,null,null,null,null,{"$f":"IF(LEFT(B462,7)=\"CDT-145\",\"CDT-145\",IF(LEFT(B462,7)=\"CDT-135\",\"CDT-135\",AA452))","v":""},"","","","","",""]
[{"$f":"H452","v":24},{"$f":"IF(OR(A463=$A473,A463=0),0,A463+1)","v":25},26,27,28,0,0,0,null,null,null,null,null,null,null,null,null,null,null,null,null,null,null,null,null,null,{"$f":"IF(AND($B463=0,$H463=0),\"Invisible\",\"\")","v":""},{"$f":"IF(AND($B463=0,$H463=0),\"Invisible\",\"\")","v":""},"","","","",""]
[null,{"$f":"IF(B463=0,\"\",VLOOKUP(DATE($A469,$A471,B463)+$I464,Activités!$C$4:$I$534,5,0))","v":{"$error":"#N/A"}},{"$f":"IF(C463=0,\"\",VLOOKUP(DATE($A469,$A471,C463)+$I464,Activités!$C$4:$I$534,5,0))","v":{"$error":"#N/A"}},{"$f":"IF(D463=0,\"\",VLOOKUP(DATE($A469,$A471,D463)+$I464,Activités!$C$4:$I$534,5,0))","v":{"$error":"#N/A"}},{"$f":"IF(E463=0,\"\",VLOOKUP(DATE($A469,$A471,E463)+$I464,Activités!$C$4:$I$534,5,0))","v":{"$error":"#N/A"}},{"$f":"IF(F463=0,\"\",VLOOKUP(DATE($A469,$A471,F463)+$I464,Activités!$C$4:$I$534,5,0))","v":""},{"$f":"IF(G463=0,\"\",VLOOKUP(DATE($A469,$A471,G463)+$I464,Activités!$C$4:$I$534,5,0))","v":""},{"$f":"IF(H463=0,\"\",VLOOKUP(DATE($A469,$A471,H463)+$I464,Activités!$C$4:$I$534,5,0))","v":""},0.1,null,null,null,null,null,null,null,null,null,null,null,null,null,null,null,null,null,{"$f":"AA463","v":""},"","","","","",""]
[null,{"$f":"IF(ISNA(B464),\"\",B464)","v":""},{"$f":"IF(ISNA(C464),\"\",C464)","v":""},"","","","","",null,null,null,null,null,null,null,null,null,null,null,null,null,null,null,null,null,null,{"$f":"IF(LEFT(B465,7)=\"CDT-145\",\"CDT-145\",IF(LEFT(B465,7)=\"CDT-135\",\"CDT-135\",AA463))","v":""},"","","","","",""]
[null,{"$f":"IF(B463=0,\"\",VLOOKUP(DATE($A469,$A471,B463)+$I466,Activités!$C$4:$I$534,5,0))","v":{"$error":"#N/A"}},{"$f":"IF(C463=0,\"\",VLOOKUP(DATE($A469,$A471,C463)+$I466,Activités!$C$4:$I$534,5,0))","v":{"$error":"#N/A"}},{"$f":"IF(D463=0,\"\",VLOOKUP(DATE($A469,$A471,D463)+$I466,Activités!$C$4:$I$534,5,0))","v":{"$error":"#N/A"}},{"$f":"IF(E463=0,\"\",VLOOKUP(DATE($A469,$A471,E463)+$I466,Activités!$C$4:$I$534,5,0))","v":{"$error":"#N/A"}},{"$f":"IF(F463=0,\"\",VLOOKUP(DATE($A469,$A471,F463)+$I466,Activités!$C$4:$I$534,5,0))","v":""},{"$f":"IF(G463=0,\"\",VLOOKUP(DATE($A469,$A471,G463)+$I466,Activités!$C$4:$I$534,5,0))","v":""},{"$f":"IF(H463=0,\"\",VLOOKUP(DATE($A469,$A471,H463)+$I466,Activités!$C$4:$I$534,5,0))","v":""},{"$f":"+I464+0.1","v":0.2},null,null,null,null,null,null,null,null,null,null,null,null,null,null,null,null,null,{"$f":"AA465","v":""},"","","","","",""]
[null,{"$f":"IF(ISNA(B466),\"\",B466)","v":""},"","","","","","",null,null,null,null,null,null,null,null,null,null,null,null,null,null,null,null,null,null,{"$f":"IF(LEFT(B467,7)=\"CDT-145\",\"CDT-145\",IF(LEFT(B467,7)=\"CDT-135\",\"CDT-135\",AA463))","v":""},"","","","","",""]
[null,{"$f":"IF(B463=0,\"\",VLOOKUP(DATE($A469,$A471,B463)+$I468,Activités!$C$4:$I$534,5,0))","v":{"$error":"#N/A"}},{"$f":"IF(C463=0,\"\",VLOOKUP(DATE($A469,$A471,C463)+$I468,Activités!$C$4:$I$534,5,0))","v":{"$error":"#N/A"}},{"$f":"IF(D463=0,\"\",VLOOKUP(DATE($A469,$A471,D463)+$I468,Activités!$C$4:$I$534,5,0))","v":{"$error":"#N/A"}},{"$f":"IF(E463=0,\"\",VLOOKUP(DATE($A469,$A471,E463)+$I468,Activités!$C$4:$I$534,5,0))","v":{"$error":"#N/A"}},{"$f":"IF(F463=0,\"\",VLOOKUP(DATE($A469,$A471,F463)+$I468,Activités!$C$4:$I$534,5,0))","v":""},{"$f":"IF(G463=0,\"\",VLOOKUP(DATE($A469,$A471,G463)+$I468,Activités!$C$4:$I$534,5,0))","v":""},{"$f":"IF(H463=0,\"\",VLOOKUP(DATE($A469,$A471,H463)+$I468,Activités!$C$4:$I$534,5,0))","v":""},{"$f":"+I466+0.1","v":0.30000000000000004},null,null,null,null,null,null,null,null,null,null,null,null,null,null,null,null,null,{"$f":"AA467","v":""},"","","","","",""]
[{"$f":"A458","v":2018},{"$f":"IF(ISNA(B468),\"\",B468)","v":""},"","","","","","",null,null,null,null,null,null,null,null,null,null,null,null,null,null,null,null,null,null,{"$f":"IF(LEFT(B469,7)=\"CDT-145\",\"CDT-145\",IF(LEFT(B469,7)=\"CDT-135\",\"CDT-135\",AA463))","v":""},"","","","","",""]
[null,{"$f":"IF(B463=0,\"\",VLOOKUP(DATE($A469,$A471,B463)+$I470,Activités!$C$4:$I$534,5,0))","v":{"$error":"#N/A"}},{"$f":"IF(C463=0,\"\",VLOOKUP(DATE($A469,$A471,C463)+$I470,Activités!$C$4:$I$534,5,0))","v":{"$error":"#N/A"}},{"$f":"IF(D463=0,\"\",VLOOKUP(DATE($A469,$A471,D463)+$I470,Activités!$C$4:$I$534,5,0))","v":{"$error":"#N/A"}},{"$f":"IF(E463=0,\"\",VLOOKUP(DATE($A469,$A471,E463)+$I470,Activités!$C$4:$I$534,5,0))","v":{"$error":"#N/A"}},{"$f":"IF(F463=0,\"\",VLOOKUP(DATE($A469,$A471,F463)+$I470,Activités!$C$4:$I$534,5,0))","v":""},{"$f":"IF(G463=0,\"\",VLOOKUP(DATE($A469,$A471,G463)+$I470,Activités!$C$4:$I$534,5,0))","v":""},{"$f":"IF(H463=0,\"\",VLOOKUP(DATE($A469,$A471,H463)+$I470,Activités!$C$4:$I$534,5,0))","v":""},{"$f":"+I468+0.1","v":0.4},null,null,null,null,null,null,null,null,null,null,null,null,null,null,null,null,null,{"$f":"AA469","v":""},"","","","","",""]
[{"$f":"A460","v":2},{"$f":"IF(ISNA(B470),\"\",B470)","v":""},"","","","","","",null,null,null,null,null,null,null,null,null,null,null,null,null,null,null,null,null,null,{"$f":"IF(LEFT(B471,7)=\"CDT-145\",\"CDT-145\",IF(LEFT(B471,7)=\"CDT-135\",\"CDT-135\",AA463))","v":""},"","","","","",""]
[null,{"$f":"IF(B463=0,\"\",VLOOKUP(DATE($A469,$A471,B463)+$I472,Activités!$C$4:$I$534,5,0))","v":{"$error":"#N/A"}},{"$f":"IF(C463=0,\"\",VLOOKUP(DATE($A469,$A471,C463)+$I472,Activités!$C$4:$I$534,5,0))","v":{"$error":"#N/A"}},{"$f":"IF(D463=0,\"\",VLOOKUP(DATE($A469,$A471,D463)+$I472,Activités!$C$4:$I$534,5,0))","v":{"$error":"#N/A"}},{"$f":"IF(E463=0,\"\",VLOOKUP(DATE($A469,$A471,E463)+$I472,Activités!$C$4:$I$534,5,0))","v":{"$error":"#N/A"}},{"$f":"IF(F463=0,\"\",VLOOKUP(DATE($A469,$A471,F463)+$I472,Activités!$C$4:$I$534,5,0))","v":""},{"$f":"IF(G463=0,\"\",VLOOKUP(DATE($A469,$A471,G463)+$I472,Activités!$C$4:$I$534,5,0))","v":""},{"$f":"IF(H463=0,\"\",VLOOKUP(DATE($A469,$A471,H463)+$I472,Activités!$C$4:$I$534,5,0))","v":""},{"$f":"+I470+0.1","v":0.5},null,null,null,null,null,null,null,null,null,null,null,null,null,null,null,null,null,{"$f":"AA471","v":""},"","","","","",""]
[{"$f":"A462","v":28},{"$f":"IF(ISNA(B472),\"\",B472)","v":""},"","","","","","",null,null,null,null,null,null,null,null,null,null,null,null,null,null,null,null,null,null,{"$f":"IF(LEFT(B473,7)=\"CDT-145\",\"CDT-145\",IF(LEFT(B473,7)=\"CDT-135\",\"CDT-135\",AA463))","v":""},"","","","","",""]
[{"$f":"H463","v":0},{"$f":"IF(OR(A474=$A484,A474=0),0,A474+1)","v":0},0,0,0,0,0,0,null,null,null,null,null,null,null,null,null,null,null,null,null,null,null,null,null,null,{"$f":"IF(AND($B474=0,$H474=0),\"Invisible\",\"\")","v":"Invisible"},{"$f":"IF(AND($B474=0,$H474=0),\"Invisible\",\"\")","v":"Invisible"},"Invisible","Invisible","Invisible","Invisible","Invisible"]
[null,{"$f":"IF(B474=0,\"\",VLOOKUP(DATE($A480,$A482,B474)+$I475,Activités!$C$4:$I$534,5,0))","v":""},{"$f":"IF(C474=0,\"\",VLOOKUP(DATE($A480,$A482,C474)+$I475,Activités!$C$4:$I$534,5,0))","v":""},{"$f":"IF(D474=0,\"\",VLOOKUP(DATE($A480,$A482,D474)+$I475,Activités!$C$4:$I$534,5,0))","v":""},{"$f":"IF(E474=0,\"\",VLOOKUP(DATE($A480,$A482,E474)+$I475,Activités!$C$4:$I$534,5,0))","v":""},{"$f":"IF(F474=0,\"\",VLOOKUP(DATE($A480,$A482,F474)+$I475,Activités!$C$4:$I$534,5,0))","v":""},{"$f":"IF(G474=0,\"\",VLOOKUP(DATE($A480,$A482,G474)+$I475,Activités!$C$4:$I$534,5,0))","v":""},{"$f":"IF(H474=0,\"\",VLOOKUP(DATE($A480,$A482,H474)+$I475,Activités!$C$4:$I$534,5,0))","v":""},0.1,null,null,null,null,null,null,null,null,null,null,null,null,null,null,null,null,null,{"$f":"AA474","v":"Invisible"},"Invisible","Invisible","Invisible","Invisible","Invisible","Invisible"]
[null,{"$f":"IF(ISNA(B475),\"\",B475)","v":""},{"$f":"IF(ISNA(C475),\"\",C475)","v":""},"","","","","",null,null,null,null,null,null,null,null,null,null,null,null,null,null,null,null,null,null,{"$f":"IF(LEFT(B476,7)=\"CDT-145\",\"CDT-145\",IF(LEFT(B476,7)=\"CDT-135\",\"CDT-135\",AA474))","v":"Invisible"},"Invisible","Invisible","Invisible","Invisible","Invisible","Invisible"]
[null,{"$f":"IF(B474=0,\"\",VLOOKUP(DATE($A480,$A482,B474)+$I477,Activités!$C$4:$I$534,5,0))","v":""},{"$f":"IF(C474=0,\"\",VLOOKUP(DATE($A480,$A482,C474)+$I477,Activités!$C$4:$I$534,5,0))","v":""},{"$f":"IF(D474=0,\"\",VLOOKUP(DATE($A480,$A482,D474)+$I477,Activités!$C$4:$I$534,5,0))","v":""},{"$f":"IF(E474=0,\"\",VLOOKUP(DATE($A480,$A482,E474)+$I477,Activités!$C$4:$I$534,5,0))","v":""},{"$f":"IF(F474=0,\"\",VLOOKUP(DATE($A480,$A482,F474)+$I477,Activités!$C$4:$I$534,5,0))","v":""},{"$f":"IF(G474=0,\"\",VLOOKUP(DATE($A480,$A482,G474)+$I477,Activités!$C$4:$I$534,5,0))","v":""},{"$f":"IF(H474=0,\"\",VLOOKUP(DATE($A480,$A482,H474)+$I477,Activités!$C$4:$I$534,5,0))","v":""},{"$f":"+I475+0.1","v":0.2},null,null,null,null,null,null,null,null,null,null,null,null,null,null,null,null,null,{"$f":"AA476","v":"Invisible"},"Invisible","Invisible","Invisible","Invisible","Invisible","Invisible"]
[null,{"$f":"IF(ISNA(B477),\"\",B477)","v":""},"","","","","","",null,null,null,null,null,null,null,null,null,null,null,null,null,null,null,null,null,null,{"$f":"IF(LEFT(B478,7)=\"CDT-145\",\"CDT-145\",IF(LEFT(B478,7)=\"CDT-135\",\"CDT-135\",AA474))","v":"Invisible"},"Invisible","Invisible","Invisible","Invisible","Invisible","Invisible"]
[null,{"$f":"IF(B474=0,\"\",VLOOKUP(DATE($A480,$A482,B474)+$I479,Activités!$C$4:$I$534,5,0))","v":""},{"$f":"IF(C474=0,\"\",VLOOKUP(DATE($A480,$A482,C474)+$I479,Activités!$C$4:$I$534,5,0))","v":""},{"$f":"IF(D474=0,\"\",VLOOKUP(DATE($A480,$A482,D474)+$I479,Activités!$C$4:$I$534,5,0))","v":""},{"$f":"IF(E474=0,\"\",VLOOKUP(DATE($A480,$A482,E474)+$I479,Activités!$C$4:$I$534,5,0))","v":""},{"$f":"IF(F474=0,\"\",VLOOKUP(DATE($A480,$A482,F474)+$I479,Activités!$C$4:$I$534,5,0))","v":""},{"$f":"IF(G474=0,\"\",VLOOKUP(DATE($A480,$A482,G474)+$I479,Activités!$C$4:$I$534,5,0))","v":""},{"$f":"IF(H474=0,\"\",VLOOKUP(DATE($A480,$A482,H474)+$I479,Activités!$C$4:$I$534,5,0))","v":""},{"$f":"+I477+0.1","v":0.30000000000000004},null,null,null,null,null,null,null,null,null,null,null,null,null,null,null,null,null,{"$f":"AA478","v":"Invisible"},"Invisible","Invisible","Invisible","Invisible","Invisible","Invisible"]
[{"$f":"A469","v":2018},{"$f":"IF(ISNA(B479),\"\",B479)","v":""},"","","","","","",null,null,null,null,null,null,null,null,null,null,null,null,null,null,null,null,null,null,{"$f":"IF(LEFT(B480,7)=\"CDT-145\",\"CDT-145\",IF(LEFT(B480,7)=\"CDT-135\",\"CDT-135\",AA474))","v":"Invisible"},"Invisible","Invisible","Invisible","Invisible","Invisible","Invisible"]
[null,{"$f":"IF(B474=0,\"\",VLOOKUP(DATE($A480,$A482,B474)+$I481,Activités!$C$4:$I$534,5,0))","v":""},{"$f":"IF(C474=0,\"\",VLOOKUP(DATE($A480,$A482,C474)+$I481,Activités!$C$4:$I$534,5,0))","v":""},{"$f":"IF(D474=0,\"\",VLOOKUP(DATE($A480,$A482,D474)+$I481,Activités!$C$4:$I$534,5,0))","v":""},{"$f":"IF(E474=0,\"\",VLOOKUP(DATE($A480,$A482,E474)+$I481,Activités!$C$4:$I$534,5,0))","v":""},{"$f":"IF(F474=0,\"\",VLOOKUP(DATE($A480,$A482,F474)+$I481,Activités!$C$4:$I$534,5,0))","v":""},{"$f":"IF(G474=0,\"\",VLOOKUP(DATE($A480,$A482,G474)+$I481,Activités!$C$4:$I$534,5,0))","v":""},{"$f":"IF(H474=0,\"\",VLOOKUP(DATE($A480,$A482,H474)+$I481,Activités!$C$4:$I$534,5,0))","v":""},{"$f":"+I479+0.1","v":0.4},null,null,null,null,null,null,null,null,null,null,null,null,null,null,null,null,null,{"$f":"AA480","v":"Invisible"},"Invisible","Invisible","Invisible","Invisible","Invisible","Invisible"]
[{"$f":"A471","v":2},{"$f":"IF(ISNA(B481),\"\",B481)","v":""},"","","","","","",null,null,null,null,null,null,null,null,null,null,null,null,null,null,null,null,null,null,{"$f":"IF(LEFT(B482,7)=\"CDT-145\",\"CDT-145\",IF(LEFT(B482,7)=\"CDT-135\",\"CDT-135\",AA474))","v":"Invisible"},"Invisible","Invisible","Invisible","Invisible","Invisible","Invisible"]
[null,{"$f":"IF(B474=0,\"\",VLOOKUP(DATE($A480,$A482,B474)+$I483,Activités!$C$4:$I$534,5,0))","v":""},{"$f":"IF(C474=0,\"\",VLOOKUP(DATE($A480,$A482,C474)+$I483,Activités!$C$4:$I$534,5,0))","v":""},{"$f":"IF(D474=0,\"\",VLOOKUP(DATE($A480,$A482,D474)+$I483,Activités!$C$4:$I$534,5,0))","v":""},{"$f":"IF(E474=0,\"\",VLOOKUP(DATE($A480,$A482,E474)+$I483,Activités!$C$4:$I$534,5,0))","v":""},{"$f":"IF(F474=0,\"\",VLOOKUP(DATE($A480,$A482,F474)+$I483,Activités!$C$4:$I$534,5,0))","v":""},{"$f":"IF(G474=0,\"\",VLOOKUP(DATE($A480,$A482,G474)+$I483,Activités!$C$4:$I$534,5,0))","v":""},{"$f":"IF(H474=0,\"\",VLOOKUP(DATE($A480,$A482,H474)+$I483,Activités!$C$4:$I$534,5,0))","v":""},{"$f":"+I481+0.1","v":0.5},null,null,null,null,null,null,null,null,null,null,null,null,null,null,null,null,null,{"$f":"AA482","v":"Invisible"},"Invisible","Invisible","Invisible","Invisible","Invisible","Invisible"]
[{"$f":"A473","v":28},{"$f":"IF(ISNA(B483),\"\",B483)","v":""},"","","","","","",null,null,null,null,null,null,null,null,null,null,null,null,null,null,null,null,null,null,{"$f":"IF(LEFT(B484,7)=\"CDT-145\",\"CDT-145\",IF(LEFT(B484,7)=\"CDT-135\",\"CDT-135\",AA474))","v":"Invisible"},"Invisible","Invisible","Invisible","Invisible","Invisible","Invisible"]
[]
[null,{"$f":"VLOOKUP(110,Traduction!$B$6:$D$250,'Info de l''escadron'!$A$1+1,0)","v":"MARS"},null,null,null,null,null,{"$f":"H417","v":2018}]
[null,{"$f":"B$4","v":"Dimanche"},{"$f":"C$4","v":"Lundi"},"Mardi","Mercredi","Jeudi","Vendredi","Samedi"]
[null,{"$f":"IF(WEEKDAY(DATE($H486,$A496,1),1)=B$2,1,IF(A488=0,0,A488+1))","v":0},0,0,0,1,2,3,null,null,null,null,null,null,null,null,null,null,null,null,null,null,null,null,null,null,{"$f":"IF(AND($B488=0,$H488=0),\"Invisible\",\"\")","v":""},{"$f":"IF(AND($B488=0,$H488=0),\"Invisible\",\"\")","v":""},"","","","",""]
[null,{"$f":"IF(B488=0,\"\",VLOOKUP(DATE($A494,$A496,B488)+$I489,Activités!$C$4:$I$534,5,0))","v":""},{"$f":"IF(C488=0,\"\",VLOOKUP(DATE($A494,$A496,C488)+$I489,Activités!$C$4:$I$534,5,0))","v":""},{"$f":"IF(D488=0,\"\",VLOOKUP(DATE($A494,$A496,D488)+$I489,Activités!$C$4:$I$534,5,0))","v":""},{"$f":"IF(E488=0,\"\",VLOOKUP(DATE($A494,$A496,E488)+$I489,Activités!$C$4:$I$534,5,0))","v":""},{"$f":"IF(F488=0,\"\",VLOOKUP(DATE($A494,$A496,F488)+$I489,Activités!$C$4:$I$534,5,0))","v":{"$error":"#N/A"}},{"$f":"IF(G488=0,\"\",VLOOKUP(DATE($A494,$A496,G488)+$I489,Activités!$C$4:$I$534,5,0))","v":{"$error":"#N/A"}},{"$f":"IF(H488=0,\"\",VLOOKUP(DATE($A494,$A496,H488)+$I489,Activités!$C$4:$I$534,5,0))","v":{"$error":"#N/A"}},0.1,null,null,null,null,null,null,null,null,null,null,null,null,null,null,null,null,null,{"$f":"AA488","v":""},"","","","","",""]
[null,{"$f":"IF(ISNA(B489),\"\",B489)","v":""},{"$f":"IF(ISNA(C489),\"\",C489)","v":""},"","","","","",null,null,null,null,null,null,null,null,null,null,null,null,null,null,null,null,null,null,{"$f":"IF(LEFT(B490,7)=\"CDT-145\",\"CDT-145\",IF(LEFT(B490,7)=\"CDT-135\",\"CDT-135\",AA488))","v":""},"","","","","",""]
[null,{"$f":"IF(B488=0,\"\",VLOOKUP(DATE($A494,$A496,B488)+$I491,Activités!$C$4:$I$534,5,0))","v":""},{"$f":"IF(C488=0,\"\",VLOOKUP(DATE($A494,$A496,C488)+$I491,Activités!$C$4:$I$534,5,0))","v":""},{"$f":"IF(D488=0,\"\",VLOOKUP(DATE($A494,$A496,D488)+$I491,Activités!$C$4:$I$534,5,0))","v":""},{"$f":"IF(E488=0,\"\",VLOOKUP(DATE($A494,$A496,E488)+$I491,Activités!$C$4:$I$534,5,0))","v":""},{"$f":"IF(F488=0,\"\",VLOOKUP(DATE($A494,$A496,F488)+$I491,Activités!$C$4:$I$534,5,0))","v":{"$error":"#N/A"}},{"$f":"IF(G488=0,\"\",VLOOKUP(DATE($A494,$A496,G488)+$I491,Activités!$C$4:$I$534,5,0))","v":{"$error":"#N/A"}},{"$f":"IF(H488=0,\"\",VLOOKUP(DATE($A494,$A496,H488)+$I491,Activités!$C$4:$I$534,5,0))","v":{"$error":"#N/A"}},{"$f":"+I489+0.1","v":0.2},null,null,null,null,null,null,null,null,null,null,null,null,null,null,null,null,null,{"$f":"AA490","v":""},"","","","","",""]
[null,{"$f":"IF(ISNA(B491),\"\",B491)","v":""},"","","","","","",null,null,null,null,null,null,null,null,null,null,null,null,null,null,null,null,null,null,{"$f":"IF(LEFT(B492,7)=\"CDT-145\",\"CDT-145\",IF(LEFT(B492,7)=\"CDT-135\",\"CDT-135\",AA488))","v":""},"","","","","",""]
[null,{"$f":"IF(B488=0,\"\",VLOOKUP(DATE($A494,$A496,B488)+$I493,Activités!$C$4:$I$534,5,0))","v":""},{"$f":"IF(C488=0,\"\",VLOOKUP(DATE($A494,$A496,C488)+$I493,Activités!$C$4:$I$534,5,0))","v":""},{"$f":"IF(D488=0,\"\",VLOOKUP(DATE($A494,$A496,D488)+$I493,Activités!$C$4:$I$534,5,0))","v":""},{"$f":"IF(E488=0,\"\",VLOOKUP(DATE($A494,$A496,E488)+$I493,Activités!$C$4:$I$534,5,0))","v":""},{"$f":"IF(F488=0,\"\",VLOOKUP(DATE($A494,$A496,F488)+$I493,Activités!$C$4:$I$534,5,0))","v":{"$error":"#N/A"}},{"$f":"IF(G488=0,\"\",VLOOKUP(DATE($A494,$A496,G488)+$I493,Activités!$C$4:$I$534,5,0))","v":{"$error":"#N/A"}},{"$f":"IF(H488=0,\"\",VLOOKUP(DATE($A494,$A496,H488)+$I493,Activités!$C$4:$I$534,5,0))","v":{"$error":"#N/A"}},{"$f":"+I491+0.1","v":0.30000000000000004},null,null,null,null,null,null,null,null,null,null,null,null,null,null,null,null,null,{"$f":"AA492","v":""},"","","","","",""]
[{"$f":"H486","v":2018},{"$f":"IF(ISNA(B493),\"\",B493)","v":""},"","","","","","",null,null,null,null,null,null,null,null,null,null,null,null,null,null,null,null,null,null,{"$f":"IF(LEFT(B494,7)=\"CDT-145\",\"CDT-145\",IF(LEFT(B494,7)=\"CDT-135\",\"CDT-135\",AA488))","v":""},"","","","","",""]
[null,{"$f":"IF(B488=0,\"\",VLOOKUP(DATE($A494,$A496,B488)+$I495,Activités!$C$4:$I$534,5,0))","v":""},{"$f":"IF(C488=0,\"\",VLOOKUP(DATE($A494,$A496,C488)+$I495,Activités!$C$4:$I$534,5,0))","v":""},{"$f":"IF(D488=0,\"\",VLOOKUP(DATE($A494,$A496,D488)+$I495,Activités!$C$4:$I$534,5,0))","v":""},{"$f":"IF(E488=0,\"\",VLOOKUP(DATE($A494,$A496,E488)+$I495,Activités!$C$4:$I$534,5,0))","v":""},{"$f":"IF(F488=0,\"\",VLOOKUP(DATE($A494,$A496,F488)+$I495,Activités!$C$4:$I$534,5,0))","v":{"$error":"#N/A"}},{"$f":"IF(G488=0,\"\",VLOOKUP(DATE($A494,$A496,G488)+$I495,Activités!$C$4:$I$534,5,0))","v":{"$error":"#N/A"}},{"$f":"IF(H488=0,\"\",VLOOKUP(DATE($A494,$A496,H488)+$I495,Activités!$C$4:$I$534,5,0))","v":{"$error":"#N/A"}},{"$f":"+I493+0.1","v":0.4},null,null,null,null,null,null,null,null,null,null,null,null,null,null,null,null,null,{"$f":"AA494","v":""},"","","","","",""]
[3,{"$f":"IF(ISNA(B495),\"\",B495)","v":""},"","","","","","",null,null,null,null,null,null,null,null,null,null,null,null,null,null,null,null,null,null,{"$f":"IF(LEFT(B496,7)=\"CDT-145\",\"CDT-145\",IF(LEFT(B496,7)=\"CDT-135\",\"CDT-135\",AA488))","v":""},"","","","","",""]
[null,{"$f":"IF(B488=0,\"\",VLOOKUP(DATE($A494,$A496,B488)+$I497,Activités!$C$4:$I$534,5,0))","v":""},{"$f":"IF(C488=0,\"\",VLOOKUP(DATE($A494,$A496,C488)+$I497,Activités!$C$4:$I$534,5,0))","v":""},{"$f":"IF(D488=0,\"\",VLOOKUP(DATE($A494,$A496,D488)+$I497,Activités!$C$4:$I$534,5,0))","v":""},{"$f":"IF(E488=0,\"\",VLOOKUP(DATE($A494,$A496,E488)+$I497,Activités!$C$4:$I$534,5,0))","v":""},{"$f":"IF(F488=0,\"\",VLOOKUP(DATE($A494,$A496,F488)+$I497,Activités!$C$4:$I$534,5,0))","v":{"$error":"#N/A"}},{"$f":"IF(G488=0,\"\",VLOOKUP(DATE($A494,$A496,G488)+$I497,Activités!$C$4:$I$534,5,0))","v":{"$error":"#N/A"}},{"$f":"IF(H488=0,\"\",VLOOKUP(DATE($A494,$A496,H488)+$I497,Activités!$C$4:$I$534,5,0))","v":{"$error":"#N/A"}},{"$f":"+I495+0.1","v":0.5},null,null,null,null,null,null,null,null,null,null,null,null,null,null,null,null,null,{"$f":"AA496","v":""},"","","","","",""]
[31,{"$f":"IF(ISNA(B497),\"\",B497)","v":""},"","","","","","",null,null,null,null,null,null,null,null,null,null,null,null,null,null,null,null,null,null,{"$f":"IF(LEFT(B498,7)=\"CDT-145\",\"CDT-145\",IF(LEFT(B498,7)=\"CDT-135\",\"CDT-135\",AA488))","v":""},"","","","","",""]
[{"$f":"H488","v":3},{"$f":"IF(OR(A499=$A509,A499=0),0,A499+1)","v":4},5,6,7,8,9,10,null,null,null,null,null,null,null,null,null,null,null,null,null,null,null,null,null,null,{"$f":"IF(AND($B499=0,$H499=0),\"Invisible\",\"\")","v":""},{"$f":"IF(AND($B499=0,$H499=0),\"Invisible\",\"\")","v":""},"","","","",""]
[null,{"$f":"IF(B499=0,\"\",VLOOKUP(DATE($A505,$A507,B499)+$I500,Activités!$C$4:$I$534,5,0))","v":{"$error":"#N/A"}},{"$f":"IF(C499=0,\"\",VLOOKUP(DATE($A505,$A507,C499)+$I500,Activités!$C$4:$I$534,5,0))","v":{"$error":"#N/A"}},{"$f":"IF(D499=0,\"\",VLOOKUP(DATE($A505,$A507,D499)+$I500,Activités!$C$4:$I$534,5,0))","v":{"$error":"#N/A"}},{"$f":"IF(E499=0,\"\",VLOOKUP(DATE($A505,$A507,E499)+$I500,Activités!$C$4:$I$534,5,0))","v":{"$error":"#N/A"}},{"$f":"IF(F499=0,\"\",VLOOKUP(DATE($A505,$A507,F499)+$I500,Activités!$C$4:$I$534,5,0))","v":{"$error":"#N/A"}},{"$f":"IF(G499=0,\"\",VLOOKUP(DATE($A505,$A507,G499)+$I500,Activités!$C$4:$I$534,5,0))","v":{"$error":"#N/A"}},{"$f":"IF(H499=0,\"\",VLOOKUP(DATE($A505,$A507,H499)+$I500,Activités!$C$4:$I$534,5,0))","v":{"$error":"#N/A"}},0.1,null,null,null,null,null,null,null,null,null,null,null,null,null,null,null,null,null,{"$f":"AA499","v":""},"","","","","",""]
[null,{"$f":"IF(ISNA(B500),\"\",B500)","v":""},{"$f":"IF(ISNA(C500),\"\",C500)","v":""},"","","","","",null,null,null,null,null,null,null,null,null,null,null,null,null,null,null,null,null,null,{"$f":"IF(LEFT(B501,7)=\"CDT-145\",\"CDT-145\",IF(LEFT(B501,7)=\"CDT-135\",\"CDT-135\",AA499))","v":""},"","","","","",""]
[null,{"$f":"IF(B499=0,\"\",VLOOKUP(DATE($A505,$A507,B499)+$I502,Activités!$C$4:$I$534,5,0))","v":{"$error":"#N/A"}},{"$f":"IF(C499=0,\"\",VLOOKUP(DATE($A505,$A507,C499)+$I502,Activités!$C$4:$I$534,5,0))","v":{"$error":"#N/A"}},{"$f":"IF(D499=0,\"\",VLOOKUP(DATE($A505,$A507,D499)+$I502,Activités!$C$4:$I$534,5,0))","v":{"$error":"#N/A"}},{"$f":"IF(E499=0,\"\",VLOOKUP(DATE($A505,$A507,E499)+$I502,Activités!$C$4:$I$534,5,0))","v":{"$error":"#N/A"}},{"$f":"IF(F499=0,\"\",VLOOKUP(DATE($A505,$A507,F499)+$I502,Activités!$C$4:$I$534,5,0))","v":{"$error":"#N/A"}},{"$f":"IF(G499=0,\"\",VLOOKUP(DATE($A505,$A507,G499)+$I502,Activités!$C$4:$I$534,5,0))","v":{"$error":"#N/A"}},{"$f":"IF(H499=0,\"\",VLOOKUP(DATE($A505,$A507,H499)+$I502,Activités!$C$4:$I$534,5,0))","v":{"$error":"#N/A"}},{"$f":"+I500+0.1","v":0.2},null,null,null,null,null,null,null,null,null,null,null,null,null,null,null,null,null,{"$f":"AA501","v":""},"","","","","",""]
[null,{"$f":"IF(ISNA(B502),\"\",B502)","v":""},"","","","","","",null,null,null,null,null,null,null,null,null,null,null,null,null,null,null,null,null,null,{"$f":"IF(LEFT(B503,7)=\"CDT-145\",\"CDT-145\",IF(LEFT(B503,7)=\"CDT-135\",\"CDT-135\",AA499))","v":""},"","","","","",""]
[null,{"$f":"IF(B499=0,\"\",VLOOKUP(DATE($A505,$A507,B499)+$I504,Activités!$C$4:$I$534,5,0))","v":{"$error":"#N/A"}},{"$f":"IF(C499=0,\"\",VLOOKUP(DATE($A505,$A507,C499)+$I504,Activités!$C$4:$I$534,5,0))","v":{"$error":"#N/A"}},{"$f":"IF(D499=0,\"\",VLOOKUP(DATE($A505,$A507,D499)+$I504,Activités!$C$4:$I$534,5,0))","v":{"$error":"#N/A"}},{"$f":"IF(E499=0,\"\",VLOOKUP(DATE($A505,$A507,E499)+$I504,Activités!$C$4:$I$534,5,0))","v":{"$error":"#N/A"}},{"$f":"IF(F499=0,\"\",VLOOKUP(DATE($A505,$A507,F499)+$I504,Activités!$C$4:$I$534,5,0))","v":{"$error":"#N/A"}},{"$f":"IF(G499=0,\"\",VLOOKUP(DATE($A505,$A507,G499)+$I504,Activités!$C$4:$I$534,5,0))","v":{"$error":"#N/A"}},{"$f":"IF(H499=0,\"\",VLOOKUP(DATE($A505,$A507,H499)+$I504,Activités!$C$4:$I$534,5,0))","v":{"$error":"#N/A"}},{"$f":"+I502+0.1","v":0.30000000000000004},null,null,null,null,null,null,null,null,null,null,null,null,null,null,null,null,null,{"$f":"AA503","v":""},"","","","","",""]
[{"$f":"A494","v":2018},{"$f":"IF(ISNA(B504),\"\",B504)","v":""},"","","","","","",null,null,null,null,null,null,null,null,null,null,null,null,null,null,null,null,null,null,{"$f":"IF(LEFT(B505,7)=\"CDT-145\",\"CDT-145\",IF(LEFT(B505,7)=\"CDT-135\",\"CDT-135\",AA499))","v":""},"","","","","",""]
[null,{"$f":"IF(B499=0,\"\",VLOOKUP(DATE($A505,$A507,B499)+$I506,Activités!$C$4:$I$534,5,0))","v":{"$error":"#N/A"}},{"$f":"IF(C499=0,\"\",VLOOKUP(DATE($A505,$A507,C499)+$I506,Activités!$C$4:$I$534,5,0))","v":{"$error":"#N/A"}},{"$f":"IF(D499=0,\"\",VLOOKUP(DATE($A505,$A507,D499)+$I506,Activités!$C$4:$I$534,5,0))","v":{"$error":"#N/A"}},{"$f":"IF(E499=0,\"\",VLOOKUP(DATE($A505,$A507,E499)+$I506,Activités!$C$4:$I$534,5,0))","v":{"$error":"#N/A"}},{"$f":"IF(F499=0,\"\",VLOOKUP(DATE($A505,$A507,F499)+$I506,Activités!$C$4:$I$534,5,0))","v":{"$error":"#N/A"}},{"$f":"IF(G499=0,\"\",VLOOKUP(DATE($A505,$A507,G499)+$I506,Activités!$C$4:$I$534,5,0))","v":{"$error":"#N/A"}},{"$f":"IF(H499=0,\"\",VLOOKUP(DATE($A505,$A507,H499)+$I506,Activités!$C$4:$I$534,5,0))","v":{"$error":"#N/A"}},{"$f":"+I504+0.1","v":0.4},null,null,null,null,null,null,null,null,null,null,null,null,null,null,null,null,null,{"$f":"AA505","v":""},"","","","","",""]
[{"$f":"A496","v":3},{"$f":"IF(ISNA(B506),\"\",B506)","v":""},"","","","","","",null,null,null,null,null,null,null,null,null,null,null,null,null,null,null,null,null,null,{"$f":"IF(LEFT(B507,7)=\"CDT-145\",\"CDT-145\",IF(LEFT(B507,7)=\"CDT-135\",\"CDT-135\",AA499))","v":""},"","","","","",""]
[null,{"$f":"IF(B499=0,\"\",VLOOKUP(DATE($A505,$A507,B499)+$I508,Activités!$C$4:$I$534,5,0))","v":{"$error":"#N/A"}},{"$f":"IF(C499=0,\"\",VLOOKUP(DATE($A505,$A507,C499)+$I508,Activités!$C$4:$I$534,5,0))","v":{"$error":"#N/A"}},{"$f":"IF(D499=0,\"\",VLOOKUP(DATE($A505,$A507,D499)+$I508,Activités!$C$4:$I$534,5,0))","v":{"$error":"#N/A"}},{"$f":"IF(E499=0,\"\",VLOOKUP(DATE($A505,$A507,E499)+$I508,Activités!$C$4:$I$534,5,0))","v":{"$error":"#N/A"}},{"$f":"IF(F499=0,\"\",VLOOKUP(DATE($A505,$A507,F499)+$I508,Activités!$C$4:$I$534,5,0))","v":{"$error":"#N/A"}},{"$f":"IF(G499=0,\"\",VLOOKUP(DATE($A505,$A507,G499)+$I508,Activités!$C$4:$I$534,5,0))","v":{"$error":"#N/A"}},{"$f":"IF(H499=0,\"\",VLOOKUP(DATE($A505,$A507,H499)+$I508,Activités!$C$4:$I$534,5,0))","v":{"$error":"#N/A"}},{"$f":"+I506+0.1","v":0.5},null,null,null,null,null,null,null,null,null,null,null,null,null,null,null,null,null,{"$f":"AA507","v":""},"","","","","",""]
[{"$f":"A498","v":31},{"$f":"IF(ISNA(B508),\"\",B508)","v":""},"","","","","","",null,null,null,null,null,null,null,null,null,null,null,null,null,null,null,null,null,null,{"$f":"IF(LEFT(B509,7)=\"CDT-145\",\"CDT-145\",IF(LEFT(B509,7)=\"CDT-135\",\"CDT-135\",AA499))","v":""},"","","","","",""]
[{"$f":"H499","v":10},{"$f":"IF(OR(A510=$A520,A510=0),0,A510+1)","v":11},12,13,14,15,16,17,null,null,null,null,null,null,null,null,null,null,null,null,null,null,null,null,null,null,{"$f":"IF(AND($B510=0,$H510=0),\"Invisible\",\"\")","v":""},{"$f":"IF(AND($B510=0,$H510=0),\"Invisible\",\"\")","v":""},"","","","",""]
[null,{"$f":"IF(B510=0,\"\",VLOOKUP(DATE($A516,$A518,B510)+$I511,Activités!$C$4:$I$534,5,0))","v":{"$error":"#N/A"}},{"$f":"IF(C510=0,\"\",VLOOKUP(DATE($A516,$A518,C510)+$I511,Activités!$C$4:$I$534,5,0))","v":{"$error":"#N/A"}},{"$f":"IF(D510=0,\"\",VLOOKUP(DATE($A516,$A518,D510)+$I511,Activités!$C$4:$I$534,5,0))","v":{"$error":"#N/A"}},{"$f":"IF(E510=0,\"\",VLOOKUP(DATE($A516,$A518,E510)+$I511,Activités!$C$4:$I$534,5,0))","v":{"$error":"#N/A"}},{"$f":"IF(F510=0,\"\",VLOOKUP(DATE($A516,$A518,F510)+$I511,Activités!$C$4:$I$534,5,0))","v":{"$error":"#N/A"}},{"$f":"IF(G510=0,\"\",VLOOKUP(DATE($A516,$A518,G510)+$I511,Activités!$C$4:$I$534,5,0))","v":{"$error":"#N/A"}},{"$f":"IF(H510=0,\"\",VLOOKUP(DATE($A516,$A518,H510)+$I511,Activités!$C$4:$I$534,5,0))","v":{"$error":"#N/A"}},0.1,null,null,null,null,null,null,null,null,null,null,null,null,null,null,null,null,null,{"$f":"AA510","v":""},"","","","","",""]
[null,{"$f":"IF(ISNA(B511),\"\",B511)","v":""},{"$f":"IF(ISNA(C511),\"\",C511)","v":""},"","","","","",null,null,null,null,null,null,null,null,null,null,null,null,null,null,null,null,null,null,{"$f":"IF(LEFT(B512,7)=\"CDT-145\",\"CDT-145\",IF(LEFT(B512,7)=\"CDT-135\",\"CDT-135\",AA510))","v":""},"","","","","",""]
[null,{"$f":"IF(B510=0,\"\",VLOOKUP(DATE($A516,$A518,B510)+$I513,Activités!$C$4:$I$534,5,0))","v":{"$error":"#N/A"}},{"$f":"IF(C510=0,\"\",VLOOKUP(DATE($A516,$A518,C510)+$I513,Activités!$C$4:$I$534,5,0))","v":{"$error":"#N/A"}},{"$f":"IF(D510=0,\"\",VLOOKUP(DATE($A516,$A518,D510)+$I513,Activités!$C$4:$I$534,5,0))","v":{"$error":"#N/A"}},{"$f":"IF(E510=0,\"\",VLOOKUP(DATE($A516,$A518,E510)+$I513,Activités!$C$4:$I$534,5,0))","v":{"$error":"#N/A"}},{"$f":"IF(F510=0,\"\",VLOOKUP(DATE($A516,$A518,F510)+$I513,Activités!$C$4:$I$534,5,0))","v":{"$error":"#N/A"}},{"$f":"IF(G510=0,\"\",VLOOKUP(DATE($A516,$A518,G510)+$I513,Activités!$C$4:$I$534,5,0))","v":{"$error":"#N/A"}},{"$f":"IF(H510=0,\"\",VLOOKUP(DATE($A516,$A518,H510)+$I513,Activités!$C$4:$I$534,5,0))","v":{"$error":"#N/A"}},{"$f":"+I511+0.1","v":0.2},null,null,null,null,null,null,null,null,null,null,null,null,null,null,null,null,null,{"$f":"AA512","v":""},"","","","","",""]
[null,{"$f":"IF(ISNA(B513),\"\",B513)","v":""},"","","","","","",null,null,null,null,null,null,null,null,null,null,null,null,null,null,null,null,null,null,{"$f":"IF(LEFT(B514,7)=\"CDT-145\",\"CDT-145\",IF(LEFT(B514,7)=\"CDT-135\",\"CDT-135\",AA510))","v":""},"","","","","",""]
[null,{"$f":"IF(B510=0,\"\",VLOOKUP(DATE($A516,$A518,B510)+$I515,Activités!$C$4:$I$534,5,0))","v":{"$error":"#N/A"}},{"$f":"IF(C510=0,\"\",VLOOKUP(DATE($A516,$A518,C510)+$I515,Activités!$C$4:$I$534,5,0))","v":{"$error":"#N/A"}},{"$f":"IF(D510=0,\"\",VLOOKUP(DATE($A516,$A518,D510)+$I515,Activités!$C$4:$I$534,5,0))","v":{"$error":"#N/A"}},{"$f":"IF(E510=0,\"\",VLOOKUP(DATE($A516,$A518,E510)+$I515,Activités!$C$4:$I$534,5,0))","v":{"$error":"#N/A"}},{"$f":"IF(F510=0,\"\",VLOOKUP(DATE($A516,$A518,F510)+$I515,Activités!$C$4:$I$534,5,0))","v":{"$error":"#N/A"}},{"$f":"IF(G510=0,\"\",VLOOKUP(DATE($A516,$A518,G510)+$I515,Activités!$C$4:$I$534,5,0))","v":{"$error":"#N/A"}},{"$f":"IF(H510=0,\"\",VLOOKUP(DATE($A516,$A518,H510)+$I515,Activités!$C$4:$I$534,5,0))","v":{"$error":"#N/A"}},{"$f":"+I513+0.1","v":0.30000000000000004},null,null,null,null,null,null,null,null,null,null,null,null,null,null,null,null,null,{"$f":"AA514","v":""},"","","","","",""]
[{"$f":"A505","v":2018},{"$f":"IF(ISNA(B515),\"\",B515)","v":""},"","","","","","",null,null,null,null,null,null,null,null,null,null,null,null,null,null,null,null,null,null,{"$f":"IF(LEFT(B516,7)=\"CDT-145\",\"CDT-145\",IF(LEFT(B516,7)=\"CDT-135\",\"CDT-135\",AA510))","v":""},"","","","","",""]
[null,{"$f":"IF(B510=0,\"\",VLOOKUP(DATE($A516,$A518,B510)+$I517,Activités!$C$4:$I$534,5,0))","v":{"$error":"#N/A"}},{"$f":"IF(C510=0,\"\",VLOOKUP(DATE($A516,$A518,C510)+$I517,Activités!$C$4:$I$534,5,0))","v":{"$error":"#N/A"}},{"$f":"IF(D510=0,\"\",VLOOKUP(DATE($A516,$A518,D510)+$I517,Activités!$C$4:$I$534,5,0))","v":{"$error":"#N/A"}},{"$f":"IF(E510=0,\"\",VLOOKUP(DATE($A516,$A518,E510)+$I517,Activités!$C$4:$I$534,5,0))","v":{"$error":"#N/A"}},{"$f":"IF(F510=0,\"\",VLOOKUP(DATE($A516,$A518,F510)+$I517,Activités!$C$4:$I$534,5,0))","v":{"$error":"#N/A"}},{"$f":"IF(G510=0,\"\",VLOOKUP(DATE($A516,$A518,G510)+$I517,Activités!$C$4:$I$534,5,0))","v":{"$error":"#N/A"}},{"$f":"IF(H510=0,\"\",VLOOKUP(DATE($A516,$A518,H510)+$I517,Activités!$C$4:$I$534,5,0))","v":{"$error":"#N/A"}},{"$f":"+I515+0.1","v":0.4},null,null,null,null,null,null,null,null,null,null,null,null,null,null,null,null,null,{"$f":"AA516","v":""},"","","","","",""]
[{"$f":"A507","v":3},{"$f":"IF(ISNA(B517),\"\",B517)","v":""},"","","","","","",null,null,null,null,null,null,null,null,null,null,null,null,null,null,null,null,null,null,{"$f":"IF(LEFT(B518,7)=\"CDT-145\",\"CDT-145\",IF(LEFT(B518,7)=\"CDT-135\",\"CDT-135\",AA510))","v":""},"","","","","",""]
[null,{"$f":"IF(B510=0,\"\",VLOOKUP(DATE($A516,$A518,B510)+$I519,Activités!$C$4:$I$534,5,0))","v":{"$error":"#N/A"}},{"$f":"IF(C510=0,\"\",VLOOKUP(DATE($A516,$A518,C510)+$I519,Activités!$C$4:$I$534,5,0))","v":{"$error":"#N/A"}},{"$f":"IF(D510=0,\"\",VLOOKUP(DATE($A516,$A518,D510)+$I519,Activités!$C$4:$I$534,5,0))","v":{"$error":"#N/A"}},{"$f":"IF(E510=0,\"\",VLOOKUP(DATE($A516,$A518,E510)+$I519,Activités!$C$4:$I$534,5,0))","v":{"$error":"#N/A"}},{"$f":"IF(F510=0,\"\",VLOOKUP(DATE($A516,$A518,F510)+$I519,Activités!$C$4:$I$534,5,0))","v":{"$error":"#N/A"}},{"$f":"IF(G510=0,\"\",VLOOKUP(DATE($A516,$A518,G510)+$I519,Activités!$C$4:$I$534,5,0))","v":{"$error":"#N/A"}},{"$f":"IF(H510=0,\"\",VLOOKUP(DATE($A516,$A518,H510)+$I519,Activités!$C$4:$I$534,5,0))","v":{"$error":"#N/A"}},{"$f":"+I517+0.1","v":0.5},null,null,null,null,null,null,null,null,null,null,null,null,null,null,null,null,null,{"$f":"AA518","v":""},"","","","","",""]
[{"$f":"A509","v":31},{"$f":"IF(ISNA(B519),\"\",B519)","v":""},"","","","","","",null,null,null,null,null,null,null,null,null,null,null,null,null,null,null,null,null,null,{"$f":"IF(LEFT(B520,7)=\"CDT-145\",\"CDT-145\",IF(LEFT(B520,7)=\"CDT-135\",\"CDT-135\",AA510))","v":""},"","","","","",""]
[{"$f":"H510","v":17},{"$f":"IF(OR(A521=$A531,A521=0),0,A521+1)","v":18},19,20,21,22,23,24,null,null,null,null,null,null,null,null,null,null,null,null,null,null,null,null,null,null,{"$f":"IF(AND($B521=0,$H521=0),\"Invisible\",\"\")","v":""},{"$f":"IF(AND($B521=0,$H521=0),\"Invisible\",\"\")","v":""},"","","","",""]
[null,{"$f":"IF(B521=0,\"\",VLOOKUP(DATE($A527,$A529,B521)+$I522,Activités!$C$4:$I$534,5,0))","v":{"$error":"#N/A"}},{"$f":"IF(C521=0,\"\",VLOOKUP(DATE($A527,$A529,C521)+$I522,Activités!$C$4:$I$534,5,0))","v":{"$error":"#N/A"}},{"$f":"IF(D521=0,\"\",VLOOKUP(DATE($A527,$A529,D521)+$I522,Activités!$C$4:$I$534,5,0))","v":{"$error":"#N/A"}},{"$f":"IF(E521=0,\"\",VLOOKUP(DATE($A527,$A529,E521)+$I522,Activités!$C$4:$I$534,5,0))","v":{"$error":"#N/A"}},{"$f":"IF(F521=0,\"\",VLOOKUP(DATE($A527,$A529,F521)+$I522,Activités!$C$4:$I$534,5,0))","v":{"$error":"#N/A"}},{"$f":"IF(G521=0,\"\",VLOOKUP(DATE($A527,$A529,G521)+$I522,Activités!$C$4:$I$534,5,0))","v":{"$error":"#N/A"}},{"$f":"IF(H521=0,\"\",VLOOKUP(DATE($A527,$A529,H521)+$I522,Activités!$C$4:$I$534,5,0))","v":{"$error":"#N/A"}},0.1,null,null,null,null,null,null,null,null,null,null,null,null,null,null,null,null,null,{"$f":"AA521","v":""},"","","","","",""]
[null,{"$f":"IF(ISNA(B522),\"\",B522)","v":""},{"$f":"IF(ISNA(C522),\"\",C522)","v":""},"","","","","",null,null,null,null,null,null,null,null,null,null,null,null,null,null,null,null,null,null,{"$f":"IF(LEFT(B523,7)=\"CDT-145\",\"CDT-145\",IF(LEFT(B523,7)=\"CDT-135\",\"CDT-135\",AA521))","v":""},"","","","","",""]
[null,{"$f":"IF(B521=0,\"\",VLOOKUP(DATE($A527,$A529,B521)+$I524,Activités!$C$4:$I$534,5,0))","v":{"$error":"#N/A"}},{"$f":"IF(C521=0,\"\",VLOOKUP(DATE($A527,$A529,C521)+$I524,Activités!$C$4:$I$534,5,0))","v":{"$error":"#N/A"}},{"$f":"IF(D521=0,\"\",VLOOKUP(DATE($A527,$A529,D521)+$I524,Activités!$C$4:$I$534,5,0))","v":{"$error":"#N/A"}},{"$f":"IF(E521=0,\"\",VLOOKUP(DATE($A527,$A529,E521)+$I524,Activités!$C$4:$I$534,5,0))","v":{"$error":"#N/A"}},{"$f":"IF(F521=0,\"\",VLOOKUP(DATE($A527,$A529,F521)+$I524,Activités!$C$4:$I$534,5,0))","v":{"$error":"#N/A"}},{"$f":"IF(G521=0,\"\",VLOOKUP(DATE($A527,$A529,G521)+$I524,Activités!$C$4:$I$534,5,0))","v":{"$error":"#N/A"}},{"$f":"IF(H521=0,\"\",VLOOKUP(DATE($A527,$A529,H521)+$I524,Activités!$C$4:$I$534,5,0))","v":{"$error":"#N/A"}},{"$f":"+I522+0.1","v":0.2},null,null,null,null,null,null,null,null,null,null,null,null,null,null,null,null,null,{"$f":"AA523","v":""},"","","","","",""]
[null,{"$f":"IF(ISNA(B524),\"\",B524)","v":""},"","","","","","",null,null,null,null,null,null,null,null,null,null,null,null,null,null,null,null,null,null,{"$f":"IF(LEFT(B525,7)=\"CDT-145\",\"CDT-145\",IF(LEFT(B525,7)=\"CDT-135\",\"CDT-135\",AA521))","v":""},"","","","","",""]
[null,{"$f":"IF(B521=0,\"\",VLOOKUP(DATE($A527,$A529,B521)+$I526,Activités!$C$4:$I$534,5,0))","v":{"$error":"#N/A"}},{"$f":"IF(C521=0,\"\",VLOOKUP(DATE($A527,$A529,C521)+$I526,Activités!$C$4:$I$534,5,0))","v":{"$error":"#N/A"}},{"$f":"IF(D521=0,\"\",VLOOKUP(DATE($A527,$A529,D521)+$I526,Activités!$C$4:$I$534,5,0))","v":{"$error":"#N/A"}},{"$f":"IF(E521=0,\"\",VLOOKUP(DATE($A527,$A529,E521)+$I526,Activités!$C$4:$I$534,5,0))","v":{"$error":"#N/A"}},{"$f":"IF(F521=0,\"\",VLOOKUP(DATE($A527,$A529,F521)+$I526,Activités!$C$4:$I$534,5,0))","v":{"$error":"#N/A"}},{"$f":"IF(G521=0,\"\",VLOOKUP(DATE($A527,$A529,G521)+$I526,Activités!$C$4:$I$534,5,0))","v":{"$error":"#N/A"}},{"$f":"IF(H521=0,\"\",VLOOKUP(DATE($A527,$A529,H521)+$I526,Activités!$C$4:$I$534,5,0))","v":{"$error":"#N/A"}},{"$f":"+I524+0.1","v":0.30000000000000004},null,null,null,null,null,null,null,null,null,null,null,null,null,null,null,null,null,{"$f":"AA525","v":""},"","","","","",""]
[{"$f":"A516","v":2018},{"$f":"IF(ISNA(B526),\"\",B526)","v":""},"","","","","","",null,null,null,null,null,null,null,null,null,null,null,null,null,null,null,null,null,null,{"$f":"IF(LEFT(B527,7)=\"CDT-145\",\"CDT-145\",IF(LEFT(B527,7)=\"CDT-135\",\"CDT-135\",AA521))","v":""},"","","","","",""]
[null,{"$f":"IF(B521=0,\"\",VLOOKUP(DATE($A527,$A529,B521)+$I528,Activités!$C$4:$I$534,5,0))","v":{"$error":"#N/A"}},{"$f":"IF(C521=0,\"\",VLOOKUP(DATE($A527,$A529,C521)+$I528,Activités!$C$4:$I$534,5,0))","v":{"$error":"#N/A"}},{"$f":"IF(D521=0,\"\",VLOOKUP(DATE($A527,$A529,D521)+$I528,Activités!$C$4:$I$534,5,0))","v":{"$error":"#N/A"}},{"$f":"IF(E521=0,\"\",VLOOKUP(DATE($A527,$A529,E521)+$I528,Activités!$C$4:$I$534,5,0))","v":{"$error":"#N/A"}},{"$f":"IF(F521=0,\"\",VLOOKUP(DATE($A527,$A529,F521)+$I528,Activités!$C$4:$I$534,5,0))","v":{"$error":"#N/A"}},{"$f":"IF(G521=0,\"\",VLOOKUP(DATE($A527,$A529,G521)+$I528,Activités!$C$4:$I$534,5,0))","v":{"$error":"#N/A"}},{"$f":"IF(H521=0,\"\",VLOOKUP(DATE($A527,$A529,H521)+$I528,Activités!$C$4:$I$534,5,0))","v":{"$error":"#N/A"}},{"$f":"+I526+0.1","v":0.4},null,null,null,null,null,null,null,null,null,null,null,null,null,null,null,null,null,{"$f":"AA527","v":""},"","","","","",""]
[{"$f":"A518","v":3},{"$f":"IF(ISNA(B528),\"\",B528)","v":""},"","","","","","",null,null,null,null,null,null,null,null,null,null,null,null,null,null,null,null,null,null,{"$f":"IF(LEFT(B529,7)=\"CDT-145\",\"CDT-145\",IF(LEFT(B529,7)=\"CDT-135\",\"CDT-135\",AA521))","v":""},"","","","","",""]
[null,{"$f":"IF(B521=0,\"\",VLOOKUP(DATE($A527,$A529,B521)+$I530,Activités!$C$4:$I$534,5,0))","v":{"$error":"#N/A"}},{"$f":"IF(C521=0,\"\",VLOOKUP(DATE($A527,$A529,C521)+$I530,Activités!$C$4:$I$534,5,0))","v":{"$error":"#N/A"}},{"$f":"IF(D521=0,\"\",VLOOKUP(DATE($A527,$A529,D521)+$I530,Activités!$C$4:$I$534,5,0))","v":{"$error":"#N/A"}},{"$f":"IF(E521=0,\"\",VLOOKUP(DATE($A527,$A529,E521)+$I530,Activités!$C$4:$I$534,5,0))","v":{"$error":"#N/A"}},{"$f":"IF(F521=0,\"\",VLOOKUP(DATE($A527,$A529,F521)+$I530,Activités!$C$4:$I$534,5,0))","v":{"$error":"#N/A"}},{"$f":"IF(G521=0,\"\",VLOOKUP(DATE($A527,$A529,G521)+$I530,Activités!$C$4:$I$534,5,0))","v":{"$error":"#N/A"}},{"$f":"IF(H521=0,\"\",VLOOKUP(DATE($A527,$A529,H521)+$I530,Activités!$C$4:$I$534,5,0))","v":{"$error":"#N/A"}},{"$f":"+I528+0.1","v":0.5},null,null,null,null,null,null,null,null,null,null,null,null,null,null,null,null,null,{"$f":"AA529","v":""},"","","","","",""]
[{"$f":"A520","v":31},{"$f":"IF(ISNA(B530),\"\",B530)","v":""},"","","","","","",null,null,null,null,null,null,null,null,null,null,null,null,null,null,null,null,null,null,{"$f":"IF(LEFT(B531,7)=\"CDT-145\",\"CDT-145\",IF(LEFT(B531,7)=\"CDT-135\",\"CDT-135\",AA521))","v":""},"","","","","",""]
[{"$f":"H521","v":24},{"$f":"IF(OR(A532=$A542,A532=0),0,A532+1)","v":25},26,27,28,29,30,31,null,null,null,null,null,null,null,null,null,null,null,null,null,null,null,null,null,null,{"$f":"IF(AND($B532=0,$H532=0),\"Invisible\",\"\")","v":""},{"$f":"IF(AND($B532=0,$H532=0),\"Invisible\",\"\")","v":""},"","","","",""]
[null,{"$f":"IF(B532=0,\"\",VLOOKUP(DATE($A538,$A540,B532)+$I533,Activités!$C$4:$I$534,5,0))","v":{"$error":"#N/A"}},{"$f":"IF(C532=0,\"\",VLOOKUP(DATE($A538,$A540,C532)+$I533,Activités!$C$4:$I$534,5,0))","v":{"$error":"#N/A"}},{"$f":"IF(D532=0,\"\",VLOOKUP(DATE($A538,$A540,D532)+$I533,Activités!$C$4:$I$534,5,0))","v":{"$error":"#N/A"}},{"$f":"IF(E532=0,\"\",VLOOKUP(DATE($A538,$A540,E532)+$I533,Activités!$C$4:$I$534,5,0))","v":{"$error":"#N/A"}},{"$f":"IF(F532=0,\"\",VLOOKUP(DATE($A538,$A540,F532)+$I533,Activités!$C$4:$I$534,5,0))","v":"CDT-145 - "},{"$f":"IF(G532=0,\"\",VLOOKUP(DATE($A538,$A540,G532)+$I533,Activités!$C$4:$I$534,5,0))","v":"CDT-145 - "},{"$f":"IF(H532=0,\"\",VLOOKUP(DATE($A538,$A540,H532)+$I533,Activités!$C$4:$I$534,5,0))","v":{"$error":"#N/A"}},0.1,null,null,null,null,null,null,null,null,null,null,null,null,null,null,null,null,null,{"$f":"AA532","v":""},"","","","","",""]
[null,{"$f":"IF(ISNA(B533),\"\",B533)","v":""},{"$f":"IF(ISNA(C533),\"\",C533)","v":""},"","","CDT-145 - ","CDT-145 - ","",null,null,null,null,null,null,null,null,null,null,null,null,null,null,null,null,null,null,{"$f":"IF(LEFT(B534,7)=\"CDT-145\",\"CDT-145\",IF(LEFT(B534,7)=\"CDT-135\",\"CDT-135\",AA532))","v":""},"","","","CDT-145","CDT-145",""]
[null,{"$f":"IF(B532=0,\"\",VLOOKUP(DATE($A538,$A540,B532)+$I535,Activités!$C$4:$I$534,5,0))","v":{"$error":"#N/A"}},{"$f":"IF(C532=0,\"\",VLOOKUP(DATE($A538,$A540,C532)+$I535,Activités!$C$4:$I$534,5,0))","v":{"$error":"#N/A"}},{"$f":"IF(D532=0,\"\",VLOOKUP(DATE($A538,$A540,D532)+$I535,Activités!$C$4:$I$534,5,0))","v":{"$error":"#N/A"}},{"$f":"IF(E532=0,\"\",VLOOKUP(DATE($A538,$A540,E532)+$I535,Activités!$C$4:$I$534,5,0))","v":{"$error":"#N/A"}},{"$f":"IF(F532=0,\"\",VLOOKUP(DATE($A538,$A540,F532)+$I535,Activités!$C$4:$I$534,5,0))","v":"Créer activité Forteresse"},{"$f":"IF(G532=0,\"\",VLOOKUP(DATE($A538,$A540,G532)+$I535,Activités!$C$4:$I$534,5,0))","v":"Créer activité Forteresse"},{"$f":"IF(H532=0,\"\",VLOOKUP(DATE($A538,$A540,H532)+$I535,Activités!$C$4:$I$534,5,0))","v":{"$error":"#N/A"}},{"$f":"+I533+0.1","v":0.2},null,null,null,null,null,null,null,null,null,null,null,null,null,null,null,null,null,{"$f":"AA534","v":""},"","","","CDT-145","CDT-145",""]
[null,{"$f":"IF(ISNA(B535),\"\",B535)","v":""},"","","","Créer activité Forteresse","Créer activité Forteresse","",null,null,null,null,null,null,null,null,null,null,null,null,null,null,null,null,null,null,{"$f":"IF(LEFT(B536,7)=\"CDT-145\",\"CDT-145\",IF(LEFT(B536,7)=\"CDT-135\",\"CDT-135\",AA532))","v":""},"","","","","",""]
[null,{"$f":"IF(B532=0,\"\",VLOOKUP(DATE($A538,$A540,B532)+$I537,Activités!$C$4:$I$534,5,0))","v":{"$error":"#N/A"}},{"$f":"IF(C532=0,\"\",VLOOKUP(DATE($A538,$A540,C532)+$I537,Activités!$C$4:$I$534,5,0))","v":{"$error":"#N/A"}},{"$f":"IF(D532=0,\"\",VLOOKUP(DATE($A538,$A540,D532)+$I537,Activités!$C$4:$I$534,5,0))","v":{"$error":"#N/A"}},{"$f":"IF(E532=0,\"\",VLOOKUP(DATE($A538,$A540,E532)+$I537,Activités!$C$4:$I$534,5,0))","v":{"$error":"#N/A"}},{"$f":"IF(F532=0,\"\",VLOOKUP(DATE($A538,$A540,F532)+$I537,Activités!$C$4:$I$534,5,0))","v":{"$error":"#N/A"}},{"$f":"IF(G532=0,\"\",VLOOKUP(DATE($A538,$A540,G532)+$I537,Activités!$C$4:$I$534,5,0))","v":{"$error":"#N/A"}},{"$f":"IF(H532=0,\"\",VLOOKUP(DATE($A538,$A540,H532)+$I537,Activités!$C$4:$I$534,5,0))","v":{"$error":"#N/A"}},{"$f":"+I535+0.1","v":0.30000000000000004},null,null,null,null,null,null,null,null,null,null,null,null,null,null,null,null,null,{"$f":"AA536","v":""},"","","","","",""]
[{"$f":"A527","v":2018},{"$f":"IF(ISNA(B537),\"\",B537)","v":""},"","","","","","",null,null,null,null,null,null,null,null,null,null,null,null,null,null,null,null,null,null,{"$f":"IF(LEFT(B538,7)=\"CDT-145\",\"CDT-145\",IF(LEFT(B538,7)=\"CDT-135\",\"CDT-135\",AA532))","v":""},"","","","","",""]
[null,{"$f":"IF(B532=0,\"\",VLOOKUP(DATE($A538,$A540,B532)+$I539,Activités!$C$4:$I$534,5,0))","v":{"$error":"#N/A"}},{"$f":"IF(C532=0,\"\",VLOOKUP(DATE($A538,$A540,C532)+$I539,Activités!$C$4:$I$534,5,0))","v":{"$error":"#N/A"}},{"$f":"IF(D532=0,\"\",VLOOKUP(DATE($A538,$A540,D532)+$I539,Activités!$C$4:$I$534,5,0))","v":{"$error":"#N/A"}},{"$f":"IF(E532=0,\"\",VLOOKUP(DATE($A538,$A540,E532)+$I539,Activités!$C$4:$I$534,5,0))","v":{"$error":"#N/A"}},{"$f":"IF(F532=0,\"\",VLOOKUP(DATE($A538,$A540,F532)+$I539,Activités!$C$4:$I$534,5,0))","v":{"$error":"#N/A"}},{"$f":"IF(G532=0,\"\",VLOOKUP(DATE($A538,$A540,G532)+$I539,Activités!$C$4:$I$534,5,0))","v":{"$error":"#N/A"}},{"$f":"IF(H532=0,\"\",VLOOKUP(DATE($A538,$A540,H532)+$I539,Activités!$C$4:$I$534,5,0))","v":{"$error":"#N/A"}},{"$f":"+I537+0.1","v":0.4},null,null,null,null,null,null,null,null,null,null,null,null,null,null,null,null,null,{"$f":"AA538","v":""},"","","","","",""]
[{"$f":"A529","v":3},{"$f":"IF(ISNA(B539),\"\",B539)","v":""},"","","","","","",null,null,null,null,null,null,null,null,null,null,null,null,null,null,null,null,null,null,{"$f":"IF(LEFT(B540,7)=\"CDT-145\",\"CDT-145\",IF(LEFT(B540,7)=\"CDT-135\",\"CDT-135\",AA532))","v":""},"","","","","",""]
[null,{"$f":"IF(B532=0,\"\",VLOOKUP(DATE($A538,$A540,B532)+$I541,Activités!$C$4:$I$534,5,0))","v":{"$error":"#N/A"}},{"$f":"IF(C532=0,\"\",VLOOKUP(DATE($A538,$A540,C532)+$I541,Activités!$C$4:$I$534,5,0))","v":{"$error":"#N/A"}},{"$f":"IF(D532=0,\"\",VLOOKUP(DATE($A538,$A540,D532)+$I541,Activités!$C$4:$I$534,5,0))","v":{"$error":"#N/A"}},{"$f":"IF(E532=0,\"\",VLOOKUP(DATE($A538,$A540,E532)+$I541,Activités!$C$4:$I$534,5,0))","v":{"$error":"#N/A"}},{"$f":"IF(F532=0,\"\",VLOOKUP(DATE($A538,$A540,F532)+$I541,Activités!$C$4:$I$534,5,0))","v":{"$error":"#N/A"}},{"$f":"IF(G532=0,\"\",VLOOKUP(DATE($A538,$A540,G532)+$I541,Activités!$C$4:$I$534,5,0))","v":{"$error":"#N/A"}},{"$f":"IF(H532=0,\"\",VLOOKUP(DATE($A538,$A540,H532)+$I541,Activités!$C$4:$I$534,5,0))","v":{"$error":"#N/A"}},{"$f":"+I539+0.1","v":0.5},null,null,null,null,null,null,null,null,null,null,null,null,null,null,null,null,null,{"$f":"AA540","v":""},"","","","","",""]
[{"$f":"A531","v":31},{"$f":"IF(ISNA(B541),\"\",B541)","v":""},"","","","","","",null,null,null,null,null,null,null,null,null,null,null,null,null,null,null,null,null,null,{"$f":"IF(LEFT(B542,7)=\"CDT-145\",\"CDT-145\",IF(LEFT(B542,7)=\"CDT-135\",\"CDT-135\",AA532))","v":""},"","","","","",""]
[{"$f":"H532","v":31},{"$f":"IF(OR(A543=$A553,A543=0),0,A543+1)","v":0},0,0,0,0,0,0,null,null,null,null,null,null,null,null,null,null,null,null,null,null,null,null,null,null,{"$f":"IF(AND($B543=0,$H543=0),\"Invisible\",\"\")","v":"Invisible"},{"$f":"IF(AND($B543=0,$H543=0),\"Invisible\",\"\")","v":"Invisible"},"Invisible","Invisible","Invisible","Invisible","Invisible"]
[null,{"$f":"IF(B543=0,\"\",VLOOKUP(DATE($A549,$A551,B543)+$I544,Activités!$C$4:$I$534,5,0))","v":""},{"$f":"IF(C543=0,\"\",VLOOKUP(DATE($A549,$A551,C543)+$I544,Activités!$C$4:$I$534,5,0))","v":""},{"$f":"IF(D543=0,\"\",VLOOKUP(DATE($A549,$A551,D543)+$I544,Activités!$C$4:$I$534,5,0))","v":""},{"$f":"IF(E543=0,\"\",VLOOKUP(DATE($A549,$A551,E543)+$I544,Activités!$C$4:$I$534,5,0))","v":""},{"$f":"IF(F543=0,\"\",VLOOKUP(DATE($A549,$A551,F543)+$I544,Activités!$C$4:$I$534,5,0))","v":""},{"$f":"IF(G543=0,\"\",VLOOKUP(DATE($A549,$A551,G543)+$I544,Activités!$C$4:$I$534,5,0))","v":""},{"$f":"IF(H543=0,\"\",VLOOKUP(DATE($A549,$A551,H543)+$I544,Activités!$C$4:$I$534,5,0))","v":""},0.1,null,null,null,null,null,null,null,null,null,null,null,null,null,null,null,null,null,{"$f":"AA543","v":"Invisible"},"Invisible","Invisible","Invisible","Invisible","Invisible","Invisible"]
[null,{"$f":"IF(ISNA(B544),\"\",B544)","v":""},{"$f":"IF(ISNA(C544),\"\",C544)","v":""},"","","","","",null,null,null,null,null,null,null,null,null,null,null,null,null,null,null,null,null,null,{"$f":"IF(LEFT(B545,7)=\"CDT-145\",\"CDT-145\",IF(LEFT(B545,7)=\"CDT-135\",\"CDT-135\",AA543))","v":"Invisible"},"Invisible","Invisible","Invisible","Invisible","Invisible","Invisible"]
[null,{"$f":"IF(B543=0,\"\",VLOOKUP(DATE($A549,$A551,B543)+$I546,Activités!$C$4:$I$534,5,0))","v":""},{"$f":"IF(C543=0,\"\",VLOOKUP(DATE($A549,$A551,C543)+$I546,Activités!$C$4:$I$534,5,0))","v":""},{"$f":"IF(D543=0,\"\",VLOOKUP(DATE($A549,$A551,D543)+$I546,Activités!$C$4:$I$534,5,0))","v":""},{"$f":"IF(E543=0,\"\",VLOOKUP(DATE($A549,$A551,E543)+$I546,Activités!$C$4:$I$534,5,0))","v":""},{"$f":"IF(F543=0,\"\",VLOOKUP(DATE($A549,$A551,F543)+$I546,Activités!$C$4:$I$534,5,0))","v":""},{"$f":"IF(G543=0,\"\",VLOOKUP(DATE($A549,$A551,G543)+$I546,Activités!$C$4:$I$534,5,0))","v":""},{"$f":"IF(H543=0,\"\",VLOOKUP(DATE($A549,$A551,H543)+$I546,Activités!$C$4:$I$534,5,0))","v":""},{"$f":"+I544+0.1","v":0.2},null,null,null,null,null,null,null,null,null,null,null,null,null,null,null,null,null,{"$f":"AA545","v":"Invisible"},"Invisible","Invisible","Invisible","Invisible","Invisible","Invisible"]
[null,{"$f":"IF(ISNA(B546),\"\",B546)","v":""},"","","","","","",null,null,null,null,null,null,null,null,null,null,null,null,null,null,null,null,null,null,{"$f":"IF(LEFT(B547,7)=\"CDT-145\",\"CDT-145\",IF(LEFT(B547,7)=\"CDT-135\",\"CDT-135\",AA543))","v":"Invisible"},"Invisible","Invisible","Invisible","Invisible","Invisible","Invisible"]
[null,{"$f":"IF(B543=0,\"\",VLOOKUP(DATE($A549,$A551,B543)+$I548,Activités!$C$4:$I$534,5,0))","v":""},{"$f":"IF(C543=0,\"\",VLOOKUP(DATE($A549,$A551,C543)+$I548,Activités!$C$4:$I$534,5,0))","v":""},{"$f":"IF(D543=0,\"\",VLOOKUP(DATE($A549,$A551,D543)+$I548,Activités!$C$4:$I$534,5,0))","v":""},{"$f":"IF(E543=0,\"\",VLOOKUP(DATE($A549,$A551,E543)+$I548,Activités!$C$4:$I$534,5,0))","v":""},{"$f":"IF(F543=0,\"\",VLOOKUP(DATE($A549,$A551,F543)+$I548,Activités!$C$4:$I$534,5,0))","v":""},{"$f":"IF(G543=0,\"\",VLOOKUP(DATE($A549,$A551,G543)+$I548,Activités!$C$4:$I$534,5,0))","v":""},{"$f":"IF(H543=0,\"\",VLOOKUP(DATE($A549,$A551,H543)+$I548,Activités!$C$4:$I$534,5,0))","v":""},{"$f":"+I546+0.1","v":0.30000000000000004},null,null,null,null,null,null,null,null,null,null,null,null,null,null,null,null,null,{"$f":"AA547","v":"Invisible"},"Invisible","Invisible","Invisible","Invisible","Invisible","Invisible"]
[{"$f":"A538","v":2018},{"$f":"IF(ISNA(B548),\"\",B548)","v":""},"","","","","","",null,null,null,null,null,null,null,null,null,null,null,null,null,null,null,null,null,null,{"$f":"IF(LEFT(B549,7)=\"CDT-145\",\"CDT-145\",IF(LEFT(B549,7)=\"CDT-135\",\"CDT-135\",AA543))","v":"Invisible"},"Invisible","Invisible","Invisible","Invisible","Invisible","Invisible"]
[null,{"$f":"IF(B543=0,\"\",VLOOKUP(DATE($A549,$A551,B543)+$I550,Activités!$C$4:$I$534,5,0))","v":""},{"$f":"IF(C543=0,\"\",VLOOKUP(DATE($A549,$A551,C543)+$I550,Activités!$C$4:$I$534,5,0))","v":""},{"$f":"IF(D543=0,\"\",VLOOKUP(DATE($A549,$A551,D543)+$I550,Activités!$C$4:$I$534,5,0))","v":""},{"$f":"IF(E543=0,\"\",VLOOKUP(DATE($A549,$A551,E543)+$I550,Activités!$C$4:$I$534,5,0))","v":""},{"$f":"IF(F543=0,\"\",VLOOKUP(DATE($A549,$A551,F543)+$I550,Activités!$C$4:$I$534,5,0))","v":""},{"$f":"IF(G543=0,\"\",VLOOKUP(DATE($A549,$A551,G543)+$I550,Activités!$C$4:$I$534,5,0))","v":""},{"$f":"IF(H543=0,\"\",VLOOKUP(DATE($A549,$A551,H543)+$I550,Activités!$C$4:$I$534,5,0))","v":""},{"$f":"+I548+0.1","v":0.4},null,null,null,null,null,null,null,null,null,null,null,null,null,null,null,null,null,{"$f":"AA549","v":"Invisible"},"Invisible","Invisible","Invisible","Invisible","Invisible","Invisible"]
[{"$f":"A540","v":3},{"$f":"IF(ISNA(B550),\"\",B550)","v":""},"","","","","","",null,null,null,null,null,null,null,null,null,null,null,null,null,null,null,null,null,null,{"$f":"IF(LEFT(B551,7)=\"CDT-145\",\"CDT-145\",IF(LEFT(B551,7)=\"CDT-135\",\"CDT-135\",AA543))","v":"Invisible"},"Invisible","Invisible","Invisible","Invisible","Invisible","Invisible"]
[null,{"$f":"IF(B543=0,\"\",VLOOKUP(DATE($A549,$A551,B543)+$I552,Activités!$C$4:$I$534,5,0))","v":""},{"$f":"IF(C543=0,\"\",VLOOKUP(DATE($A549,$A551,C543)+$I552,Activités!$C$4:$I$534,5,0))","v":""},{"$f":"IF(D543=0,\"\",VLOOKUP(DATE($A549,$A551,D543)+$I552,Activités!$C$4:$I$534,5,0))","v":""},{"$f":"IF(E543=0,\"\",VLOOKUP(DATE($A549,$A551,E543)+$I552,Activités!$C$4:$I$534,5,0))","v":""},{"$f":"IF(F543=0,\"\",VLOOKUP(DATE($A549,$A551,F543)+$I552,Activités!$C$4:$I$534,5,0))","v":""},{"$f":"IF(G543=0,\"\",VLOOKUP(DATE($A549,$A551,G543)+$I552,Activités!$C$4:$I$534,5,0))","v":""},{"$f":"IF(H543=0,\"\",VLOOKUP(DATE($A549,$A551,H543)+$I552,Activités!$C$4:$I$534,5,0))","v":""},{"$f":"+I550+0.1","v":0.5},null,null,null,null,null,null,null,null,null,null,null,null,null,null,null,null,null,{"$f":"AA551","v":"Invisible"},"Invisible","Invisible","Invisible","Invisible","Invisible","Invisible"]
[{"$f":"A542","v":31},{"$f":"IF(ISNA(B552),\"\",B552)","v":""},"","","","","","",null,null,null,null,null,null,null,null,null,null,null,null,null,null,null,null,null,null,{"$f":"IF(LEFT(B553,7)=\"CDT-145\",\"CDT-145\",IF(LEFT(B553,7)=\"CDT-135\",\"CDT-135\",AA543))","v":"Invisible"},"Invisible","Invisible","Invisible","Invisible","Invisible","Invisible"]
[]
[null,{"$f":"VLOOKUP(111,Traduction!$B$6:$D$250,'Info de l''escadron'!$A$1+1,0)","v":"AVRIL"},null,null,null,null,null,{"$f":"H486","v":2018}]
[null,{"$f":"B$4","v":"Dimanche"},{"$f":"C$4","v":"Lundi"},"Mardi","Mercredi","Jeudi","Vendredi","Samedi"]
[null,{"$f":"IF(WEEKDAY(DATE($H555,$A565,1),1)=B$2,1,IF(A557=0,0,A557+1))","v":1},2,3,4,5,6,7,null,null,null,null,null,null,null,null,null,null,null,null,null,null,null,null,null,null,{"$f":"IF(AND($B557=0,$H557=0),\"Invisible\",\"\")","v":""},{"$f":"IF(AND($B557=0,$H557=0),\"Invisible\",\"\")","v":""},"","","","",""]
[null,{"$f":"IF(B557=0,\"\",VLOOKUP(DATE($A563,$A565,B557)+$I558,Activités!$C$4:$I$534,5,0))","v":{"$error":"#N/A"}},{"$f":"IF(C557=0,\"\",VLOOKUP(DATE($A563,$A565,C557)+$I558,Activités!$C$4:$I$534,5,0))","v":{"$error":"#N/A"}},{"$f":"IF(D557=0,\"\",VLOOKUP(DATE($A563,$A565,D557)+$I558,Activités!$C$4:$I$534,5,0))","v":{"$error":"#N/A"}},{"$f":"IF(E557=0,\"\",VLOOKUP(DATE($A563,$A565,E557)+$I558,Activités!$C$4:$I$534,5,0))","v":{"$error":"#N/A"}},{"$f":"IF(F557=0,\"\",VLOOKUP(DATE($A563,$A565,F557)+$I558,Activités!$C$4:$I$534,5,0))","v":{"$error":"#N/A"}},{"$f":"IF(G557=0,\"\",VLOOKUP(DATE($A563,$A565,G557)+$I558,Activités!$C$4:$I$534,5,0))","v":{"$error":"#N/A"}},{"$f":"IF(H557=0,\"\",VLOOKUP(DATE($A563,$A565,H557)+$I558,Activités!$C$4:$I$534,5,0))","v":{"$error":"#N/A"}},0.1,null,null,null,null,null,null,null,null,null,null,null,null,null,null,null,null,null,{"$f":"AA557","v":""},"","","","","",""]
[null,{"$f":"IF(ISNA(B558),\"\",B558)","v":""},{"$f":"IF(ISNA(C558),\"\",C558)","v":""},"","","","","",null,null,null,null,null,null,null,null,null,null,null,null,null,null,null,null,null,null,{"$f":"IF(LEFT(B559,7)=\"CDT-145\",\"CDT-145\",IF(LEFT(B559,7)=\"CDT-135\",\"CDT-135\",AA557))","v":""},"","","","","",""]
[null,{"$f":"IF(B557=0,\"\",VLOOKUP(DATE($A563,$A565,B557)+$I560,Activités!$C$4:$I$534,5,0))","v":{"$error":"#N/A"}},{"$f":"IF(C557=0,\"\",VLOOKUP(DATE($A563,$A565,C557)+$I560,Activités!$C$4:$I$534,5,0))","v":{"$error":"#N/A"}},{"$f":"IF(D557=0,\"\",VLOOKUP(DATE($A563,$A565,D557)+$I560,Activités!$C$4:$I$534,5,0))","v":{"$error":"#N/A"}},{"$f":"IF(E557=0,\"\",VLOOKUP(DATE($A563,$A565,E557)+$I560,Activités!$C$4:$I$534,5,0))","v":{"$error":"#N/A"}},{"$f":"IF(F557=0,\"\",VLOOKUP(DATE($A563,$A565,F557)+$I560,Activités!$C$4:$I$534,5,0))","v":{"$error":"#N/A"}},{"$f":"IF(G557=0,\"\",VLOOKUP(DATE($A563,$A565,G557)+$I560,Activités!$C$4:$I$534,5,0))","v":{"$error":"#N/A"}},{"$f":"IF(H557=0,\"\",VLOOKUP(DATE($A563,$A565,H557)+$I560,Activités!$C$4:$I$534,5,0))","v":{"$error":"#N/A"}},{"$f":"+I558+0.1","v":0.2},null,null,null,null,null,null,null,null,null,null,null,null,null,null,null,null,null,{"$f":"AA559","v":""},"","","","","",""]
[null,{"$f":"IF(ISNA(B560),\"\",B560)","v":""},"","","","","","",null,null,null,null,null,null,null,null,null,null,null,null,null,null,null,null,null,null,{"$f":"IF(LEFT(B561,7)=\"CDT-145\",\"CDT-145\",IF(LEFT(B561,7)=\"CDT-135\",\"CDT-135\",AA557))","v":""},"","","","","",""]
[null,{"$f":"IF(B557=0,\"\",VLOOKUP(DATE($A563,$A565,B557)+$I562,Activités!$C$4:$I$534,5,0))","v":{"$error":"#N/A"}},{"$f":"IF(C557=0,\"\",VLOOKUP(DATE($A563,$A565,C557)+$I562,Activités!$C$4:$I$534,5,0))","v":{"$error":"#N/A"}},{"$f":"IF(D557=0,\"\",VLOOKUP(DATE($A563,$A565,D557)+$I562,Activités!$C$4:$I$534,5,0))","v":{"$error":"#N/A"}},{"$f":"IF(E557=0,\"\",VLOOKUP(DATE($A563,$A565,E557)+$I562,Activités!$C$4:$I$534,5,0))","v":{"$error":"#N/A"}},{"$f":"IF(F557=0,\"\",VLOOKUP(DATE($A563,$A565,F557)+$I562,Activités!$C$4:$I$534,5,0))","v":{"$error":"#N/A"}},{"$f":"IF(G557=0,\"\",VLOOKUP(DATE($A563,$A565,G557)+$I562,Activités!$C$4:$I$534,5,0))","v":{"$error":"#N/A"}},{"$f":"IF(H557=0,\"\",VLOOKUP(DATE($A563,$A565,H557)+$I562,Activités!$C$4:$I$534,5,0))","v":{"$error":"#N/A"}},{"$f":"+I560+0.1","v":0.30000000000000004},null,null,null,null,null,null,null,null,null,null,null,null,null,null,null,null,null,{"$f":"AA561","v":""},"","","","","",""]
[{"$f":"H555","v":2018},{"$f":"IF(ISNA(B562),\"\",B562)","v":""},"","","","","","",null,null,null,null,null,null,null,null,null,null,null,null,null,null,null,null,null,null,{"$f":"IF(LEFT(B563,7)=\"CDT-145\",\"CDT-145\",IF(LEFT(B563,7)=\"CDT-135\",\"CDT-135\",AA557))","v":""},"","","","","",""]
[null,{"$f":"IF(B557=0,\"\",VLOOKUP(DATE($A563,$A565,B557)+$I564,Activités!$C$4:$I$534,5,0))","v":{"$error":"#N/A"}},{"$f":"IF(C557=0,\"\",VLOOKUP(DATE($A563,$A565,C557)+$I564,Activités!$C$4:$I$534,5,0))","v":{"$error":"#N/A"}},{"$f":"IF(D557=0,\"\",VLOOKUP(DATE($A563,$A565,D557)+$I564,Activités!$C$4:$I$534,5,0))","v":{"$error":"#N/A"}},{"$f":"IF(E557=0,\"\",VLOOKUP(DATE($A563,$A565,E557)+$I564,Activités!$C$4:$I$534,5,0))","v":{"$error":"#N/A"}},{"$f":"IF(F557=0,\"\",VLOOKUP(DATE($A563,$A565,F557)+$I564,Activités!$C$4:$I$534,5,0))","v":{"$error":"#N/A"}},{"$f":"IF(G557=0,\"\",VLOOKUP(DATE($A563,$A565,G557)+$I564,Activités!$C$4:$I$534,5,0))","v":{"$error":"#N/A"}},{"$f":"IF(H557=0,\"\",VLOOKUP(DATE($A563,$A565,H557)+$I564,Activités!$C$4:$I$534,5,0))","v":{"$error":"#N/A"}},{"$f":"+I562+0.1","v":0.4},null,null,null,null,null,null,null,null,null,null,null,null,null,null,null,null,null,{"$f":"AA563","v":""},"","","","","",""]
[4,{"$f":"IF(ISNA(B564),\"\",B564)","v":""},"","","","","","",null,null,null,null,null,null,null,null,null,null,null,null,null,null,null,null,null,null,{"$f":"IF(LEFT(B565,7)=\"CDT-145\",\"CDT-145\",IF(LEFT(B565,7)=\"CDT-135\",\"CDT-135\",AA557))","v":""},"","","","","",""]
[null,{"$f":"IF(B557=0,\"\",VLOOKUP(DATE($A563,$A565,B557)+$I566,Activités!$C$4:$I$534,5,0))","v":{"$error":"#N/A"}},{"$f":"IF(C557=0,\"\",VLOOKUP(DATE($A563,$A565,C557)+$I566,Activités!$C$4:$I$534,5,0))","v":{"$error":"#N/A"}},{"$f":"IF(D557=0,\"\",VLOOKUP(DATE($A563,$A565,D557)+$I566,Activités!$C$4:$I$534,5,0))","v":{"$error":"#N/A"}},{"$f":"IF(E557=0,\"\",VLOOKUP(DATE($A563,$A565,E557)+$I566,Activités!$C$4:$I$534,5,0))","v":{"$error":"#N/A"}},{"$f":"IF(F557=0,\"\",VLOOKUP(DATE($A563,$A565,F557)+$I566,Activités!$C$4:$I$534,5,0))","v":{"$error":"#N/A"}},{"$f":"IF(G557=0,\"\",VLOOKUP(DATE($A563,$A565,G557)+$I566,Activités!$C$4:$I$534,5,0))","v":{"$error":"#N/A"}},{"$f":"IF(H557=0,\"\",VLOOKUP(DATE($A563,$A565,H557)+$I566,Activités!$C$4:$I$534,5,0))","v":{"$error":"#N/A"}},{"$f":"+I564+0.1","v":0.5},null,null,null,null,null,null,null,null,null,null,null,null,null,null,null,null,null,{"$f":"AA565","v":""},"","","","","",""]
[30,{"$f":"IF(ISNA(B566),\"\",B566)","v":""},"","","","","","",null,null,null,null,null,null,null,null,null,null,null,null,null,null,null,null,null,null,{"$f":"IF(LEFT(B567,7)=\"CDT-145\",\"CDT-145\",IF(LEFT(B567,7)=\"CDT-135\",\"CDT-135\",AA557))","v":""},"","","","","",""]
[{"$f":"H557","v":7},{"$f":"IF(OR(A568=$A578,A568=0),0,A568+1)","v":8},9,10,11,12,13,14,null,null,null,null,null,null,null,null,null,null,null,null,null,null,null,null,null,null,{"$f":"IF(AND($B568=0,$H568=0),\"Invisible\",\"\")","v":""},{"$f":"IF(AND($B568=0,$H568=0),\"Invisible\",\"\")","v":""},"","","","",""]
[null,{"$f":"IF(B568=0,\"\",VLOOKUP(DATE($A574,$A576,B568)+$I569,Activités!$C$4:$I$534,5,0))","v":{"$error":"#N/A"}},{"$f":"IF(C568=0,\"\",VLOOKUP(DATE($A574,$A576,C568)+$I569,Activités!$C$4:$I$534,5,0))","v":{"$error":"#N/A"}},{"$f":"IF(D568=0,\"\",VLOOKUP(DATE($A574,$A576,D568)+$I569,Activités!$C$4:$I$534,5,0))","v":{"$error":"#N/A"}},{"$f":"IF(E568=0,\"\",VLOOKUP(DATE($A574,$A576,E568)+$I569,Activités!$C$4:$I$534,5,0))","v":{"$error":"#N/A"}},{"$f":"IF(F568=0,\"\",VLOOKUP(DATE($A574,$A576,F568)+$I569,Activités!$C$4:$I$534,5,0))","v":{"$error":"#N/A"}},{"$f":"IF(G568=0,\"\",VLOOKUP(DATE($A574,$A576,G568)+$I569,Activités!$C$4:$I$534,5,0))","v":{"$error":"#N/A"}},{"$f":"IF(H568=0,\"\",VLOOKUP(DATE($A574,$A576,H568)+$I569,Activités!$C$4:$I$534,5,0))","v":{"$error":"#N/A"}},0.1,null,null,null,null,null,null,null,null,null,null,null,null,null,null,null,null,null,{"$f":"AA568","v":""},"","","","","",""]
[null,{"$f":"IF(ISNA(B569),\"\",B569)","v":""},{"$f":"IF(ISNA(C569),\"\",C569)","v":""},"","","","","",null,null,null,null,null,null,null,null,null,null,null,null,null,null,null,null,null,null,{"$f":"IF(LEFT(B570,7)=\"CDT-145\",\"CDT-145\",IF(LEFT(B570,7)=\"CDT-135\",\"CDT-135\",AA568))","v":""},"","","","","",""]
[null,{"$f":"IF(B568=0,\"\",VLOOKUP(DATE($A574,$A576,B568)+$I571,Activités!$C$4:$I$534,5,0))","v":{"$error":"#N/A"}},{"$f":"IF(C568=0,\"\",VLOOKUP(DATE($A574,$A576,C568)+$I571,Activités!$C$4:$I$534,5,0))","v":{"$error":"#N/A"}},{"$f":"IF(D568=0,\"\",VLOOKUP(DATE($A574,$A576,D568)+$I571,Activités!$C$4:$I$534,5,0))","v":{"$error":"#N/A"}},{"$f":"IF(E568=0,\"\",VLOOKUP(DATE($A574,$A576,E568)+$I571,Activités!$C$4:$I$534,5,0))","v":{"$error":"#N/A"}},{"$f":"IF(F568=0,\"\",VLOOKUP(DATE($A574,$A576,F568)+$I571,Activités!$C$4:$I$534,5,0))","v":{"$error":"#N/A"}},{"$f":"IF(G568=0,\"\",VLOOKUP(DATE($A574,$A576,G568)+$I571,Activités!$C$4:$I$534,5,0))","v":{"$error":"#N/A"}},{"$f":"IF(H568=0,\"\",VLOOKUP(DATE($A574,$A576,H568)+$I571,Activités!$C$4:$I$534,5,0))","v":{"$error":"#N/A"}},{"$f":"+I569+0.1","v":0.2},null,null,null,null,null,null,null,null,null,null,null,null,null,null,null,null,null,{"$f":"AA570","v":""},"","","","","",""]
[null,{"$f":"IF(ISNA(B571),\"\",B571)","v":""},"","","","","","",null,null,null,null,null,null,null,null,null,null,null,null,null,null,null,null,null,null,{"$f":"IF(LEFT(B572,7)=\"CDT-145\",\"CDT-145\",IF(LEFT(B572,7)=\"CDT-135\",\"CDT-135\",AA568))","v":""},"","","","","",""]
[null,{"$f":"IF(B568=0,\"\",VLOOKUP(DATE($A574,$A576,B568)+$I573,Activités!$C$4:$I$534,5,0))","v":{"$error":"#N/A"}},{"$f":"IF(C568=0,\"\",VLOOKUP(DATE($A574,$A576,C568)+$I573,Activités!$C$4:$I$534,5,0))","v":{"$error":"#N/A"}},{"$f":"IF(D568=0,\"\",VLOOKUP(DATE($A574,$A576,D568)+$I573,Activités!$C$4:$I$534,5,0))","v":{"$error":"#N/A"}},{"$f":"IF(E568=0,\"\",VLOOKUP(DATE($A574,$A576,E568)+$I573,Activités!$C$4:$I$534,5,0))","v":{"$error":"#N/A"}},{"$f":"IF(F568=0,\"\",VLOOKUP(DATE($A574,$A576,F568)+$I573,Activités!$C$4:$I$534,5,0))","v":{"$error":"#N/A"}},{"$f":"IF(G568=0,\"\",VLOOKUP(DATE($A574,$A576,G568)+$I573,Activités!$C$4:$I$534,5,0))","v":{"$error":"#N/A"}},{"$f":"IF(H568=0,\"\",VLOOKUP(DATE($A574,$A576,H568)+$I573,Activités!$C$4:$I$534,5,0))","v":{"$error":"#N/A"}},{"$f":"+I571+0.1","v":0.30000000000000004},null,null,null,null,null,null,null,null,null,null,null,null,null,null,null,null,null,{"$f":"AA572","v":""},"","","","","",""]
[{"$f":"A563","v":2018},{"$f":"IF(ISNA(B573),\"\",B573)","v":""},"","","","","","",null,null,null,null,null,null,null,null,null,null,null,null,null,null,null,null,null,null,{"$f":"IF(LEFT(B574,7)=\"CDT-145\",\"CDT-145\",IF(LEFT(B574,7)=\"CDT-135\",\"CDT-135\",AA568))","v":""},"","","","","",""]
[null,{"$f":"IF(B568=0,\"\",VLOOKUP(DATE($A574,$A576,B568)+$I575,Activités!$C$4:$I$534,5,0))","v":{"$error":"#N/A"}},{"$f":"IF(C568=0,\"\",VLOOKUP(DATE($A574,$A576,C568)+$I575,Activités!$C$4:$I$534,5,0))","v":{"$error":"#N/A"}},{"$f":"IF(D568=0,\"\",VLOOKUP(DATE($A574,$A576,D568)+$I575,Activités!$C$4:$I$534,5,0))","v":{"$error":"#N/A"}},{"$f":"IF(E568=0,\"\",VLOOKUP(DATE($A574,$A576,E568)+$I575,Activités!$C$4:$I$534,5,0))","v":{"$error":"#N/A"}},{"$f":"IF(F568=0,\"\",VLOOKUP(DATE($A574,$A576,F568)+$I575,Activités!$C$4:$I$534,5,0))","v":{"$error":"#N/A"}},{"$f":"IF(G568=0,\"\",VLOOKUP(DATE($A574,$A576,G568)+$I575,Activités!$C$4:$I$534,5,0))","v":{"$error":"#N/A"}},{"$f":"IF(H568=0,\"\",VLOOKUP(DATE($A574,$A576,H568)+$I575,Activités!$C$4:$I$534,5,0))","v":{"$error":"#N/A"}},{"$f":"+I573+0.1","v":0.4},null,null,null,null,null,null,null,null,null,null,null,null,null,null,null,null,null,{"$f":"AA574","v":""},"","","","","",""]
[{"$f":"A565","v":4},{"$f":"IF(ISNA(B575),\"\",B575)","v":""},"","","","","","",null,null,null,null,null,null,null,null,null,null,null,null,null,null,null,null,null,null,{"$f":"IF(LEFT(B576,7)=\"CDT-145\",\"CDT-145\",IF(LEFT(B576,7)=\"CDT-135\",\"CDT-135\",AA568))","v":""},"","","","","",""]
[null,{"$f":"IF(B568=0,\"\",VLOOKUP(DATE($A574,$A576,B568)+$I577,Activités!$C$4:$I$534,5,0))","v":{"$error":"#N/A"}},{"$f":"IF(C568=0,\"\",VLOOKUP(DATE($A574,$A576,C568)+$I577,Activités!$C$4:$I$534,5,0))","v":{"$error":"#N/A"}},{"$f":"IF(D568=0,\"\",VLOOKUP(DATE($A574,$A576,D568)+$I577,Activités!$C$4:$I$534,5,0))","v":{"$error":"#N/A"}},{"$f":"IF(E568=0,\"\",VLOOKUP(DATE($A574,$A576,E568)+$I577,Activités!$C$4:$I$534,5,0))","v":{"$error":"#N/A"}},{"$f":"IF(F568=0,\"\",VLOOKUP(DATE($A574,$A576,F568)+$I577,Activités!$C$4:$I$534,5,0))","v":{"$error":"#N/A"}},{"$f":"IF(G568=0,\"\",VLOOKUP(DATE($A574,$A576,G568)+$I577,Activités!$C$4:$I$534,5,0))","v":{"$error":"#N/A"}},{"$f":"IF(H568=0,\"\",VLOOKUP(DATE($A574,$A576,H568)+$I577,Activités!$C$4:$I$534,5,0))","v":{"$error":"#N/A"}},{"$f":"+I575+0.1","v":0.5},null,null,null,null,null,null,null,null,null,null,null,null,null,null,null,null,null,{"$f":"AA576","v":""},"","","","","",""]
[{"$f":"A567","v":30},{"$f":"IF(ISNA(B577),\"\",B577)","v":""},"","","","","","",null,null,null,null,null,null,null,null,null,null,null,null,null,null,null,null,null,null,{"$f":"IF(LEFT(B578,7)=\"CDT-145\",\"CDT-145\",IF(LEFT(B578,7)=\"CDT-135\",\"CDT-135\",AA568))","v":""},"","","","","",""]
[{"$f":"H568","v":14},{"$f":"IF(OR(A579=$A589,A579=0),0,A579+1)","v":15},16,17,18,19,20,21,null,null,null,null,null,null,null,null,null,null,null,null,null,null,null,null,null,null,{"$f":"IF(AND($B579=0,$H579=0),\"Invisible\",\"\")","v":""},{"$f":"IF(AND($B579=0,$H579=0),\"Invisible\",\"\")","v":""},"","","","",""]
[null,{"$f":"IF(B579=0,\"\",VLOOKUP(DATE($A585,$A587,B579)+$I580,Activités!$C$4:$I$534,5,0))","v":{"$error":"#N/A"}},{"$f":"IF(C579=0,\"\",VLOOKUP(DATE($A585,$A587,C579)+$I580,Activités!$C$4:$I$534,5,0))","v":{"$error":"#N/A"}},{"$f":"IF(D579=0,\"\",VLOOKUP(DATE($A585,$A587,D579)+$I580,Activités!$C$4:$I$534,5,0))","v":{"$error":"#N/A"}},{"$f":"IF(E579=0,\"\",VLOOKUP(DATE($A585,$A587,E579)+$I580,Activités!$C$4:$I$534,5,0))","v":{"$error":"#N/A"}},{"$f":"IF(F579=0,\"\",VLOOKUP(DATE($A585,$A587,F579)+$I580,Activités!$C$4:$I$534,5,0))","v":{"$error":"#N/A"}},{"$f":"IF(G579=0,\"\",VLOOKUP(DATE($A585,$A587,G579)+$I580,Activités!$C$4:$I$534,5,0))","v":"CDT-145 - "},{"$f":"IF(H579=0,\"\",VLOOKUP(DATE($A585,$A587,H579)+$I580,Activités!$C$4:$I$534,5,0))","v":{"$error":"#N/A"}},0.1,null,null,null,null,null,null,null,null,null,null,null,null,null,null,null,null,null,{"$f":"AA579","v":""},"","","","","",""]
[null,{"$f":"IF(ISNA(B580),\"\",B580)","v":""},{"$f":"IF(ISNA(C580),\"\",C580)","v":""},"","","","CDT-145 - ","",null,null,null,null,null,null,null,null,null,null,null,null,null,null,null,null,null,null,{"$f":"IF(LEFT(B581,7)=\"CDT-145\",\"CDT-145\",IF(LEFT(B581,7)=\"CDT-135\",\"CDT-135\",AA579))","v":""},"","","","","CDT-145",""]
[null,{"$f":"IF(B579=0,\"\",VLOOKUP(DATE($A585,$A587,B579)+$I582,Activités!$C$4:$I$534,5,0))","v":{"$error":"#N/A"}},{"$f":"IF(C579=0,\"\",VLOOKUP(DATE($A585,$A587,C579)+$I582,Activités!$C$4:$I$534,5,0))","v":{"$error":"#N/A"}},{"$f":"IF(D579=0,\"\",VLOOKUP(DATE($A585,$A587,D579)+$I582,Activités!$C$4:$I$534,5,0))","v":{"$error":"#N/A"}},{"$f":"IF(E579=0,\"\",VLOOKUP(DATE($A585,$A587,E579)+$I582,Activités!$C$4:$I$534,5,0))","v":{"$error":"#N/A"}},{"$f":"IF(F579=0,\"\",VLOOKUP(DATE($A585,$A587,F579)+$I582,Activités!$C$4:$I$534,5,0))","v":{"$error":"#N/A"}},{"$f":"IF(G579=0,\"\",VLOOKUP(DATE($A585,$A587,G579)+$I582,Activités!$C$4:$I$534,5,0))","v":"Créer activité Forteresse"},{"$f":"IF(H579=0,\"\",VLOOKUP(DATE($A585,$A587,H579)+$I582,Activités!$C$4:$I$534,5,0))","v":{"$error":"#N/A"}},{"$f":"+I580+0.1","v":0.2},null,null,null,null,null,null,null,null,null,null,null,null,null,null,null,null,null,{"$f":"AA581","v":""},"","","","","CDT-145",""]
[null,{"$f":"IF(ISNA(B582),\"\",B582)","v":""},"","","","","Créer activité Forteresse","",null,null,null,null,null,null,null,null,null,null,null,null,null,null,null,null,null,null,{"$f":"IF(LEFT(B583,7)=\"CDT-145\",\"CDT-145\",IF(LEFT(B583,7)=\"CDT-135\",\"CDT-135\",AA579))","v":""},"","","","","",""]
[null,{"$f":"IF(B579=0,\"\",VLOOKUP(DATE($A585,$A587,B579)+$I584,Activités!$C$4:$I$534,5,0))","v":{"$error":"#N/A"}},{"$f":"IF(C579=0,\"\",VLOOKUP(DATE($A585,$A587,C579)+$I584,Activités!$C$4:$I$534,5,0))","v":{"$error":"#N/A"}},{"$f":"IF(D579=0,\"\",VLOOKUP(DATE($A585,$A587,D579)+$I584,Activités!$C$4:$I$534,5,0))","v":{"$error":"#N/A"}},{"$f":"IF(E579=0,\"\",VLOOKUP(DATE($A585,$A587,E579)+$I584,Activités!$C$4:$I$534,5,0))","v":{"$error":"#N/A"}},{"$f":"IF(F579=0,\"\",VLOOKUP(DATE($A585,$A587,F579)+$I584,Activités!$C$4:$I$534,5,0))","v":{"$error":"#N/A"}},{"$f":"IF(G579=0,\"\",VLOOKUP(DATE($A585,$A587,G579)+$I584,Activités!$C$4:$I$534,5,0))","v":{"$error":"#N/A"}},{"$f":"IF(H579=0,\"\",VLOOKUP(DATE($A585,$A587,H579)+$I584,Activités!$C$4:$I$534,5,0))","v":{"$error":"#N/A"}},{"$f":"+I582+0.1","v":0.30000000000000004},null,null,null,null,null,null,null,null,null,null,null,null,null,null,null,null,null,{"$f":"AA583","v":""},"","","","","",""]
[{"$f":"A574","v":2018},{"$f":"IF(ISNA(B584),\"\",B584)","v":""},"","","","","","",null,null,null,null,null,null,null,null,null,null,null,null,null,null,null,null,null,null,{"$f":"IF(LEFT(B585,7)=\"CDT-145\",\"CDT-145\",IF(LEFT(B585,7)=\"CDT-135\",\"CDT-135\",AA579))","v":""},"","","","","",""]
[null,{"$f":"IF(B579=0,\"\",VLOOKUP(DATE($A585,$A587,B579)+$I586,Activités!$C$4:$I$534,5,0))","v":{"$error":"#N/A"}},{"$f":"IF(C579=0,\"\",VLOOKUP(DATE($A585,$A587,C579)+$I586,Activités!$C$4:$I$534,5,0))","v":{"$error":"#N/A"}},{"$f":"IF(D579=0,\"\",VLOOKUP(DATE($A585,$A587,D579)+$I586,Activités!$C$4:$I$534,5,0))","v":{"$error":"#N/A"}},{"$f":"IF(E579=0,\"\",VLOOKUP(DATE($A585,$A587,E579)+$I586,Activités!$C$4:$I$534,5,0))","v":{"$error":"#N/A"}},{"$f":"IF(F579=0,\"\",VLOOKUP(DATE($A585,$A587,F579)+$I586,Activités!$C$4:$I$534,5,0))","v":{"$error":"#N/A"}},{"$f":"IF(G579=0,\"\",VLOOKUP(DATE($A585,$A587,G579)+$I586,Activités!$C$4:$I$534,5,0))","v":{"$error":"#N/A"}},{"$f":"IF(H579=0,\"\",VLOOKUP(DATE($A585,$A587,H579)+$I586,Activités!$C$4:$I$534,5,0))","v":{"$error":"#N/A"}},{"$f":"+I584+0.1","v":0.4},null,null,null,null,null,null,null,null,null,null,null,null,null,null,null,null,null,{"$f":"AA585","v":""},"","","","","",""]
[{"$f":"A576","v":4},{"$f":"IF(ISNA(B586),\"\",B586)","v":""},"","","","","","",null,null,null,null,null,null,null,null,null,null,null,null,null,null,null,null,null,null,{"$f":"IF(LEFT(B587,7)=\"CDT-145\",\"CDT-145\",IF(LEFT(B587,7)=\"CDT-135\",\"CDT-135\",AA579))","v":""},"","","","","",""]
[null,{"$f":"IF(B579=0,\"\",VLOOKUP(DATE($A585,$A587,B579)+$I588,Activités!$C$4:$I$534,5,0))","v":{"$error":"#N/A"}},{"$f":"IF(C579=0,\"\",VLOOKUP(DATE($A585,$A587,C579)+$I588,Activités!$C$4:$I$534,5,0))","v":{"$error":"#N/A"}},{"$f":"IF(D579=0,\"\",VLOOKUP(DATE($A585,$A587,D579)+$I588,Activités!$C$4:$I$534,5,0))","v":{"$error":"#N/A"}},{"$f":"IF(E579=0,\"\",VLOOKUP(DATE($A585,$A587,E579)+$I588,Activités!$C$4:$I$534,5,0))","v":{"$error":"#N/A"}},{"$f":"IF(F579=0,\"\",VLOOKUP(DATE($A585,$A587,F579)+$I588,Activités!$C$4:$I$534,5,0))","v":{"$error":"#N/A"}},{"$f":"IF(G579=0,\"\",VLOOKUP(DATE($A585,$A587,G579)+$I588,Activités!$C$4:$I$534,5,0))","v":{"$error":"#N/A"}},{"$f":"IF(H579=0,\"\",VLOOKUP(DATE($A585,$A587,H579)+$I588,Activités!$C$4:$I$534,5,0))","v":{"$error":"#N/A"}},{"$f":"+I586+0.1","v":0.5},null,null,null,null,null,null,null,null,null,null,null,null,null,null,null,null,null,{"$f":"AA587","v":""},"","","","","",""]
[{"$f":"A578","v":30},{"$f":"IF(ISNA(B588),\"\",B588)","v":""},"","","","","","",null,null,null,null,null,null,null,null,null,null,null,null,null,null,null,null,null,null,{"$f":"IF(LEFT(B589,7)=\"CDT-145\",\"CDT-145\",IF(LEFT(B589,7)=\"CDT-135\",\"CDT-135\",AA579))","v":""},"","","","","",""]
[{"$f":"H579","v":21},{"$f":"IF(OR(A590=$A600,A590=0),0,A590+1)","v":22},23,24,25,26,27,28,null,null,null,null,null,null,null,null,null,null,null,null,null,null,null,null,null,null,{"$f":"IF(AND($B590=0,$H590=0),\"Invisible\",\"\")","v":""},{"$f":"IF(AND($B590=0,$H590=0),\"Invisible\",\"\")","v":""},"","","","",""]
[null,{"$f":"IF(B590=0,\"\",VLOOKUP(DATE($A596,$A598,B590)+$I591,Activités!$C$4:$I$534,5,0))","v":{"$error":"#N/A"}},{"$f":"IF(C590=0,\"\",VLOOKUP(DATE($A596,$A598,C590)+$I591,Activités!$C$4:$I$534,5,0))","v":{"$error":"#N/A"}},{"$f":"IF(D590=0,\"\",VLOOKUP(DATE($A596,$A598,D590)+$I591,Activités!$C$4:$I$534,5,0))","v":{"$error":"#N/A"}},{"$f":"IF(E590=0,\"\",VLOOKUP(DATE($A596,$A598,E590)+$I591,Activités!$C$4:$I$534,5,0))","v":{"$error":"#N/A"}},{"$f":"IF(F590=0,\"\",VLOOKUP(DATE($A596,$A598,F590)+$I591,Activités!$C$4:$I$534,5,0))","v":{"$error":"#N/A"}},{"$f":"IF(G590=0,\"\",VLOOKUP(DATE($A596,$A598,G590)+$I591,Activités!$C$4:$I$534,5,0))","v":{"$error":"#N/A"}},{"$f":"IF(H590=0,\"\",VLOOKUP(DATE($A596,$A598,H590)+$I591,Activités!$C$4:$I$534,5,0))","v":0},0.1,null,null,null,null,null,null,null,null,null,null,null,null,null,null,null,null,null,{"$f":"AA590","v":""},"","","","","",""]
[null,{"$f":"IF(ISNA(B591),\"\",B591)","v":""},{"$f":"IF(ISNA(C591),\"\",C591)","v":""},"","","","",0,null,null,null,null,null,null,null,null,null,null,null,null,null,null,null,null,null,null,{"$f":"IF(LEFT(B592,7)=\"CDT-145\",\"CDT-145\",IF(LEFT(B592,7)=\"CDT-135\",\"CDT-135\",AA590))","v":""},"","","","","",""]
[null,{"$f":"IF(B590=0,\"\",VLOOKUP(DATE($A596,$A598,B590)+$I593,Activités!$C$4:$I$534,5,0))","v":{"$error":"#N/A"}},{"$f":"IF(C590=0,\"\",VLOOKUP(DATE($A596,$A598,C590)+$I593,Activités!$C$4:$I$534,5,0))","v":{"$error":"#N/A"}},{"$f":"IF(D590=0,\"\",VLOOKUP(DATE($A596,$A598,D590)+$I593,Activités!$C$4:$I$534,5,0))","v":{"$error":"#N/A"}},{"$f":"IF(E590=0,\"\",VLOOKUP(DATE($A596,$A598,E590)+$I593,Activités!$C$4:$I$534,5,0))","v":{"$error":"#N/A"}},{"$f":"IF(F590=0,\"\",VLOOKUP(DATE($A596,$A598,F590)+$I593,Activités!$C$4:$I$534,5,0))","v":{"$error":"#N/A"}},{"$f":"IF(G590=0,\"\",VLOOKUP(DATE($A596,$A598,G590)+$I593,Activités!$C$4:$I$534,5,0))","v":{"$error":"#N/A"}},{"$f":"IF(H590=0,\"\",VLOOKUP(DATE($A596,$A598,H590)+$I593,Activités!$C$4:$I$534,5,0))","v":{"$error":"#N/A"}},{"$f":"+I591+0.1","v":0.2},null,null,null,null,null,null,null,null,null,null,null,null,null,null,null,null,null,{"$f":"AA592","v":""},"","","","","",""]
[null,{"$f":"IF(ISNA(B593),\"\",B593)","v":""},"","","","","","",null,null,null,null,null,null,null,null,null,null,null,null,null,null,null,null,null,null,{"$f":"IF(LEFT(B594,7)=\"CDT-145\",\"CDT-145\",IF(LEFT(B594,7)=\"CDT-135\",\"CDT-135\",AA590))","v":""},"","","","","",""]
[null,{"$f":"IF(B590=0,\"\",VLOOKUP(DATE($A596,$A598,B590)+$I595,Activités!$C$4:$I$534,5,0))","v":{"$error":"#N/A"}},{"$f":"IF(C590=0,\"\",VLOOKUP(DATE($A596,$A598,C590)+$I595,Activités!$C$4:$I$534,5,0))","v":{"$error":"#N/A"}},{"$f":"IF(D590=0,\"\",VLOOKUP(DATE($A596,$A598,D590)+$I595,Activités!$C$4:$I$534,5,0))","v":{"$error":"#N/A"}},{"$f":"IF(E590=0,\"\",VLOOKUP(DATE($A596,$A598,E590)+$I595,Activités!$C$4:$I$534,5,0))","v":{"$error":"#N/A"}},{"$f":"IF(F590=0,\"\",VLOOKUP(DATE($A596,$A598,F590)+$I595,Activités!$C$4:$I$534,5,0))","v":{"$error":"#N/A"}},{"$f":"IF(G590=0,\"\",VLOOKUP(DATE($A596,$A598,G590)+$I595,Activités!$C$4:$I$534,5,0))","v":{"$error":"#N/A"}},{"$f":"IF(H590=0,\"\",VLOOKUP(DATE($A596,$A598,H590)+$I595,Activités!$C$4:$I$534,5,0))","v":{"$error":"#N/A"}},{"$f":"+I593+0.1","v":0.30000000000000004},null,null,null,null,null,null,null,null,null,null,null,null,null,null,null,null,null,{"$f":"AA594","v":""},"","","","","",""]
[{"$f":"A585","v":2018},{"$f":"IF(ISNA(B595),\"\",B595)","v":""},"","","","","","",null,null,null,null,null,null,null,null,null,null,null,null,null,null,null,null,null,null,{"$f":"IF(LEFT(B596,7)=\"CDT-145\",\"CDT-145\",IF(LEFT(B596,7)=\"CDT-135\",\"CDT-135\",AA590))","v":""},"","","","","",""]
[null,{"$f":"IF(B590=0,\"\",VLOOKUP(DATE($A596,$A598,B590)+$I597,Activités!$C$4:$I$534,5,0))","v":{"$error":"#N/A"}},{"$f":"IF(C590=0,\"\",VLOOKUP(DATE($A596,$A598,C590)+$I597,Activités!$C$4:$I$534,5,0))","v":{"$error":"#N/A"}},{"$f":"IF(D590=0,\"\",VLOOKUP(DATE($A596,$A598,D590)+$I597,Activités!$C$4:$I$534,5,0))","v":{"$error":"#N/A"}},{"$f":"IF(E590=0,\"\",VLOOKUP(DATE($A596,$A598,E590)+$I597,Activités!$C$4:$I$534,5,0))","v":{"$error":"#N/A"}},{"$f":"IF(F590=0,\"\",VLOOKUP(DATE($A596,$A598,F590)+$I597,Activités!$C$4:$I$534,5,0))","v":{"$error":"#N/A"}},{"$f":"IF(G590=0,\"\",VLOOKUP(DATE($A596,$A598,G590)+$I597,Activités!$C$4:$I$534,5,0))","v":{"$error":"#N/A"}},{"$f":"IF(H590=0,\"\",VLOOKUP(DATE($A596,$A598,H590)+$I597,Activités!$C$4:$I$534,5,0))","v":{"$error":"#N/A"}},{"$f":"+I595+0.1","v":0.4},null,null,null,null,null,null,null,null,null,null,null,null,null,null,null,null,null,{"$f":"AA596","v":""},"","","","","",""]
[{"$f":"A587","v":4},{"$f":"IF(ISNA(B597),\"\",B597)","v":""},"","","","","","",null,null,null,null,null,null,null,null,null,null,null,null,null,null,null,null,null,null,{"$f":"IF(LEFT(B598,7)=\"CDT-145\",\"CDT-145\",IF(LEFT(B598,7)=\"CDT-135\",\"CDT-135\",AA590))","v":""},"","","","","",""]
[null,{"$f":"IF(B590=0,\"\",VLOOKUP(DATE($A596,$A598,B590)+$I599,Activités!$C$4:$I$534,5,0))","v":{"$error":"#N/A"}},{"$f":"IF(C590=0,\"\",VLOOKUP(DATE($A596,$A598,C590)+$I599,Activités!$C$4:$I$534,5,0))","v":{"$error":"#N/A"}},{"$f":"IF(D590=0,\"\",VLOOKUP(DATE($A596,$A598,D590)+$I599,Activités!$C$4:$I$534,5,0))","v":{"$error":"#N/A"}},{"$f":"IF(E590=0,\"\",VLOOKUP(DATE($A596,$A598,E590)+$I599,Activités!$C$4:$I$534,5,0))","v":{"$error":"#N/A"}},{"$f":"IF(F590=0,\"\",VLOOKUP(DATE($A596,$A598,F590)+$I599,Activités!$C$4:$I$534,5,0))","v":{"$error":"#N/A"}},{"$f":"IF(G590=0,\"\",VLOOKUP(DATE($A596,$A598,G590)+$I599,Activités!$C$4:$I$534,5,0))","v":{"$error":"#N/A"}},{"$f":"IF(H590=0,\"\",VLOOKUP(DATE($A596,$A598,H590)+$I599,Activités!$C$4:$I$534,5,0))","v":{"$error":"#N/A"}},{"$f":"+I597+0.1","v":0.5},null,null,null,null,null,null,null,null,null,null,null,null,null,null,null,null,null,{"$f":"AA598","v":""},"","","","","",""]
[{"$f":"A589","v":30},{"$f":"IF(ISNA(B599),\"\",B599)","v":""},"","","","","","",null,null,null,null,null,null,null,null,null,null,null,null,null,null,null,null,null,null,{"$f":"IF(LEFT(B600,7)=\"CDT-145\",\"CDT-145\",IF(LEFT(B600,7)=\"CDT-135\",\"CDT-135\",AA590))","v":""},"","","","","",""]
[{"$f":"H590","v":28},{"$f":"IF(OR(A601=$A611,A601=0),0,A601+1)","v":29},30,0,0,0,0,0,null,null,null,null,null,null,null,null,null,null,null,null,null,null,null,null,null,null,{"$f":"IF(AND($B601=0,$H601=0),\"Invisible\",\"\")","v":""},{"$f":"IF(AND($B601=0,$H601=0),\"Invisible\",\"\")","v":""},"","","","",""]
[null,{"$f":"IF(B601=0,\"\",VLOOKUP(DATE($A607,$A609,B601)+$I602,Activités!$C$4:$I$534,5,0))","v":"CDT-135 - "},{"$f":"IF(C601=0,\"\",VLOOKUP(DATE($A607,$A609,C601)+$I602,Activités!$C$4:$I$534,5,0))","v":"CDT-135 - "},{"$f":"IF(D601=0,\"\",VLOOKUP(DATE($A607,$A609,D601)+$I602,Activités!$C$4:$I$534,5,0))","v":""},{"$f":"IF(E601=0,\"\",VLOOKUP(DATE($A607,$A609,E601)+$I602,Activités!$C$4:$I$534,5,0))","v":""},{"$f":"IF(F601=0,\"\",VLOOKUP(DATE($A607,$A609,F601)+$I602,Activités!$C$4:$I$534,5,0))","v":""},{"$f":"IF(G601=0,\"\",VLOOKUP(DATE($A607,$A609,G601)+$I602,Activités!$C$4:$I$534,5,0))","v":""},{"$f":"IF(H601=0,\"\",VLOOKUP(DATE($A607,$A609,H601)+$I602,Activités!$C$4:$I$534,5,0))","v":""},0.1,null,null,null,null,null,null,null,null,null,null,null,null,null,null,null,null,null,{"$f":"AA601","v":""},"","","","","",""]
[null,{"$f":"IF(ISNA(B602),\"\",B602)","v":"CDT-135 - "},{"$f":"IF(ISNA(C602),\"\",C602)","v":"CDT-135 - "},"","","","","",null,null,null,null,null,null,null,null,null,null,null,null,null,null,null,null,null,null,{"$f":"IF(LEFT(B603,7)=\"CDT-145\",\"CDT-145\",IF(LEFT(B603,7)=\"CDT-135\",\"CDT-135\",AA601))","v":"CDT-135"},"CDT-135","","","","",""]
[null,{"$f":"IF(B601=0,\"\",VLOOKUP(DATE($A607,$A609,B601)+$I604,Activités!$C$4:$I$534,5,0))","v":"Inscrire les présences"},{"$f":"IF(C601=0,\"\",VLOOKUP(DATE($A607,$A609,C601)+$I604,Activités!$C$4:$I$534,5,0))","v":"Inscrire les présences"},{"$f":"IF(D601=0,\"\",VLOOKUP(DATE($A607,$A609,D601)+$I604,Activités!$C$4:$I$534,5,0))","v":""},{"$f":"IF(E601=0,\"\",VLOOKUP(DATE($A607,$A609,E601)+$I604,Activités!$C$4:$I$534,5,0))","v":""},{"$f":"IF(F601=0,\"\",VLOOKUP(DATE($A607,$A609,F601)+$I604,Activités!$C$4:$I$534,5,0))","v":""},{"$f":"IF(G601=0,\"\",VLOOKUP(DATE($A607,$A609,G601)+$I604,Activités!$C$4:$I$534,5,0))","v":""},{"$f":"IF(H601=0,\"\",VLOOKUP(DATE($A607,$A609,H601)+$I604,Activités!$C$4:$I$534,5,0))","v":""},{"$f":"+I602+0.1","v":0.2},null,null,null,null,null,null,null,null,null,null,null,null,null,null,null,null,null,{"$f":"AA603","v":"CDT-135"},"CDT-135","","","","",""]
[null,{"$f":"IF(ISNA(B604),\"\",B604)","v":"Inscrire les présences"},"Inscrire les présences","","","","","",null,null,null,null,null,null,null,null,null,null,null,null,null,null,null,null,null,null,{"$f":"IF(LEFT(B605,7)=\"CDT-145\",\"CDT-145\",IF(LEFT(B605,7)=\"CDT-135\",\"CDT-135\",AA601))","v":""},"","","","","",""]
[null,{"$f":"IF(B601=0,\"\",VLOOKUP(DATE($A607,$A609,B601)+$I606,Activités!$C$4:$I$534,5,0))","v":0},{"$f":"IF(C601=0,\"\",VLOOKUP(DATE($A607,$A609,C601)+$I606,Activités!$C$4:$I$534,5,0))","v":{"$error":"#N/A"}},{"$f":"IF(D601=0,\"\",VLOOKUP(DATE($A607,$A609,D601)+$I606,Activités!$C$4:$I$534,5,0))","v":""},{"$f":"IF(E601=0,\"\",VLOOKUP(DATE($A607,$A609,E601)+$I606,Activités!$C$4:$I$534,5,0))","v":""},{"$f":"IF(F601=0,\"\",VLOOKUP(DATE($A607,$A609,F601)+$I606,Activités!$C$4:$I$534,5,0))","v":""},{"$f":"IF(G601=0,\"\",VLOOKUP(DATE($A607,$A609,G601)+$I606,Activités!$C$4:$I$534,5,0))","v":""},{"$f":"IF(H601=0,\"\",VLOOKUP(DATE($A607,$A609,H601)+$I606,Activités!$C$4:$I$534,5,0))","v":""},{"$f":"+I604+0.1","v":0.30000000000000004},null,null,null,null,null,null,null,null,null,null,null,null,null,null,null,null,null,{"$f":"AA605","v":""},"","","","","",""]
[{"$f":"A596","v":2018},{"$f":"IF(ISNA(B606),\"\",B606)","v":0},"","","","","","",null,null,null,null,null,null,null,null,null,null,null,null,null,null,null,null,null,null,{"$f":"IF(LEFT(B607,7)=\"CDT-145\",\"CDT-145\",IF(LEFT(B607,7)=\"CDT-135\",\"CDT-135\",AA601))","v":""},"","","","","",""]
[null,{"$f":"IF(B601=0,\"\",VLOOKUP(DATE($A607,$A609,B601)+$I608,Activités!$C$4:$I$534,5,0))","v":{"$error":"#N/A"}},{"$f":"IF(C601=0,\"\",VLOOKUP(DATE($A607,$A609,C601)+$I608,Activités!$C$4:$I$534,5,0))","v":{"$error":"#N/A"}},{"$f":"IF(D601=0,\"\",VLOOKUP(DATE($A607,$A609,D601)+$I608,Activités!$C$4:$I$534,5,0))","v":""},{"$f":"IF(E601=0,\"\",VLOOKUP(DATE($A607,$A609,E601)+$I608,Activités!$C$4:$I$534,5,0))","v":""},{"$f":"IF(F601=0,\"\",VLOOKUP(DATE($A607,$A609,F601)+$I608,Activités!$C$4:$I$534,5,0))","v":""},{"$f":"IF(G601=0,\"\",VLOOKUP(DATE($A607,$A609,G601)+$I608,Activités!$C$4:$I$534,5,0))","v":""},{"$f":"IF(H601=0,\"\",VLOOKUP(DATE($A607,$A609,H601)+$I608,Activités!$C$4:$I$534,5,0))","v":""},{"$f":"+I606+0.1","v":0.4},null,null,null,null,null,null,null,null,null,null,null,null,null,null,null,null,null,{"$f":"AA607","v":""},"","","","","",""]
[{"$f":"A598","v":4},{"$f":"IF(ISNA(B608),\"\",B608)","v":""},"","","","","","",null,null,null,null,null,null,null,null,null,null,null,null,null,null,null,null,null,null,{"$f":"IF(LEFT(B609,7)=\"CDT-145\",\"CDT-145\",IF(LEFT(B609,7)=\"CDT-135\",\"CDT-135\",AA601))","v":""},"","","","","",""]
[null,{"$f":"IF(B601=0,\"\",VLOOKUP(DATE($A607,$A609,B601)+$I610,Activités!$C$4:$I$534,5,0))","v":{"$error":"#N/A"}},{"$f":"IF(C601=0,\"\",VLOOKUP(DATE($A607,$A609,C601)+$I610,Activités!$C$4:$I$534,5,0))","v":{"$error":"#N/A"}},{"$f":"IF(D601=0,\"\",VLOOKUP(DATE($A607,$A609,D601)+$I610,Activités!$C$4:$I$534,5,0))","v":""},{"$f":"IF(E601=0,\"\",VLOOKUP(DATE($A607,$A609,E601)+$I610,Activités!$C$4:$I$534,5,0))","v":""},{"$f":"IF(F601=0,\"\",VLOOKUP(DATE($A607,$A609,F601)+$I610,Activités!$C$4:$I$534,5,0))","v":""},{"$f":"IF(G601=0,\"\",VLOOKUP(DATE($A607,$A609,G601)+$I610,Activités!$C$4:$I$534,5,0))","v":""},{"$f":"IF(H601=0,\"\",VLOOKUP(DATE($A607,$A609,H601)+$I610,Activités!$C$4:$I$534,5,0))","v":""},{"$f":"+I608+0.1","v":0.5},null,null,null,null,null,null,null,null,null,null,null,null,null,null,null,null,null,{"$f":"AA609","v":""},"","","","","",""]
[{"$f":"A600","v":30},{"$f":"IF(ISNA(B610),\"\",B610)","v":""},"","","","","","",null,null,null,null,null,null,null,null,null,null,null,null,null,null,null,null,null,null,{"$f":"IF(LEFT(B611,7)=\"CDT-145\",\"CDT-145\",IF(LEFT(B611,7)=\"CDT-135\",\"CDT-135\",AA601))","v":""},"","","","","",""]
[{"$f":"H601","v":0},{"$f":"IF(OR(A612=$A622,A612=0),0,A612+1)","v":0},0,0,0,0,0,0,null,null,null,null,null,null,null,null,null,null,null,null,null,null,null,null,null,null,{"$f":"IF(AND($B612=0,$H612=0),\"Invisible\",\"\")","v":"Invisible"},{"$f":"IF(AND($B612=0,$H612=0),\"Invisible\",\"\")","v":"Invisible"},"Invisible","Invisible","Invisible","Invisible","Invisible"]
[null,{"$f":"IF(B612=0,\"\",VLOOKUP(DATE($A618,$A620,B612)+$I613,Activités!$C$4:$I$534,5,0))","v":""},{"$f":"IF(C612=0,\"\",VLOOKUP(DATE($A618,$A620,C612)+$I613,Activités!$C$4:$I$534,5,0))","v":""},{"$f":"IF(D612=0,\"\",VLOOKUP(DATE($A618,$A620,D612)+$I613,Activités!$C$4:$I$534,5,0))","v":""},{"$f":"IF(E612=0,\"\",VLOOKUP(DATE($A618,$A620,E612)+$I613,Activités!$C$4:$I$534,5,0))","v":""},{"$f":"IF(F612=0,\"\",VLOOKUP(DATE($A618,$A620,F612)+$I613,Activités!$C$4:$I$534,5,0))","v":""},{"$f":"IF(G612=0,\"\",VLOOKUP(DATE($A618,$A620,G612)+$I613,Activités!$C$4:$I$534,5,0))","v":""},{"$f":"IF(H612=0,\"\",VLOOKUP(DATE($A618,$A620,H612)+$I613,Activités!$C$4:$I$534,5,0))","v":""},0.1,null,null,null,null,null,null,null,null,null,null,null,null,null,null,null,null,null,{"$f":"AA612","v":"Invisible"},"Invisible","Invisible","Invisible","Invisible","Invisible","Invisible"]
[null,{"$f":"IF(ISNA(B613),\"\",B613)","v":""},{"$f":"IF(ISNA(C613),\"\",C613)","v":""},"","","","","",null,null,null,null,null,null,null,null,null,null,null,null,null,null,null,null,null,null,{"$f":"IF(LEFT(B614,7)=\"CDT-145\",\"CDT-145\",IF(LEFT(B614,7)=\"CDT-135\",\"CDT-135\",AA612))","v":"Invisible"},"Invisible","Invisible","Invisible","Invisible","Invisible","Invisible"]
[null,{"$f":"IF(B612=0,\"\",VLOOKUP(DATE($A618,$A620,B612)+$I615,Activités!$C$4:$I$534,5,0))","v":""},{"$f":"IF(C612=0,\"\",VLOOKUP(DATE($A618,$A620,C612)+$I615,Activités!$C$4:$I$534,5,0))","v":""},{"$f":"IF(D612=0,\"\",VLOOKUP(DATE($A618,$A620,D612)+$I615,Activités!$C$4:$I$534,5,0))","v":""},{"$f":"IF(E612=0,\"\",VLOOKUP(DATE($A618,$A620,E612)+$I615,Activités!$C$4:$I$534,5,0))","v":""},{"$f":"IF(F612=0,\"\",VLOOKUP(DATE($A618,$A620,F612)+$I615,Activités!$C$4:$I$534,5,0))","v":""},{"$f":"IF(G612=0,\"\",VLOOKUP(DATE($A618,$A620,G612)+$I615,Activités!$C$4:$I$534,5,0))","v":""},{"$f":"IF(H612=0,\"\",VLOOKUP(DATE($A618,$A620,H612)+$I615,Activités!$C$4:$I$534,5,0))","v":""},{"$f":"+I613+0.1","v":0.2},null,null,null,null,null,null,null,null,null,null,null,null,null,null,null,null,null,{"$f":"AA614","v":"Invisible"},"Invisible","Invisible","Invisible","Invisible","Invisible","Invisible"]
[null,{"$f":"IF(ISNA(B615),\"\",B615)","v":""},"","","","","","",null,null,null,null,null,null,null,null,null,null,null,null,null,null,null,null,null,null,{"$f":"IF(LEFT(B616,7)=\"CDT-145\",\"CDT-145\",IF(LEFT(B616,7)=\"CDT-135\",\"CDT-135\",AA612))","v":"Invisible"},"Invisible","Invisible","Invisible","Invisible","Invisible","Invisible"]
[null,{"$f":"IF(B612=0,\"\",VLOOKUP(DATE($A618,$A620,B612)+$I617,Activités!$C$4:$I$534,5,0))","v":""},{"$f":"IF(C612=0,\"\",VLOOKUP(DATE($A618,$A620,C612)+$I617,Activités!$C$4:$I$534,5,0))","v":""},{"$f":"IF(D612=0,\"\",VLOOKUP(DATE($A618,$A620,D612)+$I617,Activités!$C$4:$I$534,5,0))","v":""},{"$f":"IF(E612=0,\"\",VLOOKUP(DATE($A618,$A620,E612)+$I617,Activités!$C$4:$I$534,5,0))","v":""},{"$f":"IF(F612=0,\"\",VLOOKUP(DATE($A618,$A620,F612)+$I617,Activités!$C$4:$I$534,5,0))","v":""},{"$f":"IF(G612=0,\"\",VLOOKUP(DATE($A618,$A620,G612)+$I617,Activités!$C$4:$I$534,5,0))","v":""},{"$f":"IF(H612=0,\"\",VLOOKUP(DATE($A618,$A620,H612)+$I617,Activités!$C$4:$I$534,5,0))","v":""},{"$f":"+I615+0.1","v":0.30000000000000004},null,null,null,null,null,null,null,null,null,null,null,null,null,null,null,null,null,{"$f":"AA616","v":"Invisible"},"Invisible","Invisible","Invisible","Invisible","Invisible","Invisible"]
[{"$f":"A607","v":2018},{"$f":"IF(ISNA(B617),\"\",B617)","v":""},"","","","","","",null,null,null,null,null,null,null,null,null,null,null,null,null,null,null,null,null,null,{"$f":"IF(LEFT(B618,7)=\"CDT-145\",\"CDT-145\",IF(LEFT(B618,7)=\"CDT-135\",\"CDT-135\",AA612))","v":"Invisible"},"Invisible","Invisible","Invisible","Invisible","Invisible","Invisible"]
[null,{"$f":"IF(B612=0,\"\",VLOOKUP(DATE($A618,$A620,B612)+$I619,Activités!$C$4:$I$534,5,0))","v":""},{"$f":"IF(C612=0,\"\",VLOOKUP(DATE($A618,$A620,C612)+$I619,Activités!$C$4:$I$534,5,0))","v":""},{"$f":"IF(D612=0,\"\",VLOOKUP(DATE($A618,$A620,D612)+$I619,Activités!$C$4:$I$534,5,0))","v":""},{"$f":"IF(E612=0,\"\",VLOOKUP(DATE($A618,$A620,E612)+$I619,Activités!$C$4:$I$534,5,0))","v":""},{"$f":"IF(F612=0,\"\",VLOOKUP(DATE($A618,$A620,F612)+$I619,Activités!$C$4:$I$534,5,0))","v":""},{"$f":"IF(G612=0,\"\",VLOOKUP(DATE($A618,$A620,G612)+$I619,Activités!$C$4:$I$534,5,0))","v":""},{"$f":"IF(H612=0,\"\",VLOOKUP(DATE($A618,$A620,H612)+$I619,Activités!$C$4:$I$534,5,0))","v":""},{"$f":"+I617+0.1","v":0.4},null,null,null,null,null,null,null,null,null,null,null,null,null,null,null,null,null,{"$f":"AA618","v":"Invisible"},"Invisible","Invisible","Invisible","Invisible","Invisible","Invisible"]
[{"$f":"A609","v":4},{"$f":"IF(ISNA(B619),\"\",B619)","v":""},"","","","","","",null,null,null,null,null,null,null,null,null,null,null,null,null,null,null,null,null,null,{"$f":"IF(LEFT(B620,7)=\"CDT-145\",\"CDT-145\",IF(LEFT(B620,7)=\"CDT-135\",\"CDT-135\",AA612))","v":"Invisible"},"Invisible","Invisible","Invisible","Invisible","Invisible","Invisible"]
[null,{"$f":"IF(B612=0,\"\",VLOOKUP(DATE($A618,$A620,B612)+$I621,Activités!$C$4:$I$534,5,0))","v":""},{"$f":"IF(C612=0,\"\",VLOOKUP(DATE($A618,$A620,C612)+$I621,Activités!$C$4:$I$534,5,0))","v":""},{"$f":"IF(D612=0,\"\",VLOOKUP(DATE($A618,$A620,D612)+$I621,Activités!$C$4:$I$534,5,0))","v":""},{"$f":"IF(E612=0,\"\",VLOOKUP(DATE($A618,$A620,E612)+$I621,Activités!$C$4:$I$534,5,0))","v":""},{"$f":"IF(F612=0,\"\",VLOOKUP(DATE($A618,$A620,F612)+$I621,Activités!$C$4:$I$534,5,0))","v":""},{"$f":"IF(G612=0,\"\",VLOOKUP(DATE($A618,$A620,G612)+$I621,Activités!$C$4:$I$534,5,0))","v":""},{"$f":"IF(H612=0,\"\",VLOOKUP(DATE($A618,$A620,H612)+$I621,Activités!$C$4:$I$534,5,0))","v":""},{"$f":"+I619+0.1","v":0.5},null,null,null,null,null,null,null,null,null,null,null,null,null,null,null,null,null,{"$f":"AA620","v":"Invisible"},"Invisible","Invisible","Invisible","Invisible","Invisible","Invisible"]
[{"$f":"A611","v":30},{"$f":"IF(ISNA(B621),\"\",B621)","v":""},"","","","","","",null,null,null,null,null,null,null,null,null,null,null,null,null,null,null,null,null,null,{"$f":"IF(LEFT(B622,7)=\"CDT-145\",\"CDT-145\",IF(LEFT(B622,7)=\"CDT-135\",\"CDT-135\",AA612))","v":"Invisible"},"Invisible","Invisible","Invisible","Invisible","Invisible","Invisible"]
[]
[null,{"$f":"VLOOKUP(112,Traduction!$B$6:$D$250,'Info de l''escadron'!$A$1+1,0)","v":"MAI"},null,null,null,null,null,{"$f":"H555","v":2018}]
[null,{"$f":"B$4","v":"Dimanche"},{"$f":"C$4","v":"Lundi"},"Mardi","Mercredi","Jeudi","Vendredi","Samedi"]
[null,{"$f":"IF(WEEKDAY(DATE($H624,$A634,1),1)=B$2,1,IF(A626=0,0,A626+1))","v":0},0,1,2,3,4,5,null,null,null,null,null,null,null,null,null,null,null,null,null,null,null,null,null,null,{"$f":"IF(AND($B626=0,$H626=0),\"Invisible\",\"\")","v":""},{"$f":"IF(AND($B626=0,$H626=0),\"Invisible\",\"\")","v":""},"","","","",""]
[null,{"$f":"IF(B626=0,\"\",VLOOKUP(DATE($A632,$A634,B626)+$I627,Activités!$C$4:$I$534,5,0))","v":""},{"$f":"IF(C626=0,\"\",VLOOKUP(DATE($A632,$A634,C626)+$I627,Activités!$C$4:$I$534,5,0))","v":""},{"$f":"IF(D626=0,\"\",VLOOKUP(DATE($A632,$A634,D626)+$I627,Activités!$C$4:$I$534,5,0))","v":{"$error":"#N/A"}},{"$f":"IF(E626=0,\"\",VLOOKUP(DATE($A632,$A634,E626)+$I627,Activités!$C$4:$I$534,5,0))","v":{"$error":"#N/A"}},{"$f":"IF(F626=0,\"\",VLOOKUP(DATE($A632,$A634,F626)+$I627,Activités!$C$4:$I$534,5,0))","v":{"$error":"#N/A"}},{"$f":"IF(G626=0,\"\",VLOOKUP(DATE($A632,$A634,G626)+$I627,Activités!$C$4:$I$534,5,0))","v":{"$error":"#N/A"}},{"$f":"IF(H626=0,\"\",VLOOKUP(DATE($A632,$A634,H626)+$I627,Activités!$C$4:$I$534,5,0))","v":{"$error":"#N/A"}},0.1,null,null,null,null,null,null,null,null,null,null,null,null,null,null,null,null,null,{"$f":"AA626","v":""},"","","","","",""]
[null,{"$f":"IF(ISNA(B627),\"\",B627)","v":""},{"$f":"IF(ISNA(C627),\"\",C627)","v":""},"","","","","",null,null,null,null,null,null,null,null,null,null,null,null,null,null,null,null,null,null,{"$f":"IF(LEFT(B628,7)=\"CDT-145\",\"CDT-145\",IF(LEFT(B628,7)=\"CDT-135\",\"CDT-135\",AA626))","v":""},"","","","","",""]
[null,{"$f":"IF(B626=0,\"\",VLOOKUP(DATE($A632,$A634,B626)+$I629,Activités!$C$4:$I$534,5,0))","v":""},{"$f":"IF(C626=0,\"\",VLOOKUP(DATE($A632,$A634,C626)+$I629,Activités!$C$4:$I$534,5,0))","v":""},{"$f":"IF(D626=0,\"\",VLOOKUP(DATE($A632,$A634,D626)+$I629,Activités!$C$4:$I$534,5,0))","v":{"$error":"#N/A"}},{"$f":"IF(E626=0,\"\",VLOOKUP(DATE($A632,$A634,E626)+$I629,Activités!$C$4:$I$534,5,0))","v":{"$error":"#N/A"}},{"$f":"IF(F626=0,\"\",VLOOKUP(DATE($A632,$A634,F626)+$I629,Activités!$C$4:$I$534,5,0))","v":{"$error":"#N/A"}},{"$f":"IF(G626=0,\"\",VLOOKUP(DATE($A632,$A634,G626)+$I629,Activités!$C$4:$I$534,5,0))","v":{"$error":"#N/A"}},{"$f":"IF(H626=0,\"\",VLOOKUP(DATE($A632,$A634,H626)+$I629,Activités!$C$4:$I$534,5,0))","v":{"$error":"#N/A"}},{"$f":"+I627+0.1","v":0.2},null,null,null,null,null,null,null,null,null,null,null,null,null,null,null,null,null,{"$f":"AA628","v":""},"","","","","",""]
[null,{"$f":"IF(ISNA(B629),\"\",B629)","v":""},"","","","","","",null,null,null,null,null,null,null,null,null,null,null,null,null,null,null,null,null,null,{"$f":"IF(LEFT(B630,7)=\"CDT-145\",\"CDT-145\",IF(LEFT(B630,7)=\"CDT-135\",\"CDT-135\",AA626))","v":""},"","","","","",""]
[null,{"$f":"IF(B626=0,\"\",VLOOKUP(DATE($A632,$A634,B626)+$I631,Activités!$C$4:$I$534,5,0))","v":""},{"$f":"IF(C626=0,\"\",VLOOKUP(DATE($A632,$A634,C626)+$I631,Activités!$C$4:$I$534,5,0))","v":""},{"$f":"IF(D626=0,\"\",VLOOKUP(DATE($A632,$A634,D626)+$I631,Activités!$C$4:$I$534,5,0))","v":{"$error":"#N/A"}},{"$f":"IF(E626=0,\"\",VLOOKUP(DATE($A632,$A634,E626)+$I631,Activités!$C$4:$I$534,5,0))","v":{"$error":"#N/A"}},{"$f":"IF(F626=0,\"\",VLOOKUP(DATE($A632,$A634,F626)+$I631,Activités!$C$4:$I$534,5,0))","v":{"$error":"#N/A"}},{"$f":"IF(G626=0,\"\",VLOOKUP(DATE($A632,$A634,G626)+$I631,Activités!$C$4:$I$534,5,0))","v":{"$error":"#N/A"}},{"$f":"IF(H626=0,\"\",VLOOKUP(DATE($A632,$A634,H626)+$I631,Activités!$C$4:$I$534,5,0))","v":{"$error":"#N/A"}},{"$f":"+I629+0.1","v":0.30000000000000004},null,null,null,null,null,null,null,null,null,null,null,null,null,null,null,null,null,{"$f":"AA630","v":""},"","","","","",""]
[{"$f":"H624","v":2018},{"$f":"IF(ISNA(B631),\"\",B631)","v":""},"","","","","","",null,null,null,null,null,null,null,null,null,null,null,null,null,null,null,null,null,null,{"$f":"IF(LEFT(B632,7)=\"CDT-145\",\"CDT-145\",IF(LEFT(B632,7)=\"CDT-135\",\"CDT-135\",AA626))","v":""},"","","","","",""]
[null,{"$f":"IF(B626=0,\"\",VLOOKUP(DATE($A632,$A634,B626)+$I633,Activités!$C$4:$I$534,5,0))","v":""},{"$f":"IF(C626=0,\"\",VLOOKUP(DATE($A632,$A634,C626)+$I633,Activités!$C$4:$I$534,5,0))","v":""},{"$f":"IF(D626=0,\"\",VLOOKUP(DATE($A632,$A634,D626)+$I633,Activités!$C$4:$I$534,5,0))","v":{"$error":"#N/A"}},{"$f":"IF(E626=0,\"\",VLOOKUP(DATE($A632,$A634,E626)+$I633,Activités!$C$4:$I$534,5,0))","v":{"$error":"#N/A"}},{"$f":"IF(F626=0,\"\",VLOOKUP(DATE($A632,$A634,F626)+$I633,Activités!$C$4:$I$534,5,0))","v":{"$error":"#N/A"}},{"$f":"IF(G626=0,\"\",VLOOKUP(DATE($A632,$A634,G626)+$I633,Activités!$C$4:$I$534,5,0))","v":{"$error":"#N/A"}},{"$f":"IF(H626=0,\"\",VLOOKUP(DATE($A632,$A634,H626)+$I633,Activités!$C$4:$I$534,5,0))","v":{"$error":"#N/A"}},{"$f":"+I631+0.1","v":0.4},null,null,null,null,null,null,null,null,null,null,null,null,null,null,null,null,null,{"$f":"AA632","v":""},"","","","","",""]
[5,{"$f":"IF(ISNA(B633),\"\",B633)","v":""},"","","","","","",null,null,null,null,null,null,null,null,null,null,null,null,null,null,null,null,null,null,{"$f":"IF(LEFT(B634,7)=\"CDT-145\",\"CDT-145\",IF(LEFT(B634,7)=\"CDT-135\",\"CDT-135\",AA626))","v":""},"","","","","",""]
[null,{"$f":"IF(B626=0,\"\",VLOOKUP(DATE($A632,$A634,B626)+$I635,Activités!$C$4:$I$534,5,0))","v":""},{"$f":"IF(C626=0,\"\",VLOOKUP(DATE($A632,$A634,C626)+$I635,Activités!$C$4:$I$534,5,0))","v":""},{"$f":"IF(D626=0,\"\",VLOOKUP(DATE($A632,$A634,D626)+$I635,Activités!$C$4:$I$534,5,0))","v":{"$error":"#N/A"}},{"$f":"IF(E626=0,\"\",VLOOKUP(DATE($A632,$A634,E626)+$I635,Activités!$C$4:$I$534,5,0))","v":{"$error":"#N/A"}},{"$f":"IF(F626=0,\"\",VLOOKUP(DATE($A632,$A634,F626)+$I635,Activités!$C$4:$I$534,5,0))","v":{"$error":"#N/A"}},{"$f":"IF(G626=0,\"\",VLOOKUP(DATE($A632,$A634,G626)+$I635,Activités!$C$4:$I$534,5,0))","v":{"$error":"#N/A"}},{"$f":"IF(H626=0,\"\",VLOOKUP(DATE($A632,$A634,H626)+$I635,Activités!$C$4:$I$534,5,0))","v":{"$error":"#N/A"}},{"$f":"+I633+0.1","v":0.5},null,null,null,null,null,null,null,null,null,null,null,null,null,null,null,null,null,{"$f":"AA634","v":""},"","","","","",""]
[31,{"$f":"IF(ISNA(B635),\"\",B635)","v":""},"","","","","","",null,null,null,null,null,null,null,null,null,null,null,null,null,null,null,null,null,null,{"$f":"IF(LEFT(B636,7)=\"CDT-145\",\"CDT-145\",IF(LEFT(B636,7)=\"CDT-135\",\"CDT-135\",AA626))","v":""},"","","","","",""]
[{"$f":"H626","v":5},{"$f":"IF(OR(A637=$A648,A637=0),0,A637+1)","v":6},7,8,9,10,11,12,null,null,null,null,null,null,null,null,null,null,null,null,null,null,null,null,null,null,{"$f":"IF(AND($B637=0,$H637=0),\"Invisible\",\"\")","v":""},{"$f":"IF(AND($B637=0,$H637=0),\"Invisible\",\"\")","v":""},"","","","",""]
[null,{"$f":"VLOOKUP(205,Traduction!$B$6:$D$250,'Info de l''escadron'!$A$1+1,0)","v":"Soumettre pour le 15 mai, votre proposition des dates de sorties de fin de semaine des escadrons et matériel de soutien à l'instruction."}]
[null,{"$f":"IF(B637=0,\"\",VLOOKUP(DATE($A644,$A646,B637)+$I639,Activités!$C$4:$I$534,5,0))","v":{"$error":"#N/A"}},{"$f":"IF(C637=0,\"\",VLOOKUP(DATE($A644,$A646,C637)+$I639,Activités!$C$4:$I$534,5,0))","v":{"$error":"#N/A"}},{"$f":"IF(D637=0,\"\",VLOOKUP(DATE($A644,$A646,D637)+$I639,Activités!$C$4:$I$534,5,0))","v":{"$error":"#N/A"}},{"$f":"IF(E637=0,\"\",VLOOKUP(DATE($A644,$A646,E637)+$I639,Activités!$C$4:$I$534,5,0))","v":{"$error":"#N/A"}},{"$f":"IF(F637=0,\"\",VLOOKUP(DATE($A644,$A646,F637)+$I639,Activités!$C$4:$I$534,5,0))","v":{"$error":"#N/A"}},{"$f":"IF(G637=0,\"\",VLOOKUP(DATE($A644,$A646,G637)+$I639,Activités!$C$4:$I$534,5,0))","v":{"$error":"#N/A"}},{"$f":"IF(H637=0,\"\",VLOOKUP(DATE($A644,$A646,H637)+$I639,Activités!$C$4:$I$534,5,0))","v":{"$error":"#N/A"}},0.1,null,null,null,null,null,null,null,null,null,null,null,null,null,null,null,null,null,{"$f":"AA637","v":""},"","","","","",""]
[null,{"$f":"IF(ISNA(B639),\"\",B639)","v":""},{"$f":"IF(ISNA(C639),\"\",C639)","v":""},"","","","","",null,null,null,null,null,null,null,null,null,null,null,null,null,null,null,null,null,null,{"$f":"IF(LEFT(B640,7)=\"CDT-145\",\"CDT-145\",IF(LEFT(B640,7)=\"CDT-135\",\"CDT-135\",AA637))","v":""},"","","","","",""]
[null,{"$f":"IF(B637=0,\"\",VLOOKUP(DATE($A644,$A646,B637)+$I641,Activités!$C$4:$I$534,5,0))","v":{"$error":"#N/A"}},{"$f":"IF(C637=0,\"\",VLOOKUP(DATE($A644,$A646,C637)+$I641,Activités!$C$4:$I$534,5,0))","v":{"$error":"#N/A"}},{"$f":"IF(D637=0,\"\",VLOOKUP(DATE($A644,$A646,D637)+$I641,Activités!$C$4:$I$534,5,0))","v":{"$error":"#N/A"}},{"$f":"IF(E637=0,\"\",VLOOKUP(DATE($A644,$A646,E637)+$I641,Activités!$C$4:$I$534,5,0))","v":{"$error":"#N/A"}},{"$f":"IF(F637=0,\"\",VLOOKUP(DATE($A644,$A646,F637)+$I641,Activités!$C$4:$I$534,5,0))","v":{"$error":"#N/A"}},{"$f":"IF(G637=0,\"\",VLOOKUP(DATE($A644,$A646,G637)+$I641,Activités!$C$4:$I$534,5,0))","v":{"$error":"#N/A"}},{"$f":"IF(H637=0,\"\",VLOOKUP(DATE($A644,$A646,H637)+$I641,Activités!$C$4:$I$534,5,0))","v":{"$error":"#N/A"}},{"$f":"+I639+0.1","v":0.2},null,null,null,null,null,null,null,null,null,null,null,null,null,null,null,null,null,{"$f":"AA640","v":""},"","","","","",""]
[null,{"$f":"IF(ISNA(B641),\"\",B641)","v":""},"","","","","","",null,null,null,null,null,null,null,null,null,null,null,null,null,null,null,null,null,null,{"$f":"IF(LEFT(B642,7)=\"CDT-145\",\"CDT-145\",IF(LEFT(B642,7)=\"CDT-135\",\"CDT-135\",AA637))","v":""},"","","","","",""]
[null,{"$f":"IF(B637=0,\"\",VLOOKUP(DATE($A644,$A646,B637)+$I643,Activités!$C$4:$I$534,5,0))","v":{"$error":"#N/A"}},{"$f":"IF(C637=0,\"\",VLOOKUP(DATE($A644,$A646,C637)+$I643,Activités!$C$4:$I$534,5,0))","v":{"$error":"#N/A"}},{"$f":"IF(D637=0,\"\",VLOOKUP(DATE($A644,$A646,D637)+$I643,Activités!$C$4:$I$534,5,0))","v":{"$error":"#N/A"}},{"$f":"IF(E637=0,\"\",VLOOKUP(DATE($A644,$A646,E637)+$I643,Activités!$C$4:$I$534,5,0))","v":{"$error":"#N/A"}},{"$f":"IF(F637=0,\"\",VLOOKUP(DATE($A644,$A646,F637)+$I643,Activités!$C$4:$I$534,5,0))","v":{"$error":"#N/A"}},{"$f":"IF(G637=0,\"\",VLOOKUP(DATE($A644,$A646,G637)+$I643,Activités!$C$4:$I$534,5,0))","v":{"$error":"#N/A"}},{"$f":"IF(H637=0,\"\",VLOOKUP(DATE($A644,$A646,H637)+$I643,Activités!$C$4:$I$534,5,0))","v":{"$error":"#N/A"}},{"$f":"+I641+0.1","v":0.30000000000000004},null,null,null,null,null,null,null,null,null,null,null,null,null,null,null,null,null,{"$f":"AA642","v":""},"","","","","",""]
[{"$f":"A632","v":2018},{"$f":"IF(ISNA(B643),\"\",B643)","v":""},"","","","","","",null,null,null,null,null,null,null,null,null,null,null,null,null,null,null,null,null,null,{"$f":"IF(LEFT(B644,7)=\"CDT-145\",\"CDT-145\",IF(LEFT(B644,7)=\"CDT-135\",\"CDT-135\",AA637))","v":""},"","","","","",""]
[null,{"$f":"IF(B637=0,\"\",VLOOKUP(DATE($A644,$A646,B637)+$I645,Activités!$C$4:$I$534,5,0))","v":{"$error":"#N/A"}},{"$f":"IF(C637=0,\"\",VLOOKUP(DATE($A644,$A646,C637)+$I645,Activités!$C$4:$I$534,5,0))","v":{"$error":"#N/A"}},{"$f":"IF(D637=0,\"\",VLOOKUP(DATE($A644,$A646,D637)+$I645,Activités!$C$4:$I$534,5,0))","v":{"$error":"#N/A"}},{"$f":"IF(E637=0,\"\",VLOOKUP(DATE($A644,$A646,E637)+$I645,Activités!$C$4:$I$534,5,0))","v":{"$error":"#N/A"}},{"$f":"IF(F637=0,\"\",VLOOKUP(DATE($A644,$A646,F637)+$I645,Activités!$C$4:$I$534,5,0))","v":{"$error":"#N/A"}},{"$f":"IF(G637=0,\"\",VLOOKUP(DATE($A644,$A646,G637)+$I645,Activités!$C$4:$I$534,5,0))","v":{"$error":"#N/A"}},{"$f":"IF(H637=0,\"\",VLOOKUP(DATE($A644,$A646,H637)+$I645,Activités!$C$4:$I$534,5,0))","v":{"$error":"#N/A"}},{"$f":"+I643+0.1","v":0.4},null,null,null,null,null,null,null,null,null,null,null,null,null,null,null,null,null,{"$f":"AA644","v":""},"","","","","",""]
[{"$f":"A634","v":5},{"$f":"IF(ISNA(B645),\"\",B645)","v":""},"","","","","","",null,null,null,null,null,null,null,null,null,null,null,null,null,null,null,null,null,null,{"$f":"IF(LEFT(B646,7)=\"CDT-145\",\"CDT-145\",IF(LEFT(B646,7)=\"CDT-135\",\"CDT-135\",AA637))","v":""},"","","","","",""]
[null,{"$f":"IF(B637=0,\"\",VLOOKUP(DATE($A644,$A646,B637)+$I647,Activités!$C$4:$I$534,5,0))","v":{"$error":"#N/A"}},{"$f":"IF(C637=0,\"\",VLOOKUP(DATE($A644,$A646,C637)+$I647,Activités!$C$4:$I$534,5,0))","v":{"$error":"#N/A"}},{"$f":"IF(D637=0,\"\",VLOOKUP(DATE($A644,$A646,D637)+$I647,Activités!$C$4:$I$534,5,0))","v":{"$error":"#N/A"}},{"$f":"IF(E637=0,\"\",VLOOKUP(DATE($A644,$A646,E637)+$I647,Activités!$C$4:$I$534,5,0))","v":{"$error":"#N/A"}},{"$f":"IF(F637=0,\"\",VLOOKUP(DATE($A644,$A646,F637)+$I647,Activités!$C$4:$I$534,5,0))","v":{"$error":"#N/A"}},{"$f":"IF(G637=0,\"\",VLOOKUP(DATE($A644,$A646,G637)+$I647,Activités!$C$4:$I$534,5,0))","v":{"$error":"#N/A"}},{"$f":"IF(H637=0,\"\",VLOOKUP(DATE($A644,$A646,H637)+$I647,Activités!$C$4:$I$534,5,0))","v":{"$error":"#N/A"}},{"$f":"+I645+0.1","v":0.5},null,null,null,null,null,null,null,null,null,null,null,null,null,null,null,null,null,{"$f":"AA646","v":""},"","","","","",""]
[{"$f":"A636","v":31},{"$f":"IF(ISNA(B647),\"\",B647)","v":""},"","","","","","",null,null,null,null,null,null,null,null,null,null,null,null,null,null,null,null,null,null,{"$f":"IF(LEFT(B648,7)=\"CDT-145\",\"CDT-145\",IF(LEFT(B648,7)=\"CDT-135\",\"CDT-135\",AA637))","v":""},"","","","","",""]
[{"$f":"H637","v":12},{"$f":"IF(OR(A649=$A659,A649=0),0,A649+1)","v":13},14,15,16,17,18,19,null,null,null,null,null,null,null,null,null,null,null,null,null,null,null,null,null,null,{"$f":"IF(AND($B649=0,$H649=0),\"Invisible\",\"\")","v":""},{"$f":"IF(AND($B649=0,$H649=0),\"Invisible\",\"\")","v":""},"","","","",""]
[null,{"$f":"IF(B649=0,\"\",VLOOKUP(DATE($A655,$A657,B649)+$I650,Activités!$C$4:$I$534,5,0))","v":{"$error":"#N/A"}},{"$f":"IF(C649=0,\"\",VLOOKUP(DATE($A655,$A657,C649)+$I650,Activités!$C$4:$I$534,5,0))","v":{"$error":"#N/A"}},{"$f":"IF(D649=0,\"\",VLOOKUP(DATE($A655,$A657,D649)+$I650,Activités!$C$4:$I$534,5,0))","v":{"$error":"#N/A"}},{"$f":"IF(E649=0,\"\",VLOOKUP(DATE($A655,$A657,E649)+$I650,Activités!$C$4:$I$534,5,0))","v":{"$error":"#N/A"}},{"$f":"IF(F649=0,\"\",VLOOKUP(DATE($A655,$A657,F649)+$I650,Activités!$C$4:$I$534,5,0))","v":{"$error":"#N/A"}},{"$f":"IF(G649=0,\"\",VLOOKUP(DATE($A655,$A657,G649)+$I650,Activités!$C$4:$I$534,5,0))","v":{"$error":"#N/A"}},{"$f":"IF(H649=0,\"\",VLOOKUP(DATE($A655,$A657,H649)+$I650,Activités!$C$4:$I$534,5,0))","v":{"$error":"#N/A"}},0.1,null,null,null,null,null,null,null,null,null,null,null,null,null,null,null,null,null,{"$f":"AA649","v":""},"","","","","",""]
[null,{"$f":"IF(ISNA(B650),\"\",B650)","v":""},{"$f":"IF(ISNA(C650),\"\",C650)","v":""},"","","","","",null,null,null,null,null,null,null,null,null,null,null,null,null,null,null,null,null,null,{"$f":"IF(LEFT(B651,7)=\"CDT-145\",\"CDT-145\",IF(LEFT(B651,7)=\"CDT-135\",\"CDT-135\",AA649))","v":""},"","","","","",""]
[null,{"$f":"IF(B649=0,\"\",VLOOKUP(DATE($A655,$A657,B649)+$I652,Activités!$C$4:$I$534,5,0))","v":{"$error":"#N/A"}},{"$f":"IF(C649=0,\"\",VLOOKUP(DATE($A655,$A657,C649)+$I652,Activités!$C$4:$I$534,5,0))","v":{"$error":"#N/A"}},{"$f":"IF(D649=0,\"\",VLOOKUP(DATE($A655,$A657,D649)+$I652,Activités!$C$4:$I$534,5,0))","v":{"$error":"#N/A"}},{"$f":"IF(E649=0,\"\",VLOOKUP(DATE($A655,$A657,E649)+$I652,Activités!$C$4:$I$534,5,0))","v":{"$error":"#N/A"}},{"$f":"IF(F649=0,\"\",VLOOKUP(DATE($A655,$A657,F649)+$I652,Activités!$C$4:$I$534,5,0))","v":{"$error":"#N/A"}},{"$f":"IF(G649=0,\"\",VLOOKUP(DATE($A655,$A657,G649)+$I652,Activités!$C$4:$I$534,5,0))","v":{"$error":"#N/A"}},{"$f":"IF(H649=0,\"\",VLOOKUP(DATE($A655,$A657,H649)+$I652,Activités!$C$4:$I$534,5,0))","v":{"$error":"#N/A"}},{"$f":"+I650+0.1","v":0.2},null,null,null,null,null,null,null,null,null,null,null,null,null,null,null,null,null,{"$f":"AA651","v":""},"","","","","",""]
[null,{"$f":"IF(ISNA(B652),\"\",B652)","v":""},"","","","","","",null,null,null,null,null,null,null,null,null,null,null,null,null,null,null,null,null,null,{"$f":"IF(LEFT(B653,7)=\"CDT-145\",\"CDT-145\",IF(LEFT(B653,7)=\"CDT-135\",\"CDT-135\",AA649))","v":""},"","","","","",""]
[null,{"$f":"IF(B649=0,\"\",VLOOKUP(DATE($A655,$A657,B649)+$I654,Activités!$C$4:$I$534,5,0))","v":{"$error":"#N/A"}},{"$f":"IF(C649=0,\"\",VLOOKUP(DATE($A655,$A657,C649)+$I654,Activités!$C$4:$I$534,5,0))","v":{"$error":"#N/A"}},{"$f":"IF(D649=0,\"\",VLOOKUP(DATE($A655,$A657,D649)+$I654,Activités!$C$4:$I$534,5,0))","v":{"$error":"#N/A"}},{"$f":"IF(E649=0,\"\",VLOOKUP(DATE($A655,$A657,E649)+$I654,Activités!$C$4:$I$534,5,0))","v":{"$error":"#N/A"}},{"$f":"IF(F649=0,\"\",VLOOKUP(DATE($A655,$A657,F649)+$I654,Activités!$C$4:$I$534,5,0))","v":{"$error":"#N/A"}},{"$f":"IF(G649=0,\"\",VLOOKUP(DATE($A655,$A657,G649)+$I654,Activités!$C$4:$I$534,5,0))","v":{"$error":"#N/A"}},{"$f":"IF(H649=0,\"\",VLOOKUP(DATE($A655,$A657,H649)+$I654,Activités!$C$4:$I$534,5,0))","v":{"$error":"#N/A"}},{"$f":"+I652+0.1","v":0.30000000000000004},null,null,null,null,null,null,null,null,null,null,null,null,null,null,null,null,null,{"$f":"AA653","v":""},"","","","","",""]
[{"$f":"A644","v":2018},{"$f":"IF(ISNA(B654),\"\",B654)","v":""},"","","","","","",null,null,null,null,null,null,null,null,null,null,null,null,null,null,null,null,null,null,{"$f":"IF(LEFT(B655,7)=\"CDT-145\",\"CDT-145\",IF(LEFT(B655,7)=\"CDT-135\",\"CDT-135\",AA649))","v":""},"","","","","",""]
[null,{"$f":"IF(B649=0,\"\",VLOOKUP(DATE($A655,$A657,B649)+$I656,Activités!$C$4:$I$534,5,0))","v":{"$error":"#N/A"}},{"$f":"IF(C649=0,\"\",VLOOKUP(DATE($A655,$A657,C649)+$I656,Activités!$C$4:$I$534,5,0))","v":{"$error":"#N/A"}},{"$f":"IF(D649=0,\"\",VLOOKUP(DATE($A655,$A657,D649)+$I656,Activités!$C$4:$I$534,5,0))","v":{"$error":"#N/A"}},{"$f":"IF(E649=0,\"\",VLOOKUP(DATE($A655,$A657,E649)+$I656,Activités!$C$4:$I$534,5,0))","v":{"$error":"#N/A"}},{"$f":"IF(F649=0,\"\",VLOOKUP(DATE($A655,$A657,F649)+$I656,Activités!$C$4:$I$534,5,0))","v":{"$error":"#N/A"}},{"$f":"IF(G649=0,\"\",VLOOKUP(DATE($A655,$A657,G649)+$I656,Activités!$C$4:$I$534,5,0))","v":{"$error":"#N/A"}},{"$f":"IF(H649=0,\"\",VLOOKUP(DATE($A655,$A657,H649)+$I656,Activités!$C$4:$I$534,5,0))","v":{"$error":"#N/A"}},{"$f":"+I654+0.1","v":0.4},null,null,null,null,null,null,null,null,null,null,null,null,null,null,null,null,null,{"$f":"AA655","v":""},"","","","","",""]
[{"$f":"A646","v":5},{"$f":"IF(ISNA(B656),\"\",B656)","v":""},"","","","","","",null,null,null,null,null,null,null,null,null,null,null,null,null,null,null,null,null,null,{"$f":"IF(LEFT(B657,7)=\"CDT-145\",\"CDT-145\",IF(LEFT(B657,7)=\"CDT-135\",\"CDT-135\",AA649))","v":""},"","","","","",""]
[null,{"$f":"IF(B649=0,\"\",VLOOKUP(DATE($A655,$A657,B649)+$I658,Activités!$C$4:$I$534,5,0))","v":{"$error":"#N/A"}},{"$f":"IF(C649=0,\"\",VLOOKUP(DATE($A655,$A657,C649)+$I658,Activités!$C$4:$I$534,5,0))","v":{"$error":"#N/A"}},{"$f":"IF(D649=0,\"\",VLOOKUP(DATE($A655,$A657,D649)+$I658,Activités!$C$4:$I$534,5,0))","v":{"$error":"#N/A"}},{"$f":"IF(E649=0,\"\",VLOOKUP(DATE($A655,$A657,E649)+$I658,Activités!$C$4:$I$534,5,0))","v":{"$error":"#N/A"}},{"$f":"IF(F649=0,\"\",VLOOKUP(DATE($A655,$A657,F649)+$I658,Activités!$C$4:$I$534,5,0))","v":{"$error":"#N/A"}},{"$f":"IF(G649=0,\"\",VLOOKUP(DATE($A655,$A657,G649)+$I658,Activités!$C$4:$I$534,5,0))","v":{"$error":"#N/A"}},{"$f":"IF(H649=0,\"\",VLOOKUP(DATE($A655,$A657,H649)+$I658,Activités!$C$4:$I$534,5,0))","v":{"$error":"#N/A"}},{"$f":"+I656+0.1","v":0.5},null,null,null,null,null,null,null,null,null,null,null,null,null,null,null,null,null,{"$f":"AA657","v":""},"","","","","",""]
[{"$f":"A648","v":31},{"$f":"IF(ISNA(B658),\"\",B658)","v":""},"","","","","","",null,null,null,null,null,null,null,null,null,null,null,null,null,null,null,null,null,null,{"$f":"IF(LEFT(B659,7)=\"CDT-145\",\"CDT-145\",IF(LEFT(B659,7)=\"CDT-135\",\"CDT-135\",AA649))","v":""},"","","","","",""]
[{"$f":"H649","v":19},{"$f":"IF(OR(A660=$A670,A660=0),0,A660+1)","v":20},21,22,23,24,25,26,null,null,null,null,null,null,null,null,null,null,null,null,null,null,null,null,null,null,{"$f":"IF(AND($B660=0,$H660=0),\"Invisible\",\"\")","v":""},{"$f":"IF(AND($B660=0,$H660=0),\"Invisible\",\"\")","v":""},"","","","",""]
[null,{"$f":"IF(B660=0,\"\",VLOOKUP(DATE($A666,$A668,B660)+$I661,Activités!$C$4:$I$534,5,0))","v":0},{"$f":"IF(C660=0,\"\",VLOOKUP(DATE($A666,$A668,C660)+$I661,Activités!$C$4:$I$534,5,0))","v":"CDT-135 - "},{"$f":"IF(D660=0,\"\",VLOOKUP(DATE($A666,$A668,D660)+$I661,Activités!$C$4:$I$534,5,0))","v":{"$error":"#N/A"}},{"$f":"IF(E660=0,\"\",VLOOKUP(DATE($A666,$A668,E660)+$I661,Activités!$C$4:$I$534,5,0))","v":{"$error":"#N/A"}},{"$f":"IF(F660=0,\"\",VLOOKUP(DATE($A666,$A668,F660)+$I661,Activités!$C$4:$I$534,5,0))","v":{"$error":"#N/A"}},{"$f":"IF(G660=0,\"\",VLOOKUP(DATE($A666,$A668,G660)+$I661,Activités!$C$4:$I$534,5,0))","v":{"$error":"#N/A"}},{"$f":"IF(H660=0,\"\",VLOOKUP(DATE($A666,$A668,H660)+$I661,Activités!$C$4:$I$534,5,0))","v":{"$error":"#N/A"}},0.1,null,null,null,null,null,null,null,null,null,null,null,null,null,null,null,null,null,{"$f":"AA660","v":""},"","","","","",""]
[null,{"$f":"IF(ISNA(B661),\"\",B661)","v":0},{"$f":"IF(ISNA(C661),\"\",C661)","v":"CDT-135 - "},"","","","","",null,null,null,null,null,null,null,null,null,null,null,null,null,null,null,null,null,null,{"$f":"IF(LEFT(B662,7)=\"CDT-145\",\"CDT-145\",IF(LEFT(B662,7)=\"CDT-135\",\"CDT-135\",AA660))","v":""},"CDT-135","","","","",""]
[null,{"$f":"IF(B660=0,\"\",VLOOKUP(DATE($A666,$A668,B660)+$I663,Activités!$C$4:$I$534,5,0))","v":{"$error":"#N/A"}},{"$f":"IF(C660=0,\"\",VLOOKUP(DATE($A666,$A668,C660)+$I663,Activités!$C$4:$I$534,5,0))","v":"Inscrire les présences"},{"$f":"IF(D660=0,\"\",VLOOKUP(DATE($A666,$A668,D660)+$I663,Activités!$C$4:$I$534,5,0))","v":{"$error":"#N/A"}},{"$f":"IF(E660=0,\"\",VLOOKUP(DATE($A666,$A668,E660)+$I663,Activités!$C$4:$I$534,5,0))","v":{"$error":"#N/A"}},{"$f":"IF(F660=0,\"\",VLOOKUP(DATE($A666,$A668,F660)+$I663,Activités!$C$4:$I$534,5,0))","v":{"$error":"#N/A"}},{"$f":"IF(G660=0,\"\",VLOOKUP(DATE($A666,$A668,G660)+$I663,Activités!$C$4:$I$534,5,0))","v":{"$error":"#N/A"}},{"$f":"IF(H660=0,\"\",VLOOKUP(DATE($A666,$A668,H660)+$I663,Activités!$C$4:$I$534,5,0))","v":{"$error":"#N/A"}},{"$f":"+I661+0.1","v":0.2},null,null,null,null,null,null,null,null,null,null,null,null,null,null,null,null,null,{"$f":"AA662","v":""},"CDT-135","","","","",""]
[null,{"$f":"IF(ISNA(B663),\"\",B663)","v":""},"Inscrire les présences","","","","","",null,null,null,null,null,null,null,null,null,null,null,null,null,null,null,null,null,null,{"$f":"IF(LEFT(B664,7)=\"CDT-145\",\"CDT-145\",IF(LEFT(B664,7)=\"CDT-135\",\"CDT-135\",AA660))","v":""},"","","","","",""]
[null,{"$f":"IF(B660=0,\"\",VLOOKUP(DATE($A666,$A668,B660)+$I665,Activités!$C$4:$I$534,5,0))","v":{"$error":"#N/A"}},{"$f":"IF(C660=0,\"\",VLOOKUP(DATE($A666,$A668,C660)+$I665,Activités!$C$4:$I$534,5,0))","v":{"$error":"#N/A"}},{"$f":"IF(D660=0,\"\",VLOOKUP(DATE($A666,$A668,D660)+$I665,Activités!$C$4:$I$534,5,0))","v":{"$error":"#N/A"}},{"$f":"IF(E660=0,\"\",VLOOKUP(DATE($A666,$A668,E660)+$I665,Activités!$C$4:$I$534,5,0))","v":{"$error":"#N/A"}},{"$f":"IF(F660=0,\"\",VLOOKUP(DATE($A666,$A668,F660)+$I665,Activités!$C$4:$I$534,5,0))","v":{"$error":"#N/A"}},{"$f":"IF(G660=0,\"\",VLOOKUP(DATE($A666,$A668,G660)+$I665,Activités!$C$4:$I$534,5,0))","v":{"$error":"#N/A"}},{"$f":"IF(H660=0,\"\",VLOOKUP(DATE($A666,$A668,H660)+$I665,Activités!$C$4:$I$534,5,0))","v":{"$error":"#N/A"}},{"$f":"+I663+0.1","v":0.30000000000000004},null,null,null,null,null,null,null,null,null,null,null,null,null,null,null,null,null,{"$f":"AA664","v":""},"","","","","",""]
[{"$f":"A655","v":2018},{"$f":"IF(ISNA(B665),\"\",B665)","v":""},"","","","","","",null,null,null,null,null,null,null,null,null,null,null,null,null,null,null,null,null,null,{"$f":"IF(LEFT(B666,7)=\"CDT-145\",\"CDT-145\",IF(LEFT(B666,7)=\"CDT-135\",\"CDT-135\",AA660))","v":""},"","","","","",""]
[null,{"$f":"IF(B660=0,\"\",VLOOKUP(DATE($A666,$A668,B660)+$I667,Activités!$C$4:$I$534,5,0))","v":{"$error":"#N/A"}},{"$f":"IF(C660=0,\"\",VLOOKUP(DATE($A666,$A668,C660)+$I667,Activités!$C$4:$I$534,5,0))","v":{"$error":"#N/A"}},{"$f":"IF(D660=0,\"\",VLOOKUP(DATE($A666,$A668,D660)+$I667,Activités!$C$4:$I$534,5,0))","v":{"$error":"#N/A"}},{"$f":"IF(E660=0,\"\",VLOOKUP(DATE($A666,$A668,E660)+$I667,Activités!$C$4:$I$534,5,0))","v":{"$error":"#N/A"}},{"$f":"IF(F660=0,\"\",VLOOKUP(DATE($A666,$A668,F660)+$I667,Activités!$C$4:$I$534,5,0))","v":{"$error":"#N/A"}},{"$f":"IF(G660=0,\"\",VLOOKUP(DATE($A666,$A668,G660)+$I667,Activités!$C$4:$I$534,5,0))","v":{"$error":"#N/A"}},{"$f":"IF(H660=0,\"\",VLOOKUP(DATE($A666,$A668,H660)+$I667,Activités!$C$4:$I$534,5,0))","v":{"$error":"#N/A"}},{"$f":"+I665+0.1","v":0.4},null,null,null,null,null,null,null,null,null,null,null,null,null,null,null,null,null,{"$f":"AA666","v":""},"","","","","",""]
[{"$f":"A657","v":5},{"$f":"IF(ISNA(B667),\"\",B667)","v":""},"","","","","","",null,null,null,null,null,null,null,null,null,null,null,null,null,null,null,null,null,null,{"$f":"IF(LEFT(B668,7)=\"CDT-145\",\"CDT-145\",IF(LEFT(B668,7)=\"CDT-135\",\"CDT-135\",AA660))","v":""},"","","","","",""]
[null,{"$f":"IF(B660=0,\"\",VLOOKUP(DATE($A666,$A668,B660)+$I669,Activités!$C$4:$I$534,5,0))","v":{"$error":"#N/A"}},{"$f":"IF(C660=0,\"\",VLOOKUP(DATE($A666,$A668,C660)+$I669,Activités!$C$4:$I$534,5,0))","v":{"$error":"#N/A"}},{"$f":"IF(D660=0,\"\",VLOOKUP(DATE($A666,$A668,D660)+$I669,Activités!$C$4:$I$534,5,0))","v":{"$error":"#N/A"}},{"$f":"IF(E660=0,\"\",VLOOKUP(DATE($A666,$A668,E660)+$I669,Activités!$C$4:$I$534,5,0))","v":{"$error":"#N/A"}},{"$f":"IF(F660=0,\"\",VLOOKUP(DATE($A666,$A668,F660)+$I669,Activités!$C$4:$I$534,5,0))","v":{"$error":"#N/A"}},{"$f":"IF(G660=0,\"\",VLOOKUP(DATE($A666,$A668,G660)+$I669,Activités!$C$4:$I$534,5,0))","v":{"$error":"#N/A"}},{"$f":"IF(H660=0,\"\",VLOOKUP(DATE($A666,$A668,H660)+$I669,Activités!$C$4:$I$534,5,0))","v":{"$error":"#N/A"}},{"$f":"+I667+0.1","v":0.5},null,null,null,null,null,null,null,null,null,null,null,null,null,null,null,null,null,{"$f":"AA668","v":""},"","","","","",""]
[{"$f":"A659","v":31},{"$f":"IF(ISNA(B669),\"\",B669)","v":""},"","","","","","",null,null,null,null,null,null,null,null,null,null,null,null,null,null,null,null,null,null,{"$f":"IF(LEFT(B670,7)=\"CDT-145\",\"CDT-145\",IF(LEFT(B670,7)=\"CDT-135\",\"CDT-135\",AA660))","v":""},"","","","","",""]
[{"$f":"H660","v":26},{"$f":"IF(OR(A671=$A681,A671=0),0,A671+1)","v":27},28,29,30,31,0,0,null,null,null,null,null,null,null,null,null,null,null,null,null,null,null,null,null,null,{"$f":"IF(AND($B671=0,$H671=0),\"Invisible\",\"\")","v":""},{"$f":"IF(AND($B671=0,$H671=0),\"Invisible\",\"\")","v":""},"","","","",""]
[null,{"$f":"IF(B671=0,\"\",VLOOKUP(DATE($A677,$A679,B671)+$I672,Activités!$C$4:$I$534,5,0))","v":{"$error":"#N/A"}},{"$f":"IF(C671=0,\"\",VLOOKUP(DATE($A677,$A679,C671)+$I672,Activités!$C$4:$I$534,5,0))","v":{"$error":"#N/A"}},{"$f":"IF(D671=0,\"\",VLOOKUP(DATE($A677,$A679,D671)+$I672,Activités!$C$4:$I$534,5,0))","v":{"$error":"#N/A"}},{"$f":"IF(E671=0,\"\",VLOOKUP(DATE($A677,$A679,E671)+$I672,Activités!$C$4:$I$534,5,0))","v":{"$error":"#N/A"}},{"$f":"IF(F671=0,\"\",VLOOKUP(DATE($A677,$A679,F671)+$I672,Activités!$C$4:$I$534,5,0))","v":{"$error":"#N/A"}},{"$f":"IF(G671=0,\"\",VLOOKUP(DATE($A677,$A679,G671)+$I672,Activités!$C$4:$I$534,5,0))","v":""},{"$f":"IF(H671=0,\"\",VLOOKUP(DATE($A677,$A679,H671)+$I672,Activités!$C$4:$I$534,5,0))","v":""},0.1,null,null,null,null,null,null,null,null,null,null,null,null,null,null,null,null,null,{"$f":"AA671","v":""},"","","","","",""]
[null,{"$f":"IF(ISNA(B672),\"\",B672)","v":""},{"$f":"IF(ISNA(C672),\"\",C672)","v":""},"","","","","",null,null,null,null,null,null,null,null,null,null,null,null,null,null,null,null,null,null,{"$f":"IF(LEFT(B673,7)=\"CDT-145\",\"CDT-145\",IF(LEFT(B673,7)=\"CDT-135\",\"CDT-135\",AA671))","v":""},"","","","","",""]
[null,{"$f":"IF(B671=0,\"\",VLOOKUP(DATE($A677,$A679,B671)+$I674,Activités!$C$4:$I$534,5,0))","v":{"$error":"#N/A"}},{"$f":"IF(C671=0,\"\",VLOOKUP(DATE($A677,$A679,C671)+$I674,Activités!$C$4:$I$534,5,0))","v":{"$error":"#N/A"}},{"$f":"IF(D671=0,\"\",VLOOKUP(DATE($A677,$A679,D671)+$I674,Activités!$C$4:$I$534,5,0))","v":{"$error":"#N/A"}},{"$f":"IF(E671=0,\"\",VLOOKUP(DATE($A677,$A679,E671)+$I674,Activités!$C$4:$I$534,5,0))","v":{"$error":"#N/A"}},{"$f":"IF(F671=0,\"\",VLOOKUP(DATE($A677,$A679,F671)+$I674,Activités!$C$4:$I$534,5,0))","v":{"$error":"#N/A"}},{"$f":"IF(G671=0,\"\",VLOOKUP(DATE($A677,$A679,G671)+$I674,Activités!$C$4:$I$534,5,0))","v":""},{"$f":"IF(H671=0,\"\",VLOOKUP(DATE($A677,$A679,H671)+$I674,Activités!$C$4:$I$534,5,0))","v":""},{"$f":"+I672+0.1","v":0.2},null,null,null,null,null,null,null,null,null,null,null,null,null,null,null,null,null,{"$f":"AA673","v":""},"","","","","",""]
[null,{"$f":"IF(ISNA(B674),\"\",B674)","v":""},"","","","","","",null,null,null,null,null,null,null,null,null,null,null,null,null,null,null,null,null,null,{"$f":"IF(LEFT(B675,7)=\"CDT-145\",\"CDT-145\",IF(LEFT(B675,7)=\"CDT-135\",\"CDT-135\",AA671))","v":""},"","","","","",""]
[null,{"$f":"IF(B671=0,\"\",VLOOKUP(DATE($A677,$A679,B671)+$I676,Activités!$C$4:$I$534,5,0))","v":{"$error":"#N/A"}},{"$f":"IF(C671=0,\"\",VLOOKUP(DATE($A677,$A679,C671)+$I676,Activités!$C$4:$I$534,5,0))","v":{"$error":"#N/A"}},{"$f":"IF(D671=0,\"\",VLOOKUP(DATE($A677,$A679,D671)+$I676,Activités!$C$4:$I$534,5,0))","v":{"$error":"#N/A"}},{"$f":"IF(E671=0,\"\",VLOOKUP(DATE($A677,$A679,E671)+$I676,Activités!$C$4:$I$534,5,0))","v":{"$error":"#N/A"}},{"$f":"IF(F671=0,\"\",VLOOKUP(DATE($A677,$A679,F671)+$I676,Activités!$C$4:$I$534,5,0))","v":{"$error":"#N/A"}},{"$f":"IF(G671=0,\"\",VLOOKUP(DATE($A677,$A679,G671)+$I676,Activités!$C$4:$I$534,5,0))","v":""},{"$f":"IF(H671=0,\"\",VLOOKUP(DATE($A677,$A679,H671)+$I676,Activités!$C$4:$I$534,5,0))","v":""},{"$f":"+I674+0.1","v":0.30000000000000004},null,null,null,null,null,null,null,null,null,null,null,null,null,null,null,null,null,{"$f":"AA675","v":""},"","","","","",""]
[{"$f":"A666","v":2018},{"$f":"IF(ISNA(B676),\"\",B676)","v":""},"","","","","","",null,null,null,null,null,null,null,null,null,null,null,null,null,null,null,null,null,null,{"$f":"IF(LEFT(B677,7)=\"CDT-145\",\"CDT-145\",IF(LEFT(B677,7)=\"CDT-135\",\"CDT-135\",AA671))","v":""},"","","","","",""]
[null,{"$f":"IF(B671=0,\"\",VLOOKUP(DATE($A677,$A679,B671)+$I678,Activités!$C$4:$I$534,5,0))","v":{"$error":"#N/A"}},{"$f":"IF(C671=0,\"\",VLOOKUP(DATE($A677,$A679,C671)+$I678,Activités!$C$4:$I$534,5,0))","v":{"$error":"#N/A"}},{"$f":"IF(D671=0,\"\",VLOOKUP(DATE($A677,$A679,D671)+$I678,Activités!$C$4:$I$534,5,0))","v":{"$error":"#N/A"}},{"$f":"IF(E671=0,\"\",VLOOKUP(DATE($A677,$A679,E671)+$I678,Activités!$C$4:$I$534,5,0))","v":{"$error":"#N/A"}},{"$f":"IF(F671=0,\"\",VLOOKUP(DATE($A677,$A679,F671)+$I678,Activités!$C$4:$I$534,5,0))","v":{"$error":"#N/A"}},{"$f":"IF(G671=0,\"\",VLOOKUP(DATE($A677,$A679,G671)+$I678,Activités!$C$4:$I$534,5,0))","v":""},{"$f":"IF(H671=0,\"\",VLOOKUP(DATE($A677,$A679,H671)+$I678,Activités!$C$4:$I$534,5,0))","v":""},{"$f":"+I676+0.1","v":0.4},null,null,null,null,null,null,null,null,null,null,null,null,null,null,null,null,null,{"$f":"AA677","v":""},"","","","","",""]
[{"$f":"A668","v":5},{"$f":"IF(ISNA(B678),\"\",B678)","v":""},"","","","","","",null,null,null,null,null,null,null,null,null,null,null,null,null,null,null,null,null,null,{"$f":"IF(LEFT(B679,7)=\"CDT-145\",\"CDT-145\",IF(LEFT(B679,7)=\"CDT-135\",\"CDT-135\",AA671))","v":""},"","","","","",""]
[null,{"$f":"IF(B671=0,\"\",VLOOKUP(DATE($A677,$A679,B671)+$I680,Activités!$C$4:$I$534,5,0))","v":{"$error":"#N/A"}},{"$f":"IF(C671=0,\"\",VLOOKUP(DATE($A677,$A679,C671)+$I680,Activités!$C$4:$I$534,5,0))","v":{"$error":"#N/A"}},{"$f":"IF(D671=0,\"\",VLOOKUP(DATE($A677,$A679,D671)+$I680,Activités!$C$4:$I$534,5,0))","v":{"$error":"#N/A"}},{"$f":"IF(E671=0,\"\",VLOOKUP(DATE($A677,$A679,E671)+$I680,Activités!$C$4:$I$534,5,0))","v":{"$error":"#N/A"}},{"$f":"IF(F671=0,\"\",VLOOKUP(DATE($A677,$A679,F671)+$I680,Activités!$C$4:$I$534,5,0))","v":{"$error":"#N/A"}},{"$f":"IF(G671=0,\"\",VLOOKUP(DATE($A677,$A679,G671)+$I680,Activités!$C$4:$I$534,5,0))","v":""},{"$f":"IF(H671=0,\"\",VLOOKUP(DATE($A677,$A679,H671)+$I680,Activités!$C$4:$I$534,5,0))","v":""},{"$f":"+I678+0.1","v":0.5},null,null,null,null,null,null,null,null,null,null,null,null,null,null,null,null,null,{"$f":"AA679","v":""},"","","","","",""]
[{"$f":"A670","v":31},{"$f":"IF(ISNA(B680),\"\",B680)","v":""},"","","","","","",null,null,null,null,null,null,null,null,null,null,null,null,null,null,null,null,null,null,{"$f":"IF(LEFT(B681,7)=\"CDT-145\",\"CDT-145\",IF(LEFT(B681,7)=\"CDT-135\",\"CDT-135\",AA671))","v":""},"","","","","",""]
[{"$f":"H671","v":0},{"$f":"IF(OR(A682=$A692,A682=0),0,A682+1)","v":0},0,0,0,0,0,0,null,null,null,null,null,null,null,null,null,null,null,null,null,null,null,null,null,null,{"$f":"IF(AND($B682=0,$H682=0),\"Invisible\",\"\")","v":"Invisible"},{"$f":"IF(AND($B682=0,$H682=0),\"Invisible\",\"\")","v":"Invisible"},"Invisible","Invisible","Invisible","Invisible","Invisible"]
[null,{"$f":"IF(B682=0,\"\",VLOOKUP(DATE($A688,$A690,B682)+$I683,Activités!$C$4:$I$534,5,0))","v":""},{"$f":"IF(C682=0,\"\",VLOOKUP(DATE($A688,$A690,C682)+$I683,Activités!$C$4:$I$534,5,0))","v":""},{"$f":"IF(D682=0,\"\",VLOOKUP(DATE($A688,$A690,D682)+$I683,Activités!$C$4:$I$534,5,0))","v":""},{"$f":"IF(E682=0,\"\",VLOOKUP(DATE($A688,$A690,E682)+$I683,Activités!$C$4:$I$534,5,0))","v":""},{"$f":"IF(F682=0,\"\",VLOOKUP(DATE($A688,$A690,F682)+$I683,Activités!$C$4:$I$534,5,0))","v":""},{"$f":"IF(G682=0,\"\",VLOOKUP(DATE($A688,$A690,G682)+$I683,Activités!$C$4:$I$534,5,0))","v":""},{"$f":"IF(H682=0,\"\",VLOOKUP(DATE($A688,$A690,H682)+$I683,Activités!$C$4:$I$534,5,0))","v":""},0.1,null,null,null,null,null,null,null,null,null,null,null,null,null,null,null,null,null,{"$f":"AA682","v":"Invisible"},"Invisible","Invisible","Invisible","Invisible","Invisible","Invisible"]
[null,{"$f":"IF(ISNA(B683),\"\",B683)","v":""},{"$f":"IF(ISNA(C683),\"\",C683)","v":""},"","","","","",null,null,null,null,null,null,null,null,null,null,null,null,null,null,null,null,null,null,{"$f":"IF(LEFT(B684,7)=\"CDT-145\",\"CDT-145\",IF(LEFT(B684,7)=\"CDT-135\",\"CDT-135\",AA682))","v":"Invisible"},"Invisible","Invisible","Invisible","Invisible","Invisible","Invisible"]
[null,{"$f":"IF(B682=0,\"\",VLOOKUP(DATE($A688,$A690,B682)+$I685,Activités!$C$4:$I$534,5,0))","v":""},{"$f":"IF(C682=0,\"\",VLOOKUP(DATE($A688,$A690,C682)+$I685,Activités!$C$4:$I$534,5,0))","v":""},{"$f":"IF(D682=0,\"\",VLOOKUP(DATE($A688,$A690,D682)+$I685,Activités!$C$4:$I$534,5,0))","v":""},{"$f":"IF(E682=0,\"\",VLOOKUP(DATE($A688,$A690,E682)+$I685,Activités!$C$4:$I$534,5,0))","v":""},{"$f":"IF(F682=0,\"\",VLOOKUP(DATE($A688,$A690,F682)+$I685,Activités!$C$4:$I$534,5,0))","v":""},{"$f":"IF(G682=0,\"\",VLOOKUP(DATE($A688,$A690,G682)+$I685,Activités!$C$4:$I$534,5,0))","v":""},{"$f":"IF(H682=0,\"\",VLOOKUP(DATE($A688,$A690,H682)+$I685,Activités!$C$4:$I$534,5,0))","v":""},{"$f":"+I683+0.1","v":0.2},null,null,null,null,null,null,null,null,null,null,null,null,null,null,null,null,null,{"$f":"AA684","v":"Invisible"},"Invisible","Invisible","Invisible","Invisible","Invisible","Invisible"]
[null,{"$f":"IF(ISNA(B685),\"\",B685)","v":""},"","","","","","",null,null,null,null,null,null,null,null,null,null,null,null,null,null,null,null,null,null,{"$f":"IF(LEFT(B686,7)=\"CDT-145\",\"CDT-145\",IF(LEFT(B686,7)=\"CDT-135\",\"CDT-135\",AA682))","v":"Invisible"},"Invisible","Invisible","Invisible","Invisible","Invisible","Invisible"]
[null,{"$f":"IF(B682=0,\"\",VLOOKUP(DATE($A688,$A690,B682)+$I687,Activités!$C$4:$I$534,5,0))","v":""},{"$f":"IF(C682=0,\"\",VLOOKUP(DATE($A688,$A690,C682)+$I687,Activités!$C$4:$I$534,5,0))","v":""},{"$f":"IF(D682=0,\"\",VLOOKUP(DATE($A688,$A690,D682)+$I687,Activités!$C$4:$I$534,5,0))","v":""},{"$f":"IF(E682=0,\"\",VLOOKUP(DATE($A688,$A690,E682)+$I687,Activités!$C$4:$I$534,5,0))","v":""},{"$f":"IF(F682=0,\"\",VLOOKUP(DATE($A688,$A690,F682)+$I687,Activités!$C$4:$I$534,5,0))","v":""},{"$f":"IF(G682=0,\"\",VLOOKUP(DATE($A688,$A690,G682)+$I687,Activités!$C$4:$I$534,5,0))","v":""},{"$f":"IF(H682=0,\"\",VLOOKUP(DATE($A688,$A690,H682)+$I687,Activités!$C$4:$I$534,5,0))","v":""},{"$f":"+I685+0.1","v":0.30000000000000004},null,null,null,null,null,null,null,null,null,null,null,null,null,null,null,null,null,{"$f":"AA686","v":"Invisible"},"Invisible","Invisible","Invisible","Invisible","Invisible","Invisible"]
[{"$f":"A677","v":2018},{"$f":"IF(ISNA(B687),\"\",B687)","v":""},"","","","","","",null,null,null,null,null,null,null,null,null,null,null,null,null,null,null,null,null,null,{"$f":"IF(LEFT(B688,7)=\"CDT-145\",\"CDT-145\",IF(LEFT(B688,7)=\"CDT-135\",\"CDT-135\",AA682))","v":"Invisible"},"Invisible","Invisible","Invisible","Invisible","Invisible","Invisible"]
[null,{"$f":"IF(B682=0,\"\",VLOOKUP(DATE($A688,$A690,B682)+$I689,Activités!$C$4:$I$534,5,0))","v":""},{"$f":"IF(C682=0,\"\",VLOOKUP(DATE($A688,$A690,C682)+$I689,Activités!$C$4:$I$534,5,0))","v":""},{"$f":"IF(D682=0,\"\",VLOOKUP(DATE($A688,$A690,D682)+$I689,Activités!$C$4:$I$534,5,0))","v":""},{"$f":"IF(E682=0,\"\",VLOOKUP(DATE($A688,$A690,E682)+$I689,Activités!$C$4:$I$534,5,0))","v":""},{"$f":"IF(F682=0,\"\",VLOOKUP(DATE($A688,$A690,F682)+$I689,Activités!$C$4:$I$534,5,0))","v":""},{"$f":"IF(G682=0,\"\",VLOOKUP(DATE($A688,$A690,G682)+$I689,Activités!$C$4:$I$534,5,0))","v":""},{"$f":"IF(H682=0,\"\",VLOOKUP(DATE($A688,$A690,H682)+$I689,Activités!$C$4:$I$534,5,0))","v":""},{"$f":"+I687+0.1","v":0.4},null,null,null,null,null,null,null,null,null,null,null,null,null,null,null,null,null,{"$f":"AA688","v":"Invisible"},"Invisible","Invisible","Invisible","Invisible","Invisible","Invisible"]
[{"$f":"A679","v":5},{"$f":"IF(ISNA(B689),\"\",B689)","v":""},"","","","","","",null,null,null,null,null,null,null,null,null,null,null,null,null,null,null,null,null,null,{"$f":"IF(LEFT(B690,7)=\"CDT-145\",\"CDT-145\",IF(LEFT(B690,7)=\"CDT-135\",\"CDT-135\",AA682))","v":"Invisible"},"Invisible","Invisible","Invisible","Invisible","Invisible","Invisible"]
[null,{"$f":"IF(B682=0,\"\",VLOOKUP(DATE($A688,$A690,B682)+$I691,Activités!$C$4:$I$534,5,0))","v":""},{"$f":"IF(C682=0,\"\",VLOOKUP(DATE($A688,$A690,C682)+$I691,Activités!$C$4:$I$534,5,0))","v":""},{"$f":"IF(D682=0,\"\",VLOOKUP(DATE($A688,$A690,D682)+$I691,Activités!$C$4:$I$534,5,0))","v":""},{"$f":"IF(E682=0,\"\",VLOOKUP(DATE($A688,$A690,E682)+$I691,Activités!$C$4:$I$534,5,0))","v":""},{"$f":"IF(F682=0,\"\",VLOOKUP(DATE($A688,$A690,F682)+$I691,Activités!$C$4:$I$534,5,0))","v":""},{"$f":"IF(G682=0,\"\",VLOOKUP(DATE($A688,$A690,G682)+$I691,Activités!$C$4:$I$534,5,0))","v":""},{"$f":"IF(H682=0,\"\",VLOOKUP(DATE($A688,$A690,H682)+$I691,Activités!$C$4:$I$534,5,0))","v":""},{"$f":"+I689+0.1","v":0.5},null,null,null,null,null,null,null,null,null,null,null,null,null,null,null,null,null,{"$f":"AA690","v":"Invisible"},"Invisible","Invisible","Invisible","Invisible","Invisible","Invisible"]
[{"$f":"A681","v":31},{"$f":"IF(ISNA(B691),\"\",B691)","v":""},"","","","","","",null,null,null,null,null,null,null,null,null,null,null,null,null,null,null,null,null,null,{"$f":"IF(LEFT(B692,7)=\"CDT-145\",\"CDT-145\",IF(LEFT(B692,7)=\"CDT-135\",\"CDT-135\",AA682))","v":"Invisible"},"Invisible","Invisible","Invisible","Invisible","Invisible","Invisible"]
[]
[null,{"$f":"VLOOKUP(113,Traduction!$B$6:$D$250,'Info de l''escadron'!$A$1+1,0)","v":"JUIN"},null,null,null,null,null,{"$f":"H624","v":2018}]
[null,{"$f":"B$4","v":"Dimanche"},{"$f":"C$4","v":"Lundi"},"Mardi","Mercredi","Jeudi","Vendredi","Samedi"]
[null,{"$f":"IF(WEEKDAY(DATE($H694,$A704,1),1)=B$2,1,IF(A696=0,0,A696+1))","v":0},0,0,0,0,1,2,null,null,null,null,null,null,null,null,null,null,null,null,null,null,null,null,null,null,{"$f":"IF(AND($B696=0,$H696=0),\"Invisible\",\"\")","v":""},{"$f":"IF(AND($B696=0,$H696=0),\"Invisible\",\"\")","v":""},"","","","",""]
[null,{"$f":"IF(B696=0,\"\",VLOOKUP(DATE($A702,$A704,B696)+$I697,Activités!$C$4:$I$534,5,0))","v":""},{"$f":"IF(C696=0,\"\",VLOOKUP(DATE($A702,$A704,C696)+$I697,Activités!$C$4:$I$534,5,0))","v":""},{"$f":"IF(D696=0,\"\",VLOOKUP(DATE($A702,$A704,D696)+$I697,Activités!$C$4:$I$534,5,0))","v":""},{"$f":"IF(E696=0,\"\",VLOOKUP(DATE($A702,$A704,E696)+$I697,Activités!$C$4:$I$534,5,0))","v":""},{"$f":"IF(F696=0,\"\",VLOOKUP(DATE($A702,$A704,F696)+$I697,Activités!$C$4:$I$534,5,0))","v":""},{"$f":"IF(G696=0,\"\",VLOOKUP(DATE($A702,$A704,G696)+$I697,Activités!$C$4:$I$534,5,0))","v":{"$error":"#N/A"}},{"$f":"IF(H696=0,\"\",VLOOKUP(DATE($A702,$A704,H696)+$I697,Activités!$C$4:$I$534,5,0))","v":{"$error":"#N/A"}},0.1,null,null,null,null,null,null,null,null,null,null,null,null,null,null,null,null,null,{"$f":"AA696","v":""},"","","","","",""]
[null,{"$f":"IF(ISNA(B697),\"\",B697)","v":""},{"$f":"IF(ISNA(C697),\"\",C697)","v":""},"","","","","",null,null,null,null,null,null,null,null,null,null,null,null,null,null,null,null,null,null,{"$f":"IF(LEFT(B698,7)=\"CDT-145\",\"CDT-145\",IF(LEFT(B698,7)=\"CDT-135\",\"CDT-135\",AA696))","v":""},"","","","","",""]
[null,{"$f":"IF(B696=0,\"\",VLOOKUP(DATE($A702,$A704,B696)+$I699,Activités!$C$4:$I$534,5,0))","v":""},{"$f":"IF(C696=0,\"\",VLOOKUP(DATE($A702,$A704,C696)+$I699,Activités!$C$4:$I$534,5,0))","v":""},{"$f":"IF(D696=0,\"\",VLOOKUP(DATE($A702,$A704,D696)+$I699,Activités!$C$4:$I$534,5,0))","v":""},{"$f":"IF(E696=0,\"\",VLOOKUP(DATE($A702,$A704,E696)+$I699,Activités!$C$4:$I$534,5,0))","v":""},{"$f":"IF(F696=0,\"\",VLOOKUP(DATE($A702,$A704,F696)+$I699,Activités!$C$4:$I$534,5,0))","v":""},{"$f":"IF(G696=0,\"\",VLOOKUP(DATE($A702,$A704,G696)+$I699,Activités!$C$4:$I$534,5,0))","v":{"$error":"#N/A"}},{"$f":"IF(H696=0,\"\",VLOOKUP(DATE($A702,$A704,H696)+$I699,Activités!$C$4:$I$534,5,0))","v":{"$error":"#N/A"}},{"$f":"+I697+0.1","v":0.2},null,null,null,null,null,null,null,null,null,null,null,null,null,null,null,null,null,{"$f":"AA698","v":""},"","","","","",""]
[null,{"$f":"IF(ISNA(B699),\"\",B699)","v":""},"","","","","","",null,null,null,null,null,null,null,null,null,null,null,null,null,null,null,null,null,null,{"$f":"IF(LEFT(B700,7)=\"CDT-145\",\"CDT-145\",IF(LEFT(B700,7)=\"CDT-135\",\"CDT-135\",AA696))","v":""},"","","","","",""]
[null,{"$f":"IF(B696=0,\"\",VLOOKUP(DATE($A702,$A704,B696)+$I701,Activités!$C$4:$I$534,5,0))","v":""},{"$f":"IF(C696=0,\"\",VLOOKUP(DATE($A702,$A704,C696)+$I701,Activités!$C$4:$I$534,5,0))","v":""},{"$f":"IF(D696=0,\"\",VLOOKUP(DATE($A702,$A704,D696)+$I701,Activités!$C$4:$I$534,5,0))","v":""},{"$f":"IF(E696=0,\"\",VLOOKUP(DATE($A702,$A704,E696)+$I701,Activités!$C$4:$I$534,5,0))","v":""},{"$f":"IF(F696=0,\"\",VLOOKUP(DATE($A702,$A704,F696)+$I701,Activités!$C$4:$I$534,5,0))","v":""},{"$f":"IF(G696=0,\"\",VLOOKUP(DATE($A702,$A704,G696)+$I701,Activités!$C$4:$I$534,5,0))","v":{"$error":"#N/A"}},{"$f":"IF(H696=0,\"\",VLOOKUP(DATE($A702,$A704,H696)+$I701,Activités!$C$4:$I$534,5,0))","v":{"$error":"#N/A"}},{"$f":"+I699+0.1","v":0.30000000000000004},null,null,null,null,null,null,null,null,null,null,null,null,null,null,null,null,null,{"$f":"AA700","v":""},"","","","","",""]
[{"$f":"H694","v":2018},{"$f":"IF(ISNA(B701),\"\",B701)","v":""},"","","","","","",null,null,null,null,null,null,null,null,null,null,null,null,null,null,null,null,null,null,{"$f":"IF(LEFT(B702,7)=\"CDT-145\",\"CDT-145\",IF(LEFT(B702,7)=\"CDT-135\",\"CDT-135\",AA696))","v":""},"","","","","",""]
[null,{"$f":"IF(B696=0,\"\",VLOOKUP(DATE($A702,$A704,B696)+$I703,Activités!$C$4:$I$534,5,0))","v":""},{"$f":"IF(C696=0,\"\",VLOOKUP(DATE($A702,$A704,C696)+$I703,Activités!$C$4:$I$534,5,0))","v":""},{"$f":"IF(D696=0,\"\",VLOOKUP(DATE($A702,$A704,D696)+$I703,Activités!$C$4:$I$534,5,0))","v":""},{"$f":"IF(E696=0,\"\",VLOOKUP(DATE($A702,$A704,E696)+$I703,Activités!$C$4:$I$534,5,0))","v":""},{"$f":"IF(F696=0,\"\",VLOOKUP(DATE($A702,$A704,F696)+$I703,Activités!$C$4:$I$534,5,0))","v":""},{"$f":"IF(G696=0,\"\",VLOOKUP(DATE($A702,$A704,G696)+$I703,Activités!$C$4:$I$534,5,0))","v":{"$error":"#N/A"}},{"$f":"IF(H696=0,\"\",VLOOKUP(DATE($A702,$A704,H696)+$I703,Activités!$C$4:$I$534,5,0))","v":{"$error":"#N/A"}},{"$f":"+I701+0.1","v":0.4},null,null,null,null,null,null,null,null,null,null,null,null,null,null,null,null,null,{"$f":"AA702","v":""},"","","","","",""]
[6,{"$f":"IF(ISNA(B703),\"\",B703)","v":""},"","","","","","",null,null,null,null,null,null,null,null,null,null,null,null,null,null,null,null,null,null,{"$f":"IF(LEFT(B704,7)=\"CDT-145\",\"CDT-145\",IF(LEFT(B704,7)=\"CDT-135\",\"CDT-135\",AA696))","v":""},"","","","","",""]
[null,{"$f":"IF(B696=0,\"\",VLOOKUP(DATE($A702,$A704,B696)+$I705,Activités!$C$4:$I$534,5,0))","v":""},{"$f":"IF(C696=0,\"\",VLOOKUP(DATE($A702,$A704,C696)+$I705,Activités!$C$4:$I$534,5,0))","v":""},{"$f":"IF(D696=0,\"\",VLOOKUP(DATE($A702,$A704,D696)+$I705,Activités!$C$4:$I$534,5,0))","v":""},{"$f":"IF(E696=0,\"\",VLOOKUP(DATE($A702,$A704,E696)+$I705,Activités!$C$4:$I$534,5,0))","v":""},{"$f":"IF(F696=0,\"\",VLOOKUP(DATE($A702,$A704,F696)+$I705,Activités!$C$4:$I$534,5,0))","v":""},{"$f":"IF(G696=0,\"\",VLOOKUP(DATE($A702,$A704,G696)+$I705,Activités!$C$4:$I$534,5,0))","v":{"$error":"#N/A"}},{"$f":"IF(H696=0,\"\",VLOOKUP(DATE($A702,$A704,H696)+$I705,Activités!$C$4:$I$534,5,0))","v":{"$error":"#N/A"}},{"$f":"+I703+0.1","v":0.5},null,null,null,null,null,null,null,null,null,null,null,null,null,null,null,null,null,{"$f":"AA704","v":""},"","","","","",""]
[30,{"$f":"IF(ISNA(B705),\"\",B705)","v":""},"","","","","","",null,null,null,null,null,null,null,null,null,null,null,null,null,null,null,null,null,null,{"$f":"IF(LEFT(B706,7)=\"CDT-145\",\"CDT-145\",IF(LEFT(B706,7)=\"CDT-135\",\"CDT-135\",AA696))","v":""},"","","","","",""]
[{"$f":"H696","v":2},{"$f":"IF(OR(A707=$A717,A707=0),0,A707+1)","v":3},4,5,6,7,8,9,null,null,null,null,null,null,null,null,null,null,null,null,null,null,null,null,null,null,{"$f":"IF(AND($B707=0,$H707=0),\"Invisible\",\"\")","v":""},{"$f":"IF(AND($B707=0,$H707=0),\"Invisible\",\"\")","v":""},"","","","",""]
[null,{"$f":"IF(B707=0,\"\",VLOOKUP(DATE($A713,$A715,B707)+$I708,Activités!$C$4:$I$534,5,0))","v":{"$error":"#N/A"}},{"$f":"IF(C707=0,\"\",VLOOKUP(DATE($A713,$A715,C707)+$I708,Activités!$C$4:$I$534,5,0))","v":{"$error":"#N/A"}},{"$f":"IF(D707=0,\"\",VLOOKUP(DATE($A713,$A715,D707)+$I708,Activités!$C$4:$I$534,5,0))","v":{"$error":"#N/A"}},{"$f":"IF(E707=0,\"\",VLOOKUP(DATE($A713,$A715,E707)+$I708,Activités!$C$4:$I$534,5,0))","v":{"$error":"#N/A"}},{"$f":"IF(F707=0,\"\",VLOOKUP(DATE($A713,$A715,F707)+$I708,Activités!$C$4:$I$534,5,0))","v":{"$error":"#N/A"}},{"$f":"IF(G707=0,\"\",VLOOKUP(DATE($A713,$A715,G707)+$I708,Activités!$C$4:$I$534,5,0))","v":{"$error":"#N/A"}},{"$f":"IF(H707=0,\"\",VLOOKUP(DATE($A713,$A715,H707)+$I708,Activités!$C$4:$I$534,5,0))","v":{"$error":"#N/A"}},0.1,null,null,null,null,null,null,null,null,null,null,null,null,null,null,null,null,null,{"$f":"AA707","v":""},"","","","","",""]
[null,{"$f":"IF(ISNA(B708),\"\",B708)","v":""},{"$f":"IF(ISNA(C708),\"\",C708)","v":""},"","","","","",null,null,null,null,null,null,null,null,null,null,null,null,null,null,null,null,null,null,{"$f":"IF(LEFT(B709,7)=\"CDT-145\",\"CDT-145\",IF(LEFT(B709,7)=\"CDT-135\",\"CDT-135\",AA707))","v":""},"","","","","",""]
[null,{"$f":"IF(B707=0,\"\",VLOOKUP(DATE($A713,$A715,B707)+$I710,Activités!$C$4:$I$534,5,0))","v":{"$error":"#N/A"}},{"$f":"IF(C707=0,\"\",VLOOKUP(DATE($A713,$A715,C707)+$I710,Activités!$C$4:$I$534,5,0))","v":{"$error":"#N/A"}},{"$f":"IF(D707=0,\"\",VLOOKUP(DATE($A713,$A715,D707)+$I710,Activités!$C$4:$I$534,5,0))","v":{"$error":"#N/A"}},{"$f":"IF(E707=0,\"\",VLOOKUP(DATE($A713,$A715,E707)+$I710,Activités!$C$4:$I$534,5,0))","v":{"$error":"#N/A"}},{"$f":"IF(F707=0,\"\",VLOOKUP(DATE($A713,$A715,F707)+$I710,Activités!$C$4:$I$534,5,0))","v":{"$error":"#N/A"}},{"$f":"IF(G707=0,\"\",VLOOKUP(DATE($A713,$A715,G707)+$I710,Activités!$C$4:$I$534,5,0))","v":{"$error":"#N/A"}},{"$f":"IF(H707=0,\"\",VLOOKUP(DATE($A713,$A715,H707)+$I710,Activités!$C$4:$I$534,5,0))","v":{"$error":"#N/A"}},{"$f":"+I708+0.1","v":0.2},null,null,null,null,null,null,null,null,null,null,null,null,null,null,null,null,null,{"$f":"AA709","v":""},"","","","","",""]
[null,{"$f":"IF(ISNA(B710),\"\",B710)","v":""},"","","","","","",null,null,null,null,null,null,null,null,null,null,null,null,null,null,null,null,null,null,{"$f":"IF(LEFT(B711,7)=\"CDT-145\",\"CDT-145\",IF(LEFT(B711,7)=\"CDT-135\",\"CDT-135\",AA707))","v":""},"","","","","",""]
[null,{"$f":"IF(B707=0,\"\",VLOOKUP(DATE($A713,$A715,B707)+$I712,Activités!$C$4:$I$534,5,0))","v":{"$error":"#N/A"}},{"$f":"IF(C707=0,\"\",VLOOKUP(DATE($A713,$A715,C707)+$I712,Activités!$C$4:$I$534,5,0))","v":{"$error":"#N/A"}},{"$f":"IF(D707=0,\"\",VLOOKUP(DATE($A713,$A715,D707)+$I712,Activités!$C$4:$I$534,5,0))","v":{"$error":"#N/A"}},{"$f":"IF(E707=0,\"\",VLOOKUP(DATE($A713,$A715,E707)+$I712,Activités!$C$4:$I$534,5,0))","v":{"$error":"#N/A"}},{"$f":"IF(F707=0,\"\",VLOOKUP(DATE($A713,$A715,F707)+$I712,Activités!$C$4:$I$534,5,0))","v":{"$error":"#N/A"}},{"$f":"IF(G707=0,\"\",VLOOKUP(DATE($A713,$A715,G707)+$I712,Activités!$C$4:$I$534,5,0))","v":{"$error":"#N/A"}},{"$f":"IF(H707=0,\"\",VLOOKUP(DATE($A713,$A715,H707)+$I712,Activités!$C$4:$I$534,5,0))","v":{"$error":"#N/A"}},{"$f":"+I710+0.1","v":0.30000000000000004},null,null,null,null,null,null,null,null,null,null,null,null,null,null,null,null,null,{"$f":"AA711","v":""},"","","","","",""]
[{"$f":"A702","v":2018},{"$f":"IF(ISNA(B712),\"\",B712)","v":""},"","","","","","",null,null,null,null,null,null,null,null,null,null,null,null,null,null,null,null,null,null,{"$f":"IF(LEFT(B713,7)=\"CDT-145\",\"CDT-145\",IF(LEFT(B713,7)=\"CDT-135\",\"CDT-135\",AA707))","v":""},"","","","","",""]
[null,{"$f":"IF(B707=0,\"\",VLOOKUP(DATE($A713,$A715,B707)+$I714,Activités!$C$4:$I$534,5,0))","v":{"$error":"#N/A"}},{"$f":"IF(C707=0,\"\",VLOOKUP(DATE($A713,$A715,C707)+$I714,Activités!$C$4:$I$534,5,0))","v":{"$error":"#N/A"}},{"$f":"IF(D707=0,\"\",VLOOKUP(DATE($A713,$A715,D707)+$I714,Activités!$C$4:$I$534,5,0))","v":{"$error":"#N/A"}},{"$f":"IF(E707=0,\"\",VLOOKUP(DATE($A713,$A715,E707)+$I714,Activités!$C$4:$I$534,5,0))","v":{"$error":"#N/A"}},{"$f":"IF(F707=0,\"\",VLOOKUP(DATE($A713,$A715,F707)+$I714,Activités!$C$4:$I$534,5,0))","v":{"$error":"#N/A"}},{"$f":"IF(G707=0,\"\",VLOOKUP(DATE($A713,$A715,G707)+$I714,Activités!$C$4:$I$534,5,0))","v":{"$error":"#N/A"}},{"$f":"IF(H707=0,\"\",VLOOKUP(DATE($A713,$A715,H707)+$I714,Activités!$C$4:$I$534,5,0))","v":{"$error":"#N/A"}},{"$f":"+I712+0.1","v":0.4},null,null,null,null,null,null,null,null,null,null,null,null,null,null,null,null,null,{"$f":"AA713","v":""},"","","","","",""]
[{"$f":"A704","v":6},{"$f":"IF(ISNA(B714),\"\",B714)","v":""},"","","","","","",null,null,null,null,null,null,null,null,null,null,null,null,null,null,null,null,null,null,{"$f":"IF(LEFT(B715,7)=\"CDT-145\",\"CDT-145\",IF(LEFT(B715,7)=\"CDT-135\",\"CDT-135\",AA707))","v":""},"","","","","",""]
[null,{"$f":"IF(B707=0,\"\",VLOOKUP(DATE($A713,$A715,B707)+$I716,Activités!$C$4:$I$534,5,0))","v":{"$error":"#N/A"}},{"$f":"IF(C707=0,\"\",VLOOKUP(DATE($A713,$A715,C707)+$I716,Activités!$C$4:$I$534,5,0))","v":{"$error":"#N/A"}},{"$f":"IF(D707=0,\"\",VLOOKUP(DATE($A713,$A715,D707)+$I716,Activités!$C$4:$I$534,5,0))","v":{"$error":"#N/A"}},{"$f":"IF(E707=0,\"\",VLOOKUP(DATE($A713,$A715,E707)+$I716,Activités!$C$4:$I$534,5,0))","v":{"$error":"#N/A"}},{"$f":"IF(F707=0,\"\",VLOOKUP(DATE($A713,$A715,F707)+$I716,Activités!$C$4:$I$534,5,0))","v":{"$error":"#N/A"}},{"$f":"IF(G707=0,\"\",VLOOKUP(DATE($A713,$A715,G707)+$I716,Activités!$C$4:$I$534,5,0))","v":{"$error":"#N/A"}},{"$f":"IF(H707=0,\"\",VLOOKUP(DATE($A713,$A715,H707)+$I716,Activités!$C$4:$I$534,5,0))","v":{"$error":"#N/A"}},{"$f":"+I714+0.1","v":0.5},null,null,null,null,null,null,null,null,null,null,null,null,null,null,null,null,null,{"$f":"AA715","v":""},"","","","","",""]
[{"$f":"A706","v":30},{"$f":"IF(ISNA(B716),\"\",B716)","v":""},"","","","","","",null,null,null,null,null,null,null,null,null,null,null,null,null,null,null,null,null,null,{"$f":"IF(LEFT(B717,7)=\"CDT-145\",\"CDT-145\",IF(LEFT(B717,7)=\"CDT-135\",\"CDT-135\",AA707))","v":""},"","","","","",""]
[{"$f":"H707","v":9},{"$f":"IF(OR(A718=$A728,A718=0),0,A718+1)","v":10},11,12,13,14,15,16,null,null,null,null,null,null,null,null,null,null,null,null,null,null,null,null,null,null,{"$f":"IF(AND($B718=0,$H718=0),\"Invisible\",\"\")","v":""},{"$f":"IF(AND($B718=0,$H718=0),\"Invisible\",\"\")","v":""},"","","","",""]
[null,{"$f":"IF(B718=0,\"\",VLOOKUP(DATE($A724,$A726,B718)+$I719,Activités!$C$4:$I$534,5,0))","v":{"$error":"#N/A"}},{"$f":"IF(C718=0,\"\",VLOOKUP(DATE($A724,$A726,C718)+$I719,Activités!$C$4:$I$534,5,0))","v":{"$error":"#N/A"}},{"$f":"IF(D718=0,\"\",VLOOKUP(DATE($A724,$A726,D718)+$I719,Activités!$C$4:$I$534,5,0))","v":{"$error":"#N/A"}},{"$f":"IF(E718=0,\"\",VLOOKUP(DATE($A724,$A726,E718)+$I719,Activités!$C$4:$I$534,5,0))","v":{"$error":"#N/A"}},{"$f":"IF(F718=0,\"\",VLOOKUP(DATE($A724,$A726,F718)+$I719,Activités!$C$4:$I$534,5,0))","v":{"$error":"#N/A"}},{"$f":"IF(G718=0,\"\",VLOOKUP(DATE($A724,$A726,G718)+$I719,Activités!$C$4:$I$534,5,0))","v":{"$error":"#N/A"}},{"$f":"IF(H718=0,\"\",VLOOKUP(DATE($A724,$A726,H718)+$I719,Activités!$C$4:$I$534,5,0))","v":{"$error":"#N/A"}},0.1,null,null,null,null,null,null,null,null,null,null,null,null,null,null,null,null,null,{"$f":"AA718","v":""},"","","","","",""]
[null,{"$f":"IF(ISNA(B719),\"\",B719)","v":""},{"$f":"IF(ISNA(C719),\"\",C719)","v":""},"","","","","",null,null,null,null,null,null,null,null,null,null,null,null,null,null,null,null,null,null,{"$f":"IF(LEFT(B720,7)=\"CDT-145\",\"CDT-145\",IF(LEFT(B720,7)=\"CDT-135\",\"CDT-135\",AA718))","v":""},"","","","","",""]
[null,{"$f":"IF(B718=0,\"\",VLOOKUP(DATE($A724,$A726,B718)+$I721,Activités!$C$4:$I$534,5,0))","v":{"$error":"#N/A"}},{"$f":"IF(C718=0,\"\",VLOOKUP(DATE($A724,$A726,C718)+$I721,Activités!$C$4:$I$534,5,0))","v":{"$error":"#N/A"}},{"$f":"IF(D718=0,\"\",VLOOKUP(DATE($A724,$A726,D718)+$I721,Activités!$C$4:$I$534,5,0))","v":{"$error":"#N/A"}},{"$f":"IF(E718=0,\"\",VLOOKUP(DATE($A724,$A726,E718)+$I721,Activités!$C$4:$I$534,5,0))","v":{"$error":"#N/A"}},{"$f":"IF(F718=0,\"\",VLOOKUP(DATE($A724,$A726,F718)+$I721,Activités!$C$4:$I$534,5,0))","v":{"$error":"#N/A"}},{"$f":"IF(G718=0,\"\",VLOOKUP(DATE($A724,$A726,G718)+$I721,Activités!$C$4:$I$534,5,0))","v":{"$error":"#N/A"}},{"$f":"IF(H718=0,\"\",VLOOKUP(DATE($A724,$A726,H718)+$I721,Activités!$C$4:$I$534,5,0))","v":{"$error":"#N/A"}},{"$f":"+I719+0.1","v":0.2},null,null,null,null,null,null,null,null,null,null,null,null,null,null,null,null,null,{"$f":"AA720","v":""},"","","","","",""]
[null,{"$f":"IF(ISNA(B721),\"\",B721)","v":""},"","","","","","",null,null,null,null,null,null,null,null,null,null,null,null,null,null,null,null,null,null,{"$f":"IF(LEFT(B722,7)=\"CDT-145\",\"CDT-145\",IF(LEFT(B722,7)=\"CDT-135\",\"CDT-135\",AA718))","v":""},"","","","","",""]
[null,{"$f":"IF(B718=0,\"\",VLOOKUP(DATE($A724,$A726,B718)+$I723,Activités!$C$4:$I$534,5,0))","v":{"$error":"#N/A"}},{"$f":"IF(C718=0,\"\",VLOOKUP(DATE($A724,$A726,C718)+$I723,Activités!$C$4:$I$534,5,0))","v":{"$error":"#N/A"}},{"$f":"IF(D718=0,\"\",VLOOKUP(DATE($A724,$A726,D718)+$I723,Activités!$C$4:$I$534,5,0))","v":{"$error":"#N/A"}},{"$f":"IF(E718=0,\"\",VLOOKUP(DATE($A724,$A726,E718)+$I723,Activités!$C$4:$I$534,5,0))","v":{"$error":"#N/A"}},{"$f":"IF(F718=0,\"\",VLOOKUP(DATE($A724,$A726,F718)+$I723,Activités!$C$4:$I$534,5,0))","v":{"$error":"#N/A"}},{"$f":"IF(G718=0,\"\",VLOOKUP(DATE($A724,$A726,G718)+$I723,Activités!$C$4:$I$534,5,0))","v":{"$error":"#N/A"}},{"$f":"IF(H718=0,\"\",VLOOKUP(DATE($A724,$A726,H718)+$I723,Activités!$C$4:$I$534,5,0))","v":{"$error":"#N/A"}},{"$f":"+I721+0.1","v":0.30000000000000004},null,null,null,null,null,null,null,null,null,null,null,null,null,null,null,null,null,{"$f":"AA722","v":""},"","","","","",""]
[{"$f":"A713","v":2018},{"$f":"IF(ISNA(B723),\"\",B723)","v":""},"","","","","","",null,null,null,null,null,null,null,null,null,null,null,null,null,null,null,null,null,null,{"$f":"IF(LEFT(B724,7)=\"CDT-145\",\"CDT-145\",IF(LEFT(B724,7)=\"CDT-135\",\"CDT-135\",AA718))","v":""},"","","","","",""]
[null,{"$f":"IF(B718=0,\"\",VLOOKUP(DATE($A724,$A726,B718)+$I725,Activités!$C$4:$I$534,5,0))","v":{"$error":"#N/A"}},{"$f":"IF(C718=0,\"\",VLOOKUP(DATE($A724,$A726,C718)+$I725,Activités!$C$4:$I$534,5,0))","v":{"$error":"#N/A"}},{"$f":"IF(D718=0,\"\",VLOOKUP(DATE($A724,$A726,D718)+$I725,Activités!$C$4:$I$534,5,0))","v":{"$error":"#N/A"}},{"$f":"IF(E718=0,\"\",VLOOKUP(DATE($A724,$A726,E718)+$I725,Activités!$C$4:$I$534,5,0))","v":{"$error":"#N/A"}},{"$f":"IF(F718=0,\"\",VLOOKUP(DATE($A724,$A726,F718)+$I725,Activités!$C$4:$I$534,5,0))","v":{"$error":"#N/A"}},{"$f":"IF(G718=0,\"\",VLOOKUP(DATE($A724,$A726,G718)+$I725,Activités!$C$4:$I$534,5,0))","v":{"$error":"#N/A"}},{"$f":"IF(H718=0,\"\",VLOOKUP(DATE($A724,$A726,H718)+$I725,Activités!$C$4:$I$534,5,0))","v":{"$error":"#N/A"}},{"$f":"+I723+0.1","v":0.4},null,null,null,null,null,null,null,null,null,null,null,null,null,null,null,null,null,{"$f":"AA724","v":""},"","","","","",""]
[{"$f":"A715","v":6},{"$f":"IF(ISNA(B725),\"\",B725)","v":""},"","","","","","",null,null,null,null,null,null,null,null,null,null,null,null,null,null,null,null,null,null,{"$f":"IF(LEFT(B726,7)=\"CDT-145\",\"CDT-145\",IF(LEFT(B726,7)=\"CDT-135\",\"CDT-135\",AA718))","v":""},"","","","","",""]
[null,{"$f":"IF(B718=0,\"\",VLOOKUP(DATE($A724,$A726,B718)+$I727,Activités!$C$4:$I$534,5,0))","v":{"$error":"#N/A"}},{"$f":"IF(C718=0,\"\",VLOOKUP(DATE($A724,$A726,C718)+$I727,Activités!$C$4:$I$534,5,0))","v":{"$error":"#N/A"}},{"$f":"IF(D718=0,\"\",VLOOKUP(DATE($A724,$A726,D718)+$I727,Activités!$C$4:$I$534,5,0))","v":{"$error":"#N/A"}},{"$f":"IF(E718=0,\"\",VLOOKUP(DATE($A724,$A726,E718)+$I727,Activités!$C$4:$I$534,5,0))","v":{"$error":"#N/A"}},{"$f":"IF(F718=0,\"\",VLOOKUP(DATE($A724,$A726,F718)+$I727,Activités!$C$4:$I$534,5,0))","v":{"$error":"#N/A"}},{"$f":"IF(G718=0,\"\",VLOOKUP(DATE($A724,$A726,G718)+$I727,Activités!$C$4:$I$534,5,0))","v":{"$error":"#N/A"}},{"$f":"IF(H718=0,\"\",VLOOKUP(DATE($A724,$A726,H718)+$I727,Activités!$C$4:$I$534,5,0))","v":{"$error":"#N/A"}},{"$f":"+I725+0.1","v":0.5},null,null,null,null,null,null,null,null,null,null,null,null,null,null,null,null,null,{"$f":"AA726","v":""},"","","","","",""]
[{"$f":"A717","v":30},{"$f":"IF(ISNA(B727),\"\",B727)","v":""},"","","","","","",null,null,null,null,null,null,null,null,null,null,null,null,null,null,null,null,null,null,{"$f":"IF(LEFT(B728,7)=\"CDT-145\",\"CDT-145\",IF(LEFT(B728,7)=\"CDT-135\",\"CDT-135\",AA718))","v":""},"","","","","",""]
[{"$f":"H718","v":16},{"$f":"IF(OR(A729=$A739,A729=0),0,A729+1)","v":17},18,19,20,21,22,23,null,null,null,null,null,null,null,null,null,null,null,null,null,null,null,null,null,null,{"$f":"IF(AND($B729=0,$H729=0),\"Invisible\",\"\")","v":""},{"$f":"IF(AND($B729=0,$H729=0),\"Invisible\",\"\")","v":""},"","","","",""]
[null,{"$f":"IF(B729=0,\"\",VLOOKUP(DATE($A735,$A737,B729)+$I730,Activités!$C$4:$I$534,5,0))","v":{"$error":"#N/A"}},{"$f":"IF(C729=0,\"\",VLOOKUP(DATE($A735,$A737,C729)+$I730,Activités!$C$4:$I$534,5,0))","v":{"$error":"#N/A"}},{"$f":"IF(D729=0,\"\",VLOOKUP(DATE($A735,$A737,D729)+$I730,Activités!$C$4:$I$534,5,0))","v":{"$error":"#N/A"}},{"$f":"IF(E729=0,\"\",VLOOKUP(DATE($A735,$A737,E729)+$I730,Activités!$C$4:$I$534,5,0))","v":{"$error":"#N/A"}},{"$f":"IF(F729=0,\"\",VLOOKUP(DATE($A735,$A737,F729)+$I730,Activités!$C$4:$I$534,5,0))","v":{"$error":"#N/A"}},{"$f":"IF(G729=0,\"\",VLOOKUP(DATE($A735,$A737,G729)+$I730,Activités!$C$4:$I$534,5,0))","v":{"$error":"#N/A"}},{"$f":"IF(H729=0,\"\",VLOOKUP(DATE($A735,$A737,H729)+$I730,Activités!$C$4:$I$534,5,0))","v":{"$error":"#N/A"}},0.1,null,null,null,null,null,null,null,null,null,null,null,null,null,null,null,null,null,{"$f":"AA729","v":""},"","","","","",""]
[null,{"$f":"IF(ISNA(B730),\"\",B730)","v":""},{"$f":"IF(ISNA(C730),\"\",C730)","v":""},"","","","","",null,null,null,null,null,null,null,null,null,null,null,null,null,null,null,null,null,null,{"$f":"IF(LEFT(B731,7)=\"CDT-145\",\"CDT-145\",IF(LEFT(B731,7)=\"CDT-135\",\"CDT-135\",AA729))","v":""},"","","","","",""]
[null,{"$f":"IF(B729=0,\"\",VLOOKUP(DATE($A735,$A737,B729)+$I732,Activités!$C$4:$I$534,5,0))","v":{"$error":"#N/A"}},{"$f":"IF(C729=0,\"\",VLOOKUP(DATE($A735,$A737,C729)+$I732,Activités!$C$4:$I$534,5,0))","v":{"$error":"#N/A"}},{"$f":"IF(D729=0,\"\",VLOOKUP(DATE($A735,$A737,D729)+$I732,Activités!$C$4:$I$534,5,0))","v":{"$error":"#N/A"}},{"$f":"IF(E729=0,\"\",VLOOKUP(DATE($A735,$A737,E729)+$I732,Activités!$C$4:$I$534,5,0))","v":{"$error":"#N/A"}},{"$f":"IF(F729=0,\"\",VLOOKUP(DATE($A735,$A737,F729)+$I732,Activités!$C$4:$I$534,5,0))","v":{"$error":"#N/A"}},{"$f":"IF(G729=0,\"\",VLOOKUP(DATE($A735,$A737,G729)+$I732,Activités!$C$4:$I$534,5,0))","v":{"$error":"#N/A"}},{"$f":"IF(H729=0,\"\",VLOOKUP(DATE($A735,$A737,H729)+$I732,Activités!$C$4:$I$534,5,0))","v":{"$error":"#N/A"}},{"$f":"+I730+0.1","v":0.2},null,null,null,null,null,null,null,null,null,null,null,null,null,null,null,null,null,{"$f":"AA731","v":""},"","","","","",""]
[null,{"$f":"IF(ISNA(B732),\"\",B732)","v":""},"","","","","","",null,null,null,null,null,null,null,null,null,null,null,null,null,null,null,null,null,null,{"$f":"IF(LEFT(B733,7)=\"CDT-145\",\"CDT-145\",IF(LEFT(B733,7)=\"CDT-135\",\"CDT-135\",AA729))","v":""},"","","","","",""]
[null,{"$f":"IF(B729=0,\"\",VLOOKUP(DATE($A735,$A737,B729)+$I734,Activités!$C$4:$I$534,5,0))","v":{"$error":"#N/A"}},{"$f":"IF(C729=0,\"\",VLOOKUP(DATE($A735,$A737,C729)+$I734,Activités!$C$4:$I$534,5,0))","v":{"$error":"#N/A"}},{"$f":"IF(D729=0,\"\",VLOOKUP(DATE($A735,$A737,D729)+$I734,Activités!$C$4:$I$534,5,0))","v":{"$error":"#N/A"}},{"$f":"IF(E729=0,\"\",VLOOKUP(DATE($A735,$A737,E729)+$I734,Activités!$C$4:$I$534,5,0))","v":{"$error":"#N/A"}},{"$f":"IF(F729=0,\"\",VLOOKUP(DATE($A735,$A737,F729)+$I734,Activités!$C$4:$I$534,5,0))","v":{"$error":"#N/A"}},{"$f":"IF(G729=0,\"\",VLOOKUP(DATE($A735,$A737,G729)+$I734,Activités!$C$4:$I$534,5,0))","v":{"$error":"#N/A"}},{"$f":"IF(H729=0,\"\",VLOOKUP(DATE($A735,$A737,H729)+$I734,Activités!$C$4:$I$534,5,0))","v":{"$error":"#N/A"}},{"$f":"+I732+0.1","v":0.30000000000000004},null,null,null,null,null,null,null,null,null,null,null,null,null,null,null,null,null,{"$f":"AA733","v":""},"","","","","",""]
[{"$f":"A724","v":2018},{"$f":"IF(ISNA(B734),\"\",B734)","v":""},"","","","","","",null,null,null,null,null,null,null,null,null,null,null,null,null,null,null,null,null,null,{"$f":"IF(LEFT(B735,7)=\"CDT-145\",\"CDT-145\",IF(LEFT(B735,7)=\"CDT-135\",\"CDT-135\",AA729))","v":""},"","","","","",""]
[null,{"$f":"IF(B729=0,\"\",VLOOKUP(DATE($A735,$A737,B729)+$I736,Activités!$C$4:$I$534,5,0))","v":{"$error":"#N/A"}},{"$f":"IF(C729=0,\"\",VLOOKUP(DATE($A735,$A737,C729)+$I736,Activités!$C$4:$I$534,5,0))","v":{"$error":"#N/A"}},{"$f":"IF(D729=0,\"\",VLOOKUP(DATE($A735,$A737,D729)+$I736,Activités!$C$4:$I$534,5,0))","v":{"$error":"#N/A"}},{"$f":"IF(E729=0,\"\",VLOOKUP(DATE($A735,$A737,E729)+$I736,Activités!$C$4:$I$534,5,0))","v":{"$error":"#N/A"}},{"$f":"IF(F729=0,\"\",VLOOKUP(DATE($A735,$A737,F729)+$I736,Activités!$C$4:$I$534,5,0))","v":{"$error":"#N/A"}},{"$f":"IF(G729=0,\"\",VLOOKUP(DATE($A735,$A737,G729)+$I736,Activités!$C$4:$I$534,5,0))","v":{"$error":"#N/A"}},{"$f":"IF(H729=0,\"\",VLOOKUP(DATE($A735,$A737,H729)+$I736,Activités!$C$4:$I$534,5,0))","v":{"$error":"#N/A"}},{"$f":"+I734+0.1","v":0.4},null,null,null,null,null,null,null,null,null,null,null,null,null,null,null,null,null,{"$f":"AA735","v":""},"","","","","",""]
[{"$f":"A726","v":6},{"$f":"IF(ISNA(B736),\"\",B736)","v":""},"","","","","","",null,null,null,null,null,null,null,null,null,null,null,null,null,null,null,null,null,null,{"$f":"IF(LEFT(B737,7)=\"CDT-145\",\"CDT-145\",IF(LEFT(B737,7)=\"CDT-135\",\"CDT-135\",AA729))","v":""},"","","","","",""]
[null,{"$f":"IF(B729=0,\"\",VLOOKUP(DATE($A735,$A737,B729)+$I738,Activités!$C$4:$I$534,5,0))","v":{"$error":"#N/A"}},{"$f":"IF(C729=0,\"\",VLOOKUP(DATE($A735,$A737,C729)+$I738,Activités!$C$4:$I$534,5,0))","v":{"$error":"#N/A"}},{"$f":"IF(D729=0,\"\",VLOOKUP(DATE($A735,$A737,D729)+$I738,Activités!$C$4:$I$534,5,0))","v":{"$error":"#N/A"}},{"$f":"IF(E729=0,\"\",VLOOKUP(DATE($A735,$A737,E729)+$I738,Activités!$C$4:$I$534,5,0))","v":{"$error":"#N/A"}},{"$f":"IF(F729=0,\"\",VLOOKUP(DATE($A735,$A737,F729)+$I738,Activités!$C$4:$I$534,5,0))","v":{"$error":"#N/A"}},{"$f":"IF(G729=0,\"\",VLOOKUP(DATE($A735,$A737,G729)+$I738,Activités!$C$4:$I$534,5,0))","v":{"$error":"#N/A"}},{"$f":"IF(H729=0,\"\",VLOOKUP(DATE($A735,$A737,H729)+$I738,Activités!$C$4:$I$534,5,0))","v":{"$error":"#N/A"}},{"$f":"+I736+0.1","v":0.5},null,null,null,null,null,null,null,null,null,null,null,null,null,null,null,null,null,{"$f":"AA737","v":""},"","","","","",""]
[{"$f":"A728","v":30},{"$f":"IF(ISNA(B738),\"\",B738)","v":""},"","","","","","",null,null,null,null,null,null,null,null,null,null,null,null,null,null,null,null,null,null,{"$f":"IF(LEFT(B739,7)=\"CDT-145\",\"CDT-145\",IF(LEFT(B739,7)=\"CDT-135\",\"CDT-135\",AA729))","v":""},"","","","","",""]
[{"$f":"H729","v":23},{"$f":"IF(OR(A740=$A750,A740=0),0,A740+1)","v":24},25,26,27,28,29,30,null,null,null,null,null,null,null,null,null,null,null,null,null,null,null,null,null,null,{"$f":"IF(AND($B740=0,$H740=0),\"Invisible\",\"\")","v":""},{"$f":"IF(AND($B740=0,$H740=0),\"Invisible\",\"\")","v":""},"","","","",""]
[null,{"$f":"IF(B740=0,\"\",VLOOKUP(DATE($A746,$A748,B740)+$I741,Activités!$C$4:$I$534,5,0))","v":{"$error":"#N/A"}},{"$f":"IF(C740=0,\"\",VLOOKUP(DATE($A746,$A748,C740)+$I741,Activités!$C$4:$I$534,5,0))","v":{"$error":"#N/A"}},{"$f":"IF(D740=0,\"\",VLOOKUP(DATE($A746,$A748,D740)+$I741,Activités!$C$4:$I$534,5,0))","v":{"$error":"#N/A"}},{"$f":"IF(E740=0,\"\",VLOOKUP(DATE($A746,$A748,E740)+$I741,Activités!$C$4:$I$534,5,0))","v":{"$error":"#N/A"}},{"$f":"IF(F740=0,\"\",VLOOKUP(DATE($A746,$A748,F740)+$I741,Activités!$C$4:$I$534,5,0))","v":{"$error":"#N/A"}},{"$f":"IF(G740=0,\"\",VLOOKUP(DATE($A746,$A748,G740)+$I741,Activités!$C$4:$I$534,5,0))","v":{"$error":"#N/A"}},{"$f":"IF(H740=0,\"\",VLOOKUP(DATE($A746,$A748,H740)+$I741,Activités!$C$4:$I$534,5,0))","v":{"$error":"#N/A"}},0.1,null,null,null,null,null,null,null,null,null,null,null,null,null,null,null,null,null,{"$f":"AA740","v":""},"","","","","",""]
[null,{"$f":"IF(ISNA(B741),\"\",B741)","v":""},{"$f":"IF(ISNA(C741),\"\",C741)","v":""},"","","","","",null,null,null,null,null,null,null,null,null,null,null,null,null,null,null,null,null,null,{"$f":"IF(LEFT(B742,7)=\"CDT-145\",\"CDT-145\",IF(LEFT(B742,7)=\"CDT-135\",\"CDT-135\",AA740))","v":""},"","","","","",""]
[null,{"$f":"IF(B740=0,\"\",VLOOKUP(DATE($A746,$A748,B740)+$I743,Activités!$C$4:$I$534,5,0))","v":{"$error":"#N/A"}},{"$f":"IF(C740=0,\"\",VLOOKUP(DATE($A746,$A748,C740)+$I743,Activités!$C$4:$I$534,5,0))","v":{"$error":"#N/A"}},{"$f":"IF(D740=0,\"\",VLOOKUP(DATE($A746,$A748,D740)+$I743,Activités!$C$4:$I$534,5,0))","v":{"$error":"#N/A"}},{"$f":"IF(E740=0,\"\",VLOOKUP(DATE($A746,$A748,E740)+$I743,Activités!$C$4:$I$534,5,0))","v":{"$error":"#N/A"}},{"$f":"IF(F740=0,\"\",VLOOKUP(DATE($A746,$A748,F740)+$I743,Activités!$C$4:$I$534,5,0))","v":{"$error":"#N/A"}},{"$f":"IF(G740=0,\"\",VLOOKUP(DATE($A746,$A748,G740)+$I743,Activités!$C$4:$I$534,5,0))","v":{"$error":"#N/A"}},{"$f":"IF(H740=0,\"\",VLOOKUP(DATE($A746,$A748,H740)+$I743,Activités!$C$4:$I$534,5,0))","v":{"$error":"#N/A"}},{"$f":"+I741+0.1","v":0.2},null,null,null,null,null,null,null,null,null,null,null,null,null,null,null,null,null,{"$f":"AA742","v":""},"","","","","",""]
[null,{"$f":"IF(ISNA(B743),\"\",B743)","v":""},"","","","","","",null,null,null,null,null,null,null,null,null,null,null,null,null,null,null,null,null,null,{"$f":"IF(LEFT(B744,7)=\"CDT-145\",\"CDT-145\",IF(LEFT(B744,7)=\"CDT-135\",\"CDT-135\",AA740))","v":""},"","","","","",""]
[null,{"$f":"IF(B740=0,\"\",VLOOKUP(DATE($A746,$A748,B740)+$I745,Activités!$C$4:$I$534,5,0))","v":{"$error":"#N/A"}},{"$f":"IF(C740=0,\"\",VLOOKUP(DATE($A746,$A748,C740)+$I745,Activités!$C$4:$I$534,5,0))","v":{"$error":"#N/A"}},{"$f":"IF(D740=0,\"\",VLOOKUP(DATE($A746,$A748,D740)+$I745,Activités!$C$4:$I$534,5,0))","v":{"$error":"#N/A"}},{"$f":"IF(E740=0,\"\",VLOOKUP(DATE($A746,$A748,E740)+$I745,Activités!$C$4:$I$534,5,0))","v":{"$error":"#N/A"}},{"$f":"IF(F740=0,\"\",VLOOKUP(DATE($A746,$A748,F740)+$I745,Activités!$C$4:$I$534,5,0))","v":{"$error":"#N/A"}},{"$f":"IF(G740=0,\"\",VLOOKUP(DATE($A746,$A748,G740)+$I745,Activités!$C$4:$I$534,5,0))","v":{"$error":"#N/A"}},{"$f":"IF(H740=0,\"\",VLOOKUP(DATE($A746,$A748,H740)+$I745,Activités!$C$4:$I$534,5,0))","v":{"$error":"#N/A"}},{"$f":"+I743+0.1","v":0.30000000000000004},null,null,null,null,null,null,null,null,null,null,null,null,null,null,null,null,null,{"$f":"AA744","v":""},"","","","","",""]
[{"$f":"A735","v":2018},{"$f":"IF(ISNA(B745),\"\",B745)","v":""},"","","","","","",null,null,null,null,null,null,null,null,null,null,null,null,null,null,null,null,null,null,{"$f":"IF(LEFT(B746,7)=\"CDT-145\",\"CDT-145\",IF(LEFT(B746,7)=\"CDT-135\",\"CDT-135\",AA740))","v":""},"","","","","",""]
[null,{"$f":"IF(B740=0,\"\",VLOOKUP(DATE($A746,$A748,B740)+$I747,Activités!$C$4:$I$534,5,0))","v":{"$error":"#N/A"}},{"$f":"IF(C740=0,\"\",VLOOKUP(DATE($A746,$A748,C740)+$I747,Activités!$C$4:$I$534,5,0))","v":{"$error":"#N/A"}},{"$f":"IF(D740=0,\"\",VLOOKUP(DATE($A746,$A748,D740)+$I747,Activités!$C$4:$I$534,5,0))","v":{"$error":"#N/A"}},{"$f":"IF(E740=0,\"\",VLOOKUP(DATE($A746,$A748,E740)+$I747,Activités!$C$4:$I$534,5,0))","v":{"$error":"#N/A"}},{"$f":"IF(F740=0,\"\",VLOOKUP(DATE($A746,$A748,F740)+$I747,Activités!$C$4:$I$534,5,0))","v":{"$error":"#N/A"}},{"$f":"IF(G740=0,\"\",VLOOKUP(DATE($A746,$A748,G740)+$I747,Activités!$C$4:$I$534,5,0))","v":{"$error":"#N/A"}},{"$f":"IF(H740=0,\"\",VLOOKUP(DATE($A746,$A748,H740)+$I747,Activités!$C$4:$I$534,5,0))","v":{"$error":"#N/A"}},{"$f":"+I745+0.1","v":0.4},null,null,null,null,null,null,null,null,null,null,null,null,null,null,null,null,null,{"$f":"AA746","v":""},"","","","","",""]
[{"$f":"A737","v":6},{"$f":"IF(ISNA(B747),\"\",B747)","v":""},"","","","","","",null,null,null,null,null,null,null,null,null,null,null,null,null,null,null,null,null,null,{"$f":"IF(LEFT(B748,7)=\"CDT-145\",\"CDT-145\",IF(LEFT(B748,7)=\"CDT-135\",\"CDT-135\",AA740))","v":""},"","","","","",""]
[null,{"$f":"IF(B740=0,\"\",VLOOKUP(DATE($A746,$A748,B740)+$I749,Activités!$C$4:$I$534,5,0))","v":{"$error":"#N/A"}},{"$f":"IF(C740=0,\"\",VLOOKUP(DATE($A746,$A748,C740)+$I749,Activités!$C$4:$I$534,5,0))","v":{"$error":"#N/A"}},{"$f":"IF(D740=0,\"\",VLOOKUP(DATE($A746,$A748,D740)+$I749,Activités!$C$4:$I$534,5,0))","v":{"$error":"#N/A"}},{"$f":"IF(E740=0,\"\",VLOOKUP(DATE($A746,$A748,E740)+$I749,Activités!$C$4:$I$534,5,0))","v":{"$error":"#N/A"}},{"$f":"IF(F740=0,\"\",VLOOKUP(DATE($A746,$A748,F740)+$I749,Activités!$C$4:$I$534,5,0))","v":{"$error":"#N/A"}},{"$f":"IF(G740=0,\"\",VLOOKUP(DATE($A746,$A748,G740)+$I749,Activités!$C$4:$I$534,5,0))","v":{"$error":"#N/A"}},{"$f":"IF(H740=0,\"\",VLOOKUP(DATE($A746,$A748,H740)+$I749,Activités!$C$4:$I$534,5,0))","v":{"$error":"#N/A"}},{"$f":"+I747+0.1","v":0.5},null,null,null,null,null,null,null,null,null,null,null,null,null,null,null,null,null,{"$f":"AA748","v":""},"","","","","",""]
[{"$f":"A739","v":30},{"$f":"IF(ISNA(B749),\"\",B749)","v":""},"","","","","","",null,null,null,null,null,null,null,null,null,null,null,null,null,null,null,null,null,null,{"$f":"IF(LEFT(B750,7)=\"CDT-145\",\"CDT-145\",IF(LEFT(B750,7)=\"CDT-135\",\"CDT-135\",AA740))","v":""},"","","","","",""]
[{"$f":"H740","v":30},{"$f":"IF(OR(A751=$A761,A751=0),0,A751+1)","v":0},0,0,0,0,0,0,null,null,null,null,null,null,null,null,null,null,null,null,null,null,null,null,null,null,{"$f":"IF(AND($B751=0,$H751=0),\"Invisible\",\"\")","v":"Invisible"},{"$f":"IF(AND($B751=0,$H751=0),\"Invisible\",\"\")","v":"Invisible"},"Invisible","Invisible","Invisible","Invisible","Invisible"]
[null,{"$f":"IF(B751=0,\"\",VLOOKUP(DATE($A757,$A759,B751)+$I752,Activités!$C$4:$I$534,5,0))","v":""},{"$f":"IF(C751=0,\"\",VLOOKUP(DATE($A757,$A759,C751)+$I752,Activités!$C$4:$I$534,5,0))","v":""},{"$f":"IF(D751=0,\"\",VLOOKUP(DATE($A757,$A759,D751)+$I752,Activités!$C$4:$I$534,5,0))","v":""},{"$f":"IF(E751=0,\"\",VLOOKUP(DATE($A757,$A759,E751)+$I752,Activités!$C$4:$I$534,5,0))","v":""},{"$f":"IF(F751=0,\"\",VLOOKUP(DATE($A757,$A759,F751)+$I752,Activités!$C$4:$I$534,5,0))","v":""},{"$f":"IF(G751=0,\"\",VLOOKUP(DATE($A757,$A759,G751)+$I752,Activités!$C$4:$I$534,5,0))","v":""},{"$f":"IF(H751=0,\"\",VLOOKUP(DATE($A757,$A759,H751)+$I752,Activités!$C$4:$I$534,5,0))","v":""},0.1,null,null,null,null,null,null,null,null,null,null,null,null,null,null,null,null,null,{"$f":"AA751","v":"Invisible"},"Invisible","Invisible","Invisible","Invisible","Invisible","Invisible"]
[null,{"$f":"IF(ISNA(B752),\"\",B752)","v":""},{"$f":"IF(ISNA(C752),\"\",C752)","v":""},"","","","","",null,null,null,null,null,null,null,null,null,null,null,null,null,null,null,null,null,null,{"$f":"IF(LEFT(B753,7)=\"CDT-145\",\"CDT-145\",IF(LEFT(B753,7)=\"CDT-135\",\"CDT-135\",AA751))","v":"Invisible"},"Invisible","Invisible","Invisible","Invisible","Invisible","Invisible"]
[null,{"$f":"IF(B751=0,\"\",VLOOKUP(DATE($A757,$A759,B751)+$I754,Activités!$C$4:$I$534,5,0))","v":""},{"$f":"IF(C751=0,\"\",VLOOKUP(DATE($A757,$A759,C751)+$I754,Activités!$C$4:$I$534,5,0))","v":""},{"$f":"IF(D751=0,\"\",VLOOKUP(DATE($A757,$A759,D751)+$I754,Activités!$C$4:$I$534,5,0))","v":""},{"$f":"IF(E751=0,\"\",VLOOKUP(DATE($A757,$A759,E751)+$I754,Activités!$C$4:$I$534,5,0))","v":""},{"$f":"IF(F751=0,\"\",VLOOKUP(DATE($A757,$A759,F751)+$I754,Activités!$C$4:$I$534,5,0))","v":""},{"$f":"IF(G751=0,\"\",VLOOKUP(DATE($A757,$A759,G751)+$I754,Activités!$C$4:$I$534,5,0))","v":""},{"$f":"IF(H751=0,\"\",VLOOKUP(DATE($A757,$A759,H751)+$I754,Activités!$C$4:$I$534,5,0))","v":""},{"$f":"+I752+0.1","v":0.2},null,null,null,null,null,null,null,null,null,null,null,null,null,null,null,null,null,{"$f":"AA753","v":"Invisible"},"Invisible","Invisible","Invisible","Invisible","Invisible","Invisible"]
[null,{"$f":"IF(ISNA(B754),\"\",B754)","v":""},"","","","","","",null,null,null,null,null,null,null,null,null,null,null,null,null,null,null,null,null,null,{"$f":"IF(LEFT(B755,7)=\"CDT-145\",\"CDT-145\",IF(LEFT(B755,7)=\"CDT-135\",\"CDT-135\",AA751))","v":"Invisible"},"Invisible","Invisible","Invisible","Invisible","Invisible","Invisible"]
[null,{"$f":"IF(B751=0,\"\",VLOOKUP(DATE($A757,$A759,B751)+$I756,Activités!$C$4:$I$534,5,0))","v":""},{"$f":"IF(C751=0,\"\",VLOOKUP(DATE($A757,$A759,C751)+$I756,Activités!$C$4:$I$534,5,0))","v":""},{"$f":"IF(D751=0,\"\",VLOOKUP(DATE($A757,$A759,D751)+$I756,Activités!$C$4:$I$534,5,0))","v":""},{"$f":"IF(E751=0,\"\",VLOOKUP(DATE($A757,$A759,E751)+$I756,Activités!$C$4:$I$534,5,0))","v":""},{"$f":"IF(F751=0,\"\",VLOOKUP(DATE($A757,$A759,F751)+$I756,Activités!$C$4:$I$534,5,0))","v":""},{"$f":"IF(G751=0,\"\",VLOOKUP(DATE($A757,$A759,G751)+$I756,Activités!$C$4:$I$534,5,0))","v":""},{"$f":"IF(H751=0,\"\",VLOOKUP(DATE($A757,$A759,H751)+$I756,Activités!$C$4:$I$534,5,0))","v":""},{"$f":"+I754+0.1","v":0.30000000000000004},null,null,null,null,null,null,null,null,null,null,null,null,null,null,null,null,null,{"$f":"AA755","v":"Invisible"},"Invisible","Invisible","Invisible","Invisible","Invisible","Invisible"]
[{"$f":"A746","v":2018},{"$f":"IF(ISNA(B756),\"\",B756)","v":""},"","","","","","",null,null,null,null,null,null,null,null,null,null,null,null,null,null,null,null,null,null,{"$f":"IF(LEFT(B757,7)=\"CDT-145\",\"CDT-145\",IF(LEFT(B757,7)=\"CDT-135\",\"CDT-135\",AA751))","v":"Invisible"},"Invisible","Invisible","Invisible","Invisible","Invisible","Invisible"]
[null,{"$f":"IF(B751=0,\"\",VLOOKUP(DATE($A757,$A759,B751)+$I758,Activités!$C$4:$I$534,5,0))","v":""},{"$f":"IF(C751=0,\"\",VLOOKUP(DATE($A757,$A759,C751)+$I758,Activités!$C$4:$I$534,5,0))","v":""},{"$f":"IF(D751=0,\"\",VLOOKUP(DATE($A757,$A759,D751)+$I758,Activités!$C$4:$I$534,5,0))","v":""},{"$f":"IF(E751=0,\"\",VLOOKUP(DATE($A757,$A759,E751)+$I758,Activités!$C$4:$I$534,5,0))","v":""},{"$f":"IF(F751=0,\"\",VLOOKUP(DATE($A757,$A759,F751)+$I758,Activités!$C$4:$I$534,5,0))","v":""},{"$f":"IF(G751=0,\"\",VLOOKUP(DATE($A757,$A759,G751)+$I758,Activités!$C$4:$I$534,5,0))","v":""},{"$f":"IF(H751=0,\"\",VLOOKUP(DATE($A757,$A759,H751)+$I758,Activités!$C$4:$I$534,5,0))","v":""},{"$f":"+I756+0.1","v":0.4},null,null,null,null,null,null,null,null,null,null,null,null,null,null,null,null,null,{"$f":"AA757","v":"Invisible"},"Invisible","Invisible","Invisible","Invisible","Invisible","Invisible"]
[{"$f":"A748","v":6},{"$f":"IF(ISNA(B758),\"\",B758)","v":""},"","","","","","",null,null,null,null,null,null,null,null,null,null,null,null,null,null,null,null,null,null,{"$f":"IF(LEFT(B759,7)=\"CDT-145\",\"CDT-145\",IF(LEFT(B759,7)=\"CDT-135\",\"CDT-135\",AA751))","v":"Invisible"},"Invisible","Invisible","Invisible","Invisible","Invisible","Invisible"]
[null,{"$f":"IF(B751=0,\"\",VLOOKUP(DATE($A757,$A759,B751)+$I760,Activités!$C$4:$I$534,5,0))","v":""},{"$f":"IF(C751=0,\"\",VLOOKUP(DATE($A757,$A759,C751)+$I760,Activités!$C$4:$I$534,5,0))","v":""},{"$f":"IF(D751=0,\"\",VLOOKUP(DATE($A757,$A759,D751)+$I760,Activités!$C$4:$I$534,5,0))","v":""},{"$f":"IF(E751=0,\"\",VLOOKUP(DATE($A757,$A759,E751)+$I760,Activités!$C$4:$I$534,5,0))","v":""},{"$f":"IF(F751=0,\"\",VLOOKUP(DATE($A757,$A759,F751)+$I760,Activités!$C$4:$I$534,5,0))","v":""},{"$f":"IF(G751=0,\"\",VLOOKUP(DATE($A757,$A759,G751)+$I760,Activités!$C$4:$I$534,5,0))","v":""},{"$f":"IF(H751=0,\"\",VLOOKUP(DATE($A757,$A759,H751)+$I760,Activités!$C$4:$I$534,5,0))","v":""},{"$f":"+I758+0.1","v":0.5},null,null,null,null,null,null,null,null,null,null,null,null,null,null,null,null,null,{"$f":"AA759","v":"Invisible"},"Invisible","Invisible","Invisible","Invisible","Invisible","Invisible"]
[{"$f":"A750","v":30},{"$f":"IF(ISNA(B760),\"\",B760)","v":""},"","","","","","",null,null,null,null,null,null,null,null,null,null,null,null,null,null,null,null,null,null,{"$f":"IF(LEFT(B761,7)=\"CDT-145\",\"CDT-145\",IF(LEFT(B761,7)=\"CDT-135\",\"CDT-135\",AA751))","v":"Invisible"},"Invisible","Invisible","Invisible","Invisible","Invisible","Invisible"]

{"sheet":"Budget","index":12,"n_rows":105,"n_cols":5,"rows_kept":105,"cut":false,"hidden":true,"merged":[[10,4,12,4],[10,2,12,2],[45,2,47,2],[33,2,35,2],[27,0,27,2],[29,2,31,2],[36,0,36,2],[14,2,16,2],[14,4,16,4],[45,4,47,4],[33,4,35,4],[38,2,43,2],[18,4,19,4],[21,4,26,4],[38,4,43,4],[18,2,19,2],[0,0,0,4],[1,0,1,4],[2,0,2,4],[6,2,8,2],[6,4,8,4],[3,1,3,2],[3,3,3,4],[21,2,26,2],[29,4,31,4],[49,4,51,4],[104,3,104,4],[104,1,104,2],[103,1,103,2],[52,1,52,2],[103,3,103,4],[52,3,52,4],[49,2,51,2]]}
["827 Longueuil"]
[{"$f":"CONCATENATE(YEAR('Info de l''escadron'!C26),\"-\",YEAR('Info de l''escadron'!C26)+1,\" \",VLOOKUP(87,Traduction!$B$6:$D$250,'Info de l''escadron'!$A$1+1,0))","v":"2017-2018 Budget"}]
["Révision (date)"]
[null,"POC 2016-2017",null,"POC 2017-2018"]
[{"$f":"VLOOKUP(88,Traduction!$B$6:$D$250,'Info de l''escadron'!$A$1+1,0)","v":"DÉPENSES - JOURS POC"},{"$f":"VLOOKUP(89,Traduction!$B$6:$D$250,'Info de l''escadron'!$A$1+1,0)","v":"Montant"},{"$f":"VLOOKUP(90,Traduction!$B$6:$D$250,'Info de l''escadron'!$A$1+1,0)","v":"TOTAL"},{"$f":"VLOOKUP(89,Traduction!$B$6:$D$250,'Info de l''escadron'!$A$1+1,0)","v":"Montant"},{"$f":"VLOOKUP(90,Traduction!$B$6:$D$250,'Info de l''escadron'!$A$1+1,0)","v":"TOTAL"}]
[{"$f":"VLOOKUP(91,Traduction!$B$6:$D$250,'Info de l''escadron'!$A$1+1,0)","v":"Périodes d'instruction OBLIGATOIRE M-JOUR 1"}]
[{"$f":"VLOOKUP(128,Traduction!$B$6:$D$250,'Info de l''escadron'!$A$1+1,0)","v":"Transport"},null,{"$f":"SUM(B7:B9)","v":0},null,{"$f":"SUM(D7:D9)","v":0}]
[{"$f":"VLOOKUP(129,Traduction!$B$6:$D$250,'Info de l''escadron'!$A$1+1,0)","v":"Repas (1 par journée d'instruction)"}]
[{"$f":"VLOOKUP(130,Traduction!$B$6:$D$250,'Info de l''escadron'!$A$1+1,0)","v":"Droit d'entrée"}]
[{"$f":"VLOOKUP(92,Traduction!$B$6:$D$250,'Info de l''escadron'!$A$1+1,0)","v":"Périodes d'instruction OBLIGATOIRE M-JOUR 2"}]
[{"$f":"VLOOKUP(128,Traduction!$B$6:$D$250,'Info de l''escadron'!$A$1+1,0)","v":"Transport"},null,{"$f":"SUM(B11:B13)","v":0},null,{"$f":"SUM(D11:D13)","v":0}]
[{"$f":"VLOOKUP(129,Traduction!$B$6:$D$250,'Info de l''escadron'!$A$1+1,0)","v":"Repas (1 par journée d'instruction)"}]
[{"$f":"VLOOKUP(130,Traduction!$B$6:$D$250,'Info de l''escadron'!$A$1+1,0)","v":"Droit d'entrée"}]
[{"$f":"VLOOKUP(93,Traduction!$B$6:$D$250,'Info de l''escadron'!$A$1+1,0)","v":"Compétition de cadets INTER-ESCADRON (1 JOURNÉE)"}]
[{"$f":"VLOOKUP(128,Traduction!$B$6:$D$250,'Info de l''escadron'!$A$1+1,0)","v":"Transport"},null,{"$f":"SUM(B15:B17)","v":0},null,{"$f":"SUM(D15:D17)","v":0}]
[{"$f":"VLOOKUP(129,Traduction!$B$6:$D$250,'Info de l''escadron'!$A$1+1,0)","v":"Repas (1 par journée d'instruction)"}]
[{"$f":"VLOOKUP(130,Traduction!$B$6:$D$250,'Info de l''escadron'!$A$1+1,0)","v":"Droit d'entrée"}]
[{"$f":"VLOOKUP(50,Traduction!$B$6:$D$250,'Info de l''escadron'!$A$1+1,0)","v":"Vol de Familiarisation"}]
[{"$f":"VLOOKUP(131,Traduction!$B$6:$D$250,'Info de l''escadron'!$A$1+1,0)","v":"Transport (Ops Air)"},null,{"$f":"SUM(B19:B20)","v":0},null,{"$f":"SUM(D19:D20)","v":0}]
[{"$f":"VLOOKUP(132,Traduction!$B$6:$D$250,'Info de l''escadron'!$A$1+1,0)","v":"Repas (1 par journée d'instruction) (POC)"}]
[{"$f":"VLOOKUP(94,Traduction!$B$6:$D$250,'Info de l''escadron'!$A$1+1,0)","v":"Exercice d'entraînement en Campagne OBLIGATOIRE (EEC 1) Fin de semaine"}]
[{"$f":"VLOOKUP(128,Traduction!$B$6:$D$250,'Info de l''escadron'!$A$1+1,0)","v":"Transport"},null,{"$f":"SUM(B22:B27)","v":0},null,{"$f":"SUM(D22:D27)","v":0}]
[{"$f":"VLOOKUP(133,Traduction!$B$6:$D$250,'Info de l''escadron'!$A$1+1,0)","v":"Repas"}]
[{"$f":"VLOOKUP(134,Traduction!$B$6:$D$250,'Info de l''escadron'!$A$1+1,0)","v":"Hébergement"}]
[{"$f":"VLOOKUP(135,Traduction!$B$6:$D$250,'Info de l''escadron'!$A$1+1,0)","v":"Véhicule de Soutien"}]
[{"$f":"VLOOKUP(136,Traduction!$B$6:$D$250,'Info de l''escadron'!$A$1+1,0)","v":"Toilettes chimiques"}]
[{"$f":"VLOOKUP(130,Traduction!$B$6:$D$250,'Info de l''escadron'!$A$1+1,0)","v":"Droit d'entrée"}]
[{"$f":"VLOOKUP(95,Traduction!$B$6:$D$250,'Info de l''escadron'!$A$1+1,0)","v":"Journées/Fin de semaine COMPLÉMENTAIRE"}]
[{"$f":"VLOOKUP(96,Traduction!$B$6:$D$250,'Info de l''escadron'!$A$1+1,0)","v":"Périodes d'instruction COMPLÉMENTAIRE C-JOUR 1"}]
[{"$f":"VLOOKUP(128,Traduction!$B$6:$D$250,'Info de l''escadron'!$A$1+1,0)","v":"Transport"},null,{"$f":"SUM(B30:B32)","v":0},null,{"$f":"SUM(D30:D32)","v":0}]
[{"$f":"VLOOKUP(129,Traduction!$B$6:$D$250,'Info de l''escadron'!$A$1+1,0)","v":"Repas (1 par journée d'instruction)"}]
[{"$f":"VLOOKUP(130,Traduction!$B$6:$D$250,'Info de l''escadron'!$A$1+1,0)","v":"Droit d'entrée"}]
[{"$f":"VLOOKUP(97,Traduction!$B$6:$D$250,'Info de l''escadron'!$A$1+1,0)","v":"Périodes d'instruction COMPLÉMENTAIRE C-JOUR 2"}]
[{"$f":"VLOOKUP(128,Traduction!$B$6:$D$250,'Info de l''escadron'!$A$1+1,0)","v":"Transport"},null,{"$f":"SUM(B34:B36)","v":0},null,{"$f":"SUM(D34:D36)","v":0}]
[{"$f":"VLOOKUP(129,Traduction!$B$6:$D$250,'Info de l''escadron'!$A$1+1,0)","v":"Repas (1 par journée d'instruction)"}]
[{"$f":"VLOOKUP(130,Traduction!$B$6:$D$250,'Info de l''escadron'!$A$1+1,0)","v":"Droit d'entrée"}]
[{"$f":"VLOOKUP(98,Traduction!$B$6:$D$250,'Info de l''escadron'!$A$1+1,0)","v":"Combinaison de deux journées parmi les suivantes"}]
[{"$f":"VLOOKUP(99,Traduction!$B$6:$D$250,'Info de l''escadron'!$A$1+1,0)","v":"Exercices d'entraînement en Campagne COMPLÉMENTAIRE (EEC 2) 2 jours ou 1 jour"}]
[{"$f":"VLOOKUP(128,Traduction!$B$6:$D$250,'Info de l''escadron'!$A$1+1,0)","v":"Transport"},null,{"$f":"SUM(B39:B44)","v":0},null,{"$f":"SUM(D39:D44)","v":0}]
[{"$f":"VLOOKUP(133,Traduction!$B$6:$D$250,'Info de l''escadron'!$A$1+1,0)","v":"Repas"}]
[{"$f":"VLOOKUP(134,Traduction!$B$6:$D$250,'Info de l''escadron'!$A$1+1,0)","v":"Hébergement"}]
[{"$f":"VLOOKUP(135,Traduction!$B$6:$D$250,'Info de l''escadron'!$A$1+1,0)","v":"Véhicule de Soutien"}]
[{"$f":"VLOOKUP(136,Traduction!$B$6:$D$250,'Info de l''escadron'!$A$1+1,0)","v":"Toilettes chimiques"}]
[{"$f":"VLOOKUP(130,Traduction!$B$6:$D$250,'Info de l''escadron'!$A$1+1,0)","v":"Droit d'entrée"}]
[{"$f":"VLOOKUP(93,Traduction!$B$6:$D$250,'Info de l''escadron'!$A$1+1,0)","v":"Compétition de cadets INTER-ESCADRON (1 JOURNÉE)"}]
[{"$f":"VLOOKUP(128,Traduction!$B$6:$D$250,'Info de l''escadron'!$A$1+1,0)","v":"Transport"},null,{"$f":"SUM(B46:B48)","v":0},null,{"$f":"SUM(D46:D48)","v":0}]
[{"$f":"VLOOKUP(129,Traduction!$B$6:$D$250,'Info de l''escadron'!$A$1+1,0)","v":"Repas (1 par journée d'instruction)"}]
[{"$f":"VLOOKUP(130,Traduction!$B$6:$D$250,'Info de l''escadron'!$A$1+1,0)","v":"Droit d'entrée"}]
[{"$f":"VLOOKUP(101,Traduction!$B$6:$D$250,'Info de l''escadron'!$A$1+1,0)","v":"Journée d'instruction propre à l'ÉLÉMENT"}]
[{"$f":"VLOOKUP(128,Traduction!$B$6:$D$250,'Info de l''escadron'!$A$1+1,0)","v":"Transport"},null,{"$f":"SUM(B50:B52)","v":0},null,{"$f":"SUM(D50:D52)","v":0}]
[{"$f":"VLOOKUP(129,Traduction!$B$6:$D$250,'Info de l''escadron'!$A$1+1,0)","v":"Repas (1 par journée d'instruction)"}]
[{"$f":"VLOOKUP(130,Traduction!$B$6:$D$250,'Info de l''escadron'!$A$1+1,0)","v":"Droit d'entrée"}]
[{"$f":"CONCATENATE(\"TOTAL \",A5)","v":"TOTAL DÉPENSES - JOURS POC"},{"$f":"SUM(C5:C52)","v":0},null,{"$f":"SUM(E5:E52)","v":0}]
[{"$f":"VLOOKUP(179,Traduction!$B$6:$D$250,'Info de l''escadron'!$A$1+1,0)","v":"AUTRES DÉPENSES DU POC"},{"$f":"VLOOKUP(89,Traduction!$B$6:$D$250,'Info de l''escadron'!$A$1+1,0)","v":"Montant"},{"$f":"VLOOKUP(90,Traduction!$B$6:$D$250,'Info de l''escadron'!$A$1+1,0)","v":"TOTAL"},{"$f":"VLOOKUP(89,Traduction!$B$6:$D$250,'Info de l''escadron'!$A$1+1,0)","v":"Montant"},{"$f":"VLOOKUP(90,Traduction!$B$6:$D$250,'Info de l''escadron'!$A$1+1,0)","v":"TOTAL"}]
[]
[]
[]
[]
[]
[]
[]
[]
[]
[]
[]
[]
[]
[]
[]
[]
[]
[]
[]
[]
[]
[]
[]
[]
[]
[]
[]
[]
[]
[]
[]
[]
[]
[]
[]
[]
[]
[]
[]
[]
[]
[]
[]
[]
[]
[]
[]
[]
[]
[{"$f":"CONCATENATE(\"TOTAL \",A54)","v":"TOTAL AUTRES DÉPENSES DU POC"},{"$f":"SUM(C55:C103)","v":0},null,{"$f":"SUM(E55:E103)","v":0}]
[{"$f":"VLOOKUP(102,Traduction!$B$6:$D$250,'Info de l''escadron'!$A$1+1,0)","v":"DÉPENSES  BUDGÉTAIRE (POC)"},{"$f":"SUM(B53+B104)","v":0},null,{"$f":"SUM(D53+D104)","v":0}]

{"sheet":"Hebdomadaire","index":13,"n_rows":82,"n_cols":27,"rows_kept":82,"cut":false,"hidden":true,"merged":[[10,14,10,16],[14,14,14,16],[13,14,13,16],[15,14,15,16],[16,11,16,13],[16,8,16,10],[15,11,15,13],[10,8,10,10],[15,8,15,10],[14,8,14,10],[18,14,18,16],[18,8,18,10],[18,11,18,13],[24,5,24,7],[23,8,23,10],[23,11,23,13],[17,8,17,10],[17,14,17,16],[17,11,17,13],[22,14,22,16],[19,14,19,16],[18,5,18,7],[21,8,21,10],[19,11,19,13],[19,5,19,7],[22,11,22,13],[28,5,28,7],[28,8,28,10],[25,2,25,4],[27,2,27,4],[20,2,20,4],[24,14,24,16],[24,2,24,4],[23,5,23,7],[24,8,24,10],[23,14,23,16],[22,2,22,4],[22,5,22,7],[22,8,22,10],[21,2,21,4],[24,11,24,13],[23,2,23,4],[26,11,26,13],[37,2,37,4],[56,4,56,10],[62,4,62,10],[60,11,60,13],[37,8,37,10],[55,11,55,13],[50,4,50,10],[57,4,57,10],[56,11,56,13],[52,11,52,13],[49,4,49,10],[50,11,50,13],[63,14,63,16],[58,14,58,16],[55,14,55,16],[57,14,57,16],[62,14,62,16],[71,11,71,13],[66,11,66,13],[63,11,63,13],[67,11,67,13],[70,11,70,13],[69,11,69,13],[68,11,68,13],[71,14,71,16],[69,14,69,16],[61,11,61,13],[60,14,60,16],[62,11,62,13],[69,0,73,0],[49,1,53,1],[59,1,63,1],[64,0,68,0],[59,0,63,0],[49,0,53,0],[32,0,35,0],[44,0,48,0],[36,0,39,0],[54,1,58,1],[44,1,48,1],[41,0,41,16],[39,14,39,16],[39,11,39,13],[47,11,47,13],[53,11,53,13],[51,11,51,13],[54,11,54,13],[64,1,68,1],[51,4,51,10],[54,4,54,10],[55,4,55,10],[54,0,58,0],[35,8,35,10],[20,0,23,0],[53,4,53,10],[30,2,30,4],[24,0,27,0],[20,8,20,10],[20,5,20,7],[21,5,21,7],[38,5,38,7],[38,8,38,10],[28,2,28,4],[32,2,32,4],[25,5,25,7],[36,5,36,7],[36,8,36,10],[33,5,33,7],[36,2,36,4],[29,5,29,7],[34,5,34,7],[33,2,33,4],[39,5,39,7],[32,5,32,7],[28,0,31,0],[52,4,52,10],[35,5,35,7],[12,0,15,0],[8,0,11,0],[9,2,9,4],[11,2,11,4],[15,2,15,4],[14,2,14,4],[12,2,12,4],[13,2,13,4],[16,0,19,0],[19,2,19,4],[8,2,8,4],[18,2,18,4],[17,2,17,4],[34,2,34,4],[12,8,12,10],[12,11,12,13],[13,8,13,10],[2,2,2,3],[11,8,11,10],[6,8,6,10],[10,2,10,4],[6,11,6,13],[9,11,9,13],[11,11,11,13],[6,5,6,7],[6,2,6,4],[11,5,11,7],[16,5,16,7],[14,5,14,7],[8,5,8,7],[9,5,9,7],[15,5,15,7],[8,8,8,10],[27,8,27,10],[26,2,26,4],[26,5,26,7],[26,8,26,10],[72,4,72,10],[63,4,63,10],[65,4,65,10],[66,4,66,10],[67,4,67,10],[10,11,10,13],[13,11,13,13],[14,11,14,13],[64,4,64,10],[16,2,16,4],[19,8,19,10],[10,5,10,7],[17,5,17,7],[12,5,12,7],[13,5,13,7],[70,4,70,10],[71,4,71,10],[35,2,35,4],[46,4,46,10],[38,2,38,4],[39,8,39,10],[37,5,37,7],[48,4,48,10],[47,4,47,10],[78,14,78,16],[74,1,78,1],[75,4,75,10],[76,11,76,13],[84,0,84,16],[32,11,32,13],[33,11,33,13],[34,11,34,13],[38,11,38,13],[36,11,36,13],[37,11,37,13],[68,4,68,10],[69,4,69,10],[56,14,56,16],[73,11,73,13],[72,11,72,13],[46,11,46,13],[53,14,53,16],[51,14,51,16],[58,4,58,10],[70,14,70,16],[34,8,34,10],[36,14,36,16],[44,11,44,13],[72,14,72,16],[59,14,59,16],[87,0,87,16],[78,11,78,13],[74,11,74,13],[77,11,77,13],[81,0,81,16],[78,4,78,10],[83,0,83,16],[76,4,76,10],[74,4,74,10],[85,0,85,16],[66,14,66,16],[73,4,73,10],[73,14,73,16],[76,14,76,16],[74,14,74,16],[75,11,75,13],[69,1,73,1],[86,0,86,16],[77,4,77,10],[82,0,82,16],[80,0,80,16],[74,0,78,0],[90,0,90,16],[0,0,0,16],[1,0,1,16],[4,0,4,16],[8,14,8,16],[9,14,9,16],[67,14,67,16],[64,11,64,13],[68,14,68,16],[65,14,65,16],[59,11,59,13],[58,11,58,13],[89,0,89,16],[59,4,59,10],[61,14,61,16],[75,14,75,16],[88,0,88,16],[77,14,77,16],[64,14,64,16],[65,11,65,13],[60,4,60,10],[61,4,61,10],[57,11,57,13],[11,14,11,16],[30,5,30,7],[31,5,31,7],[54,14,54,16],[25,14,25,16],[27,14,27,16],[47,14,47,16],[44,14,44,16],[45,14,45,16],[46,14,46,16],[37,14,37,16],[26,14,26,16],[50,14,50,16],[49,14,49,16],[34,14,34,16],[43,4,43,10],[44,4,44,10],[45,4,45,10],[35,14,35,16],[38,14,38,16],[39,2,39,4],[31,8,31,10],[30,14,30,16],[48,14,48,16],[45,11,45,13],[29,14,29,16],[27,11,27,13],[33,8,33,10],[30,8,30,10],[32,8,32,10],[30,11,30,13],[25,11,25,13],[52,14,52,16],[35,11,35,13],[43,11,43,13],[48,11,48,13],[31,2,31,4],[29,2,29,4],[27,5,27,7],[49,11,49,13],[43,14,43,16],[2,17,11,21],[31,14,31,16],[28,11,28,13],[28,14,28,16],[20,11,20,13],[12,14,12,16],[21,11,21,13],[8,11,8,13],[29,11,29,13],[31,11,31,13],[6,14,6,16],[21,14,21,16],[20,14,20,16],[16,14,16,16],[9,8,9,10],[32,14,32,16],[25,8,25,10],[33,14,33,16],[29,8,29,10]]}
["827 Longueuil"]
[{"$f":"VLOOKUP(114,Traduction!$B$6:$D$250,'Info de l''escadron'!$A$1+1,0)","v":"Horaire de la semaine"}]
[{"$f":"VLOOKUP(115,Traduction!$B$6:$D$250,'Info de l''escadron'!$A$1+1,0)","v":"Date :"},"jeudi","2017-09-07",null,null,null,null,null,null,null,null,null,null,null,null,{"$f":"VLOOKUP(122,Traduction!$B$6:$D$250,'Info de l''escadron'!$A$1+1,0)","v":"Semaine #"},1,{"$f":"VLOOKUP(211,Traduction!$B$6:$D$250,'Info de l''escadron'!$A$1+1,0)","v":"Pour avoir la page hebdomadaire de la semaine 9 (par exemple), il suffit d'inscrire 9 (dans notre exemple) dans la case jaune (cellule Q3) ."}]
[]
[{"$f":"VLOOKUP(116,Traduction!$B$6:$D$250,'Info de l''escadron'!$A$1+1,0)","v":"Détail de la séance d'instruction"}]
[null,null,0,null,null,0.2,null,null,0.4,null,null,0.6,null,null,0.8]
[null,null,{"$f":"VLOOKUP(11,Traduction!$B$6:$D$250,'Info de l''escadron'!$A$1+1,0)","v":"Période 1"},null,null,{"$f":"VLOOKUP(12,Traduction!$B$6:$D$250,'Info de l''escadron'!$A$1+1,0)","v":"Période 2"},null,null,{"$f":"VLOOKUP(14,Traduction!$B$6:$D$250,'Info de l''escadron'!$A$1+1,0)","v":"Période 3"},null,null,{"$f":"VLOOKUP(58,Traduction!$B$6:$D$250,'Info de l''escadron'!$A$1+1,0)","v":"Période 4"},null,null,{"$f":"VLOOKUP(184,Traduction!$B$6:$D$250,'Info de l''escadron'!$A$1+1,0)","v":"Période 5"}]
[null,null,"19h00",{"$f":"VLOOKUP(117,Traduction!$B$6:$D$250,'Info de l''escadron'!$A$1+1,0)","v":"à"},"19h30","19h35 à 20h05",{"$f":"D8","v":"à"},"20h05","20h25 à 20h55",{"$f":"D8","v":"à"},"20h55",{"$f":"'Info de l''escadron'!$C$21","v":"19:30:00"},{"$f":"G8","v":"à"},{"$f":"'Info de l''escadron'!$D$21","v":"20:00:00"},{"$f":"'Info de l''escadron'!$C$22","v":"20:00:00"},{"$f":"G8","v":"à"},{"$f":"'Info de l''escadron'!$D$22","v":"20:30:00"}]
[{"$f":"Horaire!E3","v":"Niveau 1"},{"$f":"VLOOKUP(118,Traduction!$B$6:$D$250,'Info de l''escadron'!$A$1+1,0)","v":"OCOM"},{"$f":"IF(ISERR(VALUE(RIGHT(LEFT(VLOOKUP($Q$3+C$6,Horaire!$A:$Y,$AA9,0),2),1))),\"\",SUBSTITUTE(VLOOKUP($Q$3+C$6,Horaire!$A:$Y,$AA9,0),\",\",\".\"))","v":""},null,null,{"$f":"IF(ISERR(VALUE(RIGHT(LEFT(VLOOKUP($Q$3+F$6,Horaire!$A:$Y,$AA9,0),2),1))),\"\",SUBSTITUTE(VLOOKUP($Q$3+F$6,Horaire!$A:$Y,$AA9,0),\",\",\".\"))","v":""},null,null,{"$f":"IF(ISERR(VALUE(RIGHT(LEFT(VLOOKUP($Q$3+I$6,Horaire!$A:$Y,$AA9,0),2),1))),\"\",SUBSTITUTE(VLOOKUP($Q$3+I$6,Horaire!$A:$Y,$AA9,0),\",\",\".\"))","v":""},null,null,{"$f":"IF(ISERR(VALUE(RIGHT(LEFT(VLOOKUP($Q$3+L$6,Horaire!$A:$Y,$AA9,0),2),1))),\"\",SUBSTITUTE(VLOOKUP($Q$3+L$6,Horaire!$A:$Y,$AA9,0),\",\",\".\"))","v":""},null,null,{"$f":"IF(ISERR(VALUE(RIGHT(LEFT(VLOOKUP($Q$3+O$6,Horaire!$A:$Y,$AA9,0),2),1))),\"\",SUBSTITUTE(VLOOKUP($Q$3+O$6,Horaire!$A:$Y,$AA9,0),\",\",\".\"))","v":""},null,null,null,null,null,null,null,null,null,null,null,5]
[null,{"$f":"VLOOKUP(178,Traduction!$B$6:$D$250,'Info de l''escadron'!$A$1+1,0)","v":"Description"},{"$f":"IF(C9=\"\",\"\",VLOOKUP(C9,'Niv 1'!$C$2:$D$149,2,0))","v":""},null,null,{"$f":"IF(F9=\"\",\"\",VLOOKUP(F9,'Niv 1'!$C$2:$D$149,2,0))","v":""},null,null,{"$f":"IF(I9=\"\",\"\",VLOOKUP(I9,'Niv 1'!$C$2:$D$149,2,0))","v":""},null,null,{"$f":"IF(L9=\"\",\"\",VLOOKUP(L9,'Niv 1'!$C$2:$D$149,2,0))","v":""},null,null,{"$f":"IF(O9=\"\",\"\",VLOOKUP(O9,'Niv 1'!$C$2:$D$149,2,0))","v":""},null,null,null,null,null,null,null,null,null,null,null,6]
[null,{"$f":"VLOOKUP(42,Traduction!$B$6:$D$250,'Info de l''escadron'!$A$1+1,0)","v":"Instructeur"},{"$f":"VLOOKUP($Q$3+C$6,Horaire!$A:$Y,$AA11,0)","v":0},null,null,{"$f":"VLOOKUP($Q$3+F$6,Horaire!$A:$Y,$AA11,0)","v":0},null,null,{"$f":"VLOOKUP($Q$3+I$6,Horaire!$A:$Y,$AA11,0)","v":0},null,null,{"$f":"VLOOKUP($Q$3+L$6,Horaire!$A:$Y,$AA11,0)","v":0},null,null,{"$f":"VLOOKUP($Q$3+O$6,Horaire!$A:$Y,$AA11,0)","v":0},null,null,null,null,null,null,null,null,null,null,null,6]
[null,{"$f":"VLOOKUP(43,Traduction!$B$6:$D$250,'Info de l''escadron'!$A$1+1,0)","v":"Emplacement"},{"$f":"VLOOKUP($Q$3+C$6,Horaire!$A:$Y,$AA12,0)","v":0},null,null,{"$f":"VLOOKUP($Q$3+F$6,Horaire!$A:$Y,$AA12,0)","v":0},null,null,{"$f":"VLOOKUP($Q$3+I$6,Horaire!$A:$Y,$AA12,0)","v":0},null,null,{"$f":"VLOOKUP($Q$3+L$6,Horaire!$A:$Y,$AA12,0)","v":0},null,null,{"$f":"VLOOKUP($Q$3+O$6,Horaire!$A:$Y,$AA12,0)","v":0},null,null,null,null,null,null,null,null,null,null,null,7]
[{"$f":"Horaire!H3","v":"Niveau 1B"},{"$f":"VLOOKUP(118,Traduction!$B$6:$D$250,'Info de l''escadron'!$A$1+1,0)","v":"OCOM"},{"$f":"IF(ISERR(VALUE(RIGHT(LEFT(VLOOKUP($Q$3+C$6,Horaire!$A:$Y,$AA13,0),2),1))),\"\",SUBSTITUTE(VLOOKUP($Q$3+C$6,Horaire!$A:$Y,$AA13,0),\",\",\".\"))","v":""},null,null,{"$f":"IF(ISERR(VALUE(RIGHT(LEFT(VLOOKUP($Q$3+F$6,Horaire!$A:$Y,$AA13,0),2),1))),\"\",SUBSTITUTE(VLOOKUP($Q$3+F$6,Horaire!$A:$Y,$AA13,0),\",\",\".\"))","v":""},null,null,{"$f":"IF(ISERR(VALUE(RIGHT(LEFT(VLOOKUP($Q$3+I$6,Horaire!$A:$Y,$AA13,0),2),1))),\"\",SUBSTITUTE(VLOOKUP($Q$3+I$6,Horaire!$A:$Y,$AA13,0),\",\",\".\"))","v":""},null,null,{"$f":"IF(ISERR(VALUE(RIGHT(LEFT(VLOOKUP($Q$3+L$6,Horaire!$A:$Y,$AA13,0),2),1))),\"\",SUBSTITUTE(VLOOKUP($Q$3+L$6,Horaire!$A:$Y,$AA13,0),\",\",\".\"))","v":""},null,null,{"$f":"IF(ISERR(VALUE(RIGHT(LEFT(VLOOKUP($Q$3+O$6,Horaire!$A:$Y,$AA13,0),2),1))),\"\",SUBSTITUTE(VLOOKUP($Q$3+O$6,Horaire!$A:$Y,$AA13,0),\",\",\".\"))","v":""},null,null,null,null,null,null,null,null,null,null,null,8]
[null,{"$f":"B10","v":"Description"},{"$f":"IF(C13=\"\",\"\",VLOOKUP(C13,'Niv 1'!$C$2:$D$149,2,0))","v":""},null,null,{"$f":"IF(F13=\"\",\"\",VLOOKUP(F13,'Niv 1'!$C$2:$D$149,2,0))","v":""},null,null,{"$f":"IF(I13=\"\",\"\",VLOOKUP(I13,'Niv 1'!$C$2:$D$149,2,0))","v":""},null,null,{"$f":"IF(L13=\"\",\"\",VLOOKUP(L13,'Niv 1'!$C$2:$D$149,2,0))","v":""},null,null,{"$f":"IF(O13=\"\",\"\",VLOOKUP(O13,'Niv 1'!$C$2:$D$149,2,0))","v":""},null,null,null,null,null,null,null,null,null,null,null,9]
[null,{"$f":"B11","v":"Instructeur"},{"$f":"VLOOKUP($Q$3+C$6,Horaire!$A:$Y,$AA15,0)","v":0},null,null,{"$f":"VLOOKUP($Q$3+F$6,Horaire!$A:$Y,$AA15,0)","v":0},null,null,{"$f":"VLOOKUP($Q$3+I$6,Horaire!$A:$Y,$AA15,0)","v":0},null,null,{"$f":"VLOOKUP($Q$3+L$6,Horaire!$A:$Y,$AA15,0)","v":0},null,null,{"$f":"VLOOKUP($Q$3+O$6,Horaire!$A:$Y,$AA15,0)","v":0},null,null,null,null,null,null,null,null,null,null,null,9]
[null,{"$f":"VLOOKUP(43,Traduction!$B$6:$D$250,'Info de l''escadron'!$A$1+1,0)","v":"Emplacement"},{"$f":"VLOOKUP($Q$3+C$6,Horaire!$A:$Y,$AA16,0)","v":0},null,null,{"$f":"VLOOKUP($Q$3+F$6,Horaire!$A:$Y,$AA16,0)","v":0},null,null,{"$f":"VLOOKUP($Q$3+I$6,Horaire!$A:$Y,$AA16,0)","v":0},null,null,{"$f":"VLOOKUP($Q$3+L$6,Horaire!$A:$Y,$AA16,0)","v":0},null,null,{"$f":"VLOOKUP($Q$3+O$6,Horaire!$A:$Y,$AA16,0)","v":0},null,null,null,null,null,null,null,null,null,null,null,10]
[{"$f":"Horaire!K3","v":"Niveau 2"},{"$f":"B9","v":"OCOM"},{"$f":"IF(ISERR(VALUE(RIGHT(LEFT(VLOOKUP($Q$3+C$6,Horaire!$A:$Y,$AA17,0),2),1))),\"\",SUBSTITUTE(VLOOKUP($Q$3+C$6,Horaire!$A:$Y,$AA17,0),\",\",\".\"))","v":""},null,null,{"$f":"IF(ISERR(VALUE(RIGHT(LEFT(VLOOKUP($Q$3+F$6,Horaire!$A:$Y,$AA17,0),2),1))),\"\",SUBSTITUTE(VLOOKUP($Q$3+F$6,Horaire!$A:$Y,$AA17,0),\",\",\".\"))","v":""},null,null,{"$f":"IF(ISERR(VALUE(RIGHT(LEFT(VLOOKUP($Q$3+I$6,Horaire!$A:$Y,$AA17,0),2),1))),\"\",SUBSTITUTE(VLOOKUP($Q$3+I$6,Horaire!$A:$Y,$AA17,0),\",\",\".\"))","v":""},null,null,{"$f":"IF(ISERR(VALUE(RIGHT(LEFT(VLOOKUP($Q$3+L$6,Horaire!$A:$Y,$AA17,0),2),1))),\"\",SUBSTITUTE(VLOOKUP($Q$3+L$6,Horaire!$A:$Y,$AA17,0),\",\",\".\"))","v":""},null,null,{"$f":"IF(ISERR(VALUE(RIGHT(LEFT(VLOOKUP($Q$3+O$6,Horaire!$A:$Y,$AA17,0),2),1))),\"\",SUBSTITUTE(VLOOKUP($Q$3+O$6,Horaire!$A:$Y,$AA17,0),\",\",\".\"))","v":""},null,null,null,null,null,null,null,null,null,null,null,11]
[null,{"$f":"B10","v":"Description"},{"$f":"IF(C17=\"\",\"\",VLOOKUP(C17,'Niv 2'!$C$2:$D$164,2,0))","v":""},null,null,{"$f":"IF(F17=\"\",\"\",VLOOKUP(F17,'Niv 2'!$C$2:$D$164,2,0))","v":""},null,null,{"$f":"IF(I17=\"\",\"\",VLOOKUP(I17,'Niv 2'!$C$2:$D$164,2,0))","v":""},null,null,{"$f":"IF(L17=\"\",\"\",VLOOKUP(L17,'Niv 2'!$C$2:$D$164,2,0))","v":""},null,null,{"$f":"IF(O17=\"\",\"\",VLOOKUP(O17,'Niv 2'!$C$2:$D$164,2,0))","v":""},null,null,null,null,null,null,null,null,null,null,null,12]
[null,{"$f":"B15","v":"Instructeur"},{"$f":"VLOOKUP($Q$3+C$6,Horaire!$A:$Y,$AA18,0)","v":0},null,null,{"$f":"VLOOKUP($Q$3+F$6,Horaire!$A:$Y,$AA18,0)","v":0},null,null,{"$f":"VLOOKUP($Q$3+I$6,Horaire!$A:$Y,$AA18,0)","v":0},null,null,{"$f":"VLOOKUP($Q$3+L$6,Horaire!$A:$Y,$AA18,0)","v":0},null,null,{"$f":"VLOOKUP($Q$3+O$6,Horaire!$A:$Y,$AA18,0)","v":0},null,null,null,null,null,null,null,null,null,null,null,12]
[null,{"$f":"B12","v":"Emplacement"},{"$f":"VLOOKUP($Q$3+C$6,Horaire!$A:$Y,$AA20,0)","v":0},null,null,{"$f":"VLOOKUP($Q$3+F$6,Horaire!$A:$Y,$AA20,0)","v":0},null,null,{"$f":"VLOOKUP($Q$3+I$6,Horaire!$A:$Y,$AA20,0)","v":0},null,null,{"$f":"VLOOKUP($Q$3+L$6,Horaire!$A:$Y,$AA20,0)","v":0},null,null,{"$f":"VLOOKUP($Q$3+O$6,Horaire!$A:$Y,$AA20,0)","v":0},null,null,null,null,null,null,null,null,null,null,null,13]
[{"$f":"Horaire!N3","v":"Niveau 2B"},{"$f":"B13","v":"OCOM"},{"$f":"IF(ISERR(VALUE(RIGHT(LEFT(VLOOKUP($Q$3+C$6,Horaire!$A:$Y,$AA21,0),2),1))),\"\",SUBSTITUTE(VLOOKUP($Q$3+C$6,Horaire!$A:$Y,$AA21,0),\",\",\".\"))","v":""},null,null,{"$f":"IF(ISERR(VALUE(RIGHT(LEFT(VLOOKUP($Q$3+F$6,Horaire!$A:$Y,$AA21,0),2),1))),\"\",SUBSTITUTE(VLOOKUP($Q$3+F$6,Horaire!$A:$Y,$AA21,0),\",\",\".\"))","v":""},null,null,{"$f":"IF(ISERR(VALUE(RIGHT(LEFT(VLOOKUP($Q$3+I$6,Horaire!$A:$Y,$AA21,0),2),1))),\"\",SUBSTITUTE(VLOOKUP($Q$3+I$6,Horaire!$A:$Y,$AA21,0),\",\",\".\"))","v":""},null,null,{"$f":"IF(ISERR(VALUE(RIGHT(LEFT(VLOOKUP($Q$3+L$6,Horaire!$A:$Y,$AA21,0),2),1))),\"\",SUBSTITUTE(VLOOKUP($Q$3+L$6,Horaire!$A:$Y,$AA21,0),\",\",\".\"))","v":""},null,null,{"$f":"IF(ISERR(VALUE(RIGHT(LEFT(VLOOKUP($Q$3+O$6,Horaire!$A:$Y,$AA21,0),2),1))),\"\",SUBSTITUTE(VLOOKUP($Q$3+O$6,Horaire!$A:$Y,$AA21,0),\",\",\".\"))","v":""},null,null,null,null,null,null,null,null,null,null,null,14]
[null,{"$f":"B14","v":"Description"},{"$f":"IF(C21=\"\",\"\",VLOOKUP(C21,'Niv 2'!$C$2:$D$164,2,0))","v":""},null,null,{"$f":"IF(F21=\"\",\"\",VLOOKUP(F21,'Niv 2'!$C$2:$D$164,2,0))","v":""},null,null,{"$f":"IF(I21=\"\",\"\",VLOOKUP(I21,'Niv 2'!$C$2:$D$164,2,0))","v":""},null,null,{"$f":"IF(L21=\"\",\"\",VLOOKUP(L21,'Niv 2'!$C$2:$D$164,2,0))","v":""},null,null,{"$f":"IF(O21=\"\",\"\",VLOOKUP(O21,'Niv 2'!$C$2:$D$164,2,0))","v":""},null,null,null,null,null,null,null,null,null,null,null,15]
[null,{"$f":"B19","v":"Instructeur"},{"$f":"VLOOKUP($Q$3+C$6,Horaire!$A:$Y,$AA22,0)","v":0},null,null,{"$f":"VLOOKUP($Q$3+F$6,Horaire!$A:$Y,$AA22,0)","v":0},null,null,{"$f":"VLOOKUP($Q$3+I$6,Horaire!$A:$Y,$AA22,0)","v":0},null,null,{"$f":"VLOOKUP($Q$3+L$6,Horaire!$A:$Y,$AA22,0)","v":0},null,null,{"$f":"VLOOKUP($Q$3+O$6,Horaire!$A:$Y,$AA22,0)","v":0},null,null,null,null,null,null,null,null,null,null,null,15]
[null,{"$f":"B16","v":"Emplacement"},{"$f":"VLOOKUP($Q$3+C$6,Horaire!$A:$Y,$AA24,0)","v":0},null,null,{"$f":"VLOOKUP($Q$3+F$6,Horaire!$A:$Y,$AA24,0)","v":0},null,null,{"$f":"VLOOKUP($Q$3+I$6,Horaire!$A:$Y,$AA24,0)","v":0},null,null,{"$f":"VLOOKUP($Q$3+L$6,Horaire!$A:$Y,$AA24,0)","v":0},null,null,{"$f":"VLOOKUP($Q$3+O$6,Horaire!$A:$Y,$AA24,0)","v":0},null,null,null,null,null,null,null,null,null,null,null,16]
[{"$f":"Horaire!Q3","v":"Niveau 3"},{"$f":"B17","v":"OCOM"},{"$f":"IF(ISERR(VALUE(RIGHT(LEFT(VLOOKUP($Q$3+C$6,Horaire!$A:$Y,$AA25,0),2),1))),\"\",SUBSTITUTE(VLOOKUP($Q$3+C$6,Horaire!$A:$Y,$AA25,0),\",\",\".\"))","v":""},null,null,{"$f":"IF(ISERR(VALUE(RIGHT(LEFT(VLOOKUP($Q$3+F$6,Horaire!$A:$Y,$AA25,0),2),1))),\"\",SUBSTITUTE(VLOOKUP($Q$3+F$6,Horaire!$A:$Y,$AA25,0),\",\",\".\"))","v":""},null,null,{"$f":"IF(ISERR(VALUE(RIGHT(LEFT(VLOOKUP($Q$3+I$6,Horaire!$A:$Y,$AA25,0),2),1))),\"\",SUBSTITUTE(VLOOKUP($Q$3+I$6,Horaire!$A:$Y,$AA25,0),\",\",\".\"))","v":""},null,null,{"$f":"IF(ISERR(VALUE(RIGHT(LEFT(VLOOKUP($Q$3+L$6,Horaire!$A:$Y,$AA25,0),2),1))),\"\",SUBSTITUTE(VLOOKUP($Q$3+L$6,Horaire!$A:$Y,$AA25,0),\",\",\".\"))","v":""},null,null,{"$f":"IF(ISERR(VALUE(RIGHT(LEFT(VLOOKUP($Q$3+O$6,Horaire!$A:$Y,$AA25,0),2),1))),\"\",SUBSTITUTE(VLOOKUP($Q$3+O$6,Horaire!$A:$Y,$AA25,0),\",\",\".\"))","v":""},null,null,null,null,null,null,null,null,null,null,null,17]
[null,{"$f":"B18","v":"Description"},{"$f":"IF(C25=\"\",\"\",VLOOKUP(C25,'Niv 3'!$C$2:$D$200,2,0))","v":""},null,null,{"$f":"IF(F25=\"\",\"\",VLOOKUP(F25,'Niv 3'!$C$2:$D$200,2,0))","v":""},null,null,{"$f":"IF(I25=\"\",\"\",VLOOKUP(I25,'Niv 3'!$C$2:$D$200,2,0))","v":""},null,null,{"$f":"IF(L25=\"\",\"\",VLOOKUP(L25,'Niv 3'!$C$2:$D$200,2,0))","v":""},null,null,{"$f":"IF(O25=\"\",\"\",VLOOKUP(O25,'Niv 3'!$C$2:$D$200,2,0))","v":""},null,null,null,null,null,null,null,null,null,null,null,18]
[null,{"$f":"B23","v":"Instructeur"},{"$f":"VLOOKUP($Q$3+C$6,Horaire!$A:$Y,$AA26,0)","v":0},null,null,{"$f":"VLOOKUP($Q$3+F$6,Horaire!$A:$Y,$AA26,0)","v":0},null,null,{"$f":"VLOOKUP($Q$3+I$6,Horaire!$A:$Y,$AA26,0)","v":0},null,null,{"$f":"VLOOKUP($Q$3+L$6,Horaire!$A:$Y,$AA26,0)","v":0},null,null,{"$f":"VLOOKUP($Q$3+O$6,Horaire!$A:$Y,$AA26,0)","v":0},null,null,null,null,null,null,null,null,null,null,null,18]
[null,{"$f":"B20","v":"Emplacement"},{"$f":"VLOOKUP($Q$3+C$6,Horaire!$A:$Y,$AA28,0)","v":0},null,null,{"$f":"VLOOKUP($Q$3+F$6,Horaire!$A:$Y,$AA28,0)","v":0},null,null,{"$f":"VLOOKUP($Q$3+I$6,Horaire!$A:$Y,$AA28,0)","v":0},null,null,{"$f":"VLOOKUP($Q$3+L$6,Horaire!$A:$Y,$AA28,0)","v":0},null,null,{"$f":"VLOOKUP($Q$3+O$6,Horaire!$A:$Y,$AA28,0)","v":0},null,null,null,null,null,null,null,null,null,null,null,19]
[{"$f":"Horaire!T3","v":"Niveau 3B"},{"$f":"B21","v":"OCOM"},{"$f":"IF(ISERR(VALUE(RIGHT(LEFT(VLOOKUP($Q$3+C$6,Horaire!$A:$Y,$AA29,0),2),1))),\"\",SUBSTITUTE(VLOOKUP($Q$3+C$6,Horaire!$A:$Y,$AA29,0),\",\",\".\"))","v":""},null,null,{"$f":"IF(ISERR(VALUE(RIGHT(LEFT(VLOOKUP($Q$3+F$6,Horaire!$A:$Y,$AA29,0),2),1))),\"\",SUBSTITUTE(VLOOKUP($Q$3+F$6,Horaire!$A:$Y,$AA29,0),\",\",\".\"))","v":""},null,null,{"$f":"IF(ISERR(VALUE(RIGHT(LEFT(VLOOKUP($Q$3+I$6,Horaire!$A:$Y,$AA29,0),2),1))),\"\",SUBSTITUTE(VLOOKUP($Q$3+I$6,Horaire!$A:$Y,$AA29,0),\",\",\".\"))","v":""},null,null,{"$f":"IF(ISERR(VALUE(RIGHT(LEFT(VLOOKUP($Q$3+L$6,Horaire!$A:$Y,$AA29,0),2),1))),\"\",SUBSTITUTE(VLOOKUP($Q$3+L$6,Horaire!$A:$Y,$AA29,0),\",\",\".\"))","v":""},null,null,{"$f":"IF(ISERR(VALUE(RIGHT(LEFT(VLOOKUP($Q$3+O$6,Horaire!$A:$Y,$AA29,0),2),1))),\"\",SUBSTITUTE(VLOOKUP($Q$3+O$6,Horaire!$A:$Y,$AA29,0),\",\",\".\"))","v":""},null,null,null,null,null,null,null,null,null,null,null,20]
[null,{"$f":"B22","v":"Description"},{"$f":"IF(C29=\"\",\"\",VLOOKUP(C29,'Niv 3'!$C$2:$D$200,2,0))","v":""},null,null,{"$f":"IF(F29=\"\",\"\",VLOOKUP(F29,'Niv 3'!$C$2:$D$200,2,0))","v":""},null,null,{"$f":"IF(I29=\"\",\"\",VLOOKUP(I29,'Niv 3'!$C$2:$D$200,2,0))","v":""},null,null,{"$f":"IF(L29=\"\",\"\",VLOOKUP(L29,'Niv 3'!$C$2:$D$200,2,0))","v":""},null,null,{"$f":"IF(O29=\"\",\"\",VLOOKUP(O29,'Niv 3'!$C$2:$D$200,2,0))","v":""},null,null,null,null,null,null,null,null,null,null,null,21]
[null,{"$f":"B27","v":"Instructeur"},{"$f":"VLOOKUP($Q$3+C$6,Horaire!$A:$Y,$AA30,0)","v":0},null,null,{"$f":"VLOOKUP($Q$3+F$6,Horaire!$A:$Y,$AA30,0)","v":0},null,null,{"$f":"VLOOKUP($Q$3+I$6,Horaire!$A:$Y,$AA30,0)","v":0},null,null,{"$f":"VLOOKUP($Q$3+L$6,Horaire!$A:$Y,$AA30,0)","v":0},null,null,{"$f":"VLOOKUP($Q$3+O$6,Horaire!$A:$Y,$AA30,0)","v":0},null,null,null,null,null,null,null,null,null,null,null,22]
[null,{"$f":"B24","v":"Emplacement"},{"$f":"VLOOKUP($Q$3+C$6,Horaire!$A:$Y,$AA32,0)","v":0},null,null,{"$f":"VLOOKUP($Q$3+F$6,Horaire!$A:$Y,$AA32,0)","v":0},null,null,{"$f":"VLOOKUP($Q$3+I$6,Horaire!$A:$Y,$AA32,0)","v":0},null,null,{"$f":"VLOOKUP($Q$3+L$6,Horaire!$A:$Y,$AA32,0)","v":0},null,null,{"$f":"VLOOKUP($Q$3+O$6,Horaire!$A:$Y,$AA32,0)","v":0},null,null,null,null,null,null,null,null,null,null,null,22]
[{"$f":"Horaire!W3","v":"Niveau 4"},{"$f":"B25","v":"OCOM"},{"$f":"IF(ISERR(VALUE(RIGHT(LEFT(VLOOKUP($Q$3+C$6,Horaire!$A:$Y,$AA33,0),2),1))),\"\",SUBSTITUTE(VLOOKUP($Q$3+C$6,Horaire!$A:$Y,$AA33,0),\",\",\".\"))","v":""},null,null,{"$f":"IF(ISERR(VALUE(RIGHT(LEFT(VLOOKUP($Q$3+F$6,Horaire!$A:$Y,$AA33,0),2),1))),\"\",SUBSTITUTE(VLOOKUP($Q$3+F$6,Horaire!$A:$Y,$AA33,0),\",\",\".\"))","v":""},null,null,{"$f":"IF(ISERR(VALUE(RIGHT(LEFT(VLOOKUP($Q$3+I$6,Horaire!$A:$Y,$AA33,0),2),1))),\"\",SUBSTITUTE(VLOOKUP($Q$3+I$6,Horaire!$A:$Y,$AA33,0),\",\",\".\"))","v":""},null,null,{"$f":"IF(ISERR(VALUE(RIGHT(LEFT(VLOOKUP($Q$3+L$6,Horaire!$A:$Y,$AA33,0),2),1))),\"\",SUBSTITUTE(VLOOKUP($Q$3+L$6,Horaire!$A:$Y,$AA33,0),\",\",\".\"))","v":""},null,null,{"$f":"IF(ISERR(VALUE(RIGHT(LEFT(VLOOKUP($Q$3+O$6,Horaire!$A:$Y,$AA33,0),2),1))),\"\",SUBSTITUTE(VLOOKUP($Q$3+O$6,Horaire!$A:$Y,$AA33,0),\",\",\".\"))","v":""},null,null,null,null,null,null,null,null,null,null,null,23]
[null,{"$f":"B26","v":"Description"},{"$f":"IF(C33=\"\",\"\",VLOOKUP(C33,'Niv 4'!$C$2:$D$201,2,0))","v":""},null,null,{"$f":"IF(F33=\"\",\"\",VLOOKUP(F33,'Niv 4'!$C$2:$D$201,2,0))","v":""},null,null,{"$f":"IF(I33=\"\",\"\",VLOOKUP(I33,'Niv 4'!$C$2:$D$201,2,0))","v":""},null,null,{"$f":"IF(L33=\"\",\"\",VLOOKUP(L33,'Niv 4'!$C$2:$D$201,2,0))","v":""},null,null,{"$f":"IF(O33=\"\",\"\",VLOOKUP(O33,'Niv 4'!$C$2:$D$201,2,0))","v":""},null,null,null,null,null,null,null,null,null,null,null,24]
[null,{"$f":"B31","v":"Instructeur"},{"$f":"VLOOKUP($Q$3+C$6,Horaire!$A:$Y,$AA34,0)","v":0},null,null,{"$f":"VLOOKUP($Q$3+F$6,Horaire!$A:$Y,$AA34,0)","v":0},null,null,{"$f":"VLOOKUP($Q$3+I$6,Horaire!$A:$Y,$AA34,0)","v":0},null,null,{"$f":"VLOOKUP($Q$3+L$6,Horaire!$A:$Y,$AA34,0)","v":0},null,null,{"$f":"VLOOKUP($Q$3+O$6,Horaire!$A:$Y,$AA34,0)","v":0},null,null,null,null,null,null,null,null,null,null,null,24]
[null,{"$f":"B28","v":"Emplacement"},{"$f":"VLOOKUP($Q$3+C$6,Horaire!$A:$Y,$AA36,0)","v":0},null,null,{"$f":"VLOOKUP($Q$3+F$6,Horaire!$A:$Y,$AA36,0)","v":0},null,null,{"$f":"VLOOKUP($Q$3+I$6,Horaire!$A:$Y,$AA36,0)","v":0},null,null,{"$f":"VLOOKUP($Q$3+L$6,Horaire!$A:$Y,$AA36,0)","v":0},null,null,{"$f":"VLOOKUP($Q$3+O$6,Horaire!$A:$Y,$AA36,0)","v":0},null,null,null,null,null,null,null,null,null,null,null,25]
[{"$f":"Horaire!Z3","v":"Niveau 4B"},{"$f":"B29","v":"OCOM"},{"$f":"IF(ISERR(VALUE(RIGHT(LEFT(VLOOKUP($Q$3+C$6,Horaire!$A:$Y,$AA37,0),2),1))),\"\",SUBSTITUTE(VLOOKUP($Q$3+C$6,Horaire!$A:$Y,$AA37,0),\",\",\".\"))","v":""},null,null,{"$f":"IF(ISERR(VALUE(RIGHT(LEFT(VLOOKUP($Q$3+F$6,Horaire!$A:$Y,$AA37,0),2),1))),\"\",SUBSTITUTE(VLOOKUP($Q$3+F$6,Horaire!$A:$Y,$AA37,0),\",\",\".\"))","v":""},null,null,{"$f":"IF(ISERR(VALUE(RIGHT(LEFT(VLOOKUP($Q$3+I$6,Horaire!$A:$Y,$AA37,0),2),1))),\"\",SUBSTITUTE(VLOOKUP($Q$3+I$6,Horaire!$A:$Y,$AA37,0),\",\",\".\"))","v":""},null,null,{"$f":"IF(ISERR(VALUE(RIGHT(LEFT(VLOOKUP($Q$3+L$6,Horaire!$A:$Y,$AA37,0),2),1))),\"\",SUBSTITUTE(VLOOKUP($Q$3+L$6,Horaire!$A:$Y,$AA37,0),\",\",\".\"))","v":""},null,null,{"$f":"IF(ISERR(VALUE(RIGHT(LEFT(VLOOKUP($Q$3+O$6,Horaire!$A:$Y,$AA37,0),2),1))),\"\",SUBSTITUTE(VLOOKUP($Q$3+O$6,Horaire!$A:$Y,$AA37,0),\",\",\".\"))","v":""},null,null,null,null,null,null,null,null,null,null,null,23]
[null,{"$f":"B30","v":"Description"},{"$f":"IF(C37=\"\",\"\",VLOOKUP(C37,'Niv 4'!$C$2:$D$201,2,0))","v":""},null,null,{"$f":"IF(F37=\"\",\"\",VLOOKUP(F37,'Niv 4'!$C$2:$D$201,2,0))","v":""},null,null,{"$f":"IF(I37=\"\",\"\",VLOOKUP(I37,'Niv 4'!$C$2:$D$201,2,0))","v":""},null,null,{"$f":"IF(L37=\"\",\"\",VLOOKUP(L37,'Niv 4'!$C$2:$D$201,2,0))","v":""},null,null,{"$f":"IF(O37=\"\",\"\",VLOOKUP(O37,'Niv 4'!$C$2:$D$201,2,0))","v":""},null,null,null,null,null,null,null,null,null,null,null,24]
[null,{"$f":"B35","v":"Instructeur"},{"$f":"VLOOKUP($Q$3+C$6,Horaire!$A:$Y,$AA38,0)","v":0},null,null,{"$f":"VLOOKUP($Q$3+F$6,Horaire!$A:$Y,$AA38,0)","v":0},null,null,{"$f":"VLOOKUP($Q$3+I$6,Horaire!$A:$Y,$AA38,0)","v":0},null,null,{"$f":"VLOOKUP($Q$3+L$6,Horaire!$A:$Y,$AA38,0)","v":0},null,null,{"$f":"VLOOKUP($Q$3+O$6,Horaire!$A:$Y,$AA38,0)","v":0},null,null,null,null,null,null,null,null,null,null,null,24]
[null,{"$f":"B32","v":"Emplacement"},{"$f":"VLOOKUP($Q$3+C$6,Horaire!$A:$Y,$AA40,0)","v":0},null,null,{"$f":"VLOOKUP($Q$3+F$6,Horaire!$A:$Y,$AA40,0)","v":0},null,null,{"$f":"VLOOKUP($Q$3+I$6,Horaire!$A:$Y,$AA40,0)","v":0},null,null,{"$f":"VLOOKUP($Q$3+L$6,Horaire!$A:$Y,$AA40,0)","v":0},null,null,{"$f":"VLOOKUP($Q$3+O$6,Horaire!$A:$Y,$AA40,0)","v":0},null,null,null,null,null,null,null,null,null,null,null,25]
[]
[{"$f":"VLOOKUP(119,Traduction!$B$6:$D$250,'Info de l''escadron'!$A$1+1,0)","v":"Activités de la semaine"}]
[null,null,2,3,5,null,null,null,null,null,null,6,null,null,7]
[{"$f":"Activités!B4","v":"Jour"},{"$f":"Activités!A4","v":"Date"},{"$f":"Activités!D4","v":"Début"},{"$f":"Activités!E4","v":"Fin"},{"$f":"Activités!F4","v":"Activité"},null,null,null,null,null,null,{"$f":"Activités!H4","v":"Emplacement"},null,null,{"$f":"Activités!I4","v":"BPR"}]
[null,null,{"$f":"IF(ISNA(VLOOKUP($AA45,Activités!$C$4:$I$534,C$43,0)),\" \",VLOOKUP($AA45,Activités!$C$4:$I$534,C$43,0))","v":"00:00:00"},{"$f":"IF(ISNA(VLOOKUP($AA45,Activités!$C$4:$I$534,D$43,0)),\" \",VLOOKUP($AA45,Activités!$C$4:$I$534,D$43,0))","v":"00:00:00"},{"$f":"IF(ISNA(VLOOKUP($AA45,Activités!$C$4:$I$534,E$43,0)),\" \",VLOOKUP($AA45,Activités!$C$4:$I$534,E$43,0))","v":0},null,null,null,null,null,null,{"$f":"IF(ISNA(VLOOKUP($AA45,Activités!$C$4:$I$534,L$43,0)),\" \",VLOOKUP($AA45,Activités!$C$4:$I$534,L$43,0))","v":0},{"$f":"IF(ISNA(VLOOKUP($AA45,Activités!$C$4:$I$534,J$43,0)),\" \",VLOOKUP($AA45,Activités!$C$4:$I$534,J$43,0))","v":{"$error":"#VALUE!"}},{"$f":"IF(ISNA(VLOOKUP($AA45,Activités!$C$4:$I$534,K$43,0)),\" \",VLOOKUP($AA45,Activités!$C$4:$I$534,K$43,0))","v":{"$error":"#VALUE!"}},{"$f":"IF(ISNA(VLOOKUP($AA45,Activités!$C$4:$I$534,O$43,0)),\" \",VLOOKUP($AA45,Activités!$C$4:$I$534,O$43,0))","v":0},{"$f":"IF(ISNA(VLOOKUP($AA45,Activités!$C$4:$I$534,M$43,0)),\" \",VLOOKUP($AA45,Activités!$C$4:$I$534,M$43,0))","v":{"$error":"#VALUE!"}},{"$f":"IF(ISNA(VLOOKUP($AA45,Activités!$C$4:$I$534,N$43,0)),\" \",VLOOKUP($AA45,Activités!$C$4:$I$534,N$43,0))","v":{"$error":"#VALUE!"}},null,null,null,null,null,null,null,null,null,{"$f":"B45+0.1","v":0.1}]
[{"$f":"VLOOKUP(WEEKDAY(B46,1),Traduction!$B$6:$D$250,'Info de l''escadron'!$A$1+1,0)","v":"Samedi"},null,{"$f":"IF(ISNA(VLOOKUP($AA46,Activités!$C$4:$I$534,C$43,0)),\" \",VLOOKUP($AA46,Activités!$C$4:$I$534,C$43,0))","v":"00:00:00"},{"$f":"IF(ISNA(VLOOKUP($AA46,Activités!$C$4:$I$534,D$43,0)),\" \",VLOOKUP($AA46,Activités!$C$4:$I$534,D$43,0))","v":"00:00:00"},{"$f":"IF(ISNA(VLOOKUP($AA46,Activités!$C$4:$I$534,E$43,0)),\" \",VLOOKUP($AA46,Activités!$C$4:$I$534,E$43,0))","v":0},null,null,null,null,null,null,{"$f":"IF(ISNA(VLOOKUP($AA46,Activités!$C$4:$I$534,L$43,0)),\" \",VLOOKUP($AA46,Activités!$C$4:$I$534,L$43,0))","v":0},{"$f":"IF(ISNA(VLOOKUP($AA46,Activités!$C$4:$I$534,J$43,0)),\" \",VLOOKUP($AA46,Activités!$C$4:$I$534,J$43,0))","v":{"$error":"#VALUE!"}},{"$f":"IF(ISNA(VLOOKUP($AA46,Activités!$C$4:$I$534,K$43,0)),\" \",VLOOKUP($AA46,Activités!$C$4:$I$534,K$43,0))","v":{"$error":"#VALUE!"}},{"$f":"IF(ISNA(VLOOKUP($AA46,Activités!$C$4:$I$534,O$43,0)),\" \",VLOOKUP($AA46,Activités!$C$4:$I$534,O$43,0))","v":0},{"$f":"IF(ISNA(VLOOKUP($AA46,Activités!$C$4:$I$534,M$43,0)),\" \",VLOOKUP($AA46,Activités!$C$4:$I$534,M$43,0))","v":{"$error":"#VALUE!"}},{"$f":"IF(ISNA(VLOOKUP($AA46,Activités!$C$4:$I$534,N$43,0)),\" \",VLOOKUP($AA46,Activités!$C$4:$I$534,N$43,0))","v":{"$error":"#VALUE!"}},null,null,null,null,null,null,null,null,null,{"$f":"B45+0.2","v":0.2}]
[null,null,{"$f":"IF(ISNA(VLOOKUP($AA47,Activités!$C$4:$I$534,C$43,0)),\" \",VLOOKUP($AA47,Activités!$C$4:$I$534,C$43,0))","v":"00:00:00"},{"$f":"IF(ISNA(VLOOKUP($AA47,Activités!$C$4:$I$534,D$43,0)),\" \",VLOOKUP($AA47,Activités!$C$4:$I$534,D$43,0))","v":"00:00:00"},{"$f":"IF(ISNA(VLOOKUP($AA47,Activités!$C$4:$I$534,E$43,0)),\" \",VLOOKUP($AA47,Activités!$C$4:$I$534,E$43,0))","v":0},null,null,null,null,null,null,{"$f":"IF(ISNA(VLOOKUP($AA47,Activités!$C$4:$I$534,L$43,0)),\" \",VLOOKUP($AA47,Activités!$C$4:$I$534,L$43,0))","v":0},{"$f":"IF(ISNA(VLOOKUP($AA47,Activités!$C$4:$I$534,J$43,0)),\" \",VLOOKUP($AA47,Activités!$C$4:$I$534,J$43,0))","v":{"$error":"#VALUE!"}},{"$f":"IF(ISNA(VLOOKUP($AA47,Activités!$C$4:$I$534,K$43,0)),\" \",VLOOKUP($AA47,Activités!$C$4:$I$534,K$43,0))","v":{"$error":"#VALUE!"}},{"$f":"IF(ISNA(VLOOKUP($AA47,Activités!$C$4:$I$534,O$43,0)),\" \",VLOOKUP($AA47,Activités!$C$4:$I$534,O$43,0))","v":0},{"$f":"IF(ISNA(VLOOKUP($AA47,Activités!$C$4:$I$534,M$43,0)),\" \",VLOOKUP($AA47,Activités!$C$4:$I$534,M$43,0))","v":{"$error":"#VALUE!"}},{"$f":"IF(ISNA(VLOOKUP($AA47,Activités!$C$4:$I$534,N$43,0)),\" \",VLOOKUP($AA47,Activités!$C$4:$I$534,N$43,0))","v":{"$error":"#VALUE!"}},null,null,null,null,null,null,null,null,null,{"$f":"B45+0.3","v":0.3}]
[{"$f":"VLOOKUP(WEEKDAY(B48,1),Traduction!$B$6:$D$250,'Info de l''escadron'!$A$1+1,0)","v":"Samedi"},null,{"$f":"IF(ISNA(VLOOKUP($AA48,Activités!$C$4:$I$534,C$43,0)),\" \",VLOOKUP($AA48,Activités!$C$4:$I$534,C$43,0))","v":"00:00:00"},{"$f":"IF(ISNA(VLOOKUP($AA48,Activités!$C$4:$I$534,D$43,0)),\" \",VLOOKUP($AA48,Activités!$C$4:$I$534,D$43,0))","v":"00:00:00"},{"$f":"IF(ISNA(VLOOKUP($AA48,Activités!$C$4:$I$534,E$43,0)),\" \",VLOOKUP($AA48,Activités!$C$4:$I$534,E$43,0))","v":0},null,null,null,null,null,null,{"$f":"IF(ISNA(VLOOKUP($AA48,Activités!$C$4:$I$534,L$43,0)),\" \",VLOOKUP($AA48,Activités!$C$4:$I$534,L$43,0))","v":0},{"$f":"IF(ISNA(VLOOKUP($AA48,Activités!$C$4:$I$534,J$43,0)),\" \",VLOOKUP($AA48,Activités!$C$4:$I$534,J$43,0))","v":{"$error":"#VALUE!"}},{"$f":"IF(ISNA(VLOOKUP($AA48,Activités!$C$4:$I$534,K$43,0)),\" \",VLOOKUP($AA48,Activités!$C$4:$I$534,K$43,0))","v":{"$error":"#VALUE!"}},{"$f":"IF(ISNA(VLOOKUP($AA48,Activités!$C$4:$I$534,O$43,0)),\" \",VLOOKUP($AA48,Activités!$C$4:$I$534,O$43,0))","v":0},{"$f":"IF(ISNA(VLOOKUP($AA48,Activités!$C$4:$I$534,M$43,0)),\" \",VLOOKUP($AA48,Activités!$C$4:$I$534,M$43,0))","v":{"$error":"#VALUE!"}},{"$f":"IF(ISNA(VLOOKUP($AA48,Activités!$C$4:$I$534,N$43,0)),\" \",VLOOKUP($AA48,Activités!$C$4:$I$534,N$43,0))","v":{"$error":"#VALUE!"}},null,null,null,null,null,null,null,null,null,{"$f":"B45+0.4","v":0.4}]
[{"$f":"VLOOKUP(WEEKDAY(B49,1),Traduction!$B$6:$D$250,'Info de l''escadron'!$A$1+1,0)","v":"Samedi"},null,{"$f":"IF(ISNA(VLOOKUP($AA49,Activités!$C$4:$I$534,C$43,0)),\" \",VLOOKUP($AA49,Activités!$C$4:$I$534,C$43,0))","v":"00:00:00"},{"$f":"IF(ISNA(VLOOKUP($AA49,Activités!$C$4:$I$534,D$43,0)),\" \",VLOOKUP($AA49,Activités!$C$4:$I$534,D$43,0))","v":"00:00:00"},{"$f":"IF(ISNA(VLOOKUP($AA49,Activités!$C$4:$I$534,E$43,0)),\" \",VLOOKUP($AA49,Activités!$C$4:$I$534,E$43,0))","v":0},null,null,null,null,null,null,{"$f":"IF(ISNA(VLOOKUP($AA49,Activités!$C$4:$I$534,L$43,0)),\" \",VLOOKUP($AA49,Activités!$C$4:$I$534,L$43,0))","v":0},{"$f":"IF(ISNA(VLOOKUP($AA49,Activités!$C$4:$I$534,J$43,0)),\" \",VLOOKUP($AA49,Activités!$C$4:$I$534,J$43,0))","v":{"$error":"#VALUE!"}},{"$f":"IF(ISNA(VLOOKUP($AA49,Activités!$C$4:$I$534,K$43,0)),\" \",VLOOKUP($AA49,Activités!$C$4:$I$534,K$43,0))","v":{"$error":"#VALUE!"}},{"$f":"IF(ISNA(VLOOKUP($AA49,Activités!$C$4:$I$534,O$43,0)),\" \",VLOOKUP($AA49,Activités!$C$4:$I$534,O$43,0))","v":0},{"$f":"IF(ISNA(VLOOKUP($AA49,Activités!$C$4:$I$534,M$43,0)),\" \",VLOOKUP($AA49,Activités!$C$4:$I$534,M$43,0))","v":{"$error":"#VALUE!"}},{"$f":"IF(ISNA(VLOOKUP($AA49,Activités!$C$4:$I$534,N$43,0)),\" \",VLOOKUP($AA49,Activités!$C$4:$I$534,N$43,0))","v":{"$error":"#VALUE!"}},null,null,null,null,null,null,null,null,null,{"$f":"B45+0.5","v":0.5}]
[null,null,{"$f":"IF(ISNA(VLOOKUP($AA50,Activités!$C$4:$I$534,C$43,0)),\" \",VLOOKUP($AA50,Activités!$C$4:$I$534,C$43,0))","v":"00:00:00"},{"$f":"IF(ISNA(VLOOKUP($AA50,Activités!$C$4:$I$534,D$43,0)),\" \",VLOOKUP($AA50,Activités!$C$4:$I$534,D$43,0))","v":"00:00:00"},{"$f":"IF(ISNA(VLOOKUP($AA50,Activités!$C$4:$I$534,E$43,0)),\" \",VLOOKUP($AA50,Activités!$C$4:$I$534,E$43,0))","v":0},null,null,null,null,null,null,{"$f":"IF(ISNA(VLOOKUP($AA50,Activités!$C$4:$I$534,L$43,0)),\" \",VLOOKUP($AA50,Activités!$C$4:$I$534,L$43,0))","v":0},{"$f":"IF(ISNA(VLOOKUP($AA50,Activités!$C$4:$I$534,J$43,0)),\" \",VLOOKUP($AA50,Activités!$C$4:$I$534,J$43,0))","v":{"$error":"#VALUE!"}},{"$f":"IF(ISNA(VLOOKUP($AA50,Activités!$C$4:$I$534,K$43,0)),\" \",VLOOKUP($AA50,Activités!$C$4:$I$534,K$43,0))","v":{"$error":"#VALUE!"}},{"$f":"IF(ISNA(VLOOKUP($AA50,Activités!$C$4:$I$534,O$43,0)),\" \",VLOOKUP($AA50,Activités!$C$4:$I$534,O$43,0))","v":0},{"$f":"IF(ISNA(VLOOKUP($AA50,Activités!$C$4:$I$534,M$43,0)),\" \",VLOOKUP($AA50,Activités!$C$4:$I$534,M$43,0))","v":{"$error":"#VALUE!"}},{"$f":"IF(ISNA(VLOOKUP($AA50,Activités!$C$4:$I$534,N$43,0)),\" \",VLOOKUP($AA50,Activités!$C$4:$I$534,N$43,0))","v":{"$error":"#VALUE!"}},null,null,null,null,null,null,null,null,null,{"$f":"B50+0.1","v":0.1}]
[{"$f":"VLOOKUP(WEEKDAY(B51,1),Traduction!$B$6:$D$250,'Info de l''escadron'!$A$1+1,0)","v":"Samedi"},null,{"$f":"IF(ISNA(VLOOKUP($AA51,Activités!$C$4:$I$534,C$43,0)),\" \",VLOOKUP($AA51,Activités!$C$4:$I$534,C$43,0))","v":"00:00:00"},{"$f":"IF(ISNA(VLOOKUP($AA51,Activités!$C$4:$I$534,D$43,0)),\" \",VLOOKUP($AA51,Activités!$C$4:$I$534,D$43,0))","v":"00:00:00"},{"$f":"IF(ISNA(VLOOKUP($AA51,Activités!$C$4:$I$534,E$43,0)),\" \",VLOOKUP($AA51,Activités!$C$4:$I$534,E$43,0))","v":0},null,null,null,null,null,null,{"$f":"IF(ISNA(VLOOKUP($AA51,Activités!$C$4:$I$534,L$43,0)),\" \",VLOOKUP($AA51,Activités!$C$4:$I$534,L$43,0))","v":0},{"$f":"IF(ISNA(VLOOKUP($AA51,Activités!$C$4:$I$534,J$43,0)),\" \",VLOOKUP($AA51,Activités!$C$4:$I$534,J$43,0))","v":{"$error":"#VALUE!"}},{"$f":"IF(ISNA(VLOOKUP($AA51,Activités!$C$4:$I$534,K$43,0)),\" \",VLOOKUP($AA51,Activités!$C$4:$I$534,K$43,0))","v":{"$error":"#VALUE!"}},{"$f":"IF(ISNA(VLOOKUP($AA51,Activités!$C$4:$I$534,O$43,0)),\" \",VLOOKUP($AA51,Activités!$C$4:$I$534,O$43,0))","v":0},{"$f":"IF(ISNA(VLOOKUP($AA51,Activités!$C$4:$I$534,M$43,0)),\" \",VLOOKUP($AA51,Activités!$C$4:$I$534,M$43,0))","v":{"$error":"#VALUE!"}},{"$f":"IF(ISNA(VLOOKUP($AA51,Activités!$C$4:$I$534,N$43,0)),\" \",VLOOKUP($AA51,Activités!$C$4:$I$534,N$43,0))","v":{"$error":"#VALUE!"}},null,null,null,null,null,null,null,null,null,{"$f":"B50+0.2","v":0.2}]
[null,null,{"$f":"IF(ISNA(VLOOKUP($AA52,Activités!$C$4:$I$534,C$43,0)),\" \",VLOOKUP($AA52,Activités!$C$4:$I$534,C$43,0))","v":"00:00:00"},{"$f":"IF(ISNA(VLOOKUP($AA52,Activités!$C$4:$I$534,D$43,0)),\" \",VLOOKUP($AA52,Activités!$C$4:$I$534,D$43,0))","v":"00:00:00"},{"$f":"IF(ISNA(VLOOKUP($AA52,Activités!$C$4:$I$534,E$43,0)),\" \",VLOOKUP($AA52,Activités!$C$4:$I$534,E$43,0))","v":0},null,null,null,null,null,null,{"$f":"IF(ISNA(VLOOKUP($AA52,Activités!$C$4:$I$534,L$43,0)),\" \",VLOOKUP($AA52,Activités!$C$4:$I$534,L$43,0))","v":0},{"$f":"IF(ISNA(VLOOKUP($AA52,Activités!$C$4:$I$534,J$43,0)),\" \",VLOOKUP($AA52,Activités!$C$4:$I$534,J$43,0))","v":{"$error":"#VALUE!"}},{"$f":"IF(ISNA(VLOOKUP($AA52,Activités!$C$4:$I$534,K$43,0)),\" \",VLOOKUP($AA52,Activités!$C$4:$I$534,K$43,0))","v":{"$error":"#VALUE!"}},{"$f":"IF(ISNA(VLOOKUP($AA52,Activités!$C$4:$I$534,O$43,0)),\" \",VLOOKUP($AA52,Activités!$C$4:$I$534,O$43,0))","v":0},{"$f":"IF(ISNA(VLOOKUP($AA52,Activités!$C$4:$I$534,M$43,0)),\" \",VLOOKUP($AA52,Activités!$C$4:$I$534,M$43,0))","v":{"$error":"#VALUE!"}},{"$f":"IF(ISNA(VLOOKUP($AA52,Activités!$C$4:$I$534,N$43,0)),\" \",VLOOKUP($AA52,Activités!$C$4:$I$534,N$43,0))","v":{"$error":"#VALUE!"}},null,null,null,null,null,null,null,null,null,{"$f":"B50+0.3","v":0.3}]
[{"$f":"VLOOKUP(WEEKDAY(B53,1),Traduction!$B$6:$D$250,'Info de l''escadron'!$A$1+1,0)","v":"Samedi"},null,{"$f":"IF(ISNA(VLOOKUP($AA53,Activités!$C$4:$I$534,C$43,0)),\" \",VLOOKUP($AA53,Activités!$C$4:$I$534,C$43,0))","v":"00:00:00"},{"$f":"IF(ISNA(VLOOKUP($AA53,Activités!$C$4:$I$534,D$43,0)),\" \",VLOOKUP($AA53,Activités!$C$4:$I$534,D$43,0))","v":"00:00:00"},{"$f":"IF(ISNA(VLOOKUP($AA53,Activités!$C$4:$I$534,E$43,0)),\" \",VLOOKUP($AA53,Activités!$C$4:$I$534,E$43,0))","v":0},null,null,null,null,null,null,{"$f":"IF(ISNA(VLOOKUP($AA53,Activités!$C$4:$I$534,L$43,0)),\" \",VLOOKUP($AA53,Activités!$C$4:$I$534,L$43,0))","v":0},{"$f":"IF(ISNA(VLOOKUP($AA53,Activités!$C$4:$I$534,J$43,0)),\" \",VLOOKUP($AA53,Activités!$C$4:$I$534,J$43,0))","v":{"$error":"#VALUE!"}},{"$f":"IF(ISNA(VLOOKUP($AA53,Activités!$C$4:$I$534,K$43,0)),\" \",VLOOKUP($AA53,Activités!$C$4:$I$534,K$43,0))","v":{"$error":"#VALUE!"}},{"$f":"IF(ISNA(VLOOKUP($AA53,Activités!$C$4:$I$534,O$43,0)),\" \",VLOOKUP($AA53,Activités!$C$4:$I$534,O$43,0))","v":0},{"$f":"IF(ISNA(VLOOKUP($AA53,Activités!$C$4:$I$534,M$43,0)),\" \",VLOOKUP($AA53,Activités!$C$4:$I$534,M$43,0))","v":{"$error":"#VALUE!"}},{"$f":"IF(ISNA(VLOOKUP($AA53,Activités!$C$4:$I$534,N$43,0)),\" \",VLOOKUP($AA53,Activités!$C$4:$I$534,N$43,0))","v":{"$error":"#VALUE!"}},null,null,null,null,null,null,null,null,null,{"$f":"B50+0.4","v":0.4}]
[{"$f":"VLOOKUP(WEEKDAY(B54,1),Traduction!$B$6:$D$250,'Info de l''escadron'!$A$1+1,0)","v":"Samedi"},null,{"$f":"IF(ISNA(VLOOKUP($AA54,Activités!$C$4:$I$534,C$43,0)),\" \",VLOOKUP($AA54,Activités!$C$4:$I$534,C$43,0))","v":"00:00:00"},{"$f":"IF(ISNA(VLOOKUP($AA54,Activités!$C$4:$I$534,D$43,0)),\" \",VLOOKUP($AA54,Activités!$C$4:$I$534,D$43,0))","v":"00:00:00"},{"$f":"IF(ISNA(VLOOKUP($AA54,Activités!$C$4:$I$534,E$43,0)),\" \",VLOOKUP($AA54,Activités!$C$4:$I$534,E$43,0))","v":0},null,null,null,null,null,null,{"$f":"IF(ISNA(VLOOKUP($AA54,Activités!$C$4:$I$534,L$43,0)),\" \",VLOOKUP($AA54,Activités!$C$4:$I$534,L$43,0))","v":0},{"$f":"IF(ISNA(VLOOKUP($AA54,Activités!$C$4:$I$534,J$43,0)),\" \",VLOOKUP($AA54,Activités!$C$4:$I$534,J$43,0))","v":{"$error":"#VALUE!"}},{"$f":"IF(ISNA(VLOOKUP($AA54,Activités!$C$4:$I$534,K$43,0)),\" \",VLOOKUP($AA54,Activités!$C$4:$I$534,K$43,0))","v":{"$error":"#VALUE!"}},{"$f":"IF(ISNA(VLOOKUP($AA54,Activités!$C$4:$I$534,O$43,0)),\" \",VLOOKUP($AA54,Activités!$C$4:$I$534,O$43,0))","v":0},{"$f":"IF(ISNA(VLOOKUP($AA54,Activités!$C$4:$I$534,M$43,0)),\" \",VLOOKUP($AA54,Activités!$C$4:$I$534,M$43,0))","v":{"$error":"#VALUE!"}},{"$f":"IF(ISNA(VLOOKUP($AA54,Activités!$C$4:$I$534,N$43,0)),\" \",VLOOKUP($AA54,Activités!$C$4:$I$534,N$43,0))","v":{"$error":"#VALUE!"}},null,null,null,null,null,null,null,null,null,{"$f":"B50+0.5","v":0.5}]
[null,null,{"$f":"IF(ISNA(VLOOKUP($AA55,Activités!$C$4:$I$534,C$43,0)),\" \",VLOOKUP($AA55,Activités!$C$4:$I$534,C$43,0))","v":"00:00:00"},{"$f":"IF(ISNA(VLOOKUP($AA55,Activités!$C$4:$I$534,D$43,0)),\" \",VLOOKUP($AA55,Activités!$C$4:$I$534,D$43,0))","v":"00:00:00"},{"$f":"IF(ISNA(VLOOKUP($AA55,Activités!$C$4:$I$534,E$43,0)),\" \",VLOOKUP($AA55,Activités!$C$4:$I$534,E$43,0))","v":0},null,null,null,null,null,null,{"$f":"IF(ISNA(VLOOKUP($AA55,Activités!$C$4:$I$534,L$43,0)),\" \",VLOOKUP($AA55,Activités!$C$4:$I$534,L$43,0))","v":0},{"$f":"IF(ISNA(VLOOKUP($AA55,Activités!$C$4:$I$534,J$43,0)),\" \",VLOOKUP($AA55,Activités!$C$4:$I$534,J$43,0))","v":{"$error":"#VALUE!"}},{"$f":"IF(ISNA(VLOOKUP($AA55,Activités!$C$4:$I$534,K$43,0)),\" \",VLOOKUP($AA55,Activités!$C$4:$I$534,K$43,0))","v":{"$error":"#VALUE!"}},{"$f":"IF(ISNA(VLOOKUP($AA55,Activités!$C$4:$I$534,O$43,0)),\" \",VLOOKUP($AA55,Activités!$C$4:$I$534,O$43,0))","v":0},{"$f":"IF(ISNA(VLOOKUP($AA55,Activités!$C$4:$I$534,M$43,0)),\" \",VLOOKUP($AA55,Activités!$C$4:$I$534,M$43,0))","v":{"$error":"#VALUE!"}},{"$f":"IF(ISNA(VLOOKUP($AA55,Activités!$C$4:$I$534,N$43,0)),\" \",VLOOKUP($AA55,Activités!$C$4:$I$534,N$43,0))","v":{"$error":"#VALUE!"}},null,null,null,null,null,null,null,null,null,{"$f":"B55+0.1","v":0.1}]
[{"$f":"VLOOKUP(WEEKDAY(B56,1),Traduction!$B$6:$D$250,'Info de l''escadron'!$A$1+1,0)","v":"Samedi"},null,{"$f":"IF(ISNA(VLOOKUP($AA56,Activités!$C$4:$I$534,C$43,0)),\" \",VLOOKUP($AA56,Activités!$C$4:$I$534,C$43,0))","v":"00:00:00"},{"$f":"IF(ISNA(VLOOKUP($AA56,Activités!$C$4:$I$534,D$43,0)),\" \",VLOOKUP($AA56,Activités!$C$4:$I$534,D$43,0))","v":"00:00:00"},{"$f":"IF(ISNA(VLOOKUP($AA56,Activités!$C$4:$I$534,E$43,0)),\" \",VLOOKUP($AA56,Activités!$C$4:$I$534,E$43,0))","v":0},null,null,null,null,null,null,{"$f":"IF(ISNA(VLOOKUP($AA56,Activités!$C$4:$I$534,L$43,0)),\" \",VLOOKUP($AA56,Activités!$C$4:$I$534,L$43,0))","v":0},{"$f":"IF(ISNA(VLOOKUP($AA56,Activités!$C$4:$I$534,J$43,0)),\" \",VLOOKUP($AA56,Activités!$C$4:$I$534,J$43,0))","v":{"$error":"#VALUE!"}},{"$f":"IF(ISNA(VLOOKUP($AA56,Activités!$C$4:$I$534,K$43,0)),\" \",VLOOKUP($AA56,Activités!$C$4:$I$534,K$43,0))","v":{"$error":"#VALUE!"}},{"$f":"IF(ISNA(VLOOKUP($AA56,Activités!$C$4:$I$534,O$43,0)),\" \",VLOOKUP($AA56,Activités!$C$4:$I$534,O$43,0))","v":0},{"$f":"IF(ISNA(VLOOKUP($AA56,Activités!$C$4:$I$534,M$43,0)),\" \",VLOOKUP($AA56,Activités!$C$4:$I$534,M$43,0))","v":{"$error":"#VALUE!"}},{"$f":"IF(ISNA(VLOOKUP($AA56,Activités!$C$4:$I$534,N$43,0)),\" \",VLOOKUP($AA56,Activités!$C$4:$I$534,N$43,0))","v":{"$error":"#VALUE!"}},null,null,null,null,null,null,null,null,null,{"$f":"B55+0.2","v":0.2}]
[null,null,{"$f":"IF(ISNA(VLOOKUP($AA57,Activités!$C$4:$I$534,C$43,0)),\" \",VLOOKUP($AA57,Activités!$C$4:$I$534,C$43,0))","v":"00:00:00"},{"$f":"IF(ISNA(VLOOKUP($AA57,Activités!$C$4:$I$534,D$43,0)),\" \",VLOOKUP($AA57,Activités!$C$4:$I$534,D$43,0))","v":"00:00:00"},{"$f":"IF(ISNA(VLOOKUP($AA57,Activités!$C$4:$I$534,E$43,0)),\" \",VLOOKUP($AA57,Activités!$C$4:$I$534,E$43,0))","v":0},null,null,null,null,null,null,{"$f":"IF(ISNA(VLOOKUP($AA57,Activités!$C$4:$I$534,L$43,0)),\" \",VLOOKUP($AA57,Activités!$C$4:$I$534,L$43,0))","v":0},{"$f":"IF(ISNA(VLOOKUP($AA57,Activités!$C$4:$I$534,J$43,0)),\" \",VLOOKUP($AA57,Activités!$C$4:$I$534,J$43,0))","v":{"$error":"#VALUE!"}},{"$f":"IF(ISNA(VLOOKUP($AA57,Activités!$C$4:$I$534,K$43,0)),\" \",VLOOKUP($AA57,Activités!$C$4:$I$534,K$43,0))","v":{"$error":"#VALUE!"}},{"$f":"IF(ISNA(VLOOKUP($AA57,Activités!$C$4:$I$534,O$43,0)),\" \",VLOOKUP($AA57,Activités!$C$4:$I$534,O$43,0))","v":0},{"$f":"IF(ISNA(VLOOKUP($AA57,Activités!$C$4:$I$534,M$43,0)),\" \",VLOOKUP($AA57,Activités!$C$4:$I$534,M$43,0))","v":{"$error":"#VALUE!"}},{"$f":"IF(ISNA(VLOOKUP($AA57,Activités!$C$4:$I$534,N$43,0)),\" \",VLOOKUP($AA57,Activités!$C$4:$I$534,N$43,0))","v":{"$error":"#VALUE!"}},null,null,null,null,null,null,null,null,null,{"$f":"B55+0.3","v":0.3}]
[{"$f":"VLOOKUP(WEEKDAY(B58,1),Traduction!$B$6:$D$250,'Info de l''escadron'!$A$1+1,0)","v":"Samedi"},null,{"$f":"IF(ISNA(VLOOKUP($AA58,Activités!$C$4:$I$534,C$43,0)),\" \",VLOOKUP($AA58,Activités!$C$4:$I$534,C$43,0))","v":"00:00:00"},{"$f":"IF(ISNA(VLOOKUP($AA58,Activités!$C$4:$I$534,D$43,0)),\" \",VLOOKUP($AA58,Activités!$C$4:$I$534,D$43,0))","v":"00:00:00"},{"$f":"IF(ISNA(VLOOKUP($AA58,Activités!$C$4:$I$534,E$43,0)),\" \",VLOOKUP($AA58,Activités!$C$4:$I$534,E$43,0))","v":0},null,null,null,null,null,null,{"$f":"IF(ISNA(VLOOKUP($AA58,Activités!$C$4:$I$534,L$43,0)),\" \",VLOOKUP($AA58,Activités!$C$4:$I$534,L$43,0))","v":0},{"$f":"IF(ISNA(VLOOKUP($AA58,Activités!$C$4:$I$534,J$43,0)),\" \",VLOOKUP($AA58,Activités!$C$4:$I$534,J$43,0))","v":{"$error":"#VALUE!"}},{"$f":"IF(ISNA(VLOOKUP($AA58,Activités!$C$4:$I$534,K$43,0)),\" \",VLOOKUP($AA58,Activités!$C$4:$I$534,K$43,0))","v":{"$error":"#VALUE!"}},{"$f":"IF(ISNA(VLOOKUP($AA58,Activités!$C$4:$I$534,O$43,0)),\" \",VLOOKUP($AA58,Activités!$C$4:$I$534,O$43,0))","v":0},{"$f":"IF(ISNA(VLOOKUP($AA58,Activités!$C$4:$I$534,M$43,0)),\" \",VLOOKUP($AA58,Activités!$C$4:$I$534,M$43,0))","v":{"$error":"#VALUE!"}},{"$f":"IF(ISNA(VLOOKUP($AA58,Activités!$C$4:$I$534,N$43,0)),\" \",VLOOKUP($AA58,Activités!$C$4:$I$534,N$43,0))","v":{"$error":"#VALUE!"}},null,null,null,null,null,null,null,null,null,{"$f":"B55+0.4","v":0.4}]
[{"$f":"VLOOKUP(WEEKDAY(B59,1),Traduction!$B$6:$D$250,'Info de l''escadron'!$A$1+1,0)","v":"Samedi"},null,{"$f":"IF(ISNA(VLOOKUP($AA59,Activités!$C$4:$I$534,C$43,0)),\" \",VLOOKUP($AA59,Activités!$C$4:$I$534,C$43,0))","v":"00:00:00"},{"$f":"IF(ISNA(VLOOKUP($AA59,Activités!$C$4:$I$534,D$43,0)),\" \",VLOOKUP($AA59,Activités!$C$4:$I$534,D$43,0))","v":"00:00:00"},{"$f":"IF(ISNA(VLOOKUP($AA59,Activités!$C$4:$I$534,E$43,0)),\" \",VLOOKUP($AA59,Activités!$C$4:$I$534,E$43,0))","v":0},null,null,null,null,null,null,{"$f":"IF(ISNA(VLOOKUP($AA59,Activités!$C$4:$I$534,L$43,0)),\" \",VLOOKUP($AA59,Activités!$C$4:$I$534,L$43,0))","v":0},{"$f":"IF(ISNA(VLOOKUP($AA59,Activités!$C$4:$I$534,J$43,0)),\" \",VLOOKUP($AA59,Activités!$C$4:$I$534,J$43,0))","v":{"$error":"#VALUE!"}},{"$f":"IF(ISNA(VLOOKUP($AA59,Activités!$C$4:$I$534,K$43,0)),\" \",VLOOKUP($AA59,Activités!$C$4:$I$534,K$43,0))","v":{"$error":"#VALUE!"}},{"$f":"IF(ISNA(VLOOKUP($AA59,Activités!$C$4:$I$534,O$43,0)),\" \",VLOOKUP($AA59,Activités!$C$4:$I$534,O$43,0))","v":0},{"$f":"IF(ISNA(VLOOKUP($AA59,Activités!$C$4:$I$534,M$43,0)),\" \",VLOOKUP($AA59,Activités!$C$4:$I$534,M$43,0))","v":{"$error":"#VALUE!"}},{"$f":"IF(ISNA(VLOOKUP($AA59,Activités!$C$4:$I$534,N$43,0)),\" \",VLOOKUP($AA59,Activités!$C$4:$I$534,N$43,0))","v":{"$error":"#VALUE!"}},null,null,null,null,null,null,null,null,null,{"$f":"B55+0.5","v":0.5}]
[null,null,{"$f":"IF(ISNA(VLOOKUP($AA60,Activités!$C$4:$I$534,C$43,0)),\" \",VLOOKUP($AA60,Activités!$C$4:$I$534,C$43,0))","v":"00:00:00"},{"$f":"IF(ISNA(VLOOKUP($AA60,Activités!$C$4:$I$534,D$43,0)),\" \",VLOOKUP($AA60,Activités!$C$4:$I$534,D$43,0))","v":"00:00:00"},{"$f":"IF(ISNA(VLOOKUP($AA60,Activités!$C$4:$I$534,E$43,0)),\" \",VLOOKUP($AA60,Activités!$C$4:$I$534,E$43,0))","v":0},null,null,null,null,null,null,{"$f":"IF(ISNA(VLOOKUP($AA60,Activités!$C$4:$I$534,L$43,0)),\" \",VLOOKUP($AA60,Activités!$C$4:$I$534,L$43,0))","v":0},{"$f":"IF(ISNA(VLOOKUP($AA60,Activités!$C$4:$I$534,J$43,0)),\" \",VLOOKUP($AA60,Activités!$C$4:$I$534,J$43,0))","v":{"$error":"#VALUE!"}},{"$f":"IF(ISNA(VLOOKUP($AA60,Activités!$C$4:$I$534,K$43,0)),\" \",VLOOKUP($AA60,Activités!$C$4:$I$534,K$43,0))","v":{"$error":"#VALUE!"}},{"$f":"IF(ISNA(VLOOKUP($AA60,Activités!$C$4:$I$534,O$43,0)),\" \",VLOOKUP($AA60,Activités!$C$4:$I$534,O$43,0))","v":0},{"$f":"IF(ISNA(VLOOKUP($AA60,Activités!$C$4:$I$534,M$43,0)),\" \",VLOOKUP($AA60,Activités!$C$4:$I$534,M$43,0))","v":{"$error":"#VALUE!"}},{"$f":"IF(ISNA(VLOOKUP($AA60,Activités!$C$4:$I$534,N$43,0)),\" \",VLOOKUP($AA60,Activités!$C$4:$I$534,N$43,0))","v":{"$error":"#VALUE!"}},null,null,null,null,null,null,null,null,null,{"$f":"B60+0.1","v":0.1}]
[{"$f":"VLOOKUP(WEEKDAY(B61,1),Traduction!$B$6:$D$250,'Info de l''escadron'!$A$1+1,0)","v":"Samedi"},null,{"$f":"IF(ISNA(VLOOKUP($AA61,Activités!$C$4:$I$534,C$43,0)),\" \",VLOOKUP($AA61,Activités!$C$4:$I$534,C$43,0))","v":"00:00:00"},{"$f":"IF(ISNA(VLOOKUP($AA61,Activités!$C$4:$I$534,D$43,0)),\" \",VLOOKUP($AA61,Activités!$C$4:$I$534,D$43,0))","v":"00:00:00"},{"$f":"IF(ISNA(VLOOKUP($AA61,Activités!$C$4:$I$534,E$43,0)),\" \",VLOOKUP($AA61,Activités!$C$4:$I$534,E$43,0))","v":0},null,null,null,null,null,null,{"$f":"IF(ISNA(VLOOKUP($AA61,Activités!$C$4:$I$534,L$43,0)),\" \",VLOOKUP($AA61,Activités!$C$4:$I$534,L$43,0))","v":0},{"$f":"IF(ISNA(VLOOKUP($AA61,Activités!$C$4:$I$534,J$43,0)),\" \",VLOOKUP($AA61,Activités!$C$4:$I$534,J$43,0))","v":{"$error":"#VALUE!"}},{"$f":"IF(ISNA(VLOOKUP($AA61,Activités!$C$4:$I$534,K$43,0)),\" \",VLOOKUP($AA61,Activités!$C$4:$I$534,K$43,0))","v":{"$error":"#VALUE!"}},{"$f":"IF(ISNA(VLOOKUP($AA61,Activités!$C$4:$I$534,O$43,0)),\" \",VLOOKUP($AA61,Activités!$C$4:$I$534,O$43,0))","v":0},{"$f":"IF(ISNA(VLOOKUP($AA61,Activités!$C$4:$I$534,M$43,0)),\" \",VLOOKUP($AA61,Activités!$C$4:$I$534,M$43,0))","v":{"$error":"#VALUE!"}},{"$f":"IF(ISNA(VLOOKUP($AA61,Activités!$C$4:$I$534,N$43,0)),\" \",VLOOKUP($AA61,Activités!$C$4:$I$534,N$43,0))","v":{"$error":"#VALUE!"}},null,null,null,null,null,null,null,null,null,{"$f":"B60+0.2","v":0.2}]
[null,null,{"$f":"IF(ISNA(VLOOKUP($AA62,Activités!$C$4:$I$534,C$43,0)),\" \",VLOOKUP($AA62,Activités!$C$4:$I$534,C$43,0))","v":"00:00:00"},{"$f":"IF(ISNA(VLOOKUP($AA62,Activités!$C$4:$I$534,D$43,0)),\" \",VLOOKUP($AA62,Activités!$C$4:$I$534,D$43,0))","v":"00:00:00"},{"$f":"IF(ISNA(VLOOKUP($AA62,Activités!$C$4:$I$534,E$43,0)),\" \",VLOOKUP($AA62,Activités!$C$4:$I$534,E$43,0))","v":0},null,null,null,null,null,null,{"$f":"IF(ISNA(VLOOKUP($AA62,Activités!$C$4:$I$534,L$43,0)),\" \",VLOOKUP($AA62,Activités!$C$4:$I$534,L$43,0))","v":0},{"$f":"IF(ISNA(VLOOKUP($AA62,Activités!$C$4:$I$534,J$43,0)),\" \",VLOOKUP($AA62,Activités!$C$4:$I$534,J$43,0))","v":{"$error":"#VALUE!"}},{"$f":"IF(ISNA(VLOOKUP($AA62,Activités!$C$4:$I$534,K$43,0)),\" \",VLOOKUP($AA62,Activités!$C$4:$I$534,K$43,0))","v":{"$error":"#VALUE!"}},{"$f":"IF(ISNA(VLOOKUP($AA62,Activités!$C$4:$I$534,O$43,0)),\" \",VLOOKUP($AA62,Activités!$C$4:$I$534,O$43,0))","v":0},{"$f":"IF(ISNA(VLOOKUP($AA62,Activités!$C$4:$I$534,M$43,0)),\" \",VLOOKUP($AA62,Activités!$C$4:$I$534,M$43,0))","v":{"$error":"#VALUE!"}},{"$f":"IF(ISNA(VLOOKUP($AA62,Activités!$C$4:$I$534,N$43,0)),\" \",VLOOKUP($AA62,Activités!$C$4:$I$534,N$43,0))","v":{"$error":"#VALUE!"}},null,null,null,null,null,null,null,null,null,{"$f":"B60+0.3","v":0.3}]
[{"$f":"VLOOKUP(WEEKDAY(B63,1),Traduction!$B$6:$D$250,'Info de l''escadron'!$A$1+1,0)","v":"Samedi"},null,{"$f":"IF(ISNA(VLOOKUP($AA63,Activités!$C$4:$I$534,C$43,0)),\" \",VLOOKUP($AA63,Activités!$C$4:$I$534,C$43,0))","v":"00:00:00"},{"$f":"IF(ISNA(VLOOKUP($AA63,Activités!$C$4:$I$534,D$43,0)),\" \",VLOOKUP($AA63,Activités!$C$4:$I$534,D$43,0))","v":"00:00:00"},{"$f":"IF(ISNA(VLOOKUP($AA63,Activités!$C$4:$I$534,E$43,0)),\" \",VLOOKUP($AA63,Activités!$C$4:$I$534,E$43,0))","v":0},null,null,null,null,null,null,{"$f":"IF(ISNA(VLOOKUP($AA63,Activités!$C$4:$I$534,L$43,0)),\" \",VLOOKUP($AA63,Activités!$C$4:$I$534,L$43,0))","v":0},{"$f":"IF(ISNA(VLOOKUP($AA63,Activités!$C$4:$I$534,J$43,0)),\" \",VLOOKUP($AA63,Activités!$C$4:$I$534,J$43,0))","v":{"$error":"#VALUE!"}},{"$f":"IF(ISNA(VLOOKUP($AA63,Activités!$C$4:$I$534,K$43,0)),\" \",VLOOKUP($AA63,Activités!$C$4:$I$534,K$43,0))","v":{"$error":"#VALUE!"}},{"$f":"IF(ISNA(VLOOKUP($AA63,Activités!$C$4:$I$534,O$43,0)),\" \",VLOOKUP($AA63,Activités!$C$4:$I$534,O$43,0))","v":0},{"$f":"IF(ISNA(VLOOKUP($AA63,Activités!$C$4:$I$534,M$43,0)),\" \",VLOOKUP($AA63,Activités!$C$4:$I$534,M$43,0))","v":{"$error":"#VALUE!"}},{"$f":"IF(ISNA(VLOOKUP($AA63,Activités!$C$4:$I$534,N$43,0)),\" \",VLOOKUP($AA63,Activités!$C$4:$I$534,N$43,0))","v":{"$error":"#VALUE!"}},null,null,null,null,null,null,null,null,null,{"$f":"B60+0.4","v":0.4}]
[{"$f":"VLOOKUP(WEEKDAY(B64,1),Traduction!$B$6:$D$250,'Info de l''escadron'!$A$1+1,0)","v":"Samedi"},null,{"$f":"IF(ISNA(VLOOKUP($AA64,Activités!$C$4:$I$534,C$43,0)),\" \",VLOOKUP($AA64,Activités!$C$4:$I$534,C$43,0))","v":"00:00:00"},{"$f":"IF(ISNA(VLOOKUP($AA64,Activités!$C$4:$I$534,D$43,0)),\" \",VLOOKUP($AA64,Activités!$C$4:$I$534,D$43,0))","v":"00:00:00"},{"$f":"IF(ISNA(VLOOKUP($AA64,Activités!$C$4:$I$534,E$43,0)),\" \",VLOOKUP($AA64,Activités!$C$4:$I$534,E$43,0))","v":0},null,null,null,null,null,null,{"$f":"IF(ISNA(VLOOKUP($AA64,Activités!$C$4:$I$534,L$43,0)),\" \",VLOOKUP($AA64,Activités!$C$4:$I$534,L$43,0))","v":0},{"$f":"IF(ISNA(VLOOKUP($AA64,Activités!$C$4:$I$534,J$43,0)),\" \",VLOOKUP($AA64,Activités!$C$4:$I$534,J$43,0))","v":{"$error":"#VALUE!"}},{"$f":"IF(ISNA(VLOOKUP($AA64,Activités!$C$4:$I$534,K$43,0)),\" \",VLOOKUP($AA64,Activités!$C$4:$I$534,K$43,0))","v":{"$error":"#VALUE!"}},{"$f":"IF(ISNA(VLOOKUP($AA64,Activités!$C$4:$I$534,O$43,0)),\" \",VLOOKUP($AA64,Activités!$C$4:$I$534,O$43,0))","v":0},{"$f":"IF(ISNA(VLOOKUP($AA64,Activités!$C$4:$I$534,M$43,0)),\" \",VLOOKUP($AA64,Activités!$C$4:$I$534,M$43,0))","v":{"$error":"#VALUE!"}},{"$f":"IF(ISNA(VLOOKUP($AA64,Activités!$C$4:$I$534,N$43,0)),\" \",VLOOKUP($AA64,Activités!$C$4:$I$534,N$43,0))","v":{"$error":"#VALUE!"}},null,null,null,null,null,null,null,null,null,{"$f":"B60+0.5","v":0.5}]
[null,null,{"$f":"IF(ISNA(VLOOKUP($AA65,Activités!$C$4:$I$534,C$43,0)),\" \",VLOOKUP($AA65,Activités!$C$4:$I$534,C$43,0))","v":"00:00:00"},{"$f":"IF(ISNA(VLOOKUP($AA65,Activités!$C$4:$I$534,D$43,0)),\" \",VLOOKUP($AA65,Activités!$C$4:$I$534,D$43,0))","v":"00:00:00"},{"$f":"IF(ISNA(VLOOKUP($AA65,Activités!$C$4:$I$534,E$43,0)),\" \",VLOOKUP($AA65,Activités!$C$4:$I$534,E$43,0))","v":0},null,null,null,null,null,null,{"$f":"IF(ISNA(VLOOKUP($AA65,Activités!$C$4:$I$534,L$43,0)),\" \",VLOOKUP($AA65,Activités!$C$4:$I$534,L$43,0))","v":0},{"$f":"IF(ISNA(VLOOKUP($AA65,Activités!$C$4:$I$534,J$43,0)),\" \",VLOOKUP($AA65,Activités!$C$4:$I$534,J$43,0))","v":{"$error":"#VALUE!"}},{"$f":"IF(ISNA(VLOOKUP($AA65,Activités!$C$4:$I$534,K$43,0)),\" \",VLOOKUP($AA65,Activités!$C$4:$I$534,K$43,0))","v":{"$error":"#VALUE!"}},{"$f":"IF(ISNA(VLOOKUP($AA65,Activités!$C$4:$I$534,O$43,0)),\" \",VLOOKUP($AA65,Activités!$C$4:$I$534,O$43,0))","v":0},{"$f":"IF(ISNA(VLOOKUP($AA65,Activités!$C$4:$I$534,M$43,0)),\" \",VLOOKUP($AA65,Activités!$C$4:$I$534,M$43,0))","v":{"$error":"#VALUE!"}},{"$f":"IF(ISNA(VLOOKUP($AA65,Activités!$C$4:$I$534,N$43,0)),\" \",VLOOKUP($AA65,Activités!$C$4:$I$534,N$43,0))","v":{"$error":"#VALUE!"}},null,null,null,null,null,null,null,null,null,{"$f":"B65+0.1","v":0.1}]
[{"$f":"VLOOKUP(WEEKDAY(B66,1),Traduction!$B$6:$D$250,'Info de l''escadron'!$A$1+1,0)","v":"Samedi"},null,{"$f":"IF(ISNA(VLOOKUP($AA66,Activités!$C$4:$I$534,C$43,0)),\" \",VLOOKUP($AA66,Activités!$C$4:$I$534,C$43,0))","v":"00:00:00"},{"$f":"IF(ISNA(VLOOKUP($AA66,Activités!$C$4:$I$534,D$43,0)),\" \",VLOOKUP($AA66,Activités!$C$4:$I$534,D$43,0))","v":"00:00:00"},{"$f":"IF(ISNA(VLOOKUP($AA66,Activités!$C$4:$I$534,E$43,0)),\" \",VLOOKUP($AA66,Activités!$C$4:$I$534,E$43,0))","v":0},null,null,null,null,null,null,{"$f":"IF(ISNA(VLOOKUP($AA66,Activités!$C$4:$I$534,L$43,0)),\" \",VLOOKUP($AA66,Activités!$C$4:$I$534,L$43,0))","v":0},{"$f":"IF(ISNA(VLOOKUP($AA66,Activités!$C$4:$I$534,J$43,0)),\" \",VLOOKUP($AA66,Activités!$C$4:$I$534,J$43,0))","v":{"$error":"#VALUE!"}},{"$f":"IF(ISNA(VLOOKUP($AA66,Activités!$C$4:$I$534,K$43,0)),\" \",VLOOKUP($AA66,Activités!$C$4:$I$534,K$43,0))","v":{"$error":"#VALUE!"}},{"$f":"IF(ISNA(VLOOKUP($AA66,Activités!$C$4:$I$534,O$43,0)),\" \",VLOOKUP($AA66,Activités!$C$4:$I$534,O$43,0))","v":0},{"$f":"IF(ISNA(VLOOKUP($AA66,Activités!$C$4:$I$534,M$43,0)),\" \",VLOOKUP($AA66,Activités!$C$4:$I$534,M$43,0))","v":{"$error":"#VALUE!"}},{"$f":"IF(ISNA(VLOOKUP($AA66,Activités!$C$4:$I$534,N$43,0)),\" \",VLOOKUP($AA66,Activités!$C$4:$I$534,N$43,0))","v":{"$error":"#VALUE!"}},null,null,null,null,null,null,null,null,null,{"$f":"B65+0.2","v":0.2}]
[null,null,{"$f":"IF(ISNA(VLOOKUP($AA67,Activités!$C$4:$I$534,C$43,0)),\" \",VLOOKUP($AA67,Activités!$C$4:$I$534,C$43,0))","v":"00:00:00"},{"$f":"IF(ISNA(VLOOKUP($AA67,Activités!$C$4:$I$534,D$43,0)),\" \",VLOOKUP($AA67,Activités!$C$4:$I$534,D$43,0))","v":"00:00:00"},{"$f":"IF(ISNA(VLOOKUP($AA67,Activités!$C$4:$I$534,E$43,0)),\" \",VLOOKUP($AA67,Activités!$C$4:$I$534,E$43,0))","v":0},null,null,null,null,null,null,{"$f":"IF(ISNA(VLOOKUP($AA67,Activités!$C$4:$I$534,L$43,0)),\" \",VLOOKUP($AA67,Activités!$C$4:$I$534,L$43,0))","v":0},{"$f":"IF(ISNA(VLOOKUP($AA67,Activités!$C$4:$I$534,J$43,0)),\" \",VLOOKUP($AA67,Activités!$C$4:$I$534,J$43,0))","v":{"$error":"#VALUE!"}},{"$f":"IF(ISNA(VLOOKUP($AA67,Activités!$C$4:$I$534,K$43,0)),\" \",VLOOKUP($AA67,Activités!$C$4:$I$534,K$43,0))","v":{"$error":"#VALUE!"}},{"$f":"IF(ISNA(VLOOKUP($AA67,Activités!$C$4:$I$534,O$43,0)),\" \",VLOOKUP($AA67,Activités!$C$4:$I$534,O$43,0))","v":0},{"$f":"IF(ISNA(VLOOKUP($AA67,Activités!$C$4:$I$534,M$43,0)),\" \",VLOOKUP($AA67,Activités!$C$4:$I$534,M$43,0))","v":{"$error":"#VALUE!"}},{"$f":"IF(ISNA(VLOOKUP($AA67,Activités!$C$4:$I$534,N$43,0)),\" \",VLOOKUP($AA67,Activités!$C$4:$I$534,N$43,0))","v":{"$error":"#VALUE!"}},null,null,null,null,null,null,null,null,null,{"$f":"B65+0.3","v":0.3}]
[{"$f":"VLOOKUP(WEEKDAY(B68,1),Traduction!$B$6:$D$250,'Info de l''escadron'!$A$1+1,0)","v":"Samedi"},null,{"$f":"IF(ISNA(VLOOKUP($AA68,Activités!$C$4:$I$534,C$43,0)),\" \",VLOOKUP($AA68,Activités!$C$4:$I$534,C$43,0))","v":"00:00:00"},{"$f":"IF(ISNA(VLOOKUP($AA68,Activités!$C$4:$I$534,D$43,0)),\" \",VLOOKUP($AA68,Activités!$C$4:$I$534,D$43,0))","v":"00:00:00"},{"$f":"IF(ISNA(VLOOKUP($AA68,Activités!$C$4:$I$534,E$43,0)),\" \",VLOOKUP($AA68,Activités!$C$4:$I$534,E$43,0))","v":0},null,null,null,null,null,null,{"$f":"IF(ISNA(VLOOKUP($AA68,Activités!$C$4:$I$534,L$43,0)),\" \",VLOOKUP($AA68,Activités!$C$4:$I$534,L$43,0))","v":0},{"$f":"IF(ISNA(VLOOKUP($AA68,Activités!$C$4:$I$534,J$43,0)),\" \",VLOOKUP($AA68,Activités!$C$4:$I$534,J$43,0))","v":{"$error":"#VALUE!"}},{"$f":"IF(ISNA(VLOOKUP($AA68,Activités!$C$4:$I$534,K$43,0)),\" \",VLOOKUP($AA68,Activités!$C$4:$I$534,K$43,0))","v":{"$error":"#VALUE!"}},{"$f":"IF(ISNA(VLOOKUP($AA68,Activités!$C$4:$I$534,O$43,0)),\" \",VLOOKUP($AA68,Activités!$C$4:$I$534,O$43,0))","v":0},{"$f":"IF(ISNA(VLOOKUP($AA68,Activités!$C$4:$I$534,M$43,0)),\" \",VLOOKUP($AA68,Activités!$C$4:$I$534,M$43,0))","v":{"$error":"#VALUE!"}},{"$f":"IF(ISNA(VLOOKUP($AA68,Activités!$C$4:$I$534,N$43,0)),\" \",VLOOKUP($AA68,Activités!$C$4:$I$534,N$43,0))","v":{"$error":"#VALUE!"}},null,null,null,null,null,null,null,null,null,{"$f":"B65+0.4","v":0.4}]
[{"$f":"VLOOKUP(WEEKDAY(B69,1),Traduction!$B$6:$D$250,'Info de l''escadron'!$A$1+1,0)","v":"Samedi"},null,{"$f":"IF(ISNA(VLOOKUP($AA69,Activités!$C$4:$I$534,C$43,0)),\" \",VLOOKUP($AA69,Activités!$C$4:$I$534,C$43,0))","v":"00:00:00"},{"$f":"IF(ISNA(VLOOKUP($AA69,Activités!$C$4:$I$534,D$43,0)),\" \",VLOOKUP($AA69,Activités!$C$4:$I$534,D$43,0))","v":"00:00:00"},{"$f":"IF(ISNA(VLOOKUP($AA69,Activités!$C$4:$I$534,E$43,0)),\" \",VLOOKUP($AA69,Activités!$C$4:$I$534,E$43,0))","v":0},null,null,null,null,null,null,{"$f":"IF(ISNA(VLOOKUP($AA69,Activités!$C$4:$I$534,L$43,0)),\" \",VLOOKUP($AA69,Activités!$C$4:$I$534,L$43,0))","v":0},{"$f":"IF(ISNA(VLOOKUP($AA69,Activités!$C$4:$I$534,J$43,0)),\" \",VLOOKUP($AA69,Activités!$C$4:$I$534,J$43,0))","v":{"$error":"#VALUE!"}},{"$f":"IF(ISNA(VLOOKUP($AA69,Activités!$C$4:$I$534,K$43,0)),\" \",VLOOKUP($AA69,Activités!$C$4:$I$534,K$43,0))","v":{"$error":"#VALUE!"}},{"$f":"IF(ISNA(VLOOKUP($AA69,Activités!$C$4:$I$534,O$43,0)),\" \",VLOOKUP($AA69,Activités!$C$4:$I$534,O$43,0))","v":0},{"$f":"IF(ISNA(VLOOKUP($AA69,Activités!$C$4:$I$534,M$43,0)),\" \",VLOOKUP($AA69,Activités!$C$4:$I$534,M$43,0))","v":{"$error":"#VALUE!"}},{"$f":"IF(ISNA(VLOOKUP($AA69,Activités!$C$4:$I$534,N$43,0)),\" \",VLOOKUP($AA69,Activités!$C$4:$I$534,N$43,0))","v":{"$error":"#VALUE!"}},null,null,null,null,null,null,null,null,null,{"$f":"B65+0.5","v":0.5}]
[null,null,{"$f":"IF(ISNA(VLOOKUP($AA70,Activités!$C$4:$I$534,C$43,0)),\" \",VLOOKUP($AA70,Activités!$C$4:$I$534,C$43,0))","v":"00:00:00"},{"$f":"IF(ISNA(VLOOKUP($AA70,Activités!$C$4:$I$534,D$43,0)),\" \",VLOOKUP($AA70,Activités!$C$4:$I$534,D$43,0))","v":"00:00:00"},{"$f":"IF(ISNA(VLOOKUP($AA70,Activités!$C$4:$I$534,E$43,0)),\" \",VLOOKUP($AA70,Activités!$C$4:$I$534,E$43,0))","v":0},null,null,null,null,null,null,{"$f":"IF(ISNA(VLOOKUP($AA70,Activités!$C$4:$I$534,L$43,0)),\" \",VLOOKUP($AA70,Activités!$C$4:$I$534,L$43,0))","v":0},{"$f":"IF(ISNA(VLOOKUP($AA70,Activités!$C$4:$I$534,J$43,0)),\" \",VLOOKUP($AA70,Activités!$C$4:$I$534,J$43,0))","v":{"$error":"#VALUE!"}},{"$f":"IF(ISNA(VLOOKUP($AA70,Activités!$C$4:$I$534,K$43,0)),\" \",VLOOKUP($AA70,Activités!$C$4:$I$534,K$43,0))","v":{"$error":"#VALUE!"}},{"$f":"IF(ISNA(VLOOKUP($AA70,Activités!$C$4:$I$534,O$43,0)),\" \",VLOOKUP($AA70,Activités!$C$4:$I$534,O$43,0))","v":0},{"$f":"IF(ISNA(VLOOKUP($AA70,Activités!$C$4:$I$534,M$43,0)),\" \",VLOOKUP($AA70,Activités!$C$4:$I$534,M$43,0))","v":{"$error":"#VALUE!"}},{"$f":"IF(ISNA(VLOOKUP($AA70,Activités!$C$4:$I$534,N$43,0)),\" \",VLOOKUP($AA70,Activités!$C$4:$I$534,N$43,0))","v":{"$error":"#VALUE!"}},null,null,null,null,null,null,null,null,null,{"$f":"B70+0.1","v":0.1}]
[{"$f":"VLOOKUP(WEEKDAY(B71,1),Traduction!$B$6:$D$250,'Info de l''escadron'!$A$1+1,0)","v":"Samedi"},null,{"$f":"IF(ISNA(VLOOKUP($AA71,Activités!$C$4:$I$534,C$43,0)),\" \",VLOOKUP($AA71,Activités!$C$4:$I$534,C$43,0))","v":"00:00:00"},{"$f":"IF(ISNA(VLOOKUP($AA71,Activités!$C$4:$I$534,D$43,0)),\" \",VLOOKUP($AA71,Activités!$C$4:$I$534,D$43,0))","v":"00:00:00"},{"$f":"IF(ISNA(VLOOKUP($AA71,Activités!$C$4:$I$534,E$43,0)),\" \",VLOOKUP($AA71,Activités!$C$4:$I$534,E$43,0))","v":0},null,null,null,null,null,null,{"$f":"IF(ISNA(VLOOKUP($AA71,Activités!$C$4:$I$534,L$43,0)),\" \",VLOOKUP($AA71,Activités!$C$4:$I$534,L$43,0))","v":0},{"$f":"IF(ISNA(VLOOKUP($AA71,Activités!$C$4:$I$534,J$43,0)),\" \",VLOOKUP($AA71,Activités!$C$4:$I$534,J$43,0))","v":{"$error":"#VALUE!"}},{"$f":"IF(ISNA(VLOOKUP($AA71,Activités!$C$4:$I$534,K$43,0)),\" \",VLOOKUP($AA71,Activités!$C$4:$I$534,K$43,0))","v":{"$error":"#VALUE!"}},{"$f":"IF(ISNA(VLOOKUP($AA71,Activités!$C$4:$I$534,O$43,0)),\" \",VLOOKUP($AA71,Activités!$C$4:$I$534,O$43,0))","v":0},{"$f":"IF(ISNA(VLOOKUP($AA71,Activités!$C$4:$I$534,M$43,0)),\" \",VLOOKUP($AA71,Activités!$C$4:$I$534,M$43,0))","v":{"$error":"#VALUE!"}},{"$f":"IF(ISNA(VLOOKUP($AA71,Activités!$C$4:$I$534,N$43,0)),\" \",VLOOKUP($AA71,Activités!$C$4:$I$534,N$43,0))","v":{"$error":"#VALUE!"}},null,null,null,null,null,null,null,null,null,{"$f":"B70+0.2","v":0.2}]
[null,null,{"$f":"IF(ISNA(VLOOKUP($AA72,Activités!$C$4:$I$534,C$43,0)),\" \",VLOOKUP($AA72,Activités!$C$4:$I$534,C$43,0))","v":"00:00:00"},{"$f":"IF(ISNA(VLOOKUP($AA72,Activités!$C$4:$I$534,D$43,0)),\" \",VLOOKUP($AA72,Activités!$C$4:$I$534,D$43,0))","v":"00:00:00"},{"$f":"IF(ISNA(VLOOKUP($AA72,Activités!$C$4:$I$534,E$43,0)),\" \",VLOOKUP($AA72,Activités!$C$4:$I$534,E$43,0))","v":0},null,null,null,null,null,null,{"$f":"IF(ISNA(VLOOKUP($AA72,Activités!$C$4:$I$534,L$43,0)),\" \",VLOOKUP($AA72,Activités!$C$4:$I$534,L$43,0))","v":0},{"$f":"IF(ISNA(VLOOKUP($AA72,Activités!$C$4:$I$534,J$43,0)),\" \",VLOOKUP($AA72,Activités!$C$4:$I$534,J$43,0))","v":{"$error":"#VALUE!"}},{"$f":"IF(ISNA(VLOOKUP($AA72,Activités!$C$4:$I$534,K$43,0)),\" \",VLOOKUP($AA72,Activités!$C$4:$I$534,K$43,0))","v":{"$error":"#VALUE!"}},{"$f":"IF(ISNA(VLOOKUP($AA72,Activités!$C$4:$I$534,O$43,0)),\" \",VLOOKUP($AA72,Activités!$C$4:$I$534,O$43,0))","v":0},{"$f":"IF(ISNA(VLOOKUP($AA72,Activités!$C$4:$I$534,M$43,0)),\" \",VLOOKUP($AA72,Activités!$C$4:$I$534,M$43,0))","v":{"$error":"#VALUE!"}},{"$f":"IF(ISNA(VLOOKUP($AA72,Activités!$C$4:$I$534,N$43,0)),\" \",VLOOKUP($AA72,Activités!$C$4:$I$534,N$43,0))","v":{"$error":"#VALUE!"}},null,null,null,null,null,null,null,null,null,{"$f":"B70+0.3","v":0.3}]
[{"$f":"VLOOKUP(WEEKDAY(B73,1),Traduction!$B$6:$D$250,'Info de l''escadron'!$A$1+1,0)","v":"Samedi"},null,{"$f":"IF(ISNA(VLOOKUP($AA73,Activités!$C$4:$I$534,C$43,0)),\" \",VLOOKUP($AA73,Activités!$C$4:$I$534,C$43,0))","v":"00:00:00"},{"$f":"IF(ISNA(VLOOKUP($AA73,Activités!$C$4:$I$534,D$43,0)),\" \",VLOOKUP($AA73,Activités!$C$4:$I$534,D$43,0))","v":"00:00:00"},{"$f":"IF(ISNA(VLOOKUP($AA73,Activités!$C$4:$I$534,E$43,0)),\" \",VLOOKUP($AA73,Activités!$C$4:$I$534,E$43,0))","v":0},null,null,null,null,null,null,{"$f":"IF(ISNA(VLOOKUP($AA73,Activités!$C$4:$I$534,L$43,0)),\" \",VLOOKUP($AA73,Activités!$C$4:$I$534,L$43,0))","v":0},{"$f":"IF(ISNA(VLOOKUP($AA73,Activités!$C$4:$I$534,J$43,0)),\" \",VLOOKUP($AA73,Activités!$C$4:$I$534,J$43,0))","v":{"$error":"#VALUE!"}},{"$f":"IF(ISNA(VLOOKUP($AA73,Activités!$C$4:$I$534,K$43,0)),\" \",VLOOKUP($AA73,Activités!$C$4:$I$534,K$43,0))","v":{"$error":"#VALUE!"}},{"$f":"IF(ISNA(VLOOKUP($AA73,Activités!$C$4:$I$534,O$43,0)),\" \",VLOOKUP($AA73,Activités!$C$4:$I$534,O$43,0))","v":0},{"$f":"IF(ISNA(VLOOKUP($AA73,Activités!$C$4:$I$534,M$43,0)),\" \",VLOOKUP($AA73,Activités!$C$4:$I$534,M$43,0))","v":{"$error":"#VALUE!"}},{"$f":"IF(ISNA(VLOOKUP($AA73,Activités!$C$4:$I$534,N$43,0)),\" \",VLOOKUP($AA73,Activités!$C$4:$I$534,N$43,0))","v":{"$error":"#VALUE!"}},null,null,null,null,null,null,null,null,null,{"$f":"B70+0.4","v":0.4}]
[{"$f":"VLOOKUP(WEEKDAY(B74,1),Traduction!$B$6:$D$250,'Info de l''escadron'!$A$1+1,0)","v":"Samedi"},null,{"$f":"IF(ISNA(VLOOKUP($AA74,Activités!$C$4:$I$534,C$43,0)),\" \",VLOOKUP($AA74,Activités!$C$4:$I$534,C$43,0))","v":"00:00:00"},{"$f":"IF(ISNA(VLOOKUP($AA74,Activités!$C$4:$I$534,D$43,0)),\" \",VLOOKUP($AA74,Activités!$C$4:$I$534,D$43,0))","v":"00:00:00"},{"$f":"IF(ISNA(VLOOKUP($AA74,Activités!$C$4:$I$534,E$43,0)),\" \",VLOOKUP($AA74,Activités!$C$4:$I$534,E$43,0))","v":0},null,null,null,null,null,null,{"$f":"IF(ISNA(VLOOKUP($AA74,Activités!$C$4:$I$534,L$43,0)),\" \",VLOOKUP($AA74,Activités!$C$4:$I$534,L$43,0))","v":0},{"$f":"IF(ISNA(VLOOKUP($AA74,Activités!$C$4:$I$534,J$43,0)),\" \",VLOOKUP($AA74,Activités!$C$4:$I$534,J$43,0))","v":{"$error":"#VALUE!"}},{"$f":"IF(ISNA(VLOOKUP($AA74,Activités!$C$4:$I$534,K$43,0)),\" \",VLOOKUP($AA74,Activités!$C$4:$I$534,K$43,0))","v":{"$error":"#VALUE!"}},{"$f":"IF(ISNA(VLOOKUP($AA74,Activités!$C$4:$I$534,O$43,0)),\" \",VLOOKUP($AA74,Activités!$C$4:$I$534,O$43,0))","v":0},{"$f":"IF(ISNA(VLOOKUP($AA74,Activités!$C$4:$I$534,M$43,0)),\" \",VLOOKUP($AA74,Activités!$C$4:$I$534,M$43,0))","v":{"$error":"#VALUE!"}},{"$f":"IF(ISNA(VLOOKUP($AA74,Activités!$C$4:$I$534,N$43,0)),\" \",VLOOKUP($AA74,Activités!$C$4:$I$534,N$43,0))","v":{"$error":"#VALUE!"}},null,null,null,null,null,null,null,null,null,{"$f":"B70+0.5","v":0.5}]
[null,null,{"$f":"IF(ISNA(VLOOKUP($AA75,Activités!$C$4:$I$534,C$43,0)),\" \",VLOOKUP($AA75,Activités!$C$4:$I$534,C$43,0))","v":"00:00:00"},{"$f":"IF(ISNA(VLOOKUP($AA75,Activités!$C$4:$I$534,D$43,0)),\" \",VLOOKUP($AA75,Activités!$C$4:$I$534,D$43,0))","v":"00:00:00"},{"$f":"IF(ISNA(VLOOKUP($AA75,Activités!$C$4:$I$534,E$43,0)),\" \",VLOOKUP($AA75,Activités!$C$4:$I$534,E$43,0))","v":0},null,null,null,null,null,null,{"$f":"IF(ISNA(VLOOKUP($AA75,Activités!$C$4:$I$534,L$43,0)),\" \",VLOOKUP($AA75,Activités!$C$4:$I$534,L$43,0))","v":0},{"$f":"IF(ISNA(VLOOKUP($AA75,Activités!$C$4:$I$534,J$43,0)),\" \",VLOOKUP($AA75,Activités!$C$4:$I$534,J$43,0))","v":{"$error":"#VALUE!"}},{"$f":"IF(ISNA(VLOOKUP($AA75,Activités!$C$4:$I$534,K$43,0)),\" \",VLOOKUP($AA75,Activités!$C$4:$I$534,K$43,0))","v":{"$error":"#VALUE!"}},{"$f":"IF(ISNA(VLOOKUP($AA75,Activités!$C$4:$I$534,O$43,0)),\" \",VLOOKUP($AA75,Activités!$C$4:$I$534,O$43,0))","v":0},{"$f":"IF(ISNA(VLOOKUP($AA75,Activités!$C$4:$I$534,M$43,0)),\" \",VLOOKUP($AA75,Activités!$C$4:$I$534,M$43,0))","v":{"$error":"#VALUE!"}},{"$f":"IF(ISNA(VLOOKUP($AA75,Activités!$C$4:$I$534,N$43,0)),\" \",VLOOKUP($AA75,Activités!$C$4:$I$534,N$43,0))","v":{"$error":"#VALUE!"}},null,null,null,null,null,null,null,null,null,{"$f":"B75+0.1","v":0.1}]
[{"$f":"VLOOKUP(WEEKDAY(B76,1),Traduction!$B$6:$D$250,'Info de l''escadron'!$A$1+1,0)","v":"Samedi"},null,{"$f":"IF(ISNA(VLOOKUP($AA76,Activités!$C$4:$I$534,C$43,0)),\" \",VLOOKUP($AA76,Activités!$C$4:$I$534,C$43,0))","v":"00:00:00"},{"$f":"IF(ISNA(VLOOKUP($AA76,Activités!$C$4:$I$534,D$43,0)),\" \",VLOOKUP($AA76,Activités!$C$4:$I$534,D$43,0))","v":"00:00:00"},{"$f":"IF(ISNA(VLOOKUP($AA76,Activités!$C$4:$I$534,E$43,0)),\" \",VLOOKUP($AA76,Activités!$C$4:$I$534,E$43,0))","v":0},null,null,null,null,null,null,{"$f":"IF(ISNA(VLOOKUP($AA76,Activités!$C$4:$I$534,L$43,0)),\" \",VLOOKUP($AA76,Activités!$C$4:$I$534,L$43,0))","v":0},{"$f":"IF(ISNA(VLOOKUP($AA76,Activités!$C$4:$I$534,J$43,0)),\" \",VLOOKUP($AA76,Activités!$C$4:$I$534,J$43,0))","v":{"$error":"#VALUE!"}},{"$f":"IF(ISNA(VLOOKUP($AA76,Activités!$C$4:$I$534,K$43,0)),\" \",VLOOKUP($AA76,Activités!$C$4:$I$534,K$43,0))","v":{"$error":"#VALUE!"}},{"$f":"IF(ISNA(VLOOKUP($AA76,Activités!$C$4:$I$534,O$43,0)),\" \",VLOOKUP($AA76,Activités!$C$4:$I$534,O$43,0))","v":0},{"$f":"IF(ISNA(VLOOKUP($AA76,Activités!$C$4:$I$534,M$43,0)),\" \",VLOOKUP($AA76,Activités!$C$4:$I$534,M$43,0))","v":{"$error":"#VALUE!"}},{"$f":"IF(ISNA(VLOOKUP($AA76,Activités!$C$4:$I$534,N$43,0)),\" \",VLOOKUP($AA76,Activités!$C$4:$I$534,N$43,0))","v":{"$error":"#VALUE!"}},null,null,null,null,null,null,null,null,null,{"$f":"B75+0.2","v":0.2}]
[null,null,{"$f":"IF(ISNA(VLOOKUP($AA77,Activités!$C$4:$I$534,C$43,0)),\" \",VLOOKUP($AA77,Activités!$C$4:$I$534,C$43,0))","v":"00:00:00"},{"$f":"IF(ISNA(VLOOKUP($AA77,Activités!$C$4:$I$534,D$43,0)),\" \",VLOOKUP($AA77,Activités!$C$4:$I$534,D$43,0))","v":"00:00:00"},{"$f":"IF(ISNA(VLOOKUP($AA77,Activités!$C$4:$I$534,E$43,0)),\" \",VLOOKUP($AA77,Activités!$C$4:$I$534,E$43,0))","v":0},null,null,null,null,null,null,{"$f":"IF(ISNA(VLOOKUP($AA77,Activités!$C$4:$I$534,L$43,0)),\" \",VLOOKUP($AA77,Activités!$C$4:$I$534,L$43,0))","v":0},{"$f":"IF(ISNA(VLOOKUP($AA77,Activités!$C$4:$I$534,J$43,0)),\" \",VLOOKUP($AA77,Activités!$C$4:$I$534,J$43,0))","v":{"$error":"#VALUE!"}},{"$f":"IF(ISNA(VLOOKUP($AA77,Activités!$C$4:$I$534,K$43,0)),\" \",VLOOKUP($AA77,Activités!$C$4:$I$534,K$43,0))","v":{"$error":"#VALUE!"}},{"$f":"IF(ISNA(VLOOKUP($AA77,Activités!$C$4:$I$534,O$43,0)),\" \",VLOOKUP($AA77,Activités!$C$4:$I$534,O$43,0))","v":0},{"$f":"IF(ISNA(VLOOKUP($AA77,Activités!$C$4:$I$534,M$43,0)),\" \",VLOOKUP($AA77,Activités!$C$4:$I$534,M$43,0))","v":{"$error":"#VALUE!"}},{"$f":"IF(ISNA(VLOOKUP($AA77,Activités!$C$4:$I$534,N$43,0)),\" \",VLOOKUP($AA77,Activités!$C$4:$I$534,N$43,0))","v":{"$error":"#VALUE!"}},null,null,null,null,null,null,null,null,null,{"$f":"B75+0.3","v":0.3}]
[{"$f":"VLOOKUP(WEEKDAY(B78,1),Traduction!$B$6:$D$250,'Info de l''escadron'!$A$1+1,0)","v":"Samedi"},null,{"$f":"IF(ISNA(VLOOKUP($AA78,Activités!$C$4:$I$534,C$43,0)),\" \",VLOOKUP($AA78,Activités!$C$4:$I$534,C$43,0))","v":"00:00:00"},{"$f":"IF(ISNA(VLOOKUP($AA78,Activités!$C$4:$I$534,D$43,0)),\" \",VLOOKUP($AA78,Activités!$C$4:$I$534,D$43,0))","v":"00:00:00"},{"$f":"IF(ISNA(VLOOKUP($AA78,Activités!$C$4:$I$534,E$43,0)),\" \",VLOOKUP($AA78,Activités!$C$4:$I$534,E$43,0))","v":0},null,null,null,null,null,null,{"$f":"IF(ISNA(VLOOKUP($AA78,Activités!$C$4:$I$534,L$43,0)),\" \",VLOOKUP($AA78,Activités!$C$4:$I$534,L$43,0))","v":0},{"$f":"IF(ISNA(VLOOKUP($AA78,Activités!$C$4:$I$534,J$43,0)),\" \",VLOOKUP($AA78,Activités!$C$4:$I$534,J$43,0))","v":{"$error":"#VALUE!"}},{"$f":"IF(ISNA(VLOOKUP($AA78,Activités!$C$4:$I$534,K$43,0)),\" \",VLOOKUP($AA78,Activités!$C$4:$I$534,K$43,0))","v":{"$error":"#VALUE!"}},{"$f":"IF(ISNA(VLOOKUP($AA78,Activités!$C$4:$I$534,O$43,0)),\" \",VLOOKUP($AA78,Activités!$C$4:$I$534,O$43,0))","v":0},{"$f":"IF(ISNA(VLOOKUP($AA78,Activités!$C$4:$I$534,M$43,0)),\" \",VLOOKUP($AA78,Activités!$C$4:$I$534,M$43,0))","v":{"$error":"#VALUE!"}},{"$f":"IF(ISNA(VLOOKUP($AA78,Activités!$C$4:$I$534,N$43,0)),\" \",VLOOKUP($AA78,Activités!$C$4:$I$534,N$43,0))","v":{"$error":"#VALUE!"}},null,null,null,null,null,null,null,null,null,{"$f":"B75+0.4","v":0.4}]
[{"$f":"VLOOKUP(WEEKDAY(B79,1),Traduction!$B$6:$D$250,'Info de l''escadron'!$A$1+1,0)","v":"Samedi"},null,{"$f":"IF(ISNA(VLOOKUP($AA79,Activités!$C$4:$I$534,C$43,0)),\" \",VLOOKUP($AA79,Activités!$C$4:$I$534,C$43,0))","v":"00:00:00"},{"$f":"IF(ISNA(VLOOKUP($AA79,Activités!$C$4:$I$534,D$43,0)),\" \",VLOOKUP($AA79,Activités!$C$4:$I$534,D$43,0))","v":"00:00:00"},{"$f":"IF(ISNA(VLOOKUP($AA79,Activités!$C$4:$I$534,E$43,0)),\" \",VLOOKUP($AA79,Activités!$C$4:$I$534,E$43,0))","v":0},null,null,null,null,null,null,{"$f":"IF(ISNA(VLOOKUP($AA79,Activités!$C$4:$I$534,L$43,0)),\" \",VLOOKUP($AA79,Activités!$C$4:$I$534,L$43,0))","v":0},{"$f":"IF(ISNA(VLOOKUP($AA79,Activités!$C$4:$I$534,J$43,0)),\" \",VLOOKUP($AA79,Activités!$C$4:$I$534,J$43,0))","v":{"$error":"#VALUE!"}},{"$f":"IF(ISNA(VLOOKUP($AA79,Activités!$C$4:$I$534,K$43,0)),\" \",VLOOKUP($AA79,Activités!$C$4:$I$534,K$43,0))","v":{"$error":"#VALUE!"}},{"$f":"IF(ISNA(VLOOKUP($AA79,Activités!$C$4:$I$534,O$43,0)),\" \",VLOOKUP($AA79,Activités!$C$4:$I$534,O$43,0))","v":0},{"$f":"IF(ISNA(VLOOKUP($AA79,Activités!$C$4:$I$534,M$43,0)),\" \",VLOOKUP($AA79,Activités!$C$4:$I$534,M$43,0))","v":{"$error":"#VALUE!"}},{"$f":"IF(ISNA(VLOOKUP($AA79,Activités!$C$4:$I$534,N$43,0)),\" \",VLOOKUP($AA79,Activités!$C$4:$I$534,N$43,0))","v":{"$error":"#VALUE!"}},null,null,null,null,null,null,null,null,null,{"$f":"B75+0.5","v":0.5}]
[]
["Notes"]
[{"$f":"IF(WEEKNUM(C3)=19,VLOOKUP(205,Traduction!$B$6:$D$250,'Info de l''escadron'!$A$1+1,0),\"\")","v":""}]

{"sheet":"Corrections","index":14,"n_rows":7,"n_cols":6,"rows_kept":7,"cut":false,"hidden":true,"merged":[[1,0,1,5]]}
[]
["Problèmes avec la grille horaire maitre"]
["Problèmes","Corrections","Date accomplie","Par","Date vérifiée","Par"]
["Les dates du POC ne se mettent pas automatiquement dans le budget.","Les dates doivent être insérées manuellement","2015-05-11","DC"]
["Problèmes de périodes indiquées (Normes/Grille horaire) M100.01 (2/1), M100.04 (2/1), C103.03 (1/2), C170.01 (2/1), C170.02 (3/1)","Les corrections ont été apportées.","2015-05-12","DC"]
["Mauvais titre de cours dans la Grille Horaire comparé aux normes : M105.01, C105.01, M107.03","Les corrections ont été apportées.","2015-05-12","DC"]
["Mise à jour de l’OREN X04 (Condition physique et mode de vie sain)","Les corrections ont été apportées.","2015-05-12","DC"]